Workbook

Sheet Vehicle
A1: Distance | B1: 45.7 | C1: ly | D1: 45.7 | E1: 4.5 | F1: 200
A2: Distance | B2: =B1*Conversion!$B$5 -> 4.3235399e+17 | C2: m | E2: =E1*Conversion!$B$5 -> 4.257315e+16 | F2: =F1*Conversion!$B$5 -> 1.89214e+18
A4: Accelleration Rate: | B4: =Conversion!B11 -> 9.8 | C4: m/s/s | E4: 9.8 | F4: 9.8
A5: Turn-Around Distance | B5: =B2/2 -> 2.16177e+17 | E5: =E2/2 -> 2.1286575e+16 | F5: =F2/2 -> 9.4607e+17
A6: Lorentz Factor (ymid) | B6: =1+B4*(B2*0.5)/(Conversion!$B$6*Conversion!$B$6) -> 24.571876 | E6: =1+E4*(E2*0.5)/(Conversion!$B$6*Conversion!$B$6) -> 3.3210819 | F6: =1+F4*(F2*0.5)/(Conversion!$B$6*Conversion!$B$6) -> 104.15919
A8: Travel time (ship) | B8: =4*(Conversion!$B$6/B4)*ACOSH(B6) -> 4.765275e+08 | C8: s | E8: =4*(Conversion!$B$6/E4)*ACOSH(E6) -> 2.2881623e+08 | F8: =4*(Conversion!$B$6/F4)*ACOSH(F6) -> 6.5330828e+08
B9: =B8/Conversion!$C$3 -> 15.100555 | C9: year | E9: =E8/Conversion!$B$3 -> 7.2507488 | F9: =F8/Conversion!$B$3 -> 20.70209
A10: Trave time (map) | B10: =4*(Conversion!$B$6/B4)*SINH(ACOSH(B6)) -> 3.0042287e+09 | C10: s | E10: =4*(Conversion!$B$6/E4)*SINH(ACOSH(E6)) -> 3.8752176e+08 | F10: =4*(Conversion!$B$6/F4)*SINH(ACOSH(F6)) -> 1.2744776e+10
B11: =B10/Conversion!$C$3 -> 95.200216 | C11: year | E11: =E10/Conversion!$B$3 -> 12.279824 | F11: =F10/Conversion!$B$3 -> 403.85759
A13: Time in System | B13: 20
A14: Return Trip | B14: 0
A15: Total Mission Length | B15: =B9+B13+IF(B14,B9,0) -> 35.100555 | C15: (Earth) | D15: =B11+B13+IF(B14,B11,0) -> 115.20022
A16: Target Population | B16: 300
A17: Number Domes | B17: 6
A18: Population Profile | B18: island | C18: =LOOKUP(B18,Population!L13:L16,Population!M13:M16) -> Based on Polynsesian colonization. Primarily unmarried people in their 20s
A19: Volume / Dome | B19: =B40/B17*Geometry!C15*0.91 -> 1243839.6
A20: Dome Radius est | B20: =CEILING(POWER(B19*3/(4*PI()),1/3),2.5)*4 -> 270
A22: 1 G Radius | B22: 275 | C22: =B22*2 -> 550
A23: Population | B23: Seed | C23: Mission Arrival | D23: Mission End | E23: Peak | F23: Final
A24: Year | B24: 0 | C24: =B9+1 -> 16.100555 | D24: =B15 -> 35.100555 | E24: 34 | F24: 100
A25: General | B25: =LOOKUP(B24,'Population Model'!$A$3:$A$100,'Population Model'!$B$3:$B$100) -> 194 | C25: =LOOKUP(C24,'Population Model'!$A$3:$A$100,'Population Model'!$B$3:$B$100) -> 235 | D25: =LOOKUP(D24,'Population Model'!$A$3:$A$100,'Population Model'!$B$3:$B$100) -> 271 | E25: =Population!B3 -> 291 | F25: =LOOKUP(F24,'Population Model'!$A$3:$A$100,'Population Model'!$B$3:$B$100) -> 290
A26: Workforce | B26: =LOOKUP(B24,'Population Model'!$A$3:$A$100,'Population Model'!$C$3:$C$100) -> 194 | C26: =LOOKUP(C24,'Population Model'!$A$3:$A$100,'Population Model'!$C$3:$C$100) -> 177 | D26: =LOOKUP(D24,'Population Model'!$A$3:$A$100,'Population Model'!$C$3:$C$100) -> 143 | E26: =LOOKUP(E24,'Population Model'!$A$3:$A$100,'Population Model'!$C$3:$C$100) -> 144 | F26: =LOOKUP(F24,'Population Model'!$A$3:$A$100,'Population Model'!$C$3:$C$100) -> 151
A28: Housing - Single | B28: =Population!C26 -> 220.4 | C28: 500
A29: Housing - Family | B29: =Population!C27 -> 61 | C29: 1000
A31: Land Usage | B31: Budget | C31: Implemented | D31: Budget % | E31: Acres | F31: Acres/Capita
A32: Cattle Range: | B32: =Cattle!D11 -> 25000
A33: Crops Range: | B33: =Agriculture!C45*0.75 -> 1362833.7 | G33: (Assume a magical 25% production increase from technology)
A34: Agriculture | B34: =B32+B33 -> 1387833.7 | C34: =Geometry!C21*$B$17 -> 1122321.4 | D34: =C34/B34 -> 0.80868578 | E34: =C34*Conversion!$F$18 -> 277.33684 | F34: =E34/$B$16 -> 0.92445614
A35: Settlement Area: | B35: =B28*C28+B29*C29 -> 171200 | C35: =Geometry!C20*$B$17 -> 135426.99 | D35: =C35/B35 -> 0.79104551 | E35: =C35*Conversion!$F$18 -> 33.465364 | F35: =E35/$B$16 -> 0.11155121
A36: Recreation Area: | B36: =B16*40*Conversion!E15/1000 -> 48562.277 | C36: =Geometry!C19*$B$17 -> 37176.037 | D36: =C36/B36 -> 0.76553323 | E36: =C36*Conversion!$F$18 -> 9.1865704 | F36: =E36/$B$16 -> 0.030621901
A37: Cargo Storage | B37: =(B63+B65+Agriculture!E40)/1000/2 -> 32632.056 | C37: =Geometry!C22*$B$17 -> 29471.281 | D37: =C37/B37 -> 0.90313894 | E37: =C37*Conversion!$F$18 -> 7.2826482 | F37: =E37/$B$16 -> 0.024275494
A38: Industrial | B38: =E25*250 -> 72750 | C38: =Geometry!C23*$B$17 -> 59216.116 | D38: =C38/B38 -> 0.81396722 | E38: =C38*Conversion!$F$18 -> 14.632894 | F38: =E38/$B$16 -> 0.048776314
A40: Total allocated Area: | B40: =SUM(B34:B37) -> 1640228.1 | C40: =B55 -> 1632842.8 | D40: =C40/B40 -> 0.9954974 | E40: m^2/person | F40: =B44/B16 -> 1.3449475
A41: Total | B41: =B55 -> 1632842.8 | C41: m^2 | E41: =19000*6000 -> 114000000 | F41: =E41/B41 -> 69.816887
B42: =B41/1000000 -> 1.6328428 | C42: million m^2
B43: =B41/5400 -> 302.37829 | C43: American football fields | H43: =750/0.26 -> 2884.6154
B44: =B41/4046.85642 -> 403.48424 | C44: Acres | G44: 109.728 | H44: =G44/H43 -> 0.03803904
B45: =B41/2590000 -> 0.63044123 | C45: Square Miles
A46: Medievel Estimate | B46: =B16/(180) -> 1.6666667 | C46: Square Miles | E46: =B34/B16 -> 4626.1125
A48: Dome Radius | B48: =Geometry!E40 -> 68.75 | C48: =B22/B48 -> 4 | D48: =B48*2 -> 137.5
A49: Dome Land Surface | B49: =Geometry!C18 -> 272140.46 | C49: =B49*Conversion!F18 -> 67.24863
A50: Dome Levels | B50: =Geometry!E38 -> 27
A51: Dome Exterior Surface | B51: =Geometry!E45 -> 59395.736
A52: Dome Volume | B52: =Geometry!E46 -> 1361152.3
A53: Dome Shield Mass | B53: =Geometry!E48 -> 5.9395736e+08
A54: Dome Structure Mass | B54: =B52*B69 -> 2.4438971e+08
A55: Total Land Area | B55: =B49*B17 -> 1632842.8
A57: Soil Volume | B57: =Agriculture!C47 -> 1990520.7
A58: Soil Mass | B58: =Agriculture!C47*Conversion!B10 -> 3.3838851e+09 | C58: kg
A60: Total Vehicle Mass | B60: =D61+B67+B65+B64*B16+D63+D62 -> 1.8356013e+10 | C60: kg | D60: =B60/(1046000*1016.4) -> 17.265613 | E60: Nimitz Class Carriers
A61: Dry Mass Estimate | B61: 9000000000 | C61: kg | D61: =SUM(B76:B83) -> 8.8083667e+09 | E61: kg | F61: =D61/(1046000*1016.4) -> 8.2851247
A62: Fuel Mass Estimate | B62: 9000000000 | D62: =B92+B94 -> 8.4886235e+09 | E62: kg | F62: As Lithium and Heavy Water
A63: Spare Parts Estimate | B63: 60000000 | D63: =B82*0.25+(B76+B77+B65)*B66 -> 54522525 | E63: kg
A64: Crew + Effects / per | B64: 5000
A65: Mission Cargo | B65: =B16*10000 -> 3000000
A66: Spare Parts Factor | B66: 10
A67: Cargo Capacity | B67: 1000000000 | E67: Bringing along a self-replicating robot factory to mine remote system
B68: =3220/(390*55*30) -> 0.005003885 | C68: long ton/ft^3
A69: kg/m^3 | B69: =B68*1016.04691/0.0283168466 -> 179.54619
A70: Kg/m^2 manned space | B70: 310 | E70: Based on construction formulas | F70: https://cdn.ymaws.com/www.aspenational.org/resource/resmgr/Techical_Papers/2013_October_TP.pdf
A71: Radition Shielding | B71: 10000 | C71: kg/m^2 | F71: Thickness of water surrounding all habitat areas of ship
E72: 4500 kg/m^2 needed | F72: https://settlement.arc.nasa.gov/75SummerStudy/Chapt4.html#Shielding
B73: =SUM(B61:B67) -> 19063005010 | C73: kg
A74: Impulse | B74: =(B73)*B4/1000 -> 1.8681745e+08 | C74: kw | E74: Mass of spacecraft * accelleration * time
A75: Watt per kg | B75: 1000
A76: Propulsion System | B76: =B74/B75*3 -> 560452.35 | C76: kg | E76: Goal: 1 kW/kg fusion | F76: https://www.space.com/37146-nuclear-fusion-rockets-interstellar-spaceflight.html
A77: Power System | B77: ='Power Consumption'!C41 -> 579217.45 | C77: kg | D77: =B77/B76 -> 1.0334821 | E77: =B77/12 -> 48268.121
A78: Soil | B78: =B58 -> 3.3838851e+09
A79: Atmosphere | B79: =B52*B17*Conversion!B9*0.9 -> 9004022.4 | C79: kg | E79: Assuming STP 1.225 kg/m^3 and 90% of total interior volume
A80: Water Tank/Rad shield | B80: =B53*B17 -> 3.5637442e+09
A81: Dome Structure | B81: =B54*B17 -> 1.4663382e+09
A82: Steel Structure | B82: =(B61+B62+SUM(B76:B81))*Conversion!B24*3/Conversion!B23 -> 52503310 | C82: =B82/D61 -> 0.0059606181
A83: Flywheel Mass | B83: =Geometry!E62 -> 3.3175218e+08
A84: Dry Mass | B84: =D61 -> 8.8083667e+09 | C84: =B76/D61 -> 6.3627272e-05
B85: =D61/Conversion!B31 -> 8.2851247 | C85: Nimitz Class Carriers
A86: Fuel / mW | B86: ='Power Consumption'!C38 -> 5.0520903e-11 | C86: kg/kwH | E86: 7 billion kwh / 3100kg fuel | F86: https://f4e.europa.eu/understandingfusion/merits.aspx
A88: Fuel Mass (Power): | B88: ='Power Consumption'!C42*'Power Consumption'!C7 -> 2.3922472e+09
A89: Fuel Mass (Propulsion): | B89: =B74*B86*(B8/3600) -> 1249.3209
A90: Fuel Mass (raw) | B90: =B88+B89 -> 2.3922484e+09
A91: Deuterium | B91: =B90*(100/(100+3000)) -> 77169304 | C91: kg | E91: Pure Duterium | F91: https://f4e.europa.eu/understandingfusion/merits.aspx
A92: Lithium | B92: =B90*(3000/(100+3000)) -> 2.3150791e+09 | C92: kg | E92: Pure Lithium | F92: https://f4e.europa.eu/understandingfusion/merits.aspx
A93: Heavy Water | B93: =B91/Conversion!B7*4 -> 5.1258256e-16 | C93: Moles
B94: =B93*(4+16)*Conversion!B7 -> 6.1735444e+09 | C94: kg | E94: =B94/B80 -> 1.7323197
A98: Comet Water | B98: =B94/B99 -> 6.1612219e+16 | C98: kg | E98: comet 3x deuterium concentration | F98: https://earthsky.org/space/rosettas-comet-fuels-debate-on-origin-of-earths-oceans
B99: =(33.4*3)/1000/1000000 -> 1.002e-07 | E99: Ratio Deuterium Comet Water | F99: https://www.nextbigfuture.com/2012/06/what-is-energy-content-of-earths-water.html
B100: =B98/220000000000000 -> 280.05554 | E100: Number of Equivilent Haley's Comets
A102: Ceres Water | B102: =B94/B103 -> 1.8483666e+17
B103: =(33.4)/1000/1000000 -> 3.34e-08
B104: =200000000*1000000000000 -> 2e+20 | E104: Mass of water on planet
B105: =B102/B104 -> 0.00092418329 | E105: Mass of planet

Sheet Automation
B1: Man Hrs | C1: Crew
B2: PEAK | D2: START
A3: Labor Hours - Repair | B3: =SUM(H:H) -> 172762.62 | C3: =CEILING(B3/2000,1) -> 87
A4: Labor Hours - Operation | B4: =SUM(F:F) -> 4998.4187 | C4: =CEILING(B4/2000,1) -> 3
A5: Labor Hours - Finished Goods/Capita | B5: 10 | C5: =CEILING(B5*Population!B7/2000,1) -> 2
A7: Maintenance Schedule Robotics | B7: Work Hours | C7: Utilization | D7: Population | E7: Operation Unit (Hr) | F7: Operation All (hr) | G7: Repair Unit (hr) | H7: Repair all (hr) | I7: Design Life | J7: Manufacture | K7: Recycle | L7: Maintenance | M7: 24 | N7: =24*7 -> 168 | O7: 320 | P7: 960 | Q7: 3840 | R7: 5760 | S7: 11520 | T7: 15360
A8: Manufacturing Units | B8: =SUM(G:G)*SUM(D10:D13)/1000 -> 648.82071 | C8: 1 | D8: =CEILING(B8*C8,1) -> 649 | E8: 1 | F8: =E8*B8 -> 648.82071 | G8: =SUM(J8:L8)*3840/I8 -> 133.8869 | H8: =G8*D8 -> 86892.601 | I8: =I10*3 -> 46080 | J8: 1000 | K8: =J8*0.25 -> 250 | L8: =M8*(I8/$M$7)+N8*(I8/$N$7)+O8*(I8/$O$7)+P8*(I8/$P$7)+Q8*(I8/$Q$7)+R8*(I8/$R$7)+S8*(I8/$S$7)+T8*(I8/$T$7) -> 356.64286 | M8: =1/60 -> 0.016666667 | N8: =2/60 -> 0.033333333 | O8: =5/60 -> 0.083333333 | P8: 1 | Q8: 1 | R8: 2 | S8: 10 | T8: =K8*0.25 -> 62.5
A10: Mobile Units | B10: =Vehicle!E25+Vehicle!B40/240 -> 7125.2837 | C10: 0.1 | D10: =CEILING(B10*C10,1) -> 713 | E10: 0.5 | F10: =E10*B10 -> 3562.6418 | G10: =SUM(J10:L10)*3840/I10 -> 41.595238 | H10: =G10*D10 -> 29657.405 | I10: =15360 -> 15360 | J10: 100 | K10: =J10*0.1 -> 10 | L10: =M10*(I10/$M$7)+N10*(I10/$N$7)+O10*(I10/$O$7)+P10*(I10/$P$7)+Q10*(I10/$Q$7)+R10*(I10/$R$7)+S10*(I10/$S$7)+T10*(I10/$T$7) -> 56.380952 | M10: =1/60 -> 0.016666667 | N10: =2/60 -> 0.033333333 | O10: =5/60 -> 0.083333333 | P10: 1 | Q10: 1 | R10: 2 | S10: 10
A11: Food Processing Units | B11: =(Agriculture!E37+Agriculture!E38)/1000 -> 323.44464 | C11: 0.1 | D11: =CEILING(B11*C11,1) -> 33 | E11: 1 | F11: =E11*B11 -> 323.44464 | G11: =SUM(J11:L11)*3840/I11 -> 133.8869 | H11: =G11*D11 -> 4418.2679 | I11: =I8 -> 46080 | J11: 1000 | K11: =J11*0.25 -> 250 | L11: =M11*(I11/$M$7)+N11*(I11/$N$7)+O11*(I11/$O$7)+P11*(I11/$P$7)+Q11*(I11/$Q$7)+R11*(I11/$R$7)+S11*(I11/$S$7)+T11*(I11/$T$7) -> 356.64286 | M11: =1/60 -> 0.016666667 | N11: =2/60 -> 0.033333333 | O11: =5/60 -> 0.083333333 | P11: 1 | Q11: 1 | R11: 2 | S11: 10 | T11: =K11*0.25 -> 62.5
A12: Tractors | B12: =SUM(Crops!AD:AD)/100 -> 172.51149 | C12: 0.25 | D12: =CEILING(B12*C12,1) -> 44 | E12: 1 | F12: =E12*B12 -> 172.51149 | G12: =SUM(J12:L12)*3840/I12 -> 41.595238 | H12: =G12*D12 -> 1830.1905 | I12: =15360 -> 15360 | J12: 100 | K12: =J12*0.1 -> 10 | L12: =M12*(I12/$M$7)+N12*(I12/$N$7)+O12*(I12/$O$7)+P12*(I12/$P$7)+Q12*(I12/$Q$7)+R12*(I12/$R$7)+S12*(I12/$S$7)+T12*(I12/$T$7) -> 56.380952 | M12: =1/60 -> 0.016666667 | N12: =2/60 -> 0.033333333 | O12: =5/60 -> 0.083333333 | P12: 1 | Q12: 1 | R12: 2 | S12: 10
A13: Industrial Finished Goods | B13: =(Vehicle!E25*B5) -> 2910 | C13: 0.05 | D13: =CEILING(B13*C13,1) -> 146 | E13: 0.1 | F13: =E13*B13 -> 291 | G13: =SUM(J13:L13)*3840/I13 -> 342.22024 | H13: =G13*D13 -> 49964.155 | I13: =I10 -> 15360 | J13: 1000 | K13: =J13*0.25 -> 250 | L13: =M13*(I13/$M$7)+N13*(I13/$N$7)+O13*(I13/$O$7)+P13*(I13/$P$7)+Q13*(I13/$Q$7)+R13*(I13/$R$7)+S13*(I13/$S$7)+T13*(I13/$T$7) -> 118.88095 | M13: =1/60 -> 0.016666667 | N13: =2/60 -> 0.033333333 | O13: =5/60 -> 0.083333333 | P13: 1 | Q13: 1 | R13: 2 | S13: 10 | T13: =K13*0.25 -> 62.5

Sheet Conversion
A1: Constants | B1: Niave | C1: Exact | D1: Ship Calendar
A2: Days in year | B2: 365.25 | C2: 365.2425 | D2: 360
A3: Seconds in year | B3: =B2*3600*24 -> 31557600 | C3: =C2*3600*24 -> 31556952 | D3: =D2*3600*24 -> 31104000 | E3: http://www.projectrho.com/public_html/rocket/enginelist.php
A4: Hours/year | B4: =B3/3600 -> 8766 | C4: =C3/3600 -> 8765.82 | D4: =D3/3600 -> 8640
A5: Light Year | B5: 9.4607e+15
A6: Speed of Light | B6: 299792458
A7: Mole | B7: 6.022e+23 | E7: 2130
A8: 3 * square Root of three | B8: =3*SQRT(3) -> 5.1961524 | C8: =1.4422*3 -> 4.3266
A9: Air Density | B9: 1.225 | C9: kg/m^3
A10: Soil Density | B10: 1700 | C10: kg/m^3
A11: G | B11: 9.8 | C11: m/s/s
A13: Area
A14: Agriculture Calculations | C14: km^2 | D14: hectare | E14: m^2 | F14: acre | G14: mile^2 | H14: ft^2
A15: acre | C15: 0.00404686 | D15: =1/F17 -> 0.40468564 | E15: 4046.8564 | F15: 1 | G15: 0.0015625
A16: km^2 | C16: 1 | D16: 100 | E16: =E17*D16 -> 1000000 | F16: 247.10538 | G16: 0.38610216
A17: hectare | C17: =1/D16 -> 0.01 | D17: 1 | E17: 10000 | F17: 2.4710538 | G17: 0.00386102
A18: m^2 | C18: 1e-06 | D18: =1/E17 -> 0.0001 | E18: 1 | F18: 0.00024711 | G18: 3.861e-07
A21: Other
A22: 1 us ton/acre -> kg/hectare | D22: 2241.7023
A23: Beam Capacity | B23: =13790*3 -> 41370 | C23: kg/m
A24: Mass per m | B24: =27.4 -> 27.4
A25: Material | B25: Nickle/Iron Alloy 52/48
A26: Tensile Strength | B26: 640 | C26: N/mm^2
A27: Yield Point | B27: 240 | C27: N/mm^2
A28: Density | B28: 8.45 | C28: g/cm^3 | E28: e = m c^2
A29: Mass of eros | B29: 6.668e+15 | C29: kg | D29: =B29/(Vehicle!B82+Vehicle!B76) -> 1.2566014e+08
A30: Mass of ceres | B30: 9.1e+20 | D30: =B30/(Vehicle!B58+Vehicle!B92) -> 1.5967814e+11
A31: Nimitz Carrier | B31: =1046000*1016.4 -> 1063154400 | C31: kg | D31: Nimitz carrier is 1.046 million long tons
A32: Horsepower to KW | B32: 0.74569987
A33: KW to Horsepower | B33: =1/B32 -> 1.3410221
A34: Cultivation energy / hectare | B34: 312 | C34: kwh/hectare | D34: http://www.fao.org/docrep/003/X8054E/x8054e05.htm
A36: kwh/yr -> watt | B36: =1000/B3 -> 3.1688088e-05 | C36: =1/B36 -> 31557.6
A37: kwh/day -> watt | B37: =1000/(3600*24) -> 0.011574074 | C37: =1/B37 -> 86.4
A39: kilogram of oil (kgoe) | B39: =41868/1000 -> 41.868 | D39: kJ/kg
A40: Length of a Nimtz Carrier | B40: 333 | C40: m
A41: Length of Football Field | B41: 109.728 | C41: m
A43: Image Scale (carrier) | B43: 3.24 | C43: in | D43: =Vehicle!C22 -> 550 | E43: m | F43: =B43/D43*Conversion!B40 -> 1.9616727 | G43: in
A44: Image Scale (field) | B44: 7.2 | C44: in | D44: =Vehicle!B48*2 -> 137.5 | E44: m | F44: =B44/D44*Conversion!B41 -> 5.7457571 | G44: in

Sheet Costs
A1: Dueterium Refining | B1: =1260/1.107 -> 1138.2114 | C1: USD/kg | D1: =Vehicle!B91*B1 -> 8.7834981e+10
A2: Lithium (pure) | B2: =314*10 -> 3140 | C2: USD/kg | D2: =Vehicle!B92*B2 -> 7.2693485e+12
A3: Lithium (li2co3) | B3: =164*2 -> 328 | C3: USD/kg | D3: =Vehicle!B92*Costs!B3 -> 7.5934596e+11
A5: Steel | B5: =0.04*2.2 -> 0.088 | C5: USD/kg | D5: =Vehicle!B82*Costs!B5 -> 4620291.3

Sheet Geometry
A1: 1 G Radius | E1: =Vehicle!B22 -> 275
A2: Radation Shielding | E2: =Vehicle!B71 -> 10000 | F2: kg/m^2
A3: Accelleration | E3: 9.8
A4: Angular Speed | E4: =SQRT(E3*1.05/E1) -> 0.1934378 | F4: =E3/E1 -> 0.035636364
A5: RPM | E5: =E4*30/PI() -> 1.8471949
A6: Mass m^3 | E6: =Vehicle!B69 -> 179.54619
A7: Segment Length | E7: =2*E1*PI()/6 -> 287.97933
A8: G at apex | E8: =$F$4*($E$1-E41)/9.8 -> 0.5
A10: Diameter | C10: =Geometry!E41 -> 137.5 | D10: =Geometry!E40 -> 68.75 | E10: =D10*D10 -> 4726.5625 | F10: =D10*2 -> 137.5
A11: Vertical Usage | C11: 0.9 | D11: =C10*C11 -> 123.75
A12: Angular Speed | C12: =Geometry!E4 -> 0.1934378 | D12: =C12*C12 -> 0.037418182
A13: 1g Radius | C13: =Geometry!E1 -> 275
A14: Domes | C14: =Vehicle!B17 -> 6
A15: dy Standard | C15: 5 | D15: =C15*3.2808399 -> 16.4042 | E15: (1 meter utility, 1-2 meter soil, 3-4 meter headspace)
A16: Gallery Rate | C16: 5 | D16: =C16*3.2808399 -> 16.4042 | G16: Note: Some decks do not have area that adds up to 100% to represent thru-deck features
A17: Floor Count | C17: =SUM(Gravity!I:I) -> 27 | F17: Uniform | G17: Zones
A18: Total Area | C18: =SUM(Gravity!J:J) -> 272140.46 | D18: =C18*Conversion!F18 -> 67.24863 | F18: 0 | G18: 1 | H18: 2 | I18: 3 | J18: 4 | K18: 5
A19: Park Area | C19: =SUM(Gravity!M:M) -> 6196.0061 | D19: =Vehicle!B36/$C$14 -> 8093.7128 | E19: =C19/D19 -> 0.76553323 | F19: =D19/C18 -> 0.029740939 | G19: 0 | H19: 0.14 | I19: 0 | J19: 0 | K19: 0
A20: Settlement Area | C20: =SUM(Gravity!L:L) -> 22571.165 | D20: =Vehicle!B35/$C$14 -> 28533.333 | E20: =C20/D20 -> 0.79104551 | F20: =D20/C18 -> 0.10484782 | G20: 0 | H20: 0.51 | I20: 0 | J20: 0 | K20: 0
A21: Agriculture | C21: =SUM(Gravity!K:K) -> 187053.57 | D21: =Vehicle!B34/$C$14 -> 231305.62 | E21: =C21/D21 -> 0.80868578 | F21: =D21/C18 -> 0.8499494 | G21: 0.89 | H21: 0 | I21: 0 | J21: 0 | K21: 0.35
A22: Cargo Area | C22: =SUM(Gravity!N:N) -> 4911.8801 | D22: =Vehicle!B37/$C$14 -> 5438.676 | E22: =C22/D22 -> 0.90313894 | F22: =D22/C18 -> 0.019984812 | G22: 0.02 | H22: 0 | I22: 0.04 | J22: 0.1 | K22: 0.05
A23: Industry | C23: =SUM(Gravity!O:O) -> 9869.3526 | D23: =Vehicle!B38/$C$14 -> 12125 | E23: =C23/D23 -> 0.81396722 | F23: =D23/C18 -> 0.044554198 | G23: 0 | H23: 0.223 | I23: 0 | J23: 0 | K23: 0.2
A24: Machinery | C24: =SUM(Gravity!P:P) -> 17709.295 | D24: =C24 -> 17709.295 | E24: =C24/D24 -> 1 | F24: =D24/$C$18 -> 0.065074098 | G24: 0.01 | H24: 0.0005 | I24: 0.88 | J24: 0.1 | K24: 0.4
A25: Hallway | C25: =C18*0.1 -> 27214.046 | D25: =C25 -> 27214.046 | E25: =C25/D25 -> 1 | F25: =D25/$C$18 -> 0.1 | G25: 0.08 | H25: 0.08 | I25: 0.08 | J25: 0.08 | K25: 0.08
A26: Height | G26: 5 | H26: 5 | I26: 5 | J26: 5 | K26: 5
A27: Usage: | C27: =SUM(J19:J23) -> 0.1 | F27: =SUM(F19:F25) -> 1.2141513 | G27: =SUM(G19:G25) -> 1 | H27: =SUM(H19:H25) -> 0.9535 | I27: =SUM(I19:I25) -> 1 | J27: =SUM(J19:J25) -> 0.28 | K27: =SUM(K19:K25) -> 1.08
A29: Widest Deck | B29: =LOOKUP(C29,Gravity!D:D,Gravity!A:A) -> 13 | C29: =C13-C10+D10 -> 206.25 | D29: =LOOKUP(B29,Gravity!A:A,Gravity!H:H) -> 68.647651
A31: Design of a spheriod dome | E31: Sphere + Flywheel
A32: Total Area | E32: =Vehicle!B40 -> 1640228.1
A33: Number of domes | E33: =Vehicle!B17 -> 6
A34: Design Area per dome | E34: =E32/E33 -> 273371.35
E35: =E36/$E$34 -> 9.8766752e-05
A36: Implementation area | E36: =SUM(Gravity!I:I) -> 27
A37: dy | E37: 4
A38: Levels | E38: =Geometry!C17 -> 27
A39: Verticle Usage | E39: 1
A40: Radius | E40: =E1/4 -> 68.75 | F40: =E40*2 -> 137.5
A41: Height | E41: =E40*2 -> 137.5 | F41: =CEILING(E1*0.5,10) -> 140
A42: Width | E42: =E41 -> 137.5
A43: Slice Area
A45: Surface area | E45: =IF(E41<E40,2*PI()*E40*E40+PI()*E41*E41/E43*LN((1+E43)/(1-E43)),4*PI()*E40*E40) -> 59395.736
A46: Volume | E46: =4*PI()/3*E40*E40*E40 -> 1361152.3
A47: area / volume | E47: =E45/E46 -> 0.043636364
A48: Radiation Mass | E48: =E45*E2 -> 5.9395736e+08
A49: Structure Mass | E49: =E46*$E$6 -> 2.4438971e+08
A51: Soil Mass | E51: =E36*Conversion!B10 -> 45900
A52: Atmosphere | E52: =(E46-E51/Conversion!B10-E49/8000)*Conversion!B9 -> 1629956.3
A54: Total Mass | E54: =(E52+E51+E49+E48)*Vehicle!B17 -> 5.0401375e+09
A55: Moment of Inertia | E55: =0.25*E54*(4*(E1-E40)*(E1-E40)+4*(E40*E40))+0.5*E1*E1*E62 -> 2.5076963e+14
A56: Angular Momentum | E56: =E55*E4 -> 4.8508325e+13
A57: Flywheel Inner Radius | E57: =E58-10 -> 127
A58: Flywheel Max Radius | E58: =FLOOR(E1-E41,1) -> 137
B59: 2d Slice Area | E59: =(PI()*E58*E58-PI()*E57*E57) -> 8293.8046
A60: Flywheel Thickness | E60: 5
A61: Flywheel Density | E61: 8000
A62: Flywheel Mass | E62: =E59*E60*E61 -> 3.3175218e+08 | F62: =E62/E54 -> 0.06582205
A63: Flywheel Moment of Inertia | E63: =0.5*E62*(E58*E58+E57*E57) -> 5.7887439e+12
A64: Flywheel Angular Speed | E64: =E56/E63 -> 8.3797671 | F64: =E64*30/PI() -> 80.020881

Sheet Gravity
A1: Total Levels | C1: =Geometry!C17 -> 27
A2: Widest | C2: =Geometry!B29 -> 13
A3: Hab Levels | C3: 3 | D3: =C2-C3/2 -> 11.5 | E3: =C2+C3/2 -> 14.5
A4: Machinery | C4: 4
A5: Levels | B5: Name | C5: Usage | D5: Rot Radius | E5: h | G5: %g | H5: Floor Radius | J5: Area | K5: Agriculture | L5: Settlement | M5: Park | N5: Cargo | O5: Industry | P5: Machinery
D6: =Geometry!C13-Geometry!C10 -> 137.5 | E6: =Geometry!$D$10 -> 68.75 | F6: =Geometry!$D$12*D6 -> 5.145 | G6: =IF(H6>0,F6/9.8,0) -> 0 | H6: =IF(ABS(E6*E6)<=Geometry!$E$10,SQRT(Geometry!$E$10-E6*E6),0) -> 0 | I6: =IF(H6>0,1,0) -> 0
A7: 1 | C7: =IF(A7>$C$1-$C$4,3,IF(A7<2,3,IF(A7<=$D$3,1,IF(A7>$E$3,1,2)))) -> 3 | D7: =D6+Geometry!$C$15 -> 142.5 | E7: =E6-(D7-D6) -> 63.75 | F7: =Geometry!$D$12*D7 -> 5.3320909 | G7: =IF(H7>0,F7/9.8,0) -> 0.54409091 | H7: =IF(ABS(E7*E7)<=Geometry!$E$10,SQRT(Geometry!$E$10-E7*E7),0) -> 25.739075 | I7: =IF(H7>0,1,0) -> 1 | J7: =PI()*H7*H7 -> 2081.3051 | K7: =IF(C7=1,J7*Geometry!$G$21,0)+IF(C7=2,J7*Geometry!$H$21,0)+IF(C7=3,J7*Geometry!$I$21,0)+IF(C7=4,J7*Geometry!$J$21,0)+IF(C7=5,J7*Geometry!$K$21,0) -> 0 | L7: =IF(C7=1,J7*Geometry!$G$20,0)+IF(C7=2,J7*Geometry!$H$20,0)+IF(C7=3,J7*Geometry!$I$20,0)+IF(C7=4,J7*Geometry!$J$20,0)+IF(C7=5,J7*Geometry!$K$20,0) -> 0 | M7: =IF(C7=1,J7*Geometry!$G$19,0)+IF(C7=2,J7*Geometry!$H$19,0)+IF(C7=3,J7*Geometry!$I$19,0)+IF(C7=4,J7*Geometry!$J$19,0)+IF(C7=5,J7*Geometry!$K$19,0) -> 0 | N7: =IF(C7=1,J7*Geometry!$G$22,0)+IF(C7=2,J7*Geometry!$H$22,0)+IF(C7=3,J7*Geometry!$I$22,0)+IF(C7=4,J7*Geometry!$J$22,0)+IF(C7=5,J7*Geometry!$K$22,0) -> 83.252205 | O7: =IF(C7=1,J7*Geometry!$G$23,0)+IF(C7=2,J7*Geometry!$H$23,0)+IF(C7=3,J7*Geometry!$I$23,0)+IF(C7=4,J7*Geometry!$J$23,0)+IF(C7=5,J7*Geometry!$K$23,0) -> 0 | P7: =IF(C7=1,J7*Geometry!$G$24,0)+IF(C7=2,J7*Geometry!$H$24,0)+IF(C7=3,J7*Geometry!$I$24,0)+IF(C7=4,J7*Geometry!$J$24,0)+IF(C7=5,J7*Geometry!$K$24,0) -> 1831.5485
A8: =A7+1 -> 2 | C8: =IF(A8>$C$1-$C$4,3,IF(A8<2,3,IF(A8<=$D$3,1,IF(A8>$E$3,1,2)))) -> 1 | D8: =D7+Geometry!$C$15 -> 147.5 | E8: =E7-(D8-D7) -> 58.75 | F8: =Geometry!$D$12*D8 -> 5.5191818 | G8: =IF(H8>0,F8/9.8,0) -> 0.56318182 | H8: =IF(ABS(E8*E8)<=Geometry!$E$10,SQRT(Geometry!$E$10-E8*E8),0) -> 35.707142 | I8: =IF(H8>0,1,0) -> 1 | J8: =PI()*H8*H8 -> 4005.5306 | K8: =IF(C8=1,J8*Geometry!$G$21,0)+IF(C8=2,J8*Geometry!$H$21,0)+IF(C8=3,J8*Geometry!$I$21,0)+IF(C8=4,J8*Geometry!$J$21,0)+IF(C8=5,J8*Geometry!$K$21,0) -> 3564.9223 | L8: =IF(C8=1,J8*Geometry!$G$20,0)+IF(C8=2,J8*Geometry!$H$20,0)+IF(C8=3,J8*Geometry!$I$20,0)+IF(C8=4,J8*Geometry!$J$20,0)+IF(C8=5,J8*Geometry!$K$20,0) -> 0 | M8: =IF(C8=1,J8*Geometry!$G$19,0)+IF(C8=2,J8*Geometry!$H$19,0)+IF(C8=3,J8*Geometry!$I$19,0)+IF(C8=4,J8*Geometry!$J$19,0)+IF(C8=5,J8*Geometry!$K$19,0) -> 0 | N8: =IF(C8=1,J8*Geometry!$G$22,0)+IF(C8=2,J8*Geometry!$H$22,0)+IF(C8=3,J8*Geometry!$I$22,0)+IF(C8=4,J8*Geometry!$J$22,0)+IF(C8=5,J8*Geometry!$K$22,0) -> 80.110613 | O8: =IF(C8=1,J8*Geometry!$G$23,0)+IF(C8=2,J8*Geometry!$H$23,0)+IF(C8=3,J8*Geometry!$I$23,0)+IF(C8=4,J8*Geometry!$J$23,0)+IF(C8=5,J8*Geometry!$K$23,0) -> 0 | P8: =IF(C8=1,J8*Geometry!$G$24,0)+IF(C8=2,J8*Geometry!$H$24,0)+IF(C8=3,J8*Geometry!$I$24,0)+IF(C8=4,J8*Geometry!$J$24,0)+IF(C8=5,J8*Geometry!$K$24,0) -> 40.055306
A9: =A8+1 -> 3 | C9: =IF(A9>$C$1-$C$4,3,IF(A9<2,3,IF(A9<=$D$3,1,IF(A9>$E$3,1,2)))) -> 1 | D9: =D8+Geometry!$C$15 -> 152.5 | E9: =E8-(D9-D8) -> 53.75 | F9: =Geometry!$D$12*D9 -> 5.7062727 | G9: =IF(H9>0,F9/9.8,0) -> 0.58227273 | H9: =IF(ABS(E9*E9)<=Geometry!$E$10,SQRT(Geometry!$E$10-E9*E9),0) -> 42.86607 | I9: =IF(H9>0,1,0) -> 1 | J9: =PI()*H9*H9 -> 5772.6765 | K9: =IF(C9=1,J9*Geometry!$G$21,0)+IF(C9=2,J9*Geometry!$H$21,0)+IF(C9=3,J9*Geometry!$I$21,0)+IF(C9=4,J9*Geometry!$J$21,0)+IF(C9=5,J9*Geometry!$K$21,0) -> 5137.6821 | L9: =IF(C9=1,J9*Geometry!$G$20,0)+IF(C9=2,J9*Geometry!$H$20,0)+IF(C9=3,J9*Geometry!$I$20,0)+IF(C9=4,J9*Geometry!$J$20,0)+IF(C9=5,J9*Geometry!$K$20,0) -> 0 | M9: =IF(C9=1,J9*Geometry!$G$19,0)+IF(C9=2,J9*Geometry!$H$19,0)+IF(C9=3,J9*Geometry!$I$19,0)+IF(C9=4,J9*Geometry!$J$19,0)+IF(C9=5,J9*Geometry!$K$19,0) -> 0 | N9: =IF(C9=1,J9*Geometry!$G$22,0)+IF(C9=2,J9*Geometry!$H$22,0)+IF(C9=3,J9*Geometry!$I$22,0)+IF(C9=4,J9*Geometry!$J$22,0)+IF(C9=5,J9*Geometry!$K$22,0) -> 115.45353 | O9: =IF(C9=1,J9*Geometry!$G$23,0)+IF(C9=2,J9*Geometry!$H$23,0)+IF(C9=3,J9*Geometry!$I$23,0)+IF(C9=4,J9*Geometry!$J$23,0)+IF(C9=5,J9*Geometry!$K$23,0) -> 0 | P9: =IF(C9=1,J9*Geometry!$G$24,0)+IF(C9=2,J9*Geometry!$H$24,0)+IF(C9=3,J9*Geometry!$I$24,0)+IF(C9=4,J9*Geometry!$J$24,0)+IF(C9=5,J9*Geometry!$K$24,0) -> 57.726765
A10: =A9+1 -> 4 | C10: =IF(A10>$C$1-$C$4,3,IF(A10<2,3,IF(A10<=$D$3,1,IF(A10>$E$3,1,2)))) -> 1 | D10: =D9+Geometry!$C$15 -> 157.5 | E10: =E9-(D10-D9) -> 48.75 | F10: =Geometry!$D$12*D10 -> 5.8933636 | G10: =IF(H10>0,F10/9.8,0) -> 0.60136364 | H10: =IF(ABS(E10*E10)<=Geometry!$E$10,SQRT(Geometry!$E$10-E10*E10),0) -> 48.476799 | I10: =IF(H10>0,1,0) -> 1 | J10: =PI()*H10*H10 -> 7382.7427 | K10: =IF(C10=1,J10*Geometry!$G$21,0)+IF(C10=2,J10*Geometry!$H$21,0)+IF(C10=3,J10*Geometry!$I$21,0)+IF(C10=4,J10*Geometry!$J$21,0)+IF(C10=5,J10*Geometry!$K$21,0) -> 6570.641 | L10: =IF(C10=1,J10*Geometry!$G$20,0)+IF(C10=2,J10*Geometry!$H$20,0)+IF(C10=3,J10*Geometry!$I$20,0)+IF(C10=4,J10*Geometry!$J$20,0)+IF(C10=5,J10*Geometry!$K$20,0) -> 0 | M10: =IF(C10=1,J10*Geometry!$G$19,0)+IF(C10=2,J10*Geometry!$H$19,0)+IF(C10=3,J10*Geometry!$I$19,0)+IF(C10=4,J10*Geometry!$J$19,0)+IF(C10=5,J10*Geometry!$K$19,0) -> 0 | N10: =IF(C10=1,J10*Geometry!$G$22,0)+IF(C10=2,J10*Geometry!$H$22,0)+IF(C10=3,J10*Geometry!$I$22,0)+IF(C10=4,J10*Geometry!$J$22,0)+IF(C10=5,J10*Geometry!$K$22,0) -> 147.65485 | O10: =IF(C10=1,J10*Geometry!$G$23,0)+IF(C10=2,J10*Geometry!$H$23,0)+IF(C10=3,J10*Geometry!$I$23,0)+IF(C10=4,J10*Geometry!$J$23,0)+IF(C10=5,J10*Geometry!$K$23,0) -> 0 | P10: =IF(C10=1,J10*Geometry!$G$24,0)+IF(C10=2,J10*Geometry!$H$24,0)+IF(C10=3,J10*Geometry!$I$24,0)+IF(C10=4,J10*Geometry!$J$24,0)+IF(C10=5,J10*Geometry!$K$24,0) -> 73.827427
A11: =A10+1 -> 5 | C11: =IF(A11>$C$1-$C$4,3,IF(A11<2,3,IF(A11<=$D$3,1,IF(A11>$E$3,1,2)))) -> 1 | D11: =D10+Geometry!$C$15 -> 162.5 | E11: =E10-(D11-D10) -> 43.75 | F11: =Geometry!$D$12*D11 -> 6.0804545 | G11: =IF(H11>0,F11/9.8,0) -> 0.62045455 | H11: =IF(ABS(E11*E11)<=Geometry!$E$10,SQRT(Geometry!$E$10-E11*E11),0) -> 53.033009 | I11: =IF(H11>0,1,0) -> 1 | J11: =PI()*H11*H11 -> 8835.7293 | K11: =IF(C11=1,J11*Geometry!$G$21,0)+IF(C11=2,J11*Geometry!$H$21,0)+IF(C11=3,J11*Geometry!$I$21,0)+IF(C11=4,J11*Geometry!$J$21,0)+IF(C11=5,J11*Geometry!$K$21,0) -> 7863.7991 | L11: =IF(C11=1,J11*Geometry!$G$20,0)+IF(C11=2,J11*Geometry!$H$20,0)+IF(C11=3,J11*Geometry!$I$20,0)+IF(C11=4,J11*Geometry!$J$20,0)+IF(C11=5,J11*Geometry!$K$20,0) -> 0 | M11: =IF(C11=1,J11*Geometry!$G$19,0)+IF(C11=2,J11*Geometry!$H$19,0)+IF(C11=3,J11*Geometry!$I$19,0)+IF(C11=4,J11*Geometry!$J$19,0)+IF(C11=5,J11*Geometry!$K$19,0) -> 0 | N11: =IF(C11=1,J11*Geometry!$G$22,0)+IF(C11=2,J11*Geometry!$H$22,0)+IF(C11=3,J11*Geometry!$I$22,0)+IF(C11=4,J11*Geometry!$J$22,0)+IF(C11=5,J11*Geometry!$K$22,0) -> 176.71459 | O11: =IF(C11=1,J11*Geometry!$G$23,0)+IF(C11=2,J11*Geometry!$H$23,0)+IF(C11=3,J11*Geometry!$I$23,0)+IF(C11=4,J11*Geometry!$J$23,0)+IF(C11=5,J11*Geometry!$K$23,0) -> 0 | P11: =IF(C11=1,J11*Geometry!$G$24,0)+IF(C11=2,J11*Geometry!$H$24,0)+IF(C11=3,J11*Geometry!$I$24,0)+IF(C11=4,J11*Geometry!$J$24,0)+IF(C11=5,J11*Geometry!$K$24,0) -> 88.357293
A12: =A11+1 -> 6 | C12: =IF(A12>$C$1-$C$4,3,IF(A12<2,3,IF(A12<=$D$3,1,IF(A12>$E$3,1,2)))) -> 1 | D12: =D11+Geometry!$C$15 -> 167.5 | E12: =E11-(D12-D11) -> 38.75 | F12: =Geometry!$D$12*D12 -> 6.2675455 | G12: =IF(H12>0,F12/9.8,0) -> 0.63954545 | H12: =IF(ABS(E12*E12)<=Geometry!$E$10,SQRT(Geometry!$E$10-E12*E12),0) -> 56.789083 | I12: =IF(H12>0,1,0) -> 1 | J12: =PI()*H12*H12 -> 10131.636 | K12: =IF(C12=1,J12*Geometry!$G$21,0)+IF(C12=2,J12*Geometry!$H$21,0)+IF(C12=3,J12*Geometry!$I$21,0)+IF(C12=4,J12*Geometry!$J$21,0)+IF(C12=5,J12*Geometry!$K$21,0) -> 9017.1563 | L12: =IF(C12=1,J12*Geometry!$G$20,0)+IF(C12=2,J12*Geometry!$H$20,0)+IF(C12=3,J12*Geometry!$I$20,0)+IF(C12=4,J12*Geometry!$J$20,0)+IF(C12=5,J12*Geometry!$K$20,0) -> 0 | M12: =IF(C12=1,J12*Geometry!$G$19,0)+IF(C12=2,J12*Geometry!$H$19,0)+IF(C12=3,J12*Geometry!$I$19,0)+IF(C12=4,J12*Geometry!$J$19,0)+IF(C12=5,J12*Geometry!$K$19,0) -> 0 | N12: =IF(C12=1,J12*Geometry!$G$22,0)+IF(C12=2,J12*Geometry!$H$22,0)+IF(C12=3,J12*Geometry!$I$22,0)+IF(C12=4,J12*Geometry!$J$22,0)+IF(C12=5,J12*Geometry!$K$22,0) -> 202.63273 | O12: =IF(C12=1,J12*Geometry!$G$23,0)+IF(C12=2,J12*Geometry!$H$23,0)+IF(C12=3,J12*Geometry!$I$23,0)+IF(C12=4,J12*Geometry!$J$23,0)+IF(C12=5,J12*Geometry!$K$23,0) -> 0 | P12: =IF(C12=1,J12*Geometry!$G$24,0)+IF(C12=2,J12*Geometry!$H$24,0)+IF(C12=3,J12*Geometry!$I$24,0)+IF(C12=4,J12*Geometry!$J$24,0)+IF(C12=5,J12*Geometry!$K$24,0) -> 101.31636
A13: =A12+1 -> 7 | C13: =IF(A13>$C$1-$C$4,3,IF(A13<2,3,IF(A13<=$D$3,1,IF(A13>$E$3,1,2)))) -> 1 | D13: =D12+Geometry!$C$15 -> 172.5 | E13: =E12-(D13-D12) -> 33.75 | F13: =Geometry!$D$12*D13 -> 6.4546364 | G13: =IF(H13>0,F13/9.8,0) -> 0.65863636 | H13: =IF(ABS(E13*E13)<=Geometry!$E$10,SQRT(Geometry!$E$10-E13*E13),0) -> 59.895743 | I13: =IF(H13>0,1,0) -> 1 | J13: =PI()*H13*H13 -> 11270.464 | K13: =IF(C13=1,J13*Geometry!$G$21,0)+IF(C13=2,J13*Geometry!$H$21,0)+IF(C13=3,J13*Geometry!$I$21,0)+IF(C13=4,J13*Geometry!$J$21,0)+IF(C13=5,J13*Geometry!$K$21,0) -> 10030.713 | L13: =IF(C13=1,J13*Geometry!$G$20,0)+IF(C13=2,J13*Geometry!$H$20,0)+IF(C13=3,J13*Geometry!$I$20,0)+IF(C13=4,J13*Geometry!$J$20,0)+IF(C13=5,J13*Geometry!$K$20,0) -> 0 | M13: =IF(C13=1,J13*Geometry!$G$19,0)+IF(C13=2,J13*Geometry!$H$19,0)+IF(C13=3,J13*Geometry!$I$19,0)+IF(C13=4,J13*Geometry!$J$19,0)+IF(C13=5,J13*Geometry!$K$19,0) -> 0 | N13: =IF(C13=1,J13*Geometry!$G$22,0)+IF(C13=2,J13*Geometry!$H$22,0)+IF(C13=3,J13*Geometry!$I$22,0)+IF(C13=4,J13*Geometry!$J$22,0)+IF(C13=5,J13*Geometry!$K$22,0) -> 225.40927 | O13: =IF(C13=1,J13*Geometry!$G$23,0)+IF(C13=2,J13*Geometry!$H$23,0)+IF(C13=3,J13*Geometry!$I$23,0)+IF(C13=4,J13*Geometry!$J$23,0)+IF(C13=5,J13*Geometry!$K$23,0) -> 0 | P13: =IF(C13=1,J13*Geometry!$G$24,0)+IF(C13=2,J13*Geometry!$H$24,0)+IF(C13=3,J13*Geometry!$I$24,0)+IF(C13=4,J13*Geometry!$J$24,0)+IF(C13=5,J13*Geometry!$K$24,0) -> 112.70464
A14: =A13+1 -> 8 | C14: =IF(A14>$C$1-$C$4,3,IF(A14<2,3,IF(A14<=$D$3,1,IF(A14>$E$3,1,2)))) -> 1 | D14: =D13+Geometry!$C$15 -> 177.5 | E14: =E13-(D14-D13) -> 28.75 | F14: =Geometry!$D$12*D14 -> 6.6417273 | G14: =IF(H14>0,F14/9.8,0) -> 0.67772727 | H14: =IF(ABS(E14*E14)<=Geometry!$E$10,SQRT(Geometry!$E$10-E14*E14),0) -> 62.44998 | I14: =IF(H14>0,1,0) -> 1 | J14: =PI()*H14*H14 -> 12252.211 | K14: =IF(C14=1,J14*Geometry!$G$21,0)+IF(C14=2,J14*Geometry!$H$21,0)+IF(C14=3,J14*Geometry!$I$21,0)+IF(C14=4,J14*Geometry!$J$21,0)+IF(C14=5,J14*Geometry!$K$21,0) -> 10904.468 | L14: =IF(C14=1,J14*Geometry!$G$20,0)+IF(C14=2,J14*Geometry!$H$20,0)+IF(C14=3,J14*Geometry!$I$20,0)+IF(C14=4,J14*Geometry!$J$20,0)+IF(C14=5,J14*Geometry!$K$20,0) -> 0 | M14: =IF(C14=1,J14*Geometry!$G$19,0)+IF(C14=2,J14*Geometry!$H$19,0)+IF(C14=3,J14*Geometry!$I$19,0)+IF(C14=4,J14*Geometry!$J$19,0)+IF(C14=5,J14*Geometry!$K$19,0) -> 0 | N14: =IF(C14=1,J14*Geometry!$G$22,0)+IF(C14=2,J14*Geometry!$H$22,0)+IF(C14=3,J14*Geometry!$I$22,0)+IF(C14=4,J14*Geometry!$J$22,0)+IF(C14=5,J14*Geometry!$K$22,0) -> 245.04423 | O14: =IF(C14=1,J14*Geometry!$G$23,0)+IF(C14=2,J14*Geometry!$H$23,0)+IF(C14=3,J14*Geometry!$I$23,0)+IF(C14=4,J14*Geometry!$J$23,0)+IF(C14=5,J14*Geometry!$K$23,0) -> 0 | P14: =IF(C14=1,J14*Geometry!$G$24,0)+IF(C14=2,J14*Geometry!$H$24,0)+IF(C14=3,J14*Geometry!$I$24,0)+IF(C14=4,J14*Geometry!$J$24,0)+IF(C14=5,J14*Geometry!$K$24,0) -> 122.52211
A15: =A14+1 -> 9 | C15: =IF(A15>$C$1-$C$4,3,IF(A15<2,3,IF(A15<=$D$3,1,IF(A15>$E$3,1,2)))) -> 1 | D15: =D14+Geometry!$C$15 -> 182.5 | E15: =E14-(D15-D14) -> 23.75 | F15: =Geometry!$D$12*D15 -> 6.8288182 | G15: =IF(H15>0,F15/9.8,0) -> 0.69681818 | H15: =IF(ABS(E15*E15)<=Geometry!$E$10,SQRT(Geometry!$E$10-E15*E15),0) -> 64.51744 | I15: =IF(H15>0,1,0) -> 1 | J15: =PI()*H15*H15 -> 13076.879 | K15: =IF(C15=1,J15*Geometry!$G$21,0)+IF(C15=2,J15*Geometry!$H$21,0)+IF(C15=3,J15*Geometry!$I$21,0)+IF(C15=4,J15*Geometry!$J$21,0)+IF(C15=5,J15*Geometry!$K$21,0) -> 11638.423 | L15: =IF(C15=1,J15*Geometry!$G$20,0)+IF(C15=2,J15*Geometry!$H$20,0)+IF(C15=3,J15*Geometry!$I$20,0)+IF(C15=4,J15*Geometry!$J$20,0)+IF(C15=5,J15*Geometry!$K$20,0) -> 0 | M15: =IF(C15=1,J15*Geometry!$G$19,0)+IF(C15=2,J15*Geometry!$H$19,0)+IF(C15=3,J15*Geometry!$I$19,0)+IF(C15=4,J15*Geometry!$J$19,0)+IF(C15=5,J15*Geometry!$K$19,0) -> 0 | N15: =IF(C15=1,J15*Geometry!$G$22,0)+IF(C15=2,J15*Geometry!$H$22,0)+IF(C15=3,J15*Geometry!$I$22,0)+IF(C15=4,J15*Geometry!$J$22,0)+IF(C15=5,J15*Geometry!$K$22,0) -> 261.53759 | O15: =IF(C15=1,J15*Geometry!$G$23,0)+IF(C15=2,J15*Geometry!$H$23,0)+IF(C15=3,J15*Geometry!$I$23,0)+IF(C15=4,J15*Geometry!$J$23,0)+IF(C15=5,J15*Geometry!$K$23,0) -> 0 | P15: =IF(C15=1,J15*Geometry!$G$24,0)+IF(C15=2,J15*Geometry!$H$24,0)+IF(C15=3,J15*Geometry!$I$24,0)+IF(C15=4,J15*Geometry!$J$24,0)+IF(C15=5,J15*Geometry!$K$24,0) -> 130.76879
A16: =A15+1 -> 10 | C16: =IF(A16>$C$1-$C$4,3,IF(A16<2,3,IF(A16<=$D$3,1,IF(A16>$E$3,1,2)))) -> 1 | D16: =D15+Geometry!$C$15 -> 187.5 | E16: =E15-(D16-D15) -> 18.75 | F16: =Geometry!$D$12*D16 -> 7.0159091 | G16: =IF(H16>0,F16/9.8,0) -> 0.71590909 | H16: =IF(ABS(E16*E16)<=Geometry!$E$10,SQRT(Geometry!$E$10-E16*E16),0) -> 66.143783 | I16: =IF(H16>0,1,0) -> 1 | J16: =PI()*H16*H16 -> 13744.468 | K16: =IF(C16=1,J16*Geometry!$G$21,0)+IF(C16=2,J16*Geometry!$H$21,0)+IF(C16=3,J16*Geometry!$I$21,0)+IF(C16=4,J16*Geometry!$J$21,0)+IF(C16=5,J16*Geometry!$K$21,0) -> 12232.576 | L16: =IF(C16=1,J16*Geometry!$G$20,0)+IF(C16=2,J16*Geometry!$H$20,0)+IF(C16=3,J16*Geometry!$I$20,0)+IF(C16=4,J16*Geometry!$J$20,0)+IF(C16=5,J16*Geometry!$K$20,0) -> 0 | M16: =IF(C16=1,J16*Geometry!$G$19,0)+IF(C16=2,J16*Geometry!$H$19,0)+IF(C16=3,J16*Geometry!$I$19,0)+IF(C16=4,J16*Geometry!$J$19,0)+IF(C16=5,J16*Geometry!$K$19,0) -> 0 | N16: =IF(C16=1,J16*Geometry!$G$22,0)+IF(C16=2,J16*Geometry!$H$22,0)+IF(C16=3,J16*Geometry!$I$22,0)+IF(C16=4,J16*Geometry!$J$22,0)+IF(C16=5,J16*Geometry!$K$22,0) -> 274.88936 | O16: =IF(C16=1,J16*Geometry!$G$23,0)+IF(C16=2,J16*Geometry!$H$23,0)+IF(C16=3,J16*Geometry!$I$23,0)+IF(C16=4,J16*Geometry!$J$23,0)+IF(C16=5,J16*Geometry!$K$23,0) -> 0 | P16: =IF(C16=1,J16*Geometry!$G$24,0)+IF(C16=2,J16*Geometry!$H$24,0)+IF(C16=3,J16*Geometry!$I$24,0)+IF(C16=4,J16*Geometry!$J$24,0)+IF(C16=5,J16*Geometry!$K$24,0) -> 137.44468
A17: =A16+1 -> 11 | C17: =IF(A17>$C$1-$C$4,3,IF(A17<2,3,IF(A17<=$D$3,1,IF(A17>$E$3,1,2)))) -> 1 | D17: =D16+Geometry!$C$15 -> 192.5 | E17: =E16-(D17-D16) -> 13.75 | F17: =Geometry!$D$12*D17 -> 7.203 | G17: =IF(H17>0,F17/9.8,0) -> 0.735 | H17: =IF(ABS(E17*E17)<=Geometry!$E$10,SQRT(Geometry!$E$10-E17*E17),0) -> 67.360968 | I17: =IF(H17>0,1,0) -> 1 | J17: =PI()*H17*H17 -> 14254.977 | K17: =IF(C17=1,J17*Geometry!$G$21,0)+IF(C17=2,J17*Geometry!$H$21,0)+IF(C17=3,J17*Geometry!$I$21,0)+IF(C17=4,J17*Geometry!$J$21,0)+IF(C17=5,J17*Geometry!$K$21,0) -> 12686.929 | L17: =IF(C17=1,J17*Geometry!$G$20,0)+IF(C17=2,J17*Geometry!$H$20,0)+IF(C17=3,J17*Geometry!$I$20,0)+IF(C17=4,J17*Geometry!$J$20,0)+IF(C17=5,J17*Geometry!$K$20,0) -> 0 | M17: =IF(C17=1,J17*Geometry!$G$19,0)+IF(C17=2,J17*Geometry!$H$19,0)+IF(C17=3,J17*Geometry!$I$19,0)+IF(C17=4,J17*Geometry!$J$19,0)+IF(C17=5,J17*Geometry!$K$19,0) -> 0 | N17: =IF(C17=1,J17*Geometry!$G$22,0)+IF(C17=2,J17*Geometry!$H$22,0)+IF(C17=3,J17*Geometry!$I$22,0)+IF(C17=4,J17*Geometry!$J$22,0)+IF(C17=5,J17*Geometry!$K$22,0) -> 285.09953 | O17: =IF(C17=1,J17*Geometry!$G$23,0)+IF(C17=2,J17*Geometry!$H$23,0)+IF(C17=3,J17*Geometry!$I$23,0)+IF(C17=4,J17*Geometry!$J$23,0)+IF(C17=5,J17*Geometry!$K$23,0) -> 0 | P17: =IF(C17=1,J17*Geometry!$G$24,0)+IF(C17=2,J17*Geometry!$H$24,0)+IF(C17=3,J17*Geometry!$I$24,0)+IF(C17=4,J17*Geometry!$J$24,0)+IF(C17=5,J17*Geometry!$K$24,0) -> 142.54977
A18: =A17+1 -> 12 | C18: =IF(A18>$C$1-$C$4,3,IF(A18<2,3,IF(A18<=$D$3,1,IF(A18>$E$3,1,2)))) -> 2 | D18: =D17+Geometry!$C$15 -> 197.5 | E18: =E17-(D18-D17) -> 8.75 | F18: =Geometry!$D$12*D18 -> 7.3900909 | G18: =IF(H18>0,F18/9.8,0) -> 0.75409091 | H18: =IF(ABS(E18*E18)<=Geometry!$E$10,SQRT(Geometry!$E$10-E18*E18),0) -> 68.190908 | I18: =IF(H18>0,1,0) -> 1 | J18: =PI()*H18*H18 -> 14608.406 | K18: =IF(C18=1,J18*Geometry!$G$21,0)+IF(C18=2,J18*Geometry!$H$21,0)+IF(C18=3,J18*Geometry!$I$21,0)+IF(C18=4,J18*Geometry!$J$21,0)+IF(C18=5,J18*Geometry!$K$21,0) -> 0 | L18: =IF(C18=1,J18*Geometry!$G$20,0)+IF(C18=2,J18*Geometry!$H$20,0)+IF(C18=3,J18*Geometry!$I$20,0)+IF(C18=4,J18*Geometry!$J$20,0)+IF(C18=5,J18*Geometry!$K$20,0) -> 7450.287 | M18: =IF(C18=1,J18*Geometry!$G$19,0)+IF(C18=2,J18*Geometry!$H$19,0)+IF(C18=3,J18*Geometry!$I$19,0)+IF(C18=4,J18*Geometry!$J$19,0)+IF(C18=5,J18*Geometry!$K$19,0) -> 2045.1768 | N18: =IF(C18=1,J18*Geometry!$G$22,0)+IF(C18=2,J18*Geometry!$H$22,0)+IF(C18=3,J18*Geometry!$I$22,0)+IF(C18=4,J18*Geometry!$J$22,0)+IF(C18=5,J18*Geometry!$K$22,0) -> 0 | O18: =IF(C18=1,J18*Geometry!$G$23,0)+IF(C18=2,J18*Geometry!$H$23,0)+IF(C18=3,J18*Geometry!$I$23,0)+IF(C18=4,J18*Geometry!$J$23,0)+IF(C18=5,J18*Geometry!$K$23,0) -> 3257.6745 | P18: =IF(C18=1,J18*Geometry!$G$24,0)+IF(C18=2,J18*Geometry!$H$24,0)+IF(C18=3,J18*Geometry!$I$24,0)+IF(C18=4,J18*Geometry!$J$24,0)+IF(C18=5,J18*Geometry!$K$24,0) -> 7.3042029
A19: =A18+1 -> 13 | C19: =IF(A19>$C$1-$C$4,3,IF(A19<2,3,IF(A19<=$D$3,1,IF(A19>$E$3,1,2)))) -> 2 | D19: =D18+Geometry!$C$15 -> 202.5 | E19: =E18-(D19-D18) -> 3.75 | F19: =Geometry!$D$12*D19 -> 7.5771818 | G19: =IF(H19>0,F19/9.8,0) -> 0.77318182 | H19: =IF(ABS(E19*E19)<=Geometry!$E$10,SQRT(Geometry!$E$10-E19*E19),0) -> 68.647651 | I19: =IF(H19>0,1,0) -> 1 | J19: =PI()*H19*H19 -> 14804.755 | K19: =IF(C19=1,J19*Geometry!$G$21,0)+IF(C19=2,J19*Geometry!$H$21,0)+IF(C19=3,J19*Geometry!$I$21,0)+IF(C19=4,J19*Geometry!$J$21,0)+IF(C19=5,J19*Geometry!$K$21,0) -> 0 | L19: =IF(C19=1,J19*Geometry!$G$20,0)+IF(C19=2,J19*Geometry!$H$20,0)+IF(C19=3,J19*Geometry!$I$20,0)+IF(C19=4,J19*Geometry!$J$20,0)+IF(C19=5,J19*Geometry!$K$20,0) -> 7550.4252 | M19: =IF(C19=1,J19*Geometry!$G$19,0)+IF(C19=2,J19*Geometry!$H$19,0)+IF(C19=3,J19*Geometry!$I$19,0)+IF(C19=4,J19*Geometry!$J$19,0)+IF(C19=5,J19*Geometry!$K$19,0) -> 2072.6658 | N19: =IF(C19=1,J19*Geometry!$G$22,0)+IF(C19=2,J19*Geometry!$H$22,0)+IF(C19=3,J19*Geometry!$I$22,0)+IF(C19=4,J19*Geometry!$J$22,0)+IF(C19=5,J19*Geometry!$K$22,0) -> 0 | O19: =IF(C19=1,J19*Geometry!$G$23,0)+IF(C19=2,J19*Geometry!$H$23,0)+IF(C19=3,J19*Geometry!$I$23,0)+IF(C19=4,J19*Geometry!$J$23,0)+IF(C19=5,J19*Geometry!$K$23,0) -> 3301.4604 | P19: =IF(C19=1,J19*Geometry!$G$24,0)+IF(C19=2,J19*Geometry!$H$24,0)+IF(C19=3,J19*Geometry!$I$24,0)+IF(C19=4,J19*Geometry!$J$24,0)+IF(C19=5,J19*Geometry!$K$24,0) -> 7.4023777
... A93: =A92+1 -> 87 | C93: =IF(A93>$C$1-$C$4,3,IF(A93<2,3,IF(A93<=$D$3,1,IF(A93>$E$3,1,2)))) -> 3 | D93: =D92+Geometry!$C$15 -> 572.5 | E93: =E92-(D93-D92) -> -366.25 | F93: =Geometry!$D$12*D93 -> 21.421909 | G93: =IF(H93>0,F93/9.8,0) -> 0 | H93: =IF(ABS(E93*E93)<=Geometry!$E$10,SQRT(Geometry!$E$10-E93*E93),0) -> 0 | I93: =IF(H93>0,1,0) -> 0 | J93: =PI()*H93*H93 -> 0 | K93: =IF(C93=1,J93*Geometry!$G$21,0)+IF(C93=2,J93*Geometry!$H$21,0)+IF(C93=3,J93*Geometry!$I$21,0)+IF(C93=4,J93*Geometry!$J$21,0)+IF(C93=5,J93*Geometry!$K$21,0) -> 0 | L93: =IF(C93=1,J93*Geometry!$G$20,0)+IF(C93=2,J93*Geometry!$H$20,0)+IF(C93=3,J93*Geometry!$I$20,0)+IF(C93=4,J93*Geometry!$J$20,0)+IF(C93=5,J93*Geometry!$K$20,0) -> 0 | M93: =IF(C93=1,J93*Geometry!$G$19,0)+IF(C93=2,J93*Geometry!$H$19,0)+IF(C93=3,J93*Geometry!$I$19,0)+IF(C93=4,J93*Geometry!$J$19,0)+IF(C93=5,J93*Geometry!$K$19,0) -> 0 | N93: =IF(C93=1,J93*Geometry!$G$22,0)+IF(C93=2,J93*Geometry!$H$22,0)+IF(C93=3,J93*Geometry!$I$22,0)+IF(C93=4,J93*Geometry!$J$22,0)+IF(C93=5,J93*Geometry!$K$22,0) -> 0 | O93: =IF(C93=1,J93*Geometry!$G$23,0)+IF(C93=2,J93*Geometry!$H$23,0)+IF(C93=3,J93*Geometry!$I$23,0)+IF(C93=4,J93*Geometry!$J$23,0)+IF(C93=5,J93*Geometry!$K$23,0) -> 0 | P93: =IF(C93=1,J93*Geometry!$G$24,0)+IF(C93=2,J93*Geometry!$H$24,0)+IF(C93=3,J93*Geometry!$I$24,0)+IF(C93=4,J93*Geometry!$J$24,0)+IF(C93=5,J93*Geometry!$K$24,0) -> 0
A94: =A93+1 -> 88 | C94: =IF(A94>$C$1-$C$4,3,IF(A94<2,3,IF(A94<=$C$2-$C$3/2,1,IF(A94>$C$2+$C$3/2,1,2)))) -> 3 | D94: =D93+Geometry!$C$15 -> 577.5 | E94: =E93-(D94-D93) -> -371.25 | F94: =Geometry!$D$12*D94 -> 21.609 | G94: =IF(H94>0,F94/9.8,0) -> 0 | H94: =IF(ABS(E94*E94)<=Geometry!$E$10,SQRT(Geometry!$E$10-E94*E94),0) -> 0 | I94: =IF(H94>0,1,0) -> 0 | J94: =PI()*H94*H94 -> 0 | K94: =IF(C94=1,J94*Geometry!$G$21,0)+IF(C94=2,J94*Geometry!$H$21,0)+IF(C94=3,J94*Geometry!$I$21,0)+IF(C94=4,J94*Geometry!$J$21,0)+IF(C94=5,J94*Geometry!$K$21,0) -> 0 | L94: =IF(C94=1,J94*Geometry!$G$20,0)+IF(C94=2,J94*Geometry!$H$20,0)+IF(C94=3,J94*Geometry!$I$20,0)+IF(C94=4,J94*Geometry!$J$20,0)+IF(C94=5,J94*Geometry!$K$20,0) -> 0 | M94: =IF(C94=1,J94*Geometry!$G$19,0)+IF(C94=2,J94*Geometry!$H$19,0)+IF(C94=3,J94*Geometry!$I$19,0)+IF(C94=4,J94*Geometry!$J$19,0)+IF(C94=5,J94*Geometry!$K$19,0) -> 0 | N94: =IF(C94=1,J94*Geometry!$G$22,0)+IF(C94=2,J94*Geometry!$H$22,0)+IF(C94=3,J94*Geometry!$I$22,0)+IF(C94=4,J94*Geometry!$J$22,0)+IF(C94=5,J94*Geometry!$K$22,0) -> 0 | O94: =IF(C94=1,J94*Geometry!$G$23,0)+IF(C94=2,J94*Geometry!$H$23,0)+IF(C94=3,J94*Geometry!$I$23,0)+IF(C94=4,J94*Geometry!$J$23,0)+IF(C94=5,J94*Geometry!$K$23,0) -> 0 | P94: =IF(C94=1,J94*Geometry!$G$24,0)+IF(C94=2,J94*Geometry!$H$24,0)+IF(C94=3,J94*Geometry!$I$24,0)+IF(C94=4,J94*Geometry!$J$24,0)+IF(C94=5,J94*Geometry!$K$24,0) -> 0
A95: =A94+1 -> 89 | C95: =IF(A95>$C$1-$C$4,3,IF(A95<2,3,IF(A95<=$C$2-$C$3/2,1,IF(A95>$C$2+$C$3/2,1,2)))) -> 3 | D95: =D94+Geometry!$C$15 -> 582.5 | E95: =E94-(D95-D94) -> -376.25 | F95: =Geometry!$D$12*D95 -> 21.796091 | G95: =IF(H95>0,F95/9.8,0) -> 0 | H95: =IF(ABS(E95*E95)<=Geometry!$E$10,SQRT(Geometry!$E$10-E95*E95),0) -> 0 | I95: =IF(H95>0,1,0) -> 0 | J95: =PI()*H95*H95 -> 0 | K95: =IF(C95=1,J95*Geometry!$G$21,0)+IF(C95=2,J95*Geometry!$H$21,0)+IF(C95=3,J95*Geometry!$I$21,0)+IF(C95=4,J95*Geometry!$J$21,0)+IF(C95=5,J95*Geometry!$K$21,0) -> 0 | L95: =IF(C95=1,J95*Geometry!$G$20,0)+IF(C95=2,J95*Geometry!$H$20,0)+IF(C95=3,J95*Geometry!$I$20,0)+IF(C95=4,J95*Geometry!$J$20,0)+IF(C95=5,J95*Geometry!$K$20,0) -> 0 | M95: =IF(C95=1,J95*Geometry!$G$19,0)+IF(C95=2,J95*Geometry!$H$19,0)+IF(C95=3,J95*Geometry!$I$19,0)+IF(C95=4,J95*Geometry!$J$19,0)+IF(C95=5,J95*Geometry!$K$19,0) -> 0 | N95: =IF(C95=1,J95*Geometry!$G$22,0)+IF(C95=2,J95*Geometry!$H$22,0)+IF(C95=3,J95*Geometry!$I$22,0)+IF(C95=4,J95*Geometry!$J$22,0)+IF(C95=5,J95*Geometry!$K$22,0) -> 0 | O95: =IF(C95=1,J95*Geometry!$G$23,0)+IF(C95=2,J95*Geometry!$H$23,0)+IF(C95=3,J95*Geometry!$I$23,0)+IF(C95=4,J95*Geometry!$J$23,0)+IF(C95=5,J95*Geometry!$K$23,0) -> 0 | P95: =IF(C95=1,J95*Geometry!$G$24,0)+IF(C95=2,J95*Geometry!$H$24,0)+IF(C95=3,J95*Geometry!$I$24,0)+IF(C95=4,J95*Geometry!$J$24,0)+IF(C95=5,J95*Geometry!$K$24,0) -> 0
A96: =A95+1 -> 90 | C96: =IF(A96>$C$1-$C$4,3,IF(A96<2,3,IF(A96<=$C$2-$C$3/2,1,IF(A96>$C$2+$C$3/2,1,2)))) -> 3 | D96: =D95+Geometry!$C$15 -> 587.5 | E96: =E95-(D96-D95) -> -381.25 | F96: =Geometry!$D$12*D96 -> 21.983182 | G96: =IF(H96>0,F96/9.8,0) -> 0 | H96: =IF(ABS(E96*E96)<=Geometry!$E$10,SQRT(Geometry!$E$10-E96*E96),0) -> 0 | I96: =IF(H96>0,1,0) -> 0 | J96: =PI()*H96*H96 -> 0 | K96: =IF(C96=1,J96*Geometry!$G$21,0)+IF(C96=2,J96*Geometry!$H$21,0)+IF(C96=3,J96*Geometry!$I$21,0)+IF(C96=4,J96*Geometry!$J$21,0)+IF(C96=5,J96*Geometry!$K$21,0) -> 0 | L96: =IF(C96=1,J96*Geometry!$G$20,0)+IF(C96=2,J96*Geometry!$H$20,0)+IF(C96=3,J96*Geometry!$I$20,0)+IF(C96=4,J96*Geometry!$J$20,0)+IF(C96=5,J96*Geometry!$K$20,0) -> 0 | M96: =IF(C96=1,J96*Geometry!$G$19,0)+IF(C96=2,J96*Geometry!$H$19,0)+IF(C96=3,J96*Geometry!$I$19,0)+IF(C96=4,J96*Geometry!$J$19,0)+IF(C96=5,J96*Geometry!$K$19,0) -> 0 | N96: =IF(C96=1,J96*Geometry!$G$22,0)+IF(C96=2,J96*Geometry!$H$22,0)+IF(C96=3,J96*Geometry!$I$22,0)+IF(C96=4,J96*Geometry!$J$22,0)+IF(C96=5,J96*Geometry!$K$22,0) -> 0 | O96: =IF(C96=1,J96*Geometry!$G$23,0)+IF(C96=2,J96*Geometry!$H$23,0)+IF(C96=3,J96*Geometry!$I$23,0)+IF(C96=4,J96*Geometry!$J$23,0)+IF(C96=5,J96*Geometry!$K$23,0) -> 0 | P96: =IF(C96=1,J96*Geometry!$G$24,0)+IF(C96=2,J96*Geometry!$H$24,0)+IF(C96=3,J96*Geometry!$I$24,0)+IF(C96=4,J96*Geometry!$J$24,0)+IF(C96=5,J96*Geometry!$K$24,0) -> 0
A97: =A96+1 -> 91 | C97: =IF(A97>$C$1-$C$4,3,IF(A97<2,3,IF(A97<=$C$2-$C$3/2,1,IF(A97>$C$2+$C$3/2,1,2)))) -> 3 | D97: =D96+Geometry!$C$15 -> 592.5 | E97: =E96-(D97-D96) -> -386.25 | F97: =Geometry!$D$12*D97 -> 22.170273 | G97: =IF(H97>0,F97/9.8,0) -> 0 | H97: =IF(ABS(E97*E97)<=Geometry!$E$10,SQRT(Geometry!$E$10-E97*E97),0) -> 0 | I97: =IF(H97>0,1,0) -> 0 | J97: =PI()*H97*H97 -> 0 | K97: =IF(C97=1,J97*Geometry!$G$21,0)+IF(C97=2,J97*Geometry!$H$21,0)+IF(C97=3,J97*Geometry!$I$21,0)+IF(C97=4,J97*Geometry!$J$21,0)+IF(C97=5,J97*Geometry!$K$21,0) -> 0 | L97: =IF(C97=1,J97*Geometry!$G$20,0)+IF(C97=2,J97*Geometry!$H$20,0)+IF(C97=3,J97*Geometry!$I$20,0)+IF(C97=4,J97*Geometry!$J$20,0)+IF(C97=5,J97*Geometry!$K$20,0) -> 0 | M97: =IF(C97=1,J97*Geometry!$G$19,0)+IF(C97=2,J97*Geometry!$H$19,0)+IF(C97=3,J97*Geometry!$I$19,0)+IF(C97=4,J97*Geometry!$J$19,0)+IF(C97=5,J97*Geometry!$K$19,0) -> 0 | N97: =IF(C97=1,J97*Geometry!$G$22,0)+IF(C97=2,J97*Geometry!$H$22,0)+IF(C97=3,J97*Geometry!$I$22,0)+IF(C97=4,J97*Geometry!$J$22,0)+IF(C97=5,J97*Geometry!$K$22,0) -> 0 | O97: =IF(C97=1,J97*Geometry!$G$23,0)+IF(C97=2,J97*Geometry!$H$23,0)+IF(C97=3,J97*Geometry!$I$23,0)+IF(C97=4,J97*Geometry!$J$23,0)+IF(C97=5,J97*Geometry!$K$23,0) -> 0 | P97: =IF(C97=1,J97*Geometry!$G$24,0)+IF(C97=2,J97*Geometry!$H$24,0)+IF(C97=3,J97*Geometry!$I$24,0)+IF(C97=4,J97*Geometry!$J$24,0)+IF(C97=5,J97*Geometry!$K$24,0) -> 0
A98: =A97+1 -> 92 | C98: =IF(A98>$C$1-$C$4,3,IF(A98<2,3,IF(A98<=$C$2-$C$3/2,1,IF(A98>$C$2+$C$3/2,1,2)))) -> 3 | D98: =D97+Geometry!$C$15 -> 597.5 | E98: =E97-(D98-D97) -> -391.25 | F98: =Geometry!$D$12*D98 -> 22.357364 | G98: =IF(H98>0,F98/9.8,0) -> 0 | H98: =IF(ABS(E98*E98)<=Geometry!$E$10,SQRT(Geometry!$E$10-E98*E98),0) -> 0 | I98: =IF(H98>0,1,0) -> 0 | J98: =PI()*H98*H98 -> 0 | K98: =IF(C98=1,J98*Geometry!$G$21,0)+IF(C98=2,J98*Geometry!$H$21,0)+IF(C98=3,J98*Geometry!$I$21,0)+IF(C98=4,J98*Geometry!$J$21,0)+IF(C98=5,J98*Geometry!$K$21,0) -> 0 | L98: =IF(C98=1,J98*Geometry!$G$20,0)+IF(C98=2,J98*Geometry!$H$20,0)+IF(C98=3,J98*Geometry!$I$20,0)+IF(C98=4,J98*Geometry!$J$20,0)+IF(C98=5,J98*Geometry!$K$20,0) -> 0 | M98: =IF(C98=1,J98*Geometry!$G$19,0)+IF(C98=2,J98*Geometry!$H$19,0)+IF(C98=3,J98*Geometry!$I$19,0)+IF(C98=4,J98*Geometry!$J$19,0)+IF(C98=5,J98*Geometry!$K$19,0) -> 0 | N98: =IF(C98=1,J98*Geometry!$G$22,0)+IF(C98=2,J98*Geometry!$H$22,0)+IF(C98=3,J98*Geometry!$I$22,0)+IF(C98=4,J98*Geometry!$J$22,0)+IF(C98=5,J98*Geometry!$K$22,0) -> 0 | O98: =IF(C98=1,J98*Geometry!$G$23,0)+IF(C98=2,J98*Geometry!$H$23,0)+IF(C98=3,J98*Geometry!$I$23,0)+IF(C98=4,J98*Geometry!$J$23,0)+IF(C98=5,J98*Geometry!$K$23,0) -> 0 | P98: =IF(C98=1,J98*Geometry!$G$24,0)+IF(C98=2,J98*Geometry!$H$24,0)+IF(C98=3,J98*Geometry!$I$24,0)+IF(C98=4,J98*Geometry!$J$24,0)+IF(C98=5,J98*Geometry!$K$24,0) -> 0
A99: =A98+1 -> 93 | C99: =IF(A99>$C$1-$C$4,3,IF(A99<2,3,IF(A99<=$C$2-$C$3/2,1,IF(A99>$C$2+$C$3/2,1,2)))) -> 3 | D99: =D98+Geometry!$C$15 -> 602.5 | E99: =E98-(D99-D98) -> -396.25 | F99: =Geometry!$D$12*D99 -> 22.544455 | G99: =IF(H99>0,F99/9.8,0) -> 0 | H99: =IF(ABS(E99*E99)<=Geometry!$E$10,SQRT(Geometry!$E$10-E99*E99),0) -> 0 | I99: =IF(H99>0,1,0) -> 0 | J99: =PI()*H99*H99 -> 0 | K99: =IF(C99=1,J99*Geometry!$G$21,0)+IF(C99=2,J99*Geometry!$H$21,0)+IF(C99=3,J99*Geometry!$I$21,0)+IF(C99=4,J99*Geometry!$J$21,0)+IF(C99=5,J99*Geometry!$K$21,0) -> 0 | L99: =IF(C99=1,J99*Geometry!$G$20,0)+IF(C99=2,J99*Geometry!$H$20,0)+IF(C99=3,J99*Geometry!$I$20,0)+IF(C99=4,J99*Geometry!$J$20,0)+IF(C99=5,J99*Geometry!$K$20,0) -> 0 | M99: =IF(C99=1,J99*Geometry!$G$19,0)+IF(C99=2,J99*Geometry!$H$19,0)+IF(C99=3,J99*Geometry!$I$19,0)+IF(C99=4,J99*Geometry!$J$19,0)+IF(C99=5,J99*Geometry!$K$19,0) -> 0 | N99: =IF(C99=1,J99*Geometry!$G$22,0)+IF(C99=2,J99*Geometry!$H$22,0)+IF(C99=3,J99*Geometry!$I$22,0)+IF(C99=4,J99*Geometry!$J$22,0)+IF(C99=5,J99*Geometry!$K$22,0) -> 0 | O99: =IF(C99=1,J99*Geometry!$G$23,0)+IF(C99=2,J99*Geometry!$H$23,0)+IF(C99=3,J99*Geometry!$I$23,0)+IF(C99=4,J99*Geometry!$J$23,0)+IF(C99=5,J99*Geometry!$K$23,0) -> 0 | P99: =IF(C99=1,J99*Geometry!$G$24,0)+IF(C99=2,J99*Geometry!$H$24,0)+IF(C99=3,J99*Geometry!$I$24,0)+IF(C99=4,J99*Geometry!$J$24,0)+IF(C99=5,J99*Geometry!$K$24,0) -> 0
A100: =A99+1 -> 94 | C100: =IF(A100>$C$1-$C$4,3,IF(A100<2,3,IF(A100<=$C$2-$C$3/2,1,IF(A100>$C$2+$C$3/2,1,2)))) -> 3 | D100: =D99+Geometry!$C$15 -> 607.5 | E100: =E99-(D100-D99) -> -401.25 | F100: =Geometry!$D$12*D100 -> 22.731545 | G100: =IF(H100>0,F100/9.8,0) -> 0 | H100: =IF(ABS(E100*E100)<=Geometry!$E$10,SQRT(Geometry!$E$10-E100*E100),0) -> 0 | I100: =IF(H100>0,1,0) -> 0 | J100: =PI()*H100*H100 -> 0 | K100: =IF(C100=1,J100*Geometry!$G$21,0)+IF(C100=2,J100*Geometry!$H$21,0)+IF(C100=3,J100*Geometry!$I$21,0)+IF(C100=4,J100*Geometry!$J$21,0)+IF(C100=5,J100*Geometry!$K$21,0) -> 0 | L100: =IF(C100=1,J100*Geometry!$G$20,0)+IF(C100=2,J100*Geometry!$H$20,0)+IF(C100=3,J100*Geometry!$I$20,0)+IF(C100=4,J100*Geometry!$J$20,0)+IF(C100=5,J100*Geometry!$K$20,0) -> 0 | M100: =IF(C100=1,J100*Geometry!$G$19,0)+IF(C100=2,J100*Geometry!$H$19,0)+IF(C100=3,J100*Geometry!$I$19,0)+IF(C100=4,J100*Geometry!$J$19,0)+IF(C100=5,J100*Geometry!$K$19,0) -> 0 | N100: =IF(C100=1,J100*Geometry!$G$22,0)+IF(C100=2,J100*Geometry!$H$22,0)+IF(C100=3,J100*Geometry!$I$22,0)+IF(C100=4,J100*Geometry!$J$22,0)+IF(C100=5,J100*Geometry!$K$22,0) -> 0 | O100: =IF(C100=1,J100*Geometry!$G$23,0)+IF(C100=2,J100*Geometry!$H$23,0)+IF(C100=3,J100*Geometry!$I$23,0)+IF(C100=4,J100*Geometry!$J$23,0)+IF(C100=5,J100*Geometry!$K$23,0) -> 0 | P100: =IF(C100=1,J100*Geometry!$G$24,0)+IF(C100=2,J100*Geometry!$H$24,0)+IF(C100=3,J100*Geometry!$I$24,0)+IF(C100=4,J100*Geometry!$J$24,0)+IF(C100=5,J100*Geometry!$K$24,0) -> 0
A101: =A100+1 -> 95 | C101: =IF(A101>$C$1-$C$4,3,IF(A101<2,3,IF(A101<=$C$2-$C$3,1,IF(A101>$C$2,1,2)))) -> 3 | D101: =D100+Geometry!$C$15 -> 612.5 | E101: =E100-(D101-D100) -> -406.25 | F101: =Geometry!$D$12*D101 -> 22.918636 | G101: =IF(H101>0,F101/9.8,0) -> 0 | H101: =IF(ABS(E101*E101)<=Geometry!$E$10,SQRT(Geometry!$E$10-E101*E101),0) -> 0 | I101: =IF(H101>0,1,0) -> 0 | J101: =PI()*H101*H101 -> 0 | K101: =IF(C101=1,J101*Geometry!$G$21,0)+IF(C101=2,J101*Geometry!$H$21,0)+IF(C101=3,J101*Geometry!$I$21,0)+IF(C101=4,J101*Geometry!$J$21,0)+IF(C101=5,J101*Geometry!$K$21,0) -> 0 | L101: =IF(C101=1,J101*Geometry!$G$20,0)+IF(C101=2,J101*Geometry!$H$20,0)+IF(C101=3,J101*Geometry!$I$20,0)+IF(C101=4,J101*Geometry!$J$20,0)+IF(C101=5,J101*Geometry!$K$20,0) -> 0 | M101: =IF(C101=1,J101*Geometry!$G$19,0)+IF(C101=2,J101*Geometry!$H$19,0)+IF(C101=3,J101*Geometry!$I$19,0)+IF(C101=4,J101*Geometry!$J$19,0)+IF(C101=5,J101*Geometry!$K$19,0) -> 0 | N101: =IF(C101=1,J101*Geometry!$G$22,0)+IF(C101=2,J101*Geometry!$H$22,0)+IF(C101=3,J101*Geometry!$I$22,0)+IF(C101=4,J101*Geometry!$J$22,0)+IF(C101=5,J101*Geometry!$K$22,0) -> 0 | O101: =IF(C101=1,J101*Geometry!$G$23,0)+IF(C101=2,J101*Geometry!$H$23,0)+IF(C101=3,J101*Geometry!$I$23,0)+IF(C101=4,J101*Geometry!$J$23,0)+IF(C101=5,J101*Geometry!$K$23,0) -> 0 | P101: =IF(C101=1,J101*Geometry!$G$24,0)+IF(C101=2,J101*Geometry!$H$24,0)+IF(C101=3,J101*Geometry!$I$24,0)+IF(C101=4,J101*Geometry!$J$24,0)+IF(C101=5,J101*Geometry!$K$24,0) -> 0
A102: =A101+1 -> 96 | C102: =IF(A102>$C$1-$C$4,3,IF(A102<2,3,IF(A102<=$C$2-$C$3,1,IF(A102>$C$2,1,2)))) -> 3 | D102: =D101+Geometry!$C$15 -> 617.5 | E102: =E101-(D102-D101) -> -411.25 | F102: =Geometry!$D$12*D102 -> 23.105727 | G102: =IF(H102>0,F102/9.8,0) -> 0 | H102: =IF(ABS(E102*E102)<=Geometry!$E$10,SQRT(Geometry!$E$10-E102*E102),0) -> 0 | I102: =IF(H102>0,1,0) -> 0 | J102: =PI()*H102*H102 -> 0 | K102: =IF(C102=1,J102*Geometry!$G$21,0)+IF(C102=2,J102*Geometry!$H$21,0)+IF(C102=3,J102*Geometry!$I$21,0)+IF(C102=4,J102*Geometry!$J$21,0)+IF(C102=5,J102*Geometry!$K$21,0) -> 0 | L102: =IF(C102=1,J102*Geometry!$G$20,0)+IF(C102=2,J102*Geometry!$H$20,0)+IF(C102=3,J102*Geometry!$I$20,0)+IF(C102=4,J102*Geometry!$J$20,0)+IF(C102=5,J102*Geometry!$K$20,0) -> 0 | M102: =IF(C102=1,J102*Geometry!$G$19,0)+IF(C102=2,J102*Geometry!$H$19,0)+IF(C102=3,J102*Geometry!$I$19,0)+IF(C102=4,J102*Geometry!$J$19,0)+IF(C102=5,J102*Geometry!$K$19,0) -> 0 | N102: =IF(C102=1,J102*Geometry!$G$22,0)+IF(C102=2,J102*Geometry!$H$22,0)+IF(C102=3,J102*Geometry!$I$22,0)+IF(C102=4,J102*Geometry!$J$22,0)+IF(C102=5,J102*Geometry!$K$22,0) -> 0 | O102: =IF(C102=1,J102*Geometry!$G$23,0)+IF(C102=2,J102*Geometry!$H$23,0)+IF(C102=3,J102*Geometry!$I$23,0)+IF(C102=4,J102*Geometry!$J$23,0)+IF(C102=5,J102*Geometry!$K$23,0) -> 0 | P102: =IF(C102=1,J102*Geometry!$G$24,0)+IF(C102=2,J102*Geometry!$H$24,0)+IF(C102=3,J102*Geometry!$I$24,0)+IF(C102=4,J102*Geometry!$J$24,0)+IF(C102=5,J102*Geometry!$K$24,0) -> 0
A103: =A102+1 -> 97 | C103: =IF(A103>$C$1-$C$4,3,IF(A103<2,3,IF(A103<=$C$2-$C$3,1,IF(A103>$C$2,1,2)))) -> 3 | D103: =D102+Geometry!$C$15 -> 622.5 | E103: =E102-(D103-D102) -> -416.25 | F103: =Geometry!$D$12*D103 -> 23.292818 | G103: =IF(H103>0,F103/9.8,0) -> 0 | H103: =IF(ABS(E103*E103)<=Geometry!$E$10,SQRT(Geometry!$E$10-E103*E103),0) -> 0 | I103: =IF(H103>0,1,0) -> 0 | J103: =PI()*H103*H103 -> 0 | K103: =IF(C103=1,J103*Geometry!$G$21,0)+IF(C103=2,J103*Geometry!$H$21,0)+IF(C103=3,J103*Geometry!$I$21,0)+IF(C103=4,J103*Geometry!$J$21,0)+IF(C103=5,J103*Geometry!$K$21,0) -> 0 | L103: =IF(C103=1,J103*Geometry!$G$20,0)+IF(C103=2,J103*Geometry!$H$20,0)+IF(C103=3,J103*Geometry!$I$20,0)+IF(C103=4,J103*Geometry!$J$20,0)+IF(C103=5,J103*Geometry!$K$20,0) -> 0 | M103: =IF(C103=1,J103*Geometry!$G$19,0)+IF(C103=2,J103*Geometry!$H$19,0)+IF(C103=3,J103*Geometry!$I$19,0)+IF(C103=4,J103*Geometry!$J$19,0)+IF(C103=5,J103*Geometry!$K$19,0) -> 0 | N103: =IF(C103=1,J103*Geometry!$G$22,0)+IF(C103=2,J103*Geometry!$H$22,0)+IF(C103=3,J103*Geometry!$I$22,0)+IF(C103=4,J103*Geometry!$J$22,0)+IF(C103=5,J103*Geometry!$K$22,0) -> 0 | O103: =IF(C103=1,J103*Geometry!$G$23,0)+IF(C103=2,J103*Geometry!$H$23,0)+IF(C103=3,J103*Geometry!$I$23,0)+IF(C103=4,J103*Geometry!$J$23,0)+IF(C103=5,J103*Geometry!$K$23,0) -> 0 | P103: =IF(C103=1,J103*Geometry!$G$24,0)+IF(C103=2,J103*Geometry!$H$24,0)+IF(C103=3,J103*Geometry!$I$24,0)+IF(C103=4,J103*Geometry!$J$24,0)+IF(C103=5,J103*Geometry!$K$24,0) -> 0
A104: =A103+1 -> 98 | C104: =IF(A104>$C$1-$C$4,3,IF(A104<2,3,IF(A104<=$C$2-$C$3,1,IF(A104>$C$2,1,2)))) -> 3 | D104: =D103+Geometry!$C$15 -> 627.5 | E104: =E103-(D104-D103) -> -421.25 | F104: =Geometry!$D$12*D104 -> 23.479909 | G104: =IF(H104>0,F104/9.8,0) -> 0 | H104: =IF(ABS(E104*E104)<=Geometry!$E$10,SQRT(Geometry!$E$10-E104*E104),0) -> 0 | I104: =IF(H104>0,1,0) -> 0 | J104: =PI()*H104*H104 -> 0 | K104: =IF(C104=1,J104*Geometry!$G$21,0)+IF(C104=2,J104*Geometry!$H$21,0)+IF(C104=3,J104*Geometry!$I$21,0)+IF(C104=4,J104*Geometry!$J$21,0)+IF(C104=5,J104*Geometry!$K$21,0) -> 0 | L104: =IF(C104=1,J104*Geometry!$G$20,0)+IF(C104=2,J104*Geometry!$H$20,0)+IF(C104=3,J104*Geometry!$I$20,0)+IF(C104=4,J104*Geometry!$J$20,0)+IF(C104=5,J104*Geometry!$K$20,0) -> 0 | M104: =IF(C104=1,J104*Geometry!$G$19,0)+IF(C104=2,J104*Geometry!$H$19,0)+IF(C104=3,J104*Geometry!$I$19,0)+IF(C104=4,J104*Geometry!$J$19,0)+IF(C104=5,J104*Geometry!$K$19,0) -> 0 | N104: =IF(C104=1,J104*Geometry!$G$22,0)+IF(C104=2,J104*Geometry!$H$22,0)+IF(C104=3,J104*Geometry!$I$22,0)+IF(C104=4,J104*Geometry!$J$22,0)+IF(C104=5,J104*Geometry!$K$22,0) -> 0 | O104: =IF(C104=1,J104*Geometry!$G$23,0)+IF(C104=2,J104*Geometry!$H$23,0)+IF(C104=3,J104*Geometry!$I$23,0)+IF(C104=4,J104*Geometry!$J$23,0)+IF(C104=5,J104*Geometry!$K$23,0) -> 0 | P104: =IF(C104=1,J104*Geometry!$G$24,0)+IF(C104=2,J104*Geometry!$H$24,0)+IF(C104=3,J104*Geometry!$I$24,0)+IF(C104=4,J104*Geometry!$J$24,0)+IF(C104=5,J104*Geometry!$K$24,0) -> 0
A105: =A104+1 -> 99 | C105: =IF(A105>$C$1-$C$4,3,IF(A105<2,3,IF(A105<=$C$2-$C$3,1,IF(A105>$C$2,1,2)))) -> 3 | D105: =D104+Geometry!$C$15 -> 632.5 | E105: =E104-(D105-D104) -> -426.25 | F105: =Geometry!$D$12*D105 -> 23.667 | G105: =IF(H105>0,F105/9.8,0) -> 0 | H105: =IF(ABS(E105*E105)<=Geometry!$E$10,SQRT(Geometry!$E$10-E105*E105),0) -> 0 | I105: =IF(H105>0,1,0) -> 0 | J105: =PI()*H105*H105 -> 0 | K105: =IF(C105=1,J105*Geometry!$G$21,0)+IF(C105=2,J105*Geometry!$H$21,0)+IF(C105=3,J105*Geometry!$I$21,0)+IF(C105=4,J105*Geometry!$J$21,0)+IF(C105=5,J105*Geometry!$K$21,0) -> 0 | L105: =IF(C105=1,J105*Geometry!$G$20,0)+IF(C105=2,J105*Geometry!$H$20,0)+IF(C105=3,J105*Geometry!$I$20,0)+IF(C105=4,J105*Geometry!$J$20,0)+IF(C105=5,J105*Geometry!$K$20,0) -> 0 | M105: =IF(C105=1,J105*Geometry!$G$19,0)+IF(C105=2,J105*Geometry!$H$19,0)+IF(C105=3,J105*Geometry!$I$19,0)+IF(C105=4,J105*Geometry!$J$19,0)+IF(C105=5,J105*Geometry!$K$19,0) -> 0 | N105: =IF(C105=1,J105*Geometry!$G$22,0)+IF(C105=2,J105*Geometry!$H$22,0)+IF(C105=3,J105*Geometry!$I$22,0)+IF(C105=4,J105*Geometry!$J$22,0)+IF(C105=5,J105*Geometry!$K$22,0) -> 0 | O105: =IF(C105=1,J105*Geometry!$G$23,0)+IF(C105=2,J105*Geometry!$H$23,0)+IF(C105=3,J105*Geometry!$I$23,0)+IF(C105=4,J105*Geometry!$J$23,0)+IF(C105=5,J105*Geometry!$K$23,0) -> 0 | P105: =IF(C105=1,J105*Geometry!$G$24,0)+IF(C105=2,J105*Geometry!$H$24,0)+IF(C105=3,J105*Geometry!$I$24,0)+IF(C105=4,J105*Geometry!$J$24,0)+IF(C105=5,J105*Geometry!$K$24,0) -> 0
A106: =A105+1 -> 100 | C106: =IF(A106>$C$1-$C$4,3,IF(A106<2,3,IF(A106<=$C$2-$C$3,1,IF(A106>$C$2,1,2)))) -> 3 | D106: =D105+Geometry!$C$15 -> 637.5 | E106: =E105-(D106-D105) -> -431.25 | F106: =Geometry!$D$12*D106 -> 23.854091 | G106: =IF(H106>0,F106/9.8,0) -> 0 | H106: =IF(ABS(E106*E106)<=Geometry!$E$10,SQRT(Geometry!$E$10-E106*E106),0) -> 0 | I106: =IF(H106>0,1,0) -> 0 | J106: =PI()*H106*H106 -> 0 | K106: =IF(C106=1,J106*Geometry!$G$21,0)+IF(C106=2,J106*Geometry!$H$21,0)+IF(C106=3,J106*Geometry!$I$21,0)+IF(C106=4,J106*Geometry!$J$21,0)+IF(C106=5,J106*Geometry!$K$21,0) -> 0 | L106: =IF(C106=1,J106*Geometry!$G$20,0)+IF(C106=2,J106*Geometry!$H$20,0)+IF(C106=3,J106*Geometry!$I$20,0)+IF(C106=4,J106*Geometry!$J$20,0)+IF(C106=5,J106*Geometry!$K$20,0) -> 0 | M106: =IF(C106=1,J106*Geometry!$G$19,0)+IF(C106=2,J106*Geometry!$H$19,0)+IF(C106=3,J106*Geometry!$I$19,0)+IF(C106=4,J106*Geometry!$J$19,0)+IF(C106=5,J106*Geometry!$K$19,0) -> 0 | N106: =IF(C106=1,J106*Geometry!$G$22,0)+IF(C106=2,J106*Geometry!$H$22,0)+IF(C106=3,J106*Geometry!$I$22,0)+IF(C106=4,J106*Geometry!$J$22,0)+IF(C106=5,J106*Geometry!$K$22,0) -> 0 | O106: =IF(C106=1,J106*Geometry!$G$23,0)+IF(C106=2,J106*Geometry!$H$23,0)+IF(C106=3,J106*Geometry!$I$23,0)+IF(C106=4,J106*Geometry!$J$23,0)+IF(C106=5,J106*Geometry!$K$23,0) -> 0 | P106: =IF(C106=1,J106*Geometry!$G$24,0)+IF(C106=2,J106*Geometry!$H$24,0)+IF(C106=3,J106*Geometry!$I$24,0)+IF(C106=4,J106*Geometry!$J$24,0)+IF(C106=5,J106*Geometry!$K$24,0) -> 0
A107: =A106+1 -> 101 | C107: =IF(A107>$C$1-$C$4,3,IF(A107<2,3,IF(A107<=$C$2-$C$3,1,IF(A107>$C$2,1,2)))) -> 3 | D107: =D106+Geometry!$C$15 -> 642.5 | E107: =E106-(D107-D106) -> -436.25 | F107: =Geometry!$D$12*D107 -> 24.041182 | G107: =IF(H107>0,F107/9.8,0) -> 0 | H107: =IF(ABS(E107*E107)<=Geometry!$E$10,SQRT(Geometry!$E$10-E107*E107),0) -> 0 | I107: =IF(H107>0,1,0) -> 0 | J107: =PI()*H107*H107 -> 0 | K107: =IF(C107=1,J107*Geometry!$G$21,0)+IF(C107=2,J107*Geometry!$H$21,0)+IF(C107=3,J107*Geometry!$I$21,0)+IF(C107=4,J107*Geometry!$J$21,0)+IF(C107=5,J107*Geometry!$K$21,0) -> 0 | L107: =IF(C107=1,J107*Geometry!$G$20,0)+IF(C107=2,J107*Geometry!$H$20,0)+IF(C107=3,J107*Geometry!$I$20,0)+IF(C107=4,J107*Geometry!$J$20,0)+IF(C107=5,J107*Geometry!$K$20,0) -> 0 | M107: =IF(C107=1,J107*Geometry!$G$19,0)+IF(C107=2,J107*Geometry!$H$19,0)+IF(C107=3,J107*Geometry!$I$19,0)+IF(C107=4,J107*Geometry!$J$19,0)+IF(C107=5,J107*Geometry!$K$19,0) -> 0 | N107: =IF(C107=1,J107*Geometry!$G$22,0)+IF(C107=2,J107*Geometry!$H$22,0)+IF(C107=3,J107*Geometry!$I$22,0)+IF(C107=4,J107*Geometry!$J$22,0)+IF(C107=5,J107*Geometry!$K$22,0) -> 0 | O107: =IF(C107=1,J107*Geometry!$G$23,0)+IF(C107=2,J107*Geometry!$H$23,0)+IF(C107=3,J107*Geometry!$I$23,0)+IF(C107=4,J107*Geometry!$J$23,0)+IF(C107=5,J107*Geometry!$K$23,0) -> 0 | P107: =IF(C107=1,J107*Geometry!$G$24,0)+IF(C107=2,J107*Geometry!$H$24,0)+IF(C107=3,J107*Geometry!$I$24,0)+IF(C107=4,J107*Geometry!$J$24,0)+IF(C107=5,J107*Geometry!$K$24,0) -> 0
A108: =A107+1 -> 102 | C108: =IF(A108>$C$1-$C$4,3,IF(A108<2,3,IF(A108<=$C$2-$C$3,1,IF(A108>$C$2,1,2)))) -> 3 | D108: =D107+Geometry!$C$15 -> 647.5 | E108: =E107-(D108-D107) -> -441.25 | F108: =Geometry!$D$12*D108 -> 24.228273 | G108: =IF(H108>0,F108/9.8,0) -> 0 | H108: =IF(ABS(E108*E108)<=Geometry!$E$10,SQRT(Geometry!$E$10-E108*E108),0) -> 0 | I108: =IF(H108>0,1,0) -> 0 | J108: =PI()*H108*H108 -> 0 | K108: =IF(C108=1,J108*Geometry!$G$21,0)+IF(C108=2,J108*Geometry!$H$21,0)+IF(C108=3,J108*Geometry!$I$21,0)+IF(C108=4,J108*Geometry!$J$21,0)+IF(C108=5,J108*Geometry!$K$21,0) -> 0 | L108: =IF(C108=1,J108*Geometry!$G$20,0)+IF(C108=2,J108*Geometry!$H$20,0)+IF(C108=3,J108*Geometry!$I$20,0)+IF(C108=4,J108*Geometry!$J$20,0)+IF(C108=5,J108*Geometry!$K$20,0) -> 0 | M108: =IF(C108=1,J108*Geometry!$G$19,0)+IF(C108=2,J108*Geometry!$H$19,0)+IF(C108=3,J108*Geometry!$I$19,0)+IF(C108=4,J108*Geometry!$J$19,0)+IF(C108=5,J108*Geometry!$K$19,0) -> 0 | N108: =IF(C108=1,J108*Geometry!$G$22,0)+IF(C108=2,J108*Geometry!$H$22,0)+IF(C108=3,J108*Geometry!$I$22,0)+IF(C108=4,J108*Geometry!$J$22,0)+IF(C108=5,J108*Geometry!$K$22,0) -> 0 | O108: =IF(C108=1,J108*Geometry!$G$23,0)+IF(C108=2,J108*Geometry!$H$23,0)+IF(C108=3,J108*Geometry!$I$23,0)+IF(C108=4,J108*Geometry!$J$23,0)+IF(C108=5,J108*Geometry!$K$23,0) -> 0 | P108: =IF(C108=1,J108*Geometry!$G$24,0)+IF(C108=2,J108*Geometry!$H$24,0)+IF(C108=3,J108*Geometry!$I$24,0)+IF(C108=4,J108*Geometry!$J$24,0)+IF(C108=5,J108*Geometry!$K$24,0) -> 0
A109: =A108+1 -> 103 | C109: =IF(A109>$C$1-$C$4,3,IF(A109<2,3,IF(A109<=$C$2-$C$3,1,IF(A109>$C$2,1,2)))) -> 3 | D109: =D108+Geometry!$C$15 -> 652.5 | E109: =E108-(D109-D108) -> -446.25 | F109: =Geometry!$D$12*D109 -> 24.415364 | G109: =IF(H109>0,F109/9.8,0) -> 0 | H109: =IF(ABS(E109*E109)<=Geometry!$E$10,SQRT(Geometry!$E$10-E109*E109),0) -> 0 | I109: =IF(H109>0,1,0) -> 0 | J109: =PI()*H109*H109 -> 0 | K109: =IF(C109=1,J109*Geometry!$G$21,0)+IF(C109=2,J109*Geometry!$H$21,0)+IF(C109=3,J109*Geometry!$I$21,0)+IF(C109=4,J109*Geometry!$J$21,0)+IF(C109=5,J109*Geometry!$K$21,0) -> 0 | L109: =IF(C109=1,J109*Geometry!$G$20,0)+IF(C109=2,J109*Geometry!$H$20,0)+IF(C109=3,J109*Geometry!$I$20,0)+IF(C109=4,J109*Geometry!$J$20,0)+IF(C109=5,J109*Geometry!$K$20,0) -> 0 | M109: =IF(C109=1,J109*Geometry!$G$19,0)+IF(C109=2,J109*Geometry!$H$19,0)+IF(C109=3,J109*Geometry!$I$19,0)+IF(C109=4,J109*Geometry!$J$19,0)+IF(C109=5,J109*Geometry!$K$19,0) -> 0 | N109: =IF(C109=1,J109*Geometry!$G$22,0)+IF(C109=2,J109*Geometry!$H$22,0)+IF(C109=3,J109*Geometry!$I$22,0)+IF(C109=4,J109*Geometry!$J$22,0)+IF(C109=5,J109*Geometry!$K$22,0) -> 0 | O109: =IF(C109=1,J109*Geometry!$G$23,0)+IF(C109=2,J109*Geometry!$H$23,0)+IF(C109=3,J109*Geometry!$I$23,0)+IF(C109=4,J109*Geometry!$J$23,0)+IF(C109=5,J109*Geometry!$K$23,0) -> 0 | P109: =IF(C109=1,J109*Geometry!$G$24,0)+IF(C109=2,J109*Geometry!$H$24,0)+IF(C109=3,J109*Geometry!$I$24,0)+IF(C109=4,J109*Geometry!$J$24,0)+IF(C109=5,J109*Geometry!$K$24,0) -> 0
A110: =A109+1 -> 104 | C110: =IF(A110>$C$1-$C$4,3,IF(A110<2,3,IF(A110<=$C$2-$C$3,1,IF(A110>$C$2,1,2)))) -> 3 | D110: =D109+Geometry!$C$15 -> 657.5 | E110: =E109-(D110-D109) -> -451.25 | F110: =Geometry!$D$12*D110 -> 24.602455 | G110: =IF(H110>0,F110/9.8,0) -> 0 | H110: =IF(ABS(E110*E110)<=Geometry!$E$10,SQRT(Geometry!$E$10-E110*E110),0) -> 0 | I110: =IF(H110>0,1,0) -> 0 | J110: =PI()*H110*H110 -> 0 | K110: =IF(C110=1,J110*Geometry!$G$21,0)+IF(C110=2,J110*Geometry!$H$21,0)+IF(C110=3,J110*Geometry!$I$21,0)+IF(C110=4,J110*Geometry!$J$21,0)+IF(C110=5,J110*Geometry!$K$21,0) -> 0 | L110: =IF(C110=1,J110*Geometry!$G$20,0)+IF(C110=2,J110*Geometry!$H$20,0)+IF(C110=3,J110*Geometry!$I$20,0)+IF(C110=4,J110*Geometry!$J$20,0)+IF(C110=5,J110*Geometry!$K$20,0) -> 0 | M110: =IF(C110=1,J110*Geometry!$G$19,0)+IF(C110=2,J110*Geometry!$H$19,0)+IF(C110=3,J110*Geometry!$I$19,0)+IF(C110=4,J110*Geometry!$J$19,0)+IF(C110=5,J110*Geometry!$K$19,0) -> 0 | N110: =IF(C110=1,J110*Geometry!$G$22,0)+IF(C110=2,J110*Geometry!$H$22,0)+IF(C110=3,J110*Geometry!$I$22,0)+IF(C110=4,J110*Geometry!$J$22,0)+IF(C110=5,J110*Geometry!$K$22,0) -> 0 | O110: =IF(C110=1,J110*Geometry!$G$23,0)+IF(C110=2,J110*Geometry!$H$23,0)+IF(C110=3,J110*Geometry!$I$23,0)+IF(C110=4,J110*Geometry!$J$23,0)+IF(C110=5,J110*Geometry!$K$23,0) -> 0 | P110: =IF(C110=1,J110*Geometry!$G$24,0)+IF(C110=2,J110*Geometry!$H$24,0)+IF(C110=3,J110*Geometry!$I$24,0)+IF(C110=4,J110*Geometry!$J$24,0)+IF(C110=5,J110*Geometry!$K$24,0) -> 0
A111: =A110+1 -> 105 | C111: =IF(A111>$C$1-$C$4,3,IF(A111<2,3,IF(A111<=$C$2-$C$3,1,IF(A111>$C$2,1,2)))) -> 3 | D111: =D110+Geometry!$C$15 -> 662.5 | E111: =E110-(D111-D110) -> -456.25 | F111: =Geometry!$D$12*D111 -> 24.789545 | G111: =IF(H111>0,F111/9.8,0) -> 0 | H111: =IF(ABS(E111*E111)<=Geometry!$E$10,SQRT(Geometry!$E$10-E111*E111),0) -> 0 | I111: =IF(H111>0,1,0) -> 0 | J111: =PI()*H111*H111 -> 0 | K111: =IF(C111=1,J111*Geometry!$G$21,0)+IF(C111=2,J111*Geometry!$H$21,0)+IF(C111=3,J111*Geometry!$I$21,0)+IF(C111=4,J111*Geometry!$J$21,0)+IF(C111=5,J111*Geometry!$K$21,0) -> 0 | L111: =IF(C111=1,J111*Geometry!$G$20,0)+IF(C111=2,J111*Geometry!$H$20,0)+IF(C111=3,J111*Geometry!$I$20,0)+IF(C111=4,J111*Geometry!$J$20,0)+IF(C111=5,J111*Geometry!$K$20,0) -> 0 | M111: =IF(C111=1,J111*Geometry!$G$19,0)+IF(C111=2,J111*Geometry!$H$19,0)+IF(C111=3,J111*Geometry!$I$19,0)+IF(C111=4,J111*Geometry!$J$19,0)+IF(C111=5,J111*Geometry!$K$19,0) -> 0 | N111: =IF(C111=1,J111*Geometry!$G$22,0)+IF(C111=2,J111*Geometry!$H$22,0)+IF(C111=3,J111*Geometry!$I$22,0)+IF(C111=4,J111*Geometry!$J$22,0)+IF(C111=5,J111*Geometry!$K$22,0) -> 0 | O111: =IF(C111=1,J111*Geometry!$G$23,0)+IF(C111=2,J111*Geometry!$H$23,0)+IF(C111=3,J111*Geometry!$I$23,0)+IF(C111=4,J111*Geometry!$J$23,0)+IF(C111=5,J111*Geometry!$K$23,0) -> 0 | P111: =IF(C111=1,J111*Geometry!$G$24,0)+IF(C111=2,J111*Geometry!$H$24,0)+IF(C111=3,J111*Geometry!$I$24,0)+IF(C111=4,J111*Geometry!$J$24,0)+IF(C111=5,J111*Geometry!$K$24,0) -> 0
A112: =A111+1 -> 106 | C112: =IF(A112>$C$1-$C$4,3,IF(A112<2,3,IF(A112<=$C$2-$C$3,1,IF(A112>$C$2,1,2)))) -> 3 | D112: =D111+Geometry!$C$15 -> 667.5 | E112: =E111-(D112-D111) -> -461.25 | F112: =Geometry!$D$12*D112 -> 24.976636 | G112: =IF(H112>0,F112/9.8,0) -> 0 | H112: =IF(ABS(E112*E112)<=Geometry!$E$10,SQRT(Geometry!$E$10-E112*E112),0) -> 0 | I112: =IF(H112>0,1,0) -> 0 | J112: =PI()*H112*H112 -> 0 | K112: =IF(C112=1,J112*Geometry!$G$21,0)+IF(C112=2,J112*Geometry!$H$21,0)+IF(C112=3,J112*Geometry!$I$21,0)+IF(C112=4,J112*Geometry!$J$21,0)+IF(C112=5,J112*Geometry!$K$21,0) -> 0 | L112: =IF(C112=1,J112*Geometry!$G$20,0)+IF(C112=2,J112*Geometry!$H$20,0)+IF(C112=3,J112*Geometry!$I$20,0)+IF(C112=4,J112*Geometry!$J$20,0)+IF(C112=5,J112*Geometry!$K$20,0) -> 0 | M112: =IF(C112=1,J112*Geometry!$G$19,0)+IF(C112=2,J112*Geometry!$H$19,0)+IF(C112=3,J112*Geometry!$I$19,0)+IF(C112=4,J112*Geometry!$J$19,0)+IF(C112=5,J112*Geometry!$K$19,0) -> 0 | N112: =IF(C112=1,J112*Geometry!$G$22,0)+IF(C112=2,J112*Geometry!$H$22,0)+IF(C112=3,J112*Geometry!$I$22,0)+IF(C112=4,J112*Geometry!$J$22,0)+IF(C112=5,J112*Geometry!$K$22,0) -> 0 | O112: =IF(C112=1,J112*Geometry!$G$23,0)+IF(C112=2,J112*Geometry!$H$23,0)+IF(C112=3,J112*Geometry!$I$23,0)+IF(C112=4,J112*Geometry!$J$23,0)+IF(C112=5,J112*Geometry!$K$23,0) -> 0 | P112: =IF(C112=1,J112*Geometry!$G$24,0)+IF(C112=2,J112*Geometry!$H$24,0)+IF(C112=3,J112*Geometry!$I$24,0)+IF(C112=4,J112*Geometry!$J$24,0)+IF(C112=5,J112*Geometry!$K$24,0) -> 0
... A206: =A205+1 -> 200 | C206: =IF(A206>$C$1-$C$4,3,IF(A206<2,3,IF(A206<=$C$2-$C$3,1,IF(A206>$C$2,1,2)))) -> 3 | D206: =D205+Geometry!$C$15 -> 1137.5 | E206: =E205-(D206-D205) -> -931.25 | F206: =Geometry!$D$12*D206 -> 42.563182 | G206: =IF(H206>0,F206/9.8,0) -> 0 | H206: =IF(ABS(E206*E206)<=Geometry!$E$10,SQRT(Geometry!$E$10-E206*E206),0) -> 0 | I206: =IF(H206>0,1,0) -> 0 | J206: =PI()*H206*H206 -> 0 | K206: =IF(C206=1,J206*Geometry!$G$21,0)+IF(C206=2,J206*Geometry!$H$21,0)+IF(C206=3,J206*Geometry!$I$21,0)+IF(C206=4,J206*Geometry!$J$21,0)+IF(C206=5,J206*Geometry!$K$21,0) -> 0 | L206: =IF(C206=1,J206*Geometry!$G$20,0)+IF(C206=2,J206*Geometry!$H$20,0)+IF(C206=3,J206*Geometry!$I$20,0)+IF(C206=4,J206*Geometry!$J$20,0)+IF(C206=5,J206*Geometry!$K$20,0) -> 0 | M206: =IF(C206=1,J206*Geometry!$G$19,0)+IF(C206=2,J206*Geometry!$H$19,0)+IF(C206=3,J206*Geometry!$I$19,0)+IF(C206=4,J206*Geometry!$J$19,0)+IF(C206=5,J206*Geometry!$K$19,0) -> 0 | N206: =IF(C206=1,J206*Geometry!$G$22,0)+IF(C206=2,J206*Geometry!$H$22,0)+IF(C206=3,J206*Geometry!$I$22,0)+IF(C206=4,J206*Geometry!$J$22,0)+IF(C206=5,J206*Geometry!$K$22,0) -> 0 | O206: =IF(C206=1,J206*Geometry!$G$23,0)+IF(C206=2,J206*Geometry!$H$23,0)+IF(C206=3,J206*Geometry!$I$23,0)+IF(C206=4,J206*Geometry!$J$23,0)+IF(C206=5,J206*Geometry!$K$23,0) -> 0 | P206: =IF(C206=1,J206*Geometry!$G$24,0)+IF(C206=2,J206*Geometry!$H$24,0)+IF(C206=3,J206*Geometry!$I$24,0)+IF(C206=4,J206*Geometry!$J$24,0)+IF(C206=5,J206*Geometry!$K$24,0) -> 0
A207: =A206+1 -> 201 | C207: =IF(A207>$C$1-$C$4,3,IF(A207<2,3,IF(A207<=$C$2-$C$3,1,IF(A207>$C$2,1,2)))) -> 3 | D207: =D206+Geometry!$C$15 -> 1142.5 | E207: =E206-(D207-D206) -> -936.25 | F207: =Geometry!$D$12*D207 -> 42.750273 | G207: =IF(H207>0,F207/9.8,0) -> 0 | H207: =IF(ABS(E207*E207)<=Geometry!$E$10,SQRT(Geometry!$E$10-E207*E207),0) -> 0 | I207: =IF(H207>0,1,0) -> 0 | J207: =PI()*H207*H207 -> 0
A208: =A207+1 -> 202 | C208: =IF(A208>$C$1-$C$4,3,IF(A208<2,3,IF(A208<=$C$2-$C$3,1,IF(A208>$C$2,1,2)))) -> 3 | D208: =D207+Geometry!$C$15 -> 1147.5 | E208: =E207-(D208-D207) -> -941.25 | F208: =Geometry!$D$12*D208 -> 42.937364 | G208: =IF(H208>0,F208/9.8,0) -> 0 | H208: =IF(ABS(E208*E208)<=Geometry!$E$10,SQRT(Geometry!$E$10-E208*E208),0) -> 0 | I208: =IF(H208>0,1,0) -> 0 | J208: =PI()*H208*H208 -> 0

Sheet Sheet2
A1: Steel Constuction
B2: Floor Area | C2: Mass | D2: Levels | E2: kg/m^2
A3: World Trade Center | B3: 1240000 | C3: 930000000 | D3: 110 | E3: =C3/B3 -> 750 | G3: https://en.wikipedia.org/wiki/World_Trade_Center_(1973–2001) | H3: https://hypertextbook.com/facts/2004/EricChen.shtml
A4: U.S. Steel Building | B4: 217045 | C4: 40000000 | D4: 64 | E4: =C4/B4 -> 184.29358 | G4: https://en.wikipedia.org/wiki/U.S._Steel_Tower
A5: PSFS Building | B5: 52000 | D5: 36
B7: =222.97 -> 222.97 | C7: =74.4*2000/2.2 -> 67636.364 | D7: 1 | E7: =C7/B7 -> 303.34289 | G7: https://cdn.ymaws.com/www.aspenational.org/resource/resmgr/Techical_Papers/2013_October_TP.pdf
G8: Includes concrete flooring

Sheet Power Consumption
A1: Population | C1: =Vehicle!B16 -> 300
A2: Travel Time | C2: =Vehicle!B8 -> 4.765275e+08 | D2: s
A3: Travel Time | C3: =Vehicle!B9 -> 15.100555 | D3: year
A4: Mission Length | C4: =C7*3600*24*365.26 -> 1.4769226e+09 | D4: s
A5: Mission Length | C5: =C4/3600/24 -> 17094.011 | D5: days
A6: Mission Length | C6: =Vehicle!B15 -> 35.100555 | D6: year
A7: Survival Duration | C7: =C6*1.3333 -> 46.799571 | D7: year
A8: Computer Center | C8: =5*10000000 -> 50000000 | D8: w | E8: 5 mw data center
C9: =C8*Conversion!C37 -> 4320000000 | D9: khw/day
A11: Per Capita Usage | C11: =1*18775 -> 18775 | D11: kwH/yr | E11: (Assuming equivilent to early 21st century Iceland)
A12: Average Power Usage | C12: =(C11*C1)/Conversion!B2 -> 15420.945 | D12: kwH/day
C13: =C12*Conversion!B37 -> 178.48315 | D13: w
E14: https://www1.eere.energy.gov/buildings/publications/pdfs/ssl/led_energy_efficiency.pdf
A15: Agriculture Work | C15: =SUM(Crops!AD:AD)*Conversion!B32 -> 12864.18 | D15: kwH/yr | E15: https://en.wikipedia.org/wiki/Daylight
C16: =C15/Conversion!B2 -> 35.220204 | D16: kwh/day | E16: https://en.wikipedia.org/wiki/Moonlight
C17: =C15*Conversion!B36 -> 0.40764125 | D17: w | E17: https://homeguides.sfgate.com/problem-using-grow-lights-greenhouses-51087.html
E18: https://www1.eere.energy.gov/buildings/publications/pdfs/ssl/led_energy_efficiency.pdf
A19: Lighting | E19: http://www.no1ledlight.com/lux-standard-for-indoor-lighting/
C21: Outdoor | D21: Manned | E21: Unmanned
A22: Illumination (Peak) | C22: 120000 | D22: 1000 | E22: 100 | G22: lux
A23: Illumination (Night) | C23: 0.1 | D23: 100 | E23: 100
A24: Illumination Hours | C24: =24-8 -> 16 | D24: 12 | E24: 24
A25: Efficiency | C25: 266 | D25: 266 | E25: 266 | G25: lumen/W
A26: Floor Area | C26: =Vehicle!C34+Vehicle!B36 -> 1170883.7 | D26: =Vehicle!B35+Vehicle!B38 -> 243950 | E26: =Vehicle!C40-C26-D26 -> 218009.1
A27: Peak Wattage | C27: =C22/C25*C26 -> 5.282182e+08 | D27: =D22/D25*D26 -> 917105.26 | E27: =E22/E25*E26 -> 81958.307 | G27: watt
A28: Lighting Power Usage | C28: =C22/C25*C26*C24*3.6+C23*C25*C26*(24-C24)*3.6 -> 3.1322359e+10 | D28: =D22/D25*D26*D24*3.6+D23*D25*D26*(24-D24)*3.6 -> 2.8036744e+11 | E28: =E22/E25*E26*E24*3.6+E23*E25*E26*(24-E24)*3.6 -> 7081197.7 | G28: kwh /day
A30: Lighting Mass / w | C30: 0.04 | D30: kg/watt
A31: Lighting System Mass | C31: =SUM(C27:E27)*C30 -> 21168691 | D31: kg
A33: Peak Power Load | C33: =C13+C8+C17+SUM(C27:E27) -> 5.7921745e+08 | E33: =C33/10000000 -> 57.921745
A34: Daily Power Consumption | C34: =C12+C9+C16+SUM(C28:E28) -> 3.160169e+11 | D34: kwh | E34: =C34/10000000 -> 31601.69 | F34: MW
A35: Yearly Power Consuption | C35: =C34*Conversion!B2 -> 1.1542517e+14 | D35: kwh
A37: Fusion Reactor | B37: (Similar to propulsion System)
A38: Fusion Fuel Usage | C38: =(100+3000)/7000000000/Conversion!C4 -> 5.0520903e-11 | D38: kg/kwh | E38: 7 billion kwh / 3100kg fuel | F38: https://f4e.europa.eu/understandingfusion/merits.aspx
A39: Fusion Power Mass | C39: 0.001 | D39: kg/w
A40: Safety Factor | C40: 1.1
A41: System Mass | C41: =C33*C39 -> 579217.45
A42: Power System Fuel / yr | C42: =C35*C38*Conversion!C4 -> 51116862 | D42: kg
A43: Fuel Collected / yr | C43: =C56 -> 126227.81
A45: Total Power System Fuel Mass: | C45: =C7*(C42-C43) -> 2.3863398e+09 | D45: kg | E45: Some fuel stores are offset by tritium and he3 production in the cosmic ray shield
C46: =C45/Conversion!$B$31 -> 2.2445844 | D46: Nimitz Carriers
A48: Cosmic Ray interactions with water in insulation | E48: https://ntrs.nasa.gov/archive/nasa/casi.ntrs.nasa.gov/19680012956.pdf
A49: Insulation Surface area | C49: =Geometry!E45 -> 59395.736
E50: =Geometry!E49 -> 2.4438971e+08
A51: Tritium Production | C51: =0.02*10000/6.022E+23*18.0152/1000 -> 5.9831285e-24 | D51: kg/s
A52: Tritium Production/yr | C52: =C51*Conversion!$C$3 -> 1.888093e-16 | D52: kg/yr
A53: He3 Production | C53: =4/1000 -> 0.004 | D53: kg/s
C54: =C53*Conversion!$C$3 -> 126227.81 | D54: kg/yr
A55: H2 production | C55: =4/1000 -> 0.004 | D55: kg/s | E55: =C56/E50 -> 0.00051650215
C56: =C55*Conversion!$C$3 -> 126227.81 | D56: kg/yr
A57: Insulation loss/yr | C57: =C56+C54+C52 -> 252455.62

Sheet Propulsion
A1: Fuel Consumption
A2: Vehicle Dry Mass | D2: =Vehicle!B61+Vehicle!B73 -> 28063005010
A3: Fuel Mass | D3: =Vehicle!B62 -> 9000000000
A4: Accelleration | D4: =Vehicle!B4 -> 9.8
A5: kG / kwh | D5: ='Power Consumption'!C38 -> 5.0520903e-11 | E5: kg/kwh
A6: W/kwh | D6: =Conversion!C36 -> 31557.6
A7: dt | D7: =Conversion!B3*0.25 -> 7889400
A8: Power Fuel/dt | D8: ='Power Consumption'!C42*0.25 -> 12779216
A9: Mass Consume | D9: =SUM(D12:D76) -> 8.1790661e+08 | E9: =D9/D3 -> 0.090878513
A11: Year | B11: Vehicle Mass | C11: Impulse | D11: Fuel Consumed | E11: Fuel Remaining
A12: 0 | B12: =D2+D3 -> 37063005010 | C12: =IF(B12>$D$2,B12*$D$4/1000,0) -> 3.6321745e+08 | D12: =C12*$D$6*$D$5 -> 579.08428 | E12: =1-(($B$12-B12)/$D$3) -> 1 | F12: =D12 -> 579.08428
A13: =A12+0.25 -> 0.25 | B13: =B12-D12-$D$8 -> 3.7050225e+10 | C13: =IF(B13>$D$2,B13*$D$4/1000,0) -> 3.6309221e+08 | D13: =C13*$D$6*$D$5+$D$8 -> 12779794 | E13: =1-(($B$12-B13)/$D$3) -> 0.99858002 | F13: =F12+D13 -> 12780373
A14: =A13+0.25 -> 0.5 | B14: =B13-D13-$D$8 -> 3.7024666e+10 | C14: =IF(B14>$D$2,B14*$D$4/1000,0) -> 3.6284173e+08 | D14: =C14*$D$6*$D$5+$D$8 -> 12779794 | E14: =1-(($B$12-B14)/$D$3) -> 0.99574013 | F14: =F13+D14 -> 25560167
A15: =A14+0.25 -> 0.75 | B15: =B14-D14-$D$8 -> 3.6999107e+10 | C15: =IF(B15>$D$2,B15*$D$4/1000,0) -> 3.6259125e+08 | D15: =C15*$D$6*$D$5+$D$8 -> 12779794 | E15: =1-(($B$12-B15)/$D$3) -> 0.99290024 | F15: =F14+D15 -> 38339961
A16: =A15+0.25 -> 1 | B16: =B15-D15-$D$8 -> 3.6973548e+10 | C16: =IF(B16>$D$2,B16*$D$4/1000,0) -> 3.6234077e+08 | D16: =C16*$D$6*$D$5+$D$8 -> 12779793 | E16: =1-(($B$12-B16)/$D$3) -> 0.99006035 | F16: =F15+D16 -> 51119754
A17: =A16+0.25 -> 1.25 | B17: =B16-D16-$D$8 -> 3.6947989e+10 | C17: =IF(B17>$D$2,B17*$D$4/1000,0) -> 3.6209029e+08 | D17: =C17*$D$6*$D$5+$D$8 -> 12779793 | E17: =1-(($B$12-B17)/$D$3) -> 0.98722046 | F17: =F16+D17 -> 63899547
A18: =A17+0.25 -> 1.5 | B18: =B17-D17-$D$8 -> 3.692243e+10 | C18: =IF(B18>$D$2,B18*$D$4/1000,0) -> 3.6183982e+08 | D18: =C18*$D$6*$D$5+$D$8 -> 12779792 | E18: =1-(($B$12-B18)/$D$3) -> 0.98438057 | F18: =F17+D18 -> 76679339
A19: =A18+0.25 -> 1.75 | B19: =B18-D18-$D$8 -> 3.6896871e+10 | C19: =IF(B19>$D$2,B19*$D$4/1000,0) -> 3.6158934e+08 | D19: =C19*$D$6*$D$5+$D$8 -> 12779792 | E19: =1-(($B$12-B19)/$D$3) -> 0.98154068 | F19: =F18+D19 -> 89459131
A20: =A19+0.25 -> 2 | B20: =B19-D19-$D$8 -> 3.6871312e+10 | C20: =IF(B20>$D$2,B20*$D$4/1000,0) -> 3.6133886e+08 | D20: =C20*$D$6*$D$5+$D$8 -> 12779792 | E20: =1-(($B$12-B20)/$D$3) -> 0.97870079 | F20: =F19+D20 -> 1.0223892e+08
A21: =A20+0.25 -> 2.25 | B21: =B20-D20-$D$8 -> 3.6845753e+10 | C21: =IF(B21>$D$2,B21*$D$4/1000,0) -> 3.6108838e+08 | D21: =C21*$D$6*$D$5+$D$8 -> 12779791 | E21: =1-(($B$12-B21)/$D$3) -> 0.9758609 | F21: =F20+D21 -> 1.1501871e+08
A22: =A21+0.25 -> 2.5 | B22: =B21-D21-$D$8 -> 3.6820194e+10 | C22: =IF(B22>$D$2,B22*$D$4/1000,0) -> 3.608379e+08 | D22: =C22*$D$6*$D$5+$D$8 -> 12779791 | E22: =1-(($B$12-B22)/$D$3) -> 0.97302101 | F22: =F21+D22 -> 1.277985e+08
A23: =A22+0.25 -> 2.75 | B23: =B22-D22-$D$8 -> 3.6794635e+10 | C23: =IF(B23>$D$2,B23*$D$4/1000,0) -> 3.6058742e+08 | D23: =C23*$D$6*$D$5+$D$8 -> 12779790 | E23: =1-(($B$12-B23)/$D$3) -> 0.97018112 | F23: =F22+D23 -> 1.405783e+08
A24: =A23+0.25 -> 3 | B24: =B23-D23-$D$8 -> 3.6769076e+10 | C24: =IF(B24>$D$2,B24*$D$4/1000,0) -> 3.6033695e+08 | D24: =C24*$D$6*$D$5+$D$8 -> 12779790 | E24: =1-(($B$12-B24)/$D$3) -> 0.96734124 | F24: =F23+D24 -> 1.5335809e+08
... A77: =A76+0.25 -> 16.25 | B77: =B76-D76-$D$8 -> 3.5414449e+10 | C77: =IF(B77>$D$2,B77*$D$4/1000,0) -> 3.470616e+08 | D77: =C77*$D$6*$D$5+$D$8 -> 12779769 | E77: =1-(($B$12-B77)/$D$3) -> 0.81682715 | F77: =F76+D77 -> 8.3068638e+08
A78: =A77+0.25 -> 16.5 | B78: =B77-D77-$D$8 -> 3.538889e+10 | C78: =IF(B78>$D$2,B78*$D$4/1000,0) -> 3.4681113e+08 | D78: =C78*$D$6*$D$5+$D$8 -> 12779768 | E78: =1-(($B$12-B78)/$D$3) -> 0.81398727
A79: =A78+0.25 -> 16.75 | B79: =B78-D78-$D$8 -> 3.5363331e+10 | C79: =IF(B79>$D$2,B79*$D$4/1000,0) -> 3.4656065e+08 | D79: =C79*$D$6*$D$5+$D$8 -> 12779768 | E79: =1-(($B$12-B79)/$D$3) -> 0.81114738
A80: =A79+0.25 -> 17 | B80: =B79-D79-$D$8 -> 3.5337772e+10 | C80: =IF(B80>$D$2,B80*$D$4/1000,0) -> 3.4631017e+08 | D80: =C80*$D$6*$D$5+$D$8 -> 12779768 | E80: =1-(($B$12-B80)/$D$3) -> 0.80830749
A81: =A80+0.25 -> 17.25 | B81: =B80-D80-$D$8 -> 3.5312213e+10 | C81: =IF(B81>$D$2,B81*$D$4/1000,0) -> 3.4605969e+08 | D81: =C81*$D$6*$D$5+$D$8 -> 12779767 | E81: =1-(($B$12-B81)/$D$3) -> 0.8054676
A82: =A81+0.25 -> 17.5 | B82: =B81-D81-$D$8 -> 3.5286654e+10 | C82: =IF(B82>$D$2,B82*$D$4/1000,0) -> 3.4580921e+08 | D82: =C82*$D$6*$D$5+$D$8 -> 12779767 | E82: =1-(($B$12-B82)/$D$3) -> 0.80262772
A83: =A82+0.25 -> 17.75 | B83: =B82-D82-$D$8 -> 3.5261095e+10 | C83: =IF(B83>$D$2,B83*$D$4/1000,0) -> 3.4555874e+08 | D83: =C83*$D$6*$D$5+$D$8 -> 12779766 | E83: =1-(($B$12-B83)/$D$3) -> 0.79978783
A84: =A83+0.25 -> 18 | B84: =B83-D83-$D$8 -> 3.5235537e+10 | C84: =IF(B84>$D$2,B84*$D$4/1000,0) -> 3.4530826e+08 | D84: =C84*$D$6*$D$5+$D$8 -> 12779766 | E84: =1-(($B$12-B84)/$D$3) -> 0.79694794
A85: =A84+0.25 -> 18.25 | B85: =B84-D84-$D$8 -> 3.5209978e+10 | C85: =IF(B85>$D$2,B85*$D$4/1000,0) -> 3.4505778e+08 | D85: =C85*$D$6*$D$5+$D$8 -> 12779766 | E85: =1-(($B$12-B85)/$D$3) -> 0.79410806
A86: =A85+0.25 -> 18.5 | B86: =B85-D85-$D$8 -> 3.5184419e+10 | C86: =IF(B86>$D$2,B86*$D$4/1000,0) -> 3.448073e+08 | D86: =C86*$D$6*$D$5+$D$8 -> 12779765 | E86: =1-(($B$12-B86)/$D$3) -> 0.79126817
A87: =A86+0.25 -> 18.75 | B87: =B86-D86-$D$8 -> 3.515886e+10 | C87: =IF(B87>$D$2,B87*$D$4/1000,0) -> 3.4455682e+08 | D87: =C87*$D$6*$D$5+$D$8 -> 12779765 | E87: =1-(($B$12-B87)/$D$3) -> 0.78842828
A88: =A87+0.25 -> 19 | B88: =B87-D87-$D$8 -> 3.5133301e+10 | C88: =IF(B88>$D$2,B88*$D$4/1000,0) -> 3.4430635e+08 | D88: =C88*$D$6*$D$5+$D$8 -> 12779764 | E88: =1-(($B$12-B88)/$D$3) -> 0.7855884
A89: =A88+0.25 -> 19.25 | B89: =B88-D88-$D$8 -> 3.5107742e+10 | C89: =IF(B89>$D$2,B89*$D$4/1000,0) -> 3.4405587e+08 | D89: =C89*$D$6*$D$5+$D$8 -> 12779764 | E89: =1-(($B$12-B89)/$D$3) -> 0.78274851
... A412: =A411+0.25 -> 100 | B412: =B411-D411-$D$8 -> 2.6852232e+10 | C412: =IF(B412>$D$2,B412*$D$4/1000,0) -> 0 | D412: =C412*$D$6*$D$5+$D$8 -> 12779216 | E412: =1-(($B$12-B412)/$D$3) -> -0.13453032

Sheet Population
A1: Death Rate Info https://www.allcountries.org/uscensus/129_death_and_death_rates_by_age.html
A2: DT | B2: 1 | C2: =(1/1000)*$B$2 -> 0.001 | G2: Travel Time | J2: =Vehicle!B9 -> 15.100555 | N2: Natural | O2: Marriage % | P2: F:M Ratio | Q2: Trip Growth | R2: Knee | S2: Children | T2: 21-27 | U2: 28-34 | V2: 35-41 | W2: 42-48 | X2: 49-55 | Y2: 56-62 | Z2: Elderly | AA2: Specialists
A3: Peak | B3: =MAX('Population Model'!B3:B103) -> 291 | C3: =B6/B3 -> 0.82474227 | G3: Pop Start | J3: =B6*(1-LOOKUP($J$5,$M$3:$M$6,$Q$3:$Q$6)) -> 168 | L3: balanced | M3: 0 | N3: 0 | O3: 0.5 | P3: 0.5 | Q3: 0.1 | R3: 0.9 | S3: 0.24 | T3: 0.105 | U3: =T3*0.99 -> 0.10395 | V3: =U3*0.99 -> 0.1029105 | W3: =V3*0.99 -> 0.10188139 | X3: =W3*0.99 -> 0.10086258 | Y3: =X3*0.95 -> 0.095819452 | Z3: 0.1 | AA3: 0.05 | AB3: =SUM(S3:AA3) -> 1.0004239
A4: Min | B4: =MIN('Population Model'!B3:B103) -> 194 | G4: Select Profile: | J4: =Vehicle!B18 -> island | L4: growth | M4: 1 | N4: 1 | O4: 0 | P4: 0.9 | Q4: 0.7 | R4: 1 | S4: 0 | T4: =1-AA4 -> 0.5 | U4: 0 | V4: 0 | W4: 0 | X4: 0 | Y4: 0 | Z4: 0 | AA4: 0.5 | AB4: =SUM(S4:AA4) -> 1
A5: Final | B5: ='Population Model'!B103 -> 291 | J5: =LOOKUP(J4,Population!L3:L6,Population!M3:M6) -> 2 | L5: island | M5: 2 | N5: 0 | O5: 0 | P5: 0.5 | Q5: 0.3 | R5: 0.75 | S5: 0 | T5: 0.65 | U5: 0.1 | V5: 0.05 | W5: 0 | X5: 0 | Y5: 0 | Z5: 0 | AA5: 0.2 | AB5: =SUM(S5:AA5) -> 1 | AN5: =SUM(A28:Y28) -> 0
A6: Target Breeding Population: | B6: =B7-B8 -> 240 | C6: Life Exp | D6: 73 | G6: Reproduction Model | J6: =LOOKUP(J4,Population!L3:L5,Population!N3:N5) -> 0 | L6: professional | M6: 3 | N6: 0 | O6: 0.9 | P6: 0.4 | Q6: 0.25 | R6: 0.5 | S6: 0.14 | T6: 0.1 | U6: 0.18 | V6: 0.22 | W6: 0.04 | X6: 0.04 | Y6: 0.04 | Z6: 0.04 | AA6: 0.2 | AB6: =SUM(S6:AA6) -> 1
A7: Total Population | B7: =Vehicle!B16 -> 300
A8: Specialists | B8: =B7*K32 -> 60
A9: Target Workforce | B9: =Vocations!E9 -> 231
A10: Average | B10: =AVERAGE('Population Model'!B3:B103) -> 266.80198 | G10: F:M Ratio | J10: =LOOKUP($J$5,$M$3:$M$6,$P$3:$P$6) -> 0.5
A11: Replacement | B11: =B6*B14*B13 -> 2.8514204 | G11: M:F Ratio | J11: =1-J10 -> 0.5
A12: Replacement (Clones) | B12: =O50 -> 0.05052 | C12: =J17*B12 -> 3.0312
A13: Magic Factor | B13: 1.1158 | G13: Seed Females | J13: =J38+J40+J42+J44+J46 -> 67.2 | L13: balanced | M13: Balanced Population Level based on developed technological cultures
A14: Mortality | B14: =1-GEOMEAN(N33:N50) -> 0.010647892 | C14: =1/B14 -> 93.915299 | D14: =POWER(M33*M34*M35*M37*M39*M41*M43*M45*M47*M48,7)*POWER(M49,3.38) -> 0.70562633 | G14: Seed Male | J14: =J37+J39+J41+J43+J45 -> 67.2 | L14: growth | M14: Minimizes starting population - Young crew, predominately female
A15: Carry | B15: =1-B16 -> 0.85714286 | G15: Seed Child | J15: =SUM(J33:J36) -> 0 | L15: island | M15: Based on Polynsesian colonization. Primarily unmarried people in their 20s
A16: Promote | B16: =$B$2/7 -> 0.14285714 | G16: Seed Marriages | J16: =MIN(J13,J14)*LOOKUP($J$5,$M$3:$M$6,$O$3:$O$6) -> 0 | L16: professional | M16: Crew composed of existing professionals. Middle aged crew, most married, some children, skews male
A17: Marriage Rate | B17: 0.25 | G17: Seed Specialists | J17: =B7*K32 -> 60
A18: Divorce Rate | B18: =0.3/50 -> 0.006 | G18: Population | H18: Seed | I18: Mission Arrival | J18: Return | K18: Peak | L18: Final
A19: Growth Knee | B19: =LOOKUP($J$5,$M$3:$M$6,$Q$3:$Q$6) -> 0.3 | G19: Year | H19: 0 | I19: =Vehicle!B9+1 -> 16.100555 | J19: =I19+5+Vehicle!B9 -> 36.201111 | K19: 34 | L19: 100
A20: M/F Ratio | B20: =J11 -> 0.5 | G20: General | H20: =LOOKUP(H19,'Population Model'!$A$3:$A$100,'Population Model'!$B$3:$B$100) -> 194 | I20: =LOOKUP(I19,'Population Model'!$A$3:$A$100,'Population Model'!$B$3:$B$100) -> 235 | J20: =LOOKUP(J19,'Population Model'!$A$3:$A$100,'Population Model'!$B$3:$B$100) -> 272 | K20: =MAX('Population Model'!B:B) -> 293 | L20: =LOOKUP(L19,'Population Model'!$A$3:$A$100,'Population Model'!$B$3:$B$100) -> 290
A21: Grade Level Size | C21: =(MAX('Population Model'!AC:AC)+MAX('Population Model'!AD:AD))/7 -> 3.4107807 | D21: =(MIN('Population Model'!AC:AC)+MIN('Population Model'!AD:AD))/7 -> 0 | G21: Workforce | H21: =LOOKUP(H19,'Population Model'!$A$3:$A$100,'Population Model'!$C$3:$C$100) -> 194 | I21: =LOOKUP(I19,'Population Model'!$A$3:$A$100,'Population Model'!$C$3:$C$100) -> 177 | J21: =LOOKUP(J19,'Population Model'!$A$3:$A$100,'Population Model'!$C$3:$C$100) -> 141 | K21: =LOOKUP(K19,'Population Model'!$A$3:$A$100,'Population Model'!$C$3:$C$100) -> 144 | L21: =LOOKUP(L19,'Population Model'!$A$3:$A$100,'Population Model'!$C$3:$C$100) -> 151
A22: Potential Mate Rate | H22: =H21/H20 -> 1 | I22: =I21/I20 -> 0.75319149 | J22: =J21/J20 -> 0.51838235 | K22: =K21/K20 -> 0.49146758 | L22: =L21/L20 -> 0.52068966
B23: Female | C23: =(C37+C39+C41+C43+C45+C47) -> 136.27134
B24: Male | C24: =(C38+C40+C42+C44) -> 99.021317
A25: HOUSING
A26: Single | C26: =MAX('Population Model'!P:P) -> 220.4 | D26: =CEILING(AVERAGE('Population Model'!P:P),1) -> 136 | E26: =LOOKUP(C26,'Population Model'!A:A,'Population Model'!P:P) -> 150.06524
A27: Family | C27: =CEILING(MAX('Population Model'!Q:Q),1) -> 61 | D27: =CEILING(AVERAGE('Population Model'!Q:Q),1) -> 43 | J27: =SUM(J33:J50) -> 134.4 | K27: =SUM(K37:K47) -> 0.8
C30: Max | D30: Min | E30: avg | H30: Marriage | I30: Housing | J30: Seed | K30: Seed % | L30: Death/100000 | M30: Mortality | Q30: Fertility Rate
A31: Age | F31: Family | G31: Single
A32: Specialist | C32: =MAX('Population Model'!AS:AS) -> 60 | D32: =MIN('Population Model'!AS:AS) -> 60 | E32: =AVERAGE('Population Model'!AS:AS) -> 60 | H32: 0 | I32: 1 | K32: =LOOKUP($J$5,$M$3:$M$6,$AA$3:$AA$6) -> 0.2
A33: 0 | C33: =MAX('Population Model'!AA4:AA103) -> 19.903351 | D33: =MIN('Population Model'!AA4:AA103) -> 2.8514204 | E33: =AVERAGE('Population Model'!AA2:AA103) -> 18.345944 | F33: =C33*H33 -> 0 | G33: =C33*I33 -> 0 | J33: =$J$3*1/3*K33 -> 0 | K33: =LOOKUP($J$5,$M$3:$M$6,$S$3:$S$6) -> 0 | L33: 40.6 | M33: =((100000-L33)/100000) -> 0.999594 | N33: =M33 -> 0.999594 | O33: =1-M33 -> 0.000406 | P33: Natural | Q33: High | R33: Low
A34: =A33+7 -> 7 | C34: =MAX('Population Model'!AB4:AB103) -> 19.868382 | D34: =MIN('Population Model'!AB4:AB103) -> 0 | E34: =AVERAGE('Population Model'!AB2:AB103) -> 16.952093 | F34: =C34*H34 -> 0 | G34: =C34*I34 -> 0 | J34: =$J$3*1/3*K34 -> 0 | K34: =LOOKUP($J$5,$M$3:$M$6,$S$3:$S$6) -> 0 | L34: 22.5 | M34: =((100000-L34)/100000) -> 0.999775 | N34: =M34 -> 0.999775 | O34: =1-M34 -> 0.000225
A35: =A34+7 -> 14 | B35: male | C35: =MAX('Population Model'!AC4:AC103) -> 9.8752266 | D35: =MIN('Population Model'!AC2:AC103) -> 0 | E35: =AVERAGE('Population Model'!AC2:AC103) -> 7.7520985 | F35: =C35*H35 -> 0.98752266 | G35: =C35*I35 -> 3.9500907 | H35: 0.1 | I35: 0.4 | J35: =$J$3*1/3*K35 -> 0 | K35: =LOOKUP($J$5,$M$3:$M$6,$S$3:$S$6)*0.5 -> 0 | L35: 95.3 | M35: =((100000-L35)/100000) -> 0.999047 | N35: =M35 -> 0.999047 | O35: =1-M35 -> 0.000953
B36: femal | C36: =MAX('Population Model'!AD4:AD103) -> 9.8752266 | D36: =MIN('Population Model'!AD2:AD103) -> 0 | E36: =AVERAGE('Population Model'!AD2:AD103) -> 7.7520985 | F36: =C36*H36 -> 0.98752266 | G36: =C36*I36 -> 3.9500907 | H36: 0.1 | I36: 0.4 | J36: =$J$3*1/3*K36 -> 0 | K36: =LOOKUP($J$5,$M$3:$M$6,$S$3:$S$6)*0.5 -> 0 | L36: 95.3 | M36: =((100000-L36)/100000) -> 0.999047 | O36: =1-M36 -> 0.000953 | P36: 12 | Q36: 12 | R36: 12
A37: =A35+7 -> 21 | B37: male | C37: =MAX('Population Model'!AE4:AE103) -> 40.037864 | D37: =MIN('Population Model'!AE2:AE103) -> 5.2454125 | E37: =AVERAGE('Population Model'!AE2:AE103) -> 10.757126 | F37: =C37*H37 -> 4.0037864 | G37: =C37*I37 -> 36.034078 | H37: 0.1 | I37: =1-H37 -> 0.9 | J37: =$J$3*K37 -> 54.6 | K37: =LOOKUP($J$5,$M$3:$M$6,$T$3:$T$6)*$J$11 -> 0.325 | L37: 95.3 | M37: =((100000-L37)/100000) -> 0.999047 | N37: =M37 -> 0.999047 | O37: =1-M37 -> 0.000953
B38: female | C38: =MAX('Population Model'!AF4:AF103) -> 40.037864 | D38: =MIN('Population Model'!AF2:AF103) -> 5.2454125 | E38: =AVERAGE('Population Model'!AF2:AF103) -> 10.757126 | F38: =C38*H38 -> 4.0037864 | G38: =C38*I38 -> 36.034078 | H38: 0.1 | I38: =1-H38 -> 0.9 | J38: =$J$3*K38 -> 54.6 | K38: =LOOKUP($J$5,$M$3:$M$6,$T$3:$T$6)*$J$10 -> 0.325 | L38: 95.3 | M38: =((100000-L38)/100000) -> 0.999047 | O38: =1-M38 -> 0.000953 | P38: 88 | Q38: 100 | R38: 12
A39: =A37+7 -> 28 | B39: male | C39: =MAX('Population Model'!AG4:AG103) -> 24.770732 | D39: =MIN('Population Model'!AG2:AG103) -> 6.5576164 | E39: =AVERAGE('Population Model'!AG2:AG103) -> 10.53745 | F39: =C39*H39 -> 4.9541464 | G39: =C39*I39 -> 19.816585 | H39: 0.2 | I39: =1-H39 -> 0.8 | J39: =$J$3*K39 -> 8.4 | K39: =LOOKUP($J$5,$M$3:$M$6,$U$3:$U$6)*$J$11 -> 0.05 | L39: 192 | M39: =((100000-L39)/100000) -> 0.99808 | N39: =M39 -> 0.99808 | O39: =1-M39 -> 0.00192
B40: female | C40: =MAX('Population Model'!AH4:AH103) -> 24.770732 | D40: =MIN('Population Model'!AH2:AH103) -> 6.5576164 | E40: =AVERAGE('Population Model'!AH2:AH103) -> 10.53745 | F40: =C40*H40 -> 4.9541464 | G40: =C40*I40 -> 19.816585 | H40: 0.2 | I40: =1-H40 -> 0.8 | J40: =$J$3*K40 -> 8.4 | K40: =LOOKUP($J$5,$M$3:$M$6,$U$3:$U$6)*$J$10 -> 0.05 | L40: 192 | M40: =((100000-L40)/100000) -> 0.99808 | O40: =1-M40 -> 0.00192 | P40: 88 | Q40: 100 | R40: 29
A41: =A39+7 -> 35 | B41: male | C41: =MAX('Population Model'!AI4:AI103) -> 18.695923 | D41: =MIN('Population Model'!AI2:AI103) -> 4.2 | E41: =AVERAGE('Population Model'!AI2:AI103) -> 10.035186 | F41: =C41*H41 -> 9.3479615 | G41: =C41*I41 -> 9.3479615 | H41: 0.5 | I41: =1-H41 -> 0.5 | J41: =$J$3*K41 -> 4.2 | K41: =LOOKUP($J$5,$M$3:$M$6,$V$3:$V$6)*$J$11 -> 0.025 | L41: 192 | M41: =((100000-L41)/100000) -> 0.99808 | N41: =M41 -> 0.99808 | O41: =1-M41 -> 0.00192
B42: female | C42: =MAX('Population Model'!AJ4:AJ103) -> 18.695923 | D42: =MIN('Population Model'!AJ2:AJ103) -> 4.2 | E42: =AVERAGE('Population Model'!AJ2:AJ103) -> 10.035186 | F42: =C42*H42 -> 9.3479615 | G42: =C42*I42 -> 9.3479615 | H42: 0.5 | I42: =1-H42 -> 0.5 | J42: =$J$3*K42 -> 4.2 | K42: =LOOKUP($J$5,$M$3:$M$6,$V$3:$V$6)*$J$10 -> 0.025 | L42: 192 | M42: =((100000-L42)/100000) -> 0.99808 | O42: =1-M42 -> 0.00192 | P42: 88 | Q42: 88 | R42: 29
A43: =A41+7 -> 42 | B43: male | C43: =MAX('Population Model'!AK4:AK103) -> 15.516798 | D43: =MIN('Population Model'!AK2:AK103) -> 0 | E43: =AVERAGE('Population Model'!AK2:AK103) -> 9.2657243 | F43: =C43*H43 -> 7.7583988 | G43: =C43*I43 -> 7.7583988 | H43: 0.5 | I43: =1-H43 -> 0.5 | J43: =$J$3*K43 -> 0 | K43: =LOOKUP($J$5,$M$3:$M$6,$W$3:$W$6)*$J$11 -> 0 | L43: 192 | M43: =((100000-L43)/100000) -> 0.99808 | N43: =M43 -> 0.99808 | O43: =1-M43 -> 0.00192
B44: female | C44: =MAX('Population Model'!AL4:AL103) -> 15.516798 | D44: =MIN('Population Model'!AL2:AL103) -> 0 | E44: =AVERAGE('Population Model'!AL2:AL103) -> 9.2657243 | F44: =C44*H44 -> 7.7583988 | G44: =C44*I44 -> 7.7583988 | H44: 0.5 | I44: =1-H44 -> 0.5 | J44: =$J$3*K44 -> 0 | K44: =LOOKUP($J$5,$M$3:$M$6,$W$3:$W$6)*$J$10 -> 0 | L44: 192 | M44: =((100000-L44)/100000) -> 0.99808 | O44: =1-M44 -> 0.00192 | P44: 29 | Q44: 29 | R44: 29
A45: =A43+7 -> 49 | B45: male | C45: =MAX('Population Model'!AM4:AM103) -> 13.536091 | D45: =MIN('Population Model'!AM2:AM103) -> 0 | E45: =AVERAGE('Population Model'!AM2:AM103) -> 8.5200006 | F45: =C45*H45 -> 6.7680455 | G45: =C45*I45 -> 6.7680455 | H45: 0.5 | I45: =1-H45 -> 0.5 | J45: =$J$3*K45 -> 0 | K45: =LOOKUP($J$5,$M$3:$M$6,$X$3:$X$6)*$J$11 -> 0 | L45: 192 | M45: =((100000-L45)/100000) -> 0.99808 | N45: =M45 -> 0.99808 | O45: =1-M45 -> 0.00192
B46: female | C46: =MAX('Population Model'!AN4:AN103) -> 13.536091 | D46: =MIN('Population Model'!AN2:AN103) -> 0 | E46: =AVERAGE('Population Model'!AN2:AN103) -> 8.5200006 | F46: =C46*H46 -> 6.7680455 | G46: =C46*I46 -> 6.7680455 | H46: 0.5 | I46: =1-H46 -> 0.5 | J46: =$J$3*K46 -> 0 | K46: =LOOKUP($J$5,$M$3:$M$6,$X$3:$X$6)*$J$10 -> 0 | L46: 192 | M46: =((100000-L46)/100000) -> 0.99808 | O46: =1-M46 -> 0.00192 | P46: 29 | Q46: 29 | R46: 29
A47: =A45+7 -> 56 | C47: =MAX('Population Model'!AO4:AO103) -> 23.713933 | D47: =MIN('Population Model'!AO2:AO103) -> 0 | E47: =AVERAGE('Population Model'!AO2:AO103) -> 15.159156 | F47: =C47*H47 -> 9.4855732 | G47: =C47*I47 -> 14.22836 | H47: 0.4 | I47: =1-H47 -> 0.6 | J47: =$J$3*K47 -> 0 | K47: =LOOKUP($J$5,$M$3:$M$6,$Y$3:$Y$6)*$J$11 -> 0 | L47: 725 | M47: =((100000-L47)/100000) -> 0.99275 | N47: =M47 -> 0.99275 | O47: =1-M47 -> 0.00725
A48: =A47+7 -> 63 | C48: =MAX('Population Model'!AP4:AP103) -> 21.065767 | D48: =MIN('Population Model'!AQ2:AQ103) -> 0 | E48: =AVERAGE('Population Model'!AP2:AP103) -> 13.358801 | F48: =C48*H48 -> 6.3197302 | G48: =C48*I48 -> 14.746037 | H48: 0.3 | I48: =1-H48 -> 0.7 | J48: =$J$3*1/3*K48 -> 0 | K48: =LOOKUP($J$5,$M$3:$M$6,$Y$3:$Y$6)*$J$10 -> 0 | L48: 725 | M48: =((100000-L48)/100000) -> 0.99275 | N48: =M48 -> 0.99275 | O48: =1-M48 -> 0.00725
A49: =A48+7 -> 70 | C49: =MAX('Population Model'!AQ4:AQ103) -> 15.485069 | D49: =MIN('Population Model'!AR2:AR103) -> 0 | E49: =AVERAGE('Population Model'!AQ2:AQ103) -> 9.540288 | F49: =C49*H49 -> 1.5485069 | G49: =C49*I49 -> 13.936562 | H49: 0.1 | I49: =1-H49 -> 0.9 | J49: =$J$3*1/3*K49 -> 0 | K49: =LOOKUP($J$5,$M$3:$M$6,$Z$3:$Z$6)*0.7 -> 0 | L49: 5052 | M49: =((100000-L49)/100000) -> 0.94948 | N49: =M49 -> 0.94948 | O49: =1-M49 -> 0.05052
A50: 77 | C50: =MAX('Population Model'!AR4:AR103) -> 32.567872 | D50: =MIN('Population Model'!AS3:AS103) -> 60 | E50: =AVERAGE('Population Model'!AR2:AR103) -> 19.485383 | F50: =C50*H50 -> 3.2567872 | G50: =C50*I50 -> 29.311085 | H50: 0.1 | I50: =1-H50 -> 0.9 | J50: =$J$3*1/3*K50 -> 0 | K50: =LOOKUP($J$5,$M$3:$M$6,$Z$3:$Z$6)*0.7 -> 0 | L50: 5052 | M50: =((100000-L50)/100000) -> 0.94948 | N50: =M50 -> 0.94948 | O50: =1-M50 -> 0.05052
A51: 84 | L51: 5052 | M51: =((100000-L51)/100000) -> 0.94948 | N51: =M51 -> 0.94948 | O51: =1-M51 -> 0.05052
A52: 91 | L52: 5052 | N52: =POWER(M52,7) -> 0
A53: 100 | L53: 5052 | N53: =POWER(M53,7) -> 0
A54: 107 | L54: 5052 | N54: =POWER(M54,7) -> 0

Sheet Population Model
A1: Year | B1: Population | C1: Workforce | D1: Natural | E1: Target | F1: Ideal | G1: Selected | H1: Fertile Female | I1: Children | J1: Child/Female | K1: Death | L1: Births per F | M1: Clones | N1: MPP | O1: Child % | P1: housing | S1: Elderly % | U1: weddings | V1: divorce | W1: age out | X1: Marriages | Y1: Singles | AA1: 0 | AB1: =AA1+7 -> 7 | AC1: =AB1+7 -> 14 | AE1: =AC1+7 -> 21 | AG1: =AE1+7 -> 28 | AI1: =AG1+7 -> 35 | AK1: =AI1+7 -> 42 | AM1: =AK1+7 -> 49 | AO1: =AM1+7 -> 56 | AP1: =AO1+7 -> 63 | AQ1: =AP1+7 -> 70 | AR1: Over 70 | AS1: Specialists
B2: =FLOOR(SUM(AA2:AS2),1) -> 194 | D2: 0 | H2: =FLOOR(AF2+AH2+AJ2+AL2+AN2,1) -> 67 | L2: =SUM(G1:G2)/H2 -> 0 | M2: 0 | N2: =(AE2+AF2+AG2+AH2+AI2+AJ2)/21*0.5 -> 3.2 | O2: =I2/B2 -> 0 | P2: single | Q2: family | S2: =SUM(AR2:AR2)/B2 -> 0 | T2: =X2/H2 -> 0 | X2: =Population!J16 -> 0 | Y2: =(AE2+AG2+AI2+AK2+AM2)-X2 -> 67.2 | Z2: =(AF2+AH2+AJ2+AL2+AN2)-X2 -> 67.2 | AA2: =Population!J33 -> 0 | AB2: =Population!J34 -> 0 | AC2: =Population!J35 -> 0 | AD2: =Population!J36 -> 0 | AE2: =Population!J37 -> 54.6 | AF2: =Population!J38 -> 54.6 | AG2: =Population!J39 -> 8.4 | AH2: =Population!J40 -> 8.4 | AI2: =Population!J41 -> 4.2 | AJ2: =Population!J42 -> 4.2 | AK2: =Population!J43 -> 0 | AL2: =Population!J44 -> 0 | AM2: =Population!J45 -> 0 | AN2: =Population!J46 -> 0 | AO2: =Population!J47 -> 0 | AP2: =Population!J48 -> 0 | AQ2: =Population!J49 -> 0 | AR2: =Population!J50 -> 0 | AS2: =Population!J17 -> 60
A3: 0 | B3: =FLOOR(SUM(AA3:AS3),1) -> 194 | C3: =FLOOR(B3-I3-G3-SUM(AO3:AR3),1) -> 194 | D3: =AD2*Population!$P$36*Population!$C$2+AF2*Population!$P$38*Population!$C$2+AH2*Population!$P$40*Population!$C$2+AJ2*Population!$P$42*Population!$C$2+AL2*Population!$P$44*Population!$C$2+AN1*Population!$P$46*Population!$C$2 -> 5.9136 | E3: =IF(B2>Population!$B$6*Population!$B$19,Population!$B$11,IF(Population!$J$6=1,D3,Population!$B$11*Population!$B$6*0.9/B2)) -> 2.8514204 | F3: =IF(B2>Population!$B$6*0.75,Population!$B$11,E3) -> 2.8514204 | G3: =IF(Population!$J$6=1,IF(E3>H2,H2,E3),IF(E3>X2,X2,E3)) -> 0 | H3: =FLOOR(AF2+AH2+AJ2+AL2+AN2,1) -> 67 | I3: =FLOOR(SUM(AA2:AD2),1) -> 0 | J3: =I3/H3 -> 0 | K3: =AA3*Population!$O$33+AB3*Population!$O$34+AC3*Population!$O$35+AD3*Population!$O$36+AE3*Population!$O$37+AF3*Population!$O$38+AG3*Population!$O$39+AH3*Population!$O$40+AI3*Population!$O$41+AJ3*Population!$O$42+AK3*Population!$O$43+AL3*Population!$O$44+AM3*Population!$O$45+AN3*Population!$O$46+AO3*Population!$O$47+AP3*Population!$O$48+AQ3*Population!$O$49+AR3*Population!$O$50 -> 0.16733035 | L3: =G3/H3 -> 0 | M3: =Population!$C$12 -> 3.0312 | N3: =(AE2+AF2+AG2+AH2+AI2+AJ2)/21*0.5 -> 3.2 | O3: =I3/B3 -> 0 | P3: =B3-I3-Q3*2+AS2 -> 220.4 | Q3: =MAX(X3,I3/2) -> 16.8 | R3: =SUM(AR2:AR2) -> 0 | S3: =SUM(AR2:AR2)/B3 -> 0 | T3: =X3/H3 -> 0.25074627 | U3: =Population!$B$17*MIN(Y2:Z2) -> 16.8 | V3: =X2*Population!$B$18 -> 0 | W3: =AN2*T2*Population!$B$16 -> 0 | X3: =X2+U3-W3-V3 -> 16.8 | Y3: =(AE2+AG2+AI2+AK2+AM2)-X3 -> 50.4 | Z3: =(AF2+AH2+AJ2+AL2+AN2)-X3 -> 50.4 | AA3: =G3+Population!$B$15*AA2*Population!M$33 -> 0 | AB3: =AA2*Population!$B$16*Population!$M$33+AB2*Population!$B$15*Population!$M$34 -> 0 | AC3: =(AB2*Population!$B$16*0.5*Population!$M$34)+(AC2*Population!$B$15*Population!M$35) -> 0 | AD3: =(AB2*Population!$B$16*0.5*Population!$M$34)+(AD2*Population!$B$15*Population!M$35) -> 0 | AE3: =(AC2*Population!$B$16*Population!M$35)+(AE2*Population!$B$15*Population!M$37) -> 46.7554 | AF3: =(AD2*Population!$B$16*Population!M$35)+(AF2*Population!$B$15*Population!M$37) -> 46.7554 | AG3: =(AE2*Population!$B$16*Population!M$37)+(AG2*Population!$B$15*Population!M$39) -> 14.978743 | AH3: =(AF2*Population!$B$16*Population!M$37)+(AH2*Population!$B$15*Population!M$39) -> 14.978743 | AI3: =(AG2*Population!$B$16*Population!M$39)+(AI2*Population!$B$15*Population!M$41) -> 4.790784 | AJ3: =(AH2*Population!$B$16*Population!M$39)+(AJ2*Population!$B$15*Population!M$41) -> 4.790784 | AK3: =(AI2*Population!$B$16*Population!M$41)+(AK2*Population!$B$15*Population!M$43) -> 0.598848 | AL3: =(AJ2*Population!$B$16*Population!M$41)+(AL2*Population!$B$15*Population!M$43) -> 0.598848 | AM3: =(AK2*Population!$B$16*Population!M$43)+(AM2*Population!$B$15*Population!M$45) -> 0 | AN3: =(AL2*Population!$B$16*Population!M$43)+(AN2*Population!$B$15*Population!M$45) -> 0 | AO3: =(AM2+AN2)*Population!$B$16*Population!$M$45+AO2*Population!$B$15*Population!$M$47 -> 0 | AP3: =AO2*Population!M$47*Population!$B$16+AP2*Population!$B$15*Population!M$48 -> 0 | AQ3: =AP2*Population!M$48*Population!$B$16+AQ2*Population!$B$15*Population!M$49 -> 0 | AR3: =(AQ2*Population!$B$16+AR2)*Population!M$50 -> 0 | AS3: =AS2*(1-Population!$B$12)+M3 -> 60
A4: =A3+Population!$B$2 -> 1 | B4: =FLOOR(SUM(AA4:AS4),1) -> 196 | C4: =FLOOR(B4-I4-G4-SUM(AO4:AR4),1) -> 193 | D4: =AD3*Population!$P$36*Population!$C$2+AF3*Population!$P$38*Population!$C$2+AH3*Population!$P$40*Population!$C$2+AJ3*Population!$P$42*Population!$C$2+AL3*Population!$P$44*Population!$C$2+AN2*Population!$P$46*Population!$C$2 -> 5.8715601 | E4: =IF(B3>Population!$B$6*Population!$B$19,Population!$B$11,IF(Population!$J$6=1,D4,Population!$B$11*Population!$B$6*0.9/B3)) -> 2.8514204 | F4: =IF(B3>Population!$B$6*0.75,Population!$B$11,E4) -> 2.8514204 | G4: =IF(Population!$J$6=1,IF(E4>H3,H3,E4),IF(E4>X3,X3,E4)) -> 2.8514204 | H4: =FLOOR(AF3+AH3+AJ3+AL3+AN3,1) -> 67 | I4: =FLOOR(SUM(AA3:AD3),1) -> 0 | J4: =I4/H4 -> 0 | K4: =AA4*Population!$O$33+AB4*Population!$O$34+AC4*Population!$O$35+AD4*Population!$O$36+AE4*Population!$O$37+AF4*Population!$O$38+AG4*Population!$O$39+AH4*Population!$O$40+AI4*Population!$O$41+AJ4*Population!$O$42+AK4*Population!$O$43+AL4*Population!$O$44+AM4*Population!$O$45+AN4*Population!$O$46+AO4*Population!$O$47+AP4*Population!$O$48+AQ4*Population!$O$49+AR4*Population!$O$50 -> 0.18115847 | L4: =G4/H4 -> 0.042558513 | M4: =Population!$C$12 -> 3.0312 | N4: =(AE3+AF3+AG3+AH3+AI3+AJ3)/21*0.5 -> 3.1678536 | O4: =I4/B4 -> 0 | P4: =B4-I4-Q4*2+AS3 -> 197.4016 | Q4: =MAX(X4,I4/2) -> 29.2992 | R4: =SUM(AR3:AR3) -> 0 | S4: =SUM(AR3:AR3)/B4 -> 0 | T4: =X4/H4 -> 0.43730149 | U4: =Population!$B$17*MIN(Y3:Z3) -> 12.6 | V4: =X3*Population!$B$18 -> 0.1008 | W4: =AN3*T3*Population!$B$16 -> 0 | X4: =X3+U4-W4-V4 -> 29.2992 | Y4: =(AE3+AG3+AI3+AK3+AM3)-X4 -> 37.824574 | Z4: =(AF3+AH3+AJ3+AL3+AN3)-X4 -> 37.824574 | AA4: =G4+Population!$B$15*AA3*Population!M$33 -> 2.8514204 | AB4: =AA3*Population!$B$16*Population!$M$33+AB3*Population!$B$15*Population!$M$34 -> 0 | AC4: =(AB3*Population!$B$16*0.5*Population!$M$34)+(AC3*Population!$B$15*Population!M$35) -> 0 | AD4: =(AB3*Population!$B$16*0.5*Population!$M$34)+(AD3*Population!$B$15*Population!M$35) -> 0 | AE4: =(AC3*Population!$B$16*Population!M$35)+(AE3*Population!$B$15*Population!M$37) -> 40.037864 | AF4: =(AD3*Population!$B$16*Population!M$35)+(AF3*Population!$B$15*Population!M$37) -> 40.037864 | AG4: =(AE3*Population!$B$16*Population!M$37)+(AG3*Population!$B$15*Population!M$39) -> 19.487249 | AH4: =(AF3*Population!$B$16*Population!M$37)+(AH3*Population!$B$15*Population!M$39) -> 19.487249 | AI4: =(AG3*Population!$B$16*Population!M$39)+(AI3*Population!$B$15*Population!M$41) -> 6.2342139 | AJ4: =(AH3*Population!$B$16*Population!M$39)+(AJ3*Population!$B$15*Population!M$41) -> 6.2342139 | AK4: =(AI3*Population!$B$16*Population!M$41)+(AK3*Population!$B$15*Population!M$43) -> 1.1953964 | AL4: =(AJ3*Population!$B$16*Population!M$41)+(AL3*Population!$B$15*Population!M$43) -> 1.1953964 | AM4: =(AK3*Population!$B$16*Population!M$43)+(AM3*Population!$B$15*Population!M$45) -> 0.085385459 | AN4: =(AL3*Population!$B$16*Population!M$43)+(AN3*Population!$B$15*Population!M$45) -> 0.085385459 | AO4: =(AM3+AN3)*Population!$B$16*Population!$M$45+AO3*Population!$B$15*Population!$M$47 -> 0 | AP4: =AO3*Population!M$47*Population!$B$16+AP3*Population!$B$15*Population!M$48 -> 0 | AQ4: =AP3*Population!M$48*Population!$B$16+AQ3*Population!$B$15*Population!M$49 -> 0 | AR4: =(AQ3*Population!$B$16+AR3)*Population!M$50 -> 0 | AS4: =AS3*(1-Population!$B$12)+M4 -> 60
A5: =A4+Population!$B$2 -> 2 | B5: =FLOOR(SUM(AA5:AS5),1) -> 199 | C5: =FLOOR(B5-I5-G5-SUM(AO5:AR5),1) -> 194 | D5: =AD4*Population!$P$36*Population!$C$2+AF4*Population!$P$38*Population!$C$2+AH4*Population!$P$40*Population!$C$2+AJ4*Population!$P$42*Population!$C$2+AL4*Population!$P$44*Population!$C$2+AN3*Population!$P$46*Population!$C$2 -> 5.8214873 | E5: =IF(B4>Population!$B$6*Population!$B$19,Population!$B$11,IF(Population!$J$6=1,D5,Population!$B$11*Population!$B$6*0.9/B4)) -> 2.8514204 | F5: =IF(B4>Population!$B$6*0.75,Population!$B$11,E5) -> 2.8514204 | G5: =IF(Population!$J$6=1,IF(E5>H4,H4,E5),IF(E5>X4,X4,E5)) -> 2.8514204 | H5: =FLOOR(AF4+AH4+AJ4+AL4+AN4,1) -> 67 | I5: =FLOOR(SUM(AA4:AD4),1) -> 2 | J5: =I5/H5 -> 0.029850746 | K5: =AA5*Population!$O$33+AB5*Population!$O$34+AC5*Population!$O$35+AD5*Population!$O$36+AE5*Population!$O$37+AF5*Population!$O$38+AG5*Population!$O$39+AH5*Population!$O$40+AI5*Population!$O$41+AJ5*Population!$O$42+AK5*Population!$O$43+AL5*Population!$O$44+AM5*Population!$O$45+AN5*Population!$O$46+AO5*Population!$O$47+AP5*Population!$O$48+AQ5*Population!$O$49+AR5*Population!$O$50 -> 0.19315129 | L5: =G5/H5 -> 0.042558513 | M5: =Population!$C$12 -> 3.0312 | N5: =(AE4+AF4+AG4+AH4+AI4+AJ4)/21*0.5 -> 3.1313965 | O5: =I5/B5 -> 0.010050251 | P5: =B5-I5-Q5*2+AS4 -> 179.85157 | Q5: =MAX(X5,I5/2) -> 38.574214 | R5: =SUM(AR4:AR4) -> 0 | S5: =SUM(AR4:AR4)/B5 -> 0 | T5: =X5/H5 -> 0.57573454 | U5: =Population!$B$17*MIN(Y4:Z4) -> 9.4561436 | V5: =X4*Population!$B$18 -> 0.1757952 | W5: =AN4*T4*Population!$B$16 -> 0.0053341698 | X5: =X4+U5-W5-V5 -> 38.574214 | Y5: =(AE4+AG4+AI4+AK4+AM4)-X5 -> 28.465895 | Z5: =(AF4+AH4+AJ4+AL4+AN4)-X5 -> 28.465895 | AA5: =G5+Population!$B$15*AA4*Population!M$33 -> 5.2945027 | AB5: =AA4*Population!$B$16*Population!$M$33+AB4*Population!$B$15*Population!$M$34 -> 0.40718039 | AC5: =(AB4*Population!$B$16*0.5*Population!$M$34)+(AC4*Population!$B$15*Population!M$35) -> 0 | AD5: =(AB4*Population!$B$16*0.5*Population!$M$34)+(AD4*Population!$B$15*Population!M$35) -> 0 | AE5: =(AC4*Population!$B$16*Population!M$35)+(AE4*Population!$B$15*Population!M$37) -> 34.285464 | AF5: =(AD4*Population!$B$16*Population!M$35)+(AF4*Population!$B$15*Population!M$37) -> 34.285464 | AG5: =(AE4*Population!$B$16*Population!M$37)+(AG4*Population!$B$15*Population!M$39) -> 22.38553 | AH5: =(AF4*Population!$B$16*Population!M$37)+(AH4*Population!$B$15*Population!M$39) -> 22.38553 | AI5: =(AG4*Population!$B$16*Population!M$39)+(AI4*Population!$B$15*Population!M$41) -> 8.1118998 | AJ5: =(AH4*Population!$B$16*Population!M$39)+(AJ4*Population!$B$15*Population!M$41) -> 8.1118998 | AK5: =(AI4*Population!$B$16*Population!M$41)+(AK4*Population!$B$15*Population!M$43) -> 1.9115503 | AL5: =(AJ4*Population!$B$16*Population!M$41)+(AL4*Population!$B$15*Population!M$43) -> 1.9115503 | AM5: =(AK4*Population!$B$16*Population!M$43)+(AM4*Population!$B$15*Population!M$45) -> 0.24349005 | AN5: =(AL4*Population!$B$16*Population!M$43)+(AN4*Population!$B$15*Population!M$45) -> 0.24349005 | AO5: =(AM4+AN4)*Population!$B$16*Population!$M$45+AO4*Population!$B$15*Population!$M$47 -> 0.024349005 | AP5: =AO4*Population!M$47*Population!$B$16+AP4*Population!$B$15*Population!M$48 -> 0 | AQ5: =AP4*Population!M$48*Population!$B$16+AQ4*Population!$B$15*Population!M$49 -> 0 | AR5: =(AQ4*Population!$B$16+AR4)*Population!M$50 -> 0 | AS5: =AS4*(1-Population!$B$12)+M5 -> 60
A6: =A5+Population!$B$2 -> 3 | B6: =FLOOR(SUM(AA6:AS6),1) -> 202 | C6: =FLOOR(B6-I6-G6-SUM(AO6:AR6),1) -> 194 | D6: =AD5*Population!$P$36*Population!$C$2+AF5*Population!$P$38*Population!$C$2+AH5*Population!$P$40*Population!$C$2+AJ5*Population!$P$42*Population!$C$2+AL5*Population!$P$44*Population!$C$2+AN4*Population!$P$46*Population!$C$2 -> 5.7588058 | E6: =IF(B5>Population!$B$6*Population!$B$19,Population!$B$11,IF(Population!$J$6=1,D6,Population!$B$11*Population!$B$6*0.9/B5)) -> 2.8514204 | F6: =IF(B5>Population!$B$6*0.75,Population!$B$11,E6) -> 2.8514204 | G6: =IF(Population!$J$6=1,IF(E6>H5,H5,E6),IF(E6>X5,X5,E6)) -> 2.8514204 | H6: =FLOOR(AF5+AH5+AJ5+AL5+AN5,1) -> 66 | I6: =FLOOR(SUM(AA5:AD5),1) -> 5 | J6: =I6/H6 -> 0.075757576 | K6: =AA6*Population!$O$33+AB6*Population!$O$34+AC6*Population!$O$35+AD6*Population!$O$36+AE6*Population!$O$37+AF6*Population!$O$38+AG6*Population!$O$39+AH6*Population!$O$40+AI6*Population!$O$41+AJ6*Population!$O$42+AK6*Population!$O$43+AL6*Population!$O$44+AM6*Population!$O$45+AN6*Population!$O$46+AO6*Population!$O$47+AP6*Population!$O$48+AQ6*Population!$O$49+AR6*Population!$O$50 -> 0.20374292 | L6: =G6/H6 -> 0.043203339 | M6: =Population!$C$12 -> 3.0312 | N6: =(AE5+AF5+AG5+AH5+AI5+AJ5)/21*0.5 -> 3.0848997 | O6: =I6/B6 -> 0.024752475 | P6: =B6-I6-Q6*2+AS5 -> 166.12157 | Q6: =MAX(X6,I6/2) -> 45.439216 | R6: =SUM(AR5:AR5) -> 0 | S6: =SUM(AR5:AR5)/B6 -> 0 | T6: =X6/H6 -> 0.68847297 | U6: =Population!$B$17*MIN(Y5:Z5) -> 7.1164737 | V6: =X5*Population!$B$18 -> 0.23144529 | W6: =AN5*T5*Population!$B$16 -> 0.020026519 | X6: =X5+U6-W6-V6 -> 45.439216 | Y6: =(AE5+AG5+AI5+AK5+AM5)-X6 -> 21.498718 | Z6: =(AF5+AH5+AJ5+AL5+AN5)-X6 -> 21.498718 | AA6: =G6+Population!$B$15*AA5*Population!M$33 -> 7.3877231 | AB6: =AA5*Population!$B$16*Population!$M$33+AB5*Population!$B$15*Population!$M$34 -> 1.1049837 | AC6: =(AB5*Population!$B$16*0.5*Population!$M$34)+(AC5*Population!$B$15*Population!M$35) -> 0.029077769 | AD6: =(AB5*Population!$B$16*0.5*Population!$M$34)+(AD5*Population!$B$15*Population!M$35) -> 0.029077769 | AE6: =(AC5*Population!$B$16*Population!M$35)+(AE5*Population!$B$15*Population!M$37) -> 29.359534 | AF6: =(AD5*Population!$B$16*Population!M$35)+(AF5*Population!$B$15*Population!M$37) -> 29.359534 | AG6: =(AE5*Population!$B$16*Population!M$37)+(AG5*Population!$B$15*Population!M$39) -> 24.044013 | AH6: =(AF5*Population!$B$16*Population!M$37)+(AH5*Population!$B$15*Population!M$39) -> 24.044013 | AI6: =(AG5*Population!$B$16*Population!M$39)+(AI5*Population!$B$15*Population!M$41) -> 10.1315 | AJ6: =(AH5*Population!$B$16*Population!M$39)+(AJ5*Population!$B$15*Population!M$41) -> 10.1315 | AK6: =(AI5*Population!$B$16*Population!M$41)+(AK5*Population!$B$15*Population!M$43) -> 2.7919436 | AL6: =(AJ5*Population!$B$16*Population!M$41)+(AL5*Population!$B$15*Population!M$43) -> 2.7919436 | AM6: =(AK5*Population!$B$16*Population!M$43)+(AM5*Population!$B$15*Population!M$45) -> 0.48085934 | AN6: =(AL5*Population!$B$16*Population!M$43)+(AN5*Population!$B$15*Population!M$45) -> 0.48085934 | AO6: =(AM5+AN5)*Population!$B$16*Population!$M$45+AO5*Population!$B$15*Population!$M$47 -> 0.090154279 | AP6: =AO5*Population!M$47*Population!$B$16+AP5*Population!$B$15*Population!M$48 -> 0.0034532107 | AQ6: =AP5*Population!M$48*Population!$B$16+AQ5*Population!$B$15*Population!M$49 -> 0 | AR6: =(AQ5*Population!$B$16+AR5)*Population!M$50 -> 0 | AS6: =AS5*(1-Population!$B$12)+M6 -> 60
A7: =A6+Population!$B$2 -> 4 | B7: =FLOOR(SUM(AA7:AS7),1) -> 204 | C7: =FLOOR(B7-I7-G7-SUM(AO7:AR7),1) -> 192 | D7: =AD6*Population!$P$36*Population!$C$2+AF6*Population!$P$38*Population!$C$2+AH6*Population!$P$40*Population!$C$2+AJ6*Population!$P$42*Population!$C$2+AL6*Population!$P$44*Population!$C$2+AN5*Population!$P$46*Population!$C$2 -> 5.6794606 | E7: =IF(B6>Population!$B$6*Population!$B$19,Population!$B$11,IF(Population!$J$6=1,D7,Population!$B$11*Population!$B$6*0.9/B6)) -> 2.8514204 | F7: =IF(B6>Population!$B$6*0.75,Population!$B$11,E7) -> 2.8514204 | G7: =IF(Population!$J$6=1,IF(E7>H6,H6,E7),IF(E7>X6,X6,E7)) -> 2.8514204 | H7: =FLOOR(AF6+AH6+AJ6+AL6+AN6,1) -> 66 | I7: =FLOOR(SUM(AA6:AD6),1) -> 8 | J7: =I7/H7 -> 0.12121212 | K7: =AA7*Population!$O$33+AB7*Population!$O$34+AC7*Population!$O$35+AD7*Population!$O$36+AE7*Population!$O$37+AF7*Population!$O$38+AG7*Population!$O$39+AH7*Population!$O$40+AI7*Population!$O$41+AJ7*Population!$O$42+AK7*Population!$O$43+AL7*Population!$O$44+AM7*Population!$O$45+AN7*Population!$O$46+AO7*Population!$O$47+AP7*Population!$O$48+AQ7*Population!$O$49+AR7*Population!$O$50 -> 0.21334482 | L7: =G7/H7 -> 0.043203339 | M7: =Population!$C$12 -> 3.0312 | N7: =(AE6+AF6+AG6+AH6+AI6+AJ6)/21*0.5 -> 3.0254784 | O7: =I7/B7 -> 0.039215686 | P7: =B7-I7-Q7*2+AS6 -> 155.01207 | Q7: =MAX(X7,I7/2) -> 50.493966 | R7: =SUM(AR6:AR6) -> 0 | S7: =SUM(AR6:AR6)/B7 -> 0 | T7: =X7/H7 -> 0.76506009 | U7: =Population!$B$17*MIN(Y6:Z6) -> 5.3746795 | V7: =X6*Population!$B$18 -> 0.2726353 | W7: =AN6*T6*Population!$B$16 -> 0.047294094 | X7: =X6+U7-W7-V7 -> 50.493966 | Y7: =(AE6+AG6+AI6+AK6+AM6)-X7 -> 16.313884 | Z7: =(AF6+AH6+AJ6+AL6+AN6)-X7 -> 16.313884 | AA7: =G7+Population!$B$15*AA6*Population!M$33 -> 9.1811836 | AB7: =AA6*Population!$B$16*Population!$M$33+AB6*Population!$B$15*Population!$M$34 -> 2.0018763 | AC7: =(AB6*Population!$B$16*0.5*Population!$M$34)+(AC6*Population!$B$15*Population!M$35) -> 0.1038097 | AD7: =(AB6*Population!$B$16*0.5*Population!$M$34)+(AD6*Population!$B$15*Population!M$35) -> 0.1038097 | AE7: =(AC6*Population!$B$16*Population!M$35)+(AE6*Population!$B$15*Population!M$37) -> 25.145483 | AF7: =(AD6*Population!$B$16*Population!M$35)+(AF6*Population!$B$15*Population!M$37) -> 25.145483 | AG7: =(AE6*Population!$B$16*Population!M$37)+(AG6*Population!$B$15*Population!M$39) -> 24.759806 | AH7: =(AF6*Population!$B$16*Population!M$37)+(AH6*Population!$B$15*Population!M$39) -> 24.759806 | AI7: =(AG6*Population!$B$16*Population!M$39)+(AI6*Population!$B$15*Population!M$41) -> 12.095733 | AJ7: =(AH6*Population!$B$16*Population!M$39)+(AJ6*Population!$B$15*Population!M$41) -> 12.095733 | AK7: =(AI6*Population!$B$16*Population!M$41)+(AK6*Population!$B$15*Population!M$43) -> 3.833078 | AL7: =(AJ6*Population!$B$16*Population!M$41)+(AL6*Population!$B$15*Population!M$43) -> 3.833078 | AM7: =(AK6*Population!$B$16*Population!M$43)+(AM6*Population!$B$15*Population!M$45) -> 0.8094571 | AN7: =(AL6*Population!$B$16*Population!M$43)+(AN6*Population!$B$15*Population!M$45) -> 0.8094571 | AO7: =(AM6+AN6)*Population!$B$16*Population!$M$45+AO6*Population!$B$15*Population!$M$47 -> 0.21383945 | AP7: =AO6*Population!M$47*Population!$B$16+AP6*Population!$B$15*Population!M$48 -> 0.015724244 | AQ7: =AP6*Population!M$48*Population!$B$16+AQ6*Population!$B$15*Population!M$49 -> 0.00048973928 | AR7: =(AQ6*Population!$B$16+AR6)*Population!M$50 -> 0 | AS7: =AS6*(1-Population!$B$12)+M7 -> 60
A8: =A7+Population!$B$2 -> 5 | B8: =FLOOR(SUM(AA8:AS8),1) -> 207 | C8: =FLOOR(B8-I8-G8-SUM(AO8:AR8),1) -> 189 | D8: =AD7*Population!$P$36*Population!$C$2+AF7*Population!$P$38*Population!$C$2+AH7*Population!$P$40*Population!$C$2+AJ7*Population!$P$42*Population!$C$2+AL7*Population!$P$44*Population!$C$2+AN6*Population!$P$46*Population!$C$2 -> 5.5824398 | E8: =IF(B7>Population!$B$6*Population!$B$19,Population!$B$11,IF(Population!$J$6=1,D8,Population!$B$11*Population!$B$6*0.9/B7)) -> 2.8514204 | F8: =IF(B7>Population!$B$6*0.75,Population!$B$11,E8) -> 2.8514204 | G8: =IF(Population!$J$6=1,IF(E8>H7,H7,E8),IF(E8>X7,X7,E8)) -> 2.8514204 | H8: =FLOOR(AF8+AH8+AJ8+AL8+AN8,1) -> 66 | I8: =FLOOR(SUM(AA8:AD8),1) -> 14 | J8: =I8/H8 -> 0.21212121 | K8: =AA8*Population!$O$33+AB8*Population!$O$34+AC8*Population!$O$35+AD8*Population!$O$36+AE8*Population!$O$37+AF8*Population!$O$38+AG8*Population!$O$39+AH8*Population!$O$40+AI8*Population!$O$41+AJ8*Population!$O$42+AK8*Population!$O$43+AL8*Population!$O$44+AM8*Population!$O$45+AN8*Population!$O$46+AO8*Population!$O$47+AP8*Population!$O$48+AQ8*Population!$O$49+AR8*Population!$O$50 -> 0.22237365 | L8: =G8/H8 -> 0.043203339 | M8: =Population!$C$12 -> 3.0312 | N8: =(AE8+AF8+AG8+AH8+AI8+AJ8)/21*0.5 -> 2.8664984 | O8: =I8/B8 -> 0.06763285 | P8: =B8-I8-Q8*2 -> 84.637991 | Q8: =MAX(X8,I8/2) -> 54.181004 | R8: =SUM(AR7:AR7) -> 0 | S8: =SUM(AR8:AR8)/B8 -> 3.2090935e-07 | T8: =X8/H8 -> 0.82092431 | U8: =Population!$B$17*MIN(Y7:Z7) -> 4.0784709 | V8: =X7*Population!$B$18 -> 0.3029638 | W8: =AN7*T7*Population!$B$16 -> 0.088469046 | X8: =X7+U8-W8-V8 -> 54.181004 | Y8: =(AE8+AG8+AI8+AK8+AM8)-X8 -> 12.258314 | Z8: =(AF8+AH8+AJ8+AL8+AN8)-X8 -> 12.258314 | AA8: =(G8+Population!$B$15*AA7)*Population!M$33 -> 10.716654 | AB8: =AA7*Population!$B$16*Population!$M$33+AB7*Population!$B$15*Population!$M$34 -> 3.026573 | AC8: =(AB7*Population!$B$16*0.5*Population!$M$34)+(AC7*Population!$B$15*Population!M$35) -> 0.23185393 | AD8: =(AB7*Population!$B$16*0.5*Population!$M$34)+(AD7*Population!$B$15*Population!M$35) -> 0.23185393 | AE8: =(AC7*Population!$B$16*Population!M$35)+(AE7*Population!$B$15*Population!M$37) -> 21.547546 | AF8: =(AD7*Population!$B$16*Population!M$35)+(AF7*Population!$B$15*Population!M$37) -> 21.547546 | AG8: =(AE7*Population!$B$16*Population!M$37)+(AG7*Population!$B$15*Population!M$39) -> 24.770732 | AH8: =(AF7*Population!$B$16*Population!M$37)+(AH7*Population!$B$15*Population!M$39) -> 24.770732 | AI8: =(AG7*Population!$B$16*Population!M$39)+(AI7*Population!$B$15*Population!M$41) -> 13.878189 | AJ8: =(AH7*Population!$B$16*Population!M$39)+(AJ7*Population!$B$15*Population!M$41) -> 13.878189 | AK8: =(AI7*Population!$B$16*Population!M$41)+(AK7*Population!$B$15*Population!M$43) -> 5.0038315 | AL8: =(AJ7*Population!$B$16*Population!M$41)+(AL7*Population!$B$15*Population!M$43) -> 5.0038315 | AM8: =(AK7*Population!$B$16*Population!M$43)+(AM7*Population!$B$15*Population!M$45) -> 1.2390194 | AN8: =(AL7*Population!$B$16*Population!M$43)+(AN7*Population!$B$15*Population!M$45) -> 1.2390194 | AO8: =(AM7+AN7)*Population!$B$16*Population!$M$45+AO7*Population!$B$15*Population!$M$47 -> 0.41279151 | AP8: =AO7*Population!M$47*Population!$B$16+AP7*Population!$B$15*Population!M$48 -> 0.043707225 | AQ8: =AP7*Population!M$48*Population!$B$16+AQ7*Population!$B$15*Population!M$49 -> 0.0026286042 | AR8: =(AQ7*Population!$B$16+AR7)*Population!M$50 -> 6.6428236e-05 | AS8: =AS7*(1-Population!$B$12)+M8 -> 60
A9: =A8+Population!$B$2 -> 6 | B9: =FLOOR(SUM(AA9:AS9),1) -> 210 | C9: =FLOOR(B9-I9-G9-SUM(AO9:AR9),1) -> 190 | D9: =AD8*Population!$P$36*Population!$C$2+AF8*Population!$P$38*Population!$C$2+AH8*Population!$P$40*Population!$C$2+AJ8*Population!$P$42*Population!$C$2+AL8*Population!$P$44*Population!$C$2+AN7*Population!$P$46*Population!$C$2 -> 5.4686567 | E9: =IF(B8>Population!$B$6*Population!$B$19,Population!$B$11,IF(Population!$J$6=1,D9,Population!$B$11*Population!$B$6*0.9/B8)) -> 2.8514204 | F9: =IF(B8>Population!$B$6*0.75,Population!$B$11,E9) -> 2.8514204 | G9: =IF(Population!$J$6=1,IF(E9>H8,H8,E9),IF(E9>X8,X8,E9)) -> 2.8514204 | H9: =FLOOR(AF9+AH9+AJ9+AL9+AN9,1) -> 66 | I9: =FLOOR(SUM(AA9:AD9),1) -> 16 | J9: =I9/H9 -> 0.24242424 | K9: =AA9*Population!$O$33+AB9*Population!$O$34+AC9*Population!$O$35+AD9*Population!$O$36+AE9*Population!$O$37+AF9*Population!$O$38+AG9*Population!$O$39+AH9*Population!$O$40+AI9*Population!$O$41+AJ9*Population!$O$42+AK9*Population!$O$43+AL9*Population!$O$44+AM9*Population!$O$45+AN9*Population!$O$46+AO9*Population!$O$47+AP9*Population!$O$48+AQ9*Population!$O$49+AR9*Population!$O$50 -> 0.23126428 | L9: =G9/H9 -> 0.043203339 | M9: =Population!$C$12 -> 3.0312 | N9: =(AE9+AF9+AG9+AH9+AI9+AJ9)/21*0.5 -> 2.7693345 | O9: =I9/B9 -> 0.076190476 | P9: =B9-I9-Q9*2 -> 80.449618 | Q9: =MAX(X9,I9/2) -> 56.775191 | R9: =SUM(AR8:AR8) -> 6.6428236e-05 | S9: =SUM(AR9:AR9)/B9 -> 1.9981722e-06 | T9: =X9/H9 -> 0.86023016 | U9: =Population!$B$17*MIN(Y8:Z8) -> 3.0645785 | V9: =X8*Population!$B$18 -> 0.32508603 | W9: =AN8*T8*Population!$B$16 -> 0.14530588 | X9: =X8+U9-W9-V9 -> 56.775191 | Y9: =(AE9+AG9+AI9+AK9+AM9)-X9 -> 9.4138279 | Z9: =(AF9+AH9+AJ9+AL9+AN9)-X9 -> 9.4138279 | AA9: =(G9+Population!$B$15*AA8)*Population!M$33 -> 12.032236 | AB9: =AA8*Population!$B$16*Population!$M$33+AB8*Population!$B$15*Population!$M$34 -> 4.1239507 | AC9: =(AB8*Population!$B$16*0.5*Population!$M$34)+(AC8*Population!$B$15*Population!M$35) -> 0.4146777 | AD9: =(AB8*Population!$B$16*0.5*Population!$M$34)+(AD8*Population!$B$15*Population!M$35) -> 0.4146777 | AE9: =(AC8*Population!$B$16*Population!M$35)+(AE8*Population!$B$15*Population!M$37) -> 18.484815 | AF9: =(AD8*Population!$B$16*Population!M$35)+(AF8*Population!$B$15*Population!M$37) -> 18.484815 | AG9: =(AE8*Population!$B$16*Population!M$37)+(AG8*Population!$B$15*Population!M$39) -> 24.266578 | AH9: =(AF8*Population!$B$16*Population!M$37)+(AH8*Population!$B$15*Population!M$39) -> 24.266578 | AI9: =(AG8*Population!$B$16*Population!M$39)+(AI8*Population!$B$15*Population!M$41) -> 15.404633 | AJ9: =(AH8*Population!$B$16*Population!M$39)+(AJ8*Population!$B$15*Population!M$41) -> 15.404633 | AK9: =(AI8*Population!$B$16*Population!M$41)+(AK8*Population!$B$15*Population!M$43) -> 6.2595554 | AL9: =(AJ8*Population!$B$16*Population!M$41)+(AL8*Population!$B$15*Population!M$43) -> 6.2595554 | AM9: =(AK8*Population!$B$16*Population!M$43)+(AM8*Population!$B$15*Population!M$45) -> 1.7734382 | AN9: =(AL8*Population!$B$16*Population!M$43)+(AN8*Population!$B$15*Population!M$45) -> 1.7734382 | AO9: =(AM8+AN8)*Population!$B$16*Population!$M$45+AO8*Population!$B$15*Population!$M$47 -> 0.70458195 | AP9: =AO8*Population!M$47*Population!$B$16+AP8*Population!$B$15*Population!M$48 -> 0.095734408 | AQ9: =AP8*Population!M$48*Population!$B$16+AQ8*Population!$B$15*Population!M$49 -> 0.0083378844 | AR9: =(AQ8*Population!$B$16+AR8)*Population!M$50 -> 0.00041961616 | AS9: =AS8*(1-Population!$B$12)+M9 -> 60
A10: =A9+Population!$B$2 -> 7 | B10: =FLOOR(SUM(AA10:AS10),1) -> 212 | C10: =FLOOR(B10-I10-G10-SUM(AO10:AR10),1) -> 188 | D10: =AD9*Population!$P$36*Population!$C$2+AF9*Population!$P$38*Population!$C$2+AH9*Population!$P$40*Population!$C$2+AJ9*Population!$P$42*Population!$C$2+AL9*Population!$P$44*Population!$C$2+AN8*Population!$P$46*Population!$C$2 -> 5.340165 | E10: =IF(B9>Population!$B$6*Population!$B$19,Population!$B$11,IF(Population!$J$6=1,D10,Population!$B$11*Population!$B$6*0.9/B9)) -> 2.8514204 | F10: =IF(B9>Population!$B$6*0.75,Population!$B$11,E10) -> 2.8514204 | G10: =IF(Population!$J$6=1,IF(E10>H9,H9,E10),IF(E10>X9,X9,E10)) -> 2.8514204 | H10: =FLOOR(AF10+AH10+AJ10+AL10+AN10,1) -> 65 | I10: =FLOOR(SUM(AA10:AD10),1) -> 19 | J10: =I10/H10 -> 0.29230769 | K10: =AA10*Population!$O$33+AB10*Population!$O$34+AC10*Population!$O$35+AD10*Population!$O$36+AE10*Population!$O$37+AF10*Population!$O$38+AG10*Population!$O$39+AH10*Population!$O$40+AI10*Population!$O$41+AJ10*Population!$O$42+AK10*Population!$O$43+AL10*Population!$O$44+AM10*Population!$O$45+AN10*Population!$O$46+AO10*Population!$O$47+AP10*Population!$O$48+AQ10*Population!$O$49+AR10*Population!$O$50 -> 0.24047185 | L10: =G10/H10 -> 0.043868006 | M10: =Population!$C$12 -> 3.0312 | N10: =(AE10+AF10+AG10+AH10+AI10+AJ10)/21*0.5 -> 2.6630946 | O10: =I10/B10 -> 0.089622642 | P10: =B10-I10-Q10*2 -> 75.859882 | Q10: =MAX(X10,I10/2) -> 58.570059 | R10: =SUM(AR9:AR9) -> 0.00041961616 | S10: =SUM(AR10:AR10)/B10 -> 7.213999e-06 | T10: =X10/H10 -> 0.90107783 | U10: =Population!$B$17*MIN(Y9:Z9) -> 2.353457 | V10: =X9*Population!$B$18 -> 0.34065115 | W10: =AN9*T9*Population!$B$16 -> 0.21793786 | X10: =X9+U10-W10-V10 -> 58.570059 | Y10: =(AE10+AG10+AI10+AK10+AM10)-X10 -> 7.3160732 | Z10: =(AF10+AH10+AJ10+AL10+AN10)-X10 -> 7.3160732 | AA10: =(G10+Population!$B$15*AA9)*Population!M$33 -> 13.159421 | AB10: =AA9*Population!$B$16*Population!$M$33+AB9*Population!$B$15*Population!$M$34 -> 5.2522126 | AC10: =(AB9*Population!$B$16*0.5*Population!$M$34)+(AC9*Population!$B$15*Population!M$35) -> 0.64960092 | AD10: =(AB9*Population!$B$16*0.5*Population!$M$34)+(AD9*Population!$B$15*Population!M$35) -> 0.64960092 | AE10: =(AC9*Population!$B$16*Population!M$35)+(AE9*Population!$B$15*Population!M$37) -> 15.888211 | AF10: =(AD9*Population!$B$16*Population!M$35)+(AF9*Population!$B$15*Population!M$37) -> 15.888211 | AG10: =(AE9*Population!$B$16*Population!M$37)+(AG9*Population!$B$15*Population!M$39) -> 23.398159 | AH10: =(AF9*Population!$B$16*Population!M$37)+(AH9*Population!$B$15*Population!M$39) -> 23.398159 | AI10: =(AG9*Population!$B$16*Population!M$39)+(AI9*Population!$B$15*Population!M$41) -> 16.638617 | AJ10: =(AH9*Population!$B$16*Population!M$39)+(AJ9*Population!$B$15*Population!M$41) -> 16.638617 | AK10: =(AI9*Population!$B$16*Population!M$41)+(AK9*Population!$B$15*Population!M$43) -> 7.5514683 | AL10: =(AJ9*Population!$B$16*Population!M$41)+(AL9*Population!$B$15*Population!M$43) -> 7.5514683 | AM10: =(AK9*Population!$B$16*Population!M$43)+(AM9*Population!$B$15*Population!M$45) -> 2.4096766 | AN10: =(AL9*Population!$B$16*Population!M$43)+(AN9*Population!$B$15*Population!M$45) -> 2.4096766 | AO10: =(AM9+AN9)*Population!$B$16*Population!$M$45+AO9*Population!$B$15*Population!$M$47 -> 1.1052727 | AP10: =AO9*Population!M$47*Population!$B$16+AP9*Population!$B$15*Population!M$48 -> 0.18138796 | AQ10: =AP9*Population!M$48*Population!$B$16+AQ9*Population!$B$15*Population!M$49 -> 0.020362894 | AR10: =(AQ9*Population!$B$16+AR9)*Population!M$50 -> 0.0015293678 | AS10: =AS9*(1-Population!$B$12)+M10 -> 60
A11: =A10+Population!$B$2 -> 8 | B11: =FLOOR(SUM(AA11:AS11),1) -> 215 | C11: =FLOOR(B11-I11-G11-SUM(AO11:AR11),1) -> 188 | D11: =AD10*Population!$P$36*Population!$C$2+AF10*Population!$P$38*Population!$C$2+AH10*Population!$P$40*Population!$C$2+AJ10*Population!$P$42*Population!$C$2+AL10*Population!$P$44*Population!$C$2+AN9*Population!$P$46*Population!$C$2 -> 5.1996164 | E11: =IF(B10>Population!$B$6*Population!$B$19,Population!$B$11,IF(Population!$J$6=1,D11,Population!$B$11*Population!$B$6*0.9/B10)) -> 2.8514204 | F11: =IF(B10>Population!$B$6*0.75,Population!$B$11,E11) -> 2.8514204 | G11: =IF(Population!$J$6=1,IF(E11>H10,H10,E11),IF(E11>X10,X10,E11)) -> 2.8514204 | H11: =FLOOR(AF11+AH11+AJ11+AL11+AN11,1) -> 65 | I11: =FLOOR(SUM(AA11:AD11),1) -> 22 | J11: =I11/H11 -> 0.33846154 | K11: =AA11*Population!$O$33+AB11*Population!$O$34+AC11*Population!$O$35+AD11*Population!$O$36+AE11*Population!$O$37+AF11*Population!$O$38+AG11*Population!$O$39+AH11*Population!$O$40+AI11*Population!$O$41+AJ11*Population!$O$42+AK11*Population!$O$43+AL11*Population!$O$44+AM11*Population!$O$45+AN11*Population!$O$46+AO11*Population!$O$47+AP11*Population!$O$48+AQ11*Population!$O$49+AR11*Population!$O$50 -> 0.25047159 | L11: =G11/H11 -> 0.043868006 | M11: =Population!$C$12 -> 3.0312 | N11: =(AE11+AF11+AG11+AH11+AI11+AJ11)/21*0.5 -> 2.5501574 | O11: =I11/B11 -> 0.10232558 | P11: =B11-I11-Q11*2 -> 73.52506 | Q11: =MAX(X11,I11/2) -> 59.73747 | R11: =SUM(AR10:AR10) -> 0.0015293678 | S11: =SUM(AR11:AR11)/B11 -> 1.9600591e-05 | T11: =X11/H11 -> 0.919038 | U11: =Population!$B$17*MIN(Y10:Z10) -> 1.8290183 | V11: =X10*Population!$B$18 -> 0.35142035 | W11: =AN10*T10*Population!$B$16 -> 0.31018659 | X11: =X10+U11-W11-V11 -> 59.73747 | Y11: =(AE11+AG11+AI11+AK11+AM11)-X11 -> 5.7866575 | Z11: =(AF11+AH11+AJ11+AL11+AN11)-X11 -> 5.7866575 | AA11: =(G11+Population!$B$15*AA10)*Population!M$33 -> 14.125187 | AB11: =AA10*Population!$B$16*Population!$M$33+AB10*Population!$B$15*Population!$M$34 -> 6.3800376 | AC11: =(AB10*Population!$B$16*0.5*Population!$M$34)+(AC10*Population!$B$15*Population!M$35) -> 0.93134379 | AD11: =(AB10*Population!$B$16*0.5*Population!$M$34)+(AD10*Population!$B$15*Population!M$35) -> 0.93134379 | AE11: =(AC10*Population!$B$16*Population!M$35)+(AE10*Population!$B$15*Population!M$37) -> 13.6982 | AF11: =(AD10*Population!$B$16*Population!M$35)+(AF10*Population!$B$15*Population!M$37) -> 13.6982 | AG11: =(AE10*Population!$B$16*Population!M$37)+(AG10*Population!$B$15*Population!M$39) -> 22.28464 | AH11: =(AF10*Population!$B$16*Population!M$37)+(AH10*Population!$B$15*Population!M$39) -> 22.28464 | AI11: =(AG10*Population!$B$16*Population!M$39)+(AI10*Population!$B$15*Population!M$41) -> 17.570466 | AJ11: =(AH10*Population!$B$16*Population!M$39)+(AJ10*Population!$B$15*Population!M$41) -> 17.570466 | AK11: =(AI10*Population!$B$16*Population!M$41)+(AK10*Population!$B$15*Population!M$43) -> 8.8326412 | AL11: =(AJ10*Population!$B$16*Population!M$41)+(AL10*Population!$B$15*Population!M$43) -> 8.8326412 | AM11: =(AK10*Population!$B$16*Population!M$43)+(AM10*Population!$B$15*Population!M$45) -> 3.1381814 | AN11: =(AL10*Population!$B$16*Population!M$43)+(AN10*Population!$B$15*Population!M$45) -> 3.1381814 | AO11: =(AM10+AN10)*Population!$B$16*Population!$M$45+AO10*Population!$B$15*Population!$M$47 -> 1.6276653 | AP11: =AO10*Population!M$47*Population!$B$16+AP10*Population!$B$15*Population!M$48 -> 0.31109955 | AQ11: =AP10*Population!M$48*Population!$B$16+AQ10*Population!$B$15*Population!M$49 -> 0.042296838 | AR11: =(AQ10*Population!$B$16+AR10)*Population!M$50 -> 0.0042141271 | AS11: =AS10*(1-Population!$B$12)+M11 -> 60
A12: =A11+Population!$B$2 -> 9 | B12: =FLOOR(SUM(AA12:AS12),1) -> 218 | C12: =FLOOR(B12-I12-G12-SUM(AO12:AR12),1) -> 188 | D12: =AD11*Population!$P$36*Population!$C$2+AF11*Population!$P$38*Population!$C$2+AH11*Population!$P$40*Population!$C$2+AJ11*Population!$P$42*Population!$C$2+AL11*Population!$P$44*Population!$C$2+AN10*Population!$P$46*Population!$C$2 -> 5.0498942 | E12: =IF(B11>Population!$B$6*Population!$B$19,Population!$B$11,IF(Population!$J$6=1,D12,Population!$B$11*Population!$B$6*0.9/B11)) -> 2.8514204 | F12: =IF(B11>Population!$B$6*0.75,Population!$B$11,E12) -> 2.8514204 | G12: =IF(Population!$J$6=1,IF(E12>H11,H11,E12),IF(E12>X11,X11,E12)) -> 2.8514204 | H12: =FLOOR(AF12+AH12+AJ12+AL12+AN12,1) -> 65 | I12: =FLOOR(SUM(AA12:AD12),1) -> 24 | J12: =I12/H12 -> 0.36923077 | K12: =AA12*Population!$O$33+AB12*Population!$O$34+AC12*Population!$O$35+AD12*Population!$O$36+AE12*Population!$O$37+AF12*Population!$O$38+AG12*Population!$O$39+AH12*Population!$O$40+AI12*Population!$O$41+AJ12*Population!$O$42+AK12*Population!$O$43+AL12*Population!$O$44+AM12*Population!$O$45+AN12*Population!$O$46+AO12*Population!$O$47+AP12*Population!$O$48+AQ12*Population!$O$49+AR12*Population!$O$50 -> 0.26175507 | L12: =G12/H12 -> 0.043868006 | M12: =Population!$C$12 -> 3.0312 | N12: =(AE12+AF12+AG12+AH12+AI12+AJ12)/21*0.5 -> 2.432924 | O12: =I12/B12 -> 0.11009174 | P12: =B12-I12-Q12*2 -> 73.172611 | Q12: =MAX(X12,I12/2) -> 60.413694 | R12: =SUM(AR11:AR11) -> 0.0042141271 | S12: =SUM(AR12:AR12)/B12 -> 4.4671433e-05 | T12: =X12/H12 -> 0.92944145 | U12: =Population!$B$17*MIN(Y11:Z11) -> 1.4466644 | V12: =X11*Population!$B$18 -> 0.35842482 | W12: =AN11*T11*Population!$B$16 -> 0.41201542 | X12: =X11+U12-W12-V12 -> 60.413694 | Y12: =(AE12+AG12+AI12+AK12+AM12)-X12 -> 4.6833446 | Z12: =(AF12+AH12+AJ12+AL12+AN12)-X12 -> 4.6833446 | AA12: =(G12+Population!$B$15*AA11)*Population!M$33 -> 14.95265 | AB12: =AA11*Population!$B$16*Population!$M$33+AB11*Population!$B$15*Population!$M$34 -> 7.4844378 | AC12: =(AB11*Population!$B$16*0.5*Population!$M$34)+(AC11*Population!$B$15*Population!M$35) -> 1.2531483 | AD12: =(AB11*Population!$B$16*0.5*Population!$M$34)+(AD11*Population!$B$15*Population!M$35) -> 1.2531483 | AE12: =(AC11*Population!$B$16*Population!M$35)+(AE11*Population!$B$15*Population!M$37) -> 11.863047 | AF12: =(AD11*Population!$B$16*Population!M$35)+(AF11*Population!$B$15*Population!M$37) -> 11.863047 | AG12: =(AE11*Population!$B$16*Population!M$37)+(AG11*Population!$B$15*Population!M$39) -> 21.019466 | AH12: =(AF11*Population!$B$16*Population!M$37)+(AH11*Population!$B$15*Population!M$39) -> 21.019466 | AI12: =(AG11*Population!$B$16*Population!M$39)+(AI11*Population!$B$15*Population!M$41) -> 18.208891 | AJ12: =(AH11*Population!$B$16*Population!M$39)+(AJ11*Population!$B$15*Population!M$41) -> 18.208891 | AK12: =(AI11*Population!$B$16*Population!M$41)+(AK11*Population!$B$15*Population!M$43) -> 10.061547 | AL12: =(AJ11*Population!$B$16*Population!M$41)+(AL11*Population!$B$15*Population!M$43) -> 10.061547 | AM12: =(AK11*Population!$B$16*Population!M$43)+(AM11*Population!$B$15*Population!M$45) -> 3.9440884 | AN12: =(AL11*Population!$B$16*Population!M$43)+(AN11*Population!$B$15*Population!M$45) -> 3.9440884 | AO12: =(AM11+AN11)*Population!$B$16*Population!$M$45+AO11*Population!$B$15*Population!$M$47 -> 2.2799286 | AP12: =AO11*Population!M$47*Population!$B$16+AP11*Population!$B$15*Population!M$48 -> 0.49556131 | AQ12: =AP11*Population!M$48*Population!$B$16+AQ11*Population!$B$15*Population!M$49 -> 0.078543441 | AR12: =(AQ11*Population!$B$16+AR11)*Population!M$50 -> 0.0097383725 | AS12: =AS11*(1-Population!$B$12)+M12 -> 60
A13: =A12+Population!$B$2 -> 10 | B13: =FLOOR(SUM(AA13:AS13),1) -> 220 | C13: =FLOOR(B13-I13-G13-SUM(AO13:AR13),1) -> 186 | D13: =AD12*Population!$P$36*Population!$C$2+AF12*Population!$P$38*Population!$C$2+AH12*Population!$P$40*Population!$C$2+AJ12*Population!$P$42*Population!$C$2+AL12*Population!$P$44*Population!$C$2+AN11*Population!$P$46*Population!$C$2 -> 4.8938734 | E13: =IF(B12>Population!$B$6*Population!$B$19,Population!$B$11,IF(Population!$J$6=1,D13,Population!$B$11*Population!$B$6*0.9/B12)) -> 2.8514204 | F13: =IF(B12>Population!$B$6*0.75,Population!$B$11,E13) -> 2.8514204 | G13: =IF(Population!$J$6=1,IF(E13>H12,H12,E13),IF(E13>X12,X12,E13)) -> 2.8514204 | H13: =FLOOR(AF13+AH13+AJ13+AL13+AN13,1) -> 64 | I13: =FLOOR(SUM(AA13:AD13),1) -> 27 | J13: =I13/H13 -> 0.421875 | K13: =AA13*Population!$O$33+AB13*Population!$O$34+AC13*Population!$O$35+AD13*Population!$O$36+AE13*Population!$O$37+AF13*Population!$O$38+AG13*Population!$O$39+AH13*Population!$O$40+AI13*Population!$O$41+AJ13*Population!$O$42+AK13*Population!$O$43+AL13*Population!$O$44+AM13*Population!$O$45+AN13*Population!$O$46+AO13*Population!$O$47+AP13*Population!$O$48+AQ13*Population!$O$49+AR13*Population!$O$50 -> 0.27482394 | L13: =G13/H13 -> 0.044553444 | M13: =Population!$C$12 -> 3.0312 | N13: =(AE13+AF13+AG13+AH13+AI13+AJ13)/21*0.5 -> 2.3136836 | O13: =I13/B13 -> 0.12272727 | P13: =B13-I13-Q13*2 -> 71.603275 | Q13: =MAX(X13,I13/2) -> 60.698363 | R13: =SUM(AR12:AR12) -> 0.0097383725 | S13: =SUM(AR13:AR13)/B13 -> 9.0454647e-05 | T13: =X13/H13 -> 0.94841192 | U13: =Population!$B$17*MIN(Y12:Z12) -> 1.1708362 | V13: =X12*Population!$B$18 -> 0.36248217 | W13: =AN12*T12*Population!$B$16 -> 0.52368561 | X13: =X12+U13-W13-V13 -> 60.698363 | Y13: =(AE13+AG13+AI13+AK13+AM13)-X13 -> 3.9016527 | Z13: =(AF13+AH13+AJ13+AL13+AN13)-X13 -> 3.9016527 | AA13: =(G13+Population!$B$15*AA12)*Population!M$33 -> 15.661617 | AB13: =AA12*Population!$B$16*Population!$M$33+AB12*Population!$B$15*Population!$M$34 -> 8.5490146 | AC13: =(AB12*Population!$B$16*0.5*Population!$M$34)+(AC12*Population!$B$15*Population!M$35) -> 1.6075859 | AD13: =(AB12*Population!$B$16*0.5*Population!$M$34)+(AD12*Population!$B$15*Population!M$35) -> 1.6075859 | AE13: =(AC12*Population!$B$16*Population!M$35)+(AE12*Population!$B$15*Population!M$37) -> 10.337486 | AF13: =(AD12*Population!$B$16*Population!M$35)+(AF12*Population!$B$15*Population!M$37) -> 10.337486 | AG13: =(AE12*Population!$B$16*Population!M$37)+(AG12*Population!$B$15*Population!M$39) -> 19.675199 | AH13: =(AF12*Population!$B$16*Population!M$37)+(AH12*Population!$B$15*Population!M$39) -> 19.675199 | AI13: =(AG12*Population!$B$16*Population!M$39)+(AI12*Population!$B$15*Population!M$41) -> 18.57467 | AJ13: =(AH12*Population!$B$16*Population!M$39)+(AJ12*Population!$B$15*Population!M$41) -> 18.57467 | AK13: =(AI12*Population!$B$16*Population!M$41)+(AK12*Population!$B$15*Population!M$43) -> 11.2039 | AL13: =(AJ12*Population!$B$16*Population!M$41)+(AL12*Population!$B$15*Population!M$43) -> 11.2039 | AM13: =(AK12*Population!$B$16*Population!M$43)+(AM12*Population!$B$15*Population!M$45) -> 4.8087604 | AN13: =(AL12*Population!$B$16*Population!M$43)+(AN12*Population!$B$15*Population!M$45) -> 4.8087604 | AO13: =(AM12+AN12)*Population!$B$16*Population!$M$45+AO12*Population!$B$15*Population!$M$47 -> 3.0647752 | AP13: =AO12*Population!M$47*Population!$B$16+AP12*Population!$B$15*Population!M$48 -> 0.74503001 | AQ13: =AP12*Population!M$48*Population!$B$16+AQ12*Population!$B$15*Population!M$49 -> 0.13420301 | AR13: =(AQ12*Population!$B$16+AR12)*Population!M$50 -> 0.019900022 | AS13: =AS12*(1-Population!$B$12)+M13 -> 60
A14: =A13+Population!$B$2 -> 11 | B14: =FLOOR(SUM(AA14:AS14),1) -> 223 | C14: =FLOOR(B14-I14-G14-SUM(AO14:AR14),1) -> 185 | D14: =AD13*Population!$P$36*Population!$C$2+AF13*Population!$P$38*Population!$C$2+AH13*Population!$P$40*Population!$C$2+AJ13*Population!$P$42*Population!$C$2+AL13*Population!$P$44*Population!$C$2+AN12*Population!$P$46*Population!$C$2 -> 4.7342699 | E14: =IF(B13>Population!$B$6*Population!$B$19,Population!$B$11,IF(Population!$J$6=1,D14,Population!$B$11*Population!$B$6*0.9/B13)) -> 2.8514204 | F14: =IF(B13>Population!$B$6*0.75,Population!$B$11,E14) -> 2.8514204 | G14: =IF(Population!$J$6=1,IF(E14>H13,H13,E14),IF(E14>X13,X13,E14)) -> 2.8514204 | H14: =FLOOR(AF14+AH14+AJ14+AL14+AN14,1) -> 64 | I14: =FLOOR(SUM(AA14:AD14),1) -> 29 | J14: =I14/H14 -> 0.453125 | K14: =AA14*Population!$O$33+AB14*Population!$O$34+AC14*Population!$O$35+AD14*Population!$O$36+AE14*Population!$O$37+AF14*Population!$O$38+AG14*Population!$O$39+AH14*Population!$O$40+AI14*Population!$O$41+AJ14*Population!$O$42+AK14*Population!$O$43+AL14*Population!$O$44+AM14*Population!$O$45+AN14*Population!$O$46+AO14*Population!$O$47+AP14*Population!$O$48+AQ14*Population!$O$49+AR14*Population!$O$50 -> 0.29018123 | L14: =G14/H14 -> 0.044553444 | M14: =Population!$C$12 -> 3.0312 | N14: =(AE14+AF14+AG14+AH14+AI14+AJ14)/21*0.5 -> 2.1945272 | O14: =I14/B14 -> 0.13004484 | P14: =B14-I14-Q14*2 -> 72.683882 | Q14: =MAX(X14,I14/2) -> 60.658059 | R14: =SUM(AR13:AR13) -> 0.019900022 | S14: =SUM(AR14:AR14)/B14 -> 0.00016635861 | T14: =X14/H14 -> 0.94778217 | U14: =Population!$B$17*MIN(Y13:Z13) -> 0.97541317 | V14: =X13*Population!$B$18 -> 0.36419018 | W14: =AN13*T13*Population!$B$16 -> 0.65152653 | X14: =X13+U14-W14-V14 -> 60.658059 | Y14: =(AE14+AG14+AI14+AK14+AM14)-X14 -> 3.37171 | Z14: =(AF14+AH14+AJ14+AL14+AN14)-X14 -> 3.37171 | AA14: =(G14+Population!$B$15*AA13)*Population!M$33 -> 16.269055 | AB14: =AA13*Population!$B$16*Population!$M$33+AB13*Population!$B$15*Population!$M$34 -> 9.5625435 | AC14: =(AB13*Population!$B$16*0.5*Population!$M$34)+(AC13*Population!$B$15*Population!M$35) -> 1.9871241 | AD14: =(AB13*Population!$B$16*0.5*Population!$M$34)+(AD13*Population!$B$15*Population!M$35) -> 1.9871241 | AE14: =(AC13*Population!$B$16*Population!M$35)+(AE13*Population!$B$15*Population!M$37) -> 9.0816943 | AF14: =(AD13*Population!$B$16*Population!M$35)+(AF13*Population!$B$15*Population!M$37) -> 9.0816943 | AG14: =(AE13*Population!$B$16*Population!M$37)+(AG13*Population!$B$15*Population!M$39) -> 18.307453 | AH14: =(AF13*Population!$B$16*Population!M$37)+(AH13*Population!$B$15*Population!M$39) -> 18.307453 | AI14: =(AG13*Population!$B$16*Population!M$39)+(AI13*Population!$B$15*Population!M$41) -> 18.695923 | AJ14: =(AH13*Population!$B$16*Population!M$39)+(AJ13*Population!$B$15*Population!M$41) -> 18.695923 | AK14: =(AI13*Population!$B$16*Population!M$41)+(AK13*Population!$B$15*Population!M$43) -> 12.233334 | AL14: =(AJ13*Population!$B$16*Population!M$41)+(AL13*Population!$B$15*Population!M$43) -> 12.233334 | AM14: =(AK13*Population!$B$16*Population!M$43)+(AM13*Population!$B$15*Population!M$45) -> 5.7113649 | AN14: =(AL13*Population!$B$16*Population!M$43)+(AN13*Population!$B$15*Population!M$45) -> 5.7113649 | AO14: =(AM13+AN13)*Population!$B$16*Population!$M$45+AO13*Population!$B$15*Population!$M$47 -> 3.9791984 | AP14: =AO13*Population!M$47*Population!$B$16+AP13*Population!$B$15*Population!M$48 -> 1.0686181 | AQ14: =AP13*Population!M$48*Population!$B$16+AQ13*Population!$B$15*Population!M$49 -> 0.214881 | AR14: =(AQ13*Population!$B$16+AR13)*Population!M$50 -> 0.037097969 | AS14: =AS13*(1-Population!$B$12)+M14 -> 60
A15: =A14+Population!$B$2 -> 12 | B15: =FLOOR(SUM(AA15:AS15),1) -> 225 | C15: =FLOOR(B15-I15-G15-SUM(AO15:AR15),1) -> 183 | D15: =AD14*Population!$P$36*Population!$C$2+AF14*Population!$P$38*Population!$C$2+AH14*Population!$P$40*Population!$C$2+AJ14*Population!$P$42*Population!$C$2+AL14*Population!$P$44*Population!$C$2+AN13*Population!$P$46*Population!$C$2 -> 4.5735524 | E15: =IF(B14>Population!$B$6*Population!$B$19,Population!$B$11,IF(Population!$J$6=1,D15,Population!$B$11*Population!$B$6*0.9/B14)) -> 2.8514204 | F15: =IF(B14>Population!$B$6*0.75,Population!$B$11,E15) -> 2.8514204 | G15: =IF(Population!$J$6=1,IF(E15>H14,H14,E15),IF(E15>X14,X14,E15)) -> 2.8514204 | H15: =FLOOR(AF15+AH15+AJ15+AL15+AN15,1) -> 63 | I15: =FLOOR(SUM(AA15:AD15),1) -> 32 | J15: =I15/H15 -> 0.50793651 | K15: =AA15*Population!$O$33+AB15*Population!$O$34+AC15*Population!$O$35+AD15*Population!$O$36+AE15*Population!$O$37+AF15*Population!$O$38+AG15*Population!$O$39+AH15*Population!$O$40+AI15*Population!$O$41+AJ15*Population!$O$42+AK15*Population!$O$43+AL15*Population!$O$44+AM15*Population!$O$45+AN15*Population!$O$46+AO15*Population!$O$47+AP15*Population!$O$48+AQ15*Population!$O$49+AR15*Population!$O$50 -> 0.30832072 | L15: =G15/H15 -> 0.045260641 | M15: =Population!$C$12 -> 3.0312 | N15: =(AE15+AF15+AG15+AH15+AI15+AJ15)/21*0.5 -> 2.0772979 | O15: =I15/B15 -> 0.14222222 | P15: =B15-I15-Q15*2 -> 72.272532 | Q15: =MAX(X15,I15/2) -> 60.363734 | R15: =SUM(AR14:AR14) -> 0.037097969 | S15: =SUM(AR15:AR15)/B15 -> 0.00028608995 | T15: =X15/H15 -> 0.95815451 | U15: =Population!$B$17*MIN(Y14:Z14) -> 0.8429275 | V15: =X14*Population!$B$18 -> 0.36394836 | W15: =AN14*T14*Population!$B$16 -> 0.77330426 | X15: =X14+U15-W15-V15 -> 60.363734 | Y15: =(AE15+AG15+AI15+AK15+AM15)-X15 -> 3.0211416 | Z15: =(AF15+AH15+AJ15+AL15+AN15)-X15 -> 3.0211416 | AA15: =(G15+Population!$B$15*AA14)*Population!M$33 -> 16.789506 | AB15: =AA14*Population!$B$16*Population!$M$33+AB14*Population!$B$15*Population!$M$34 -> 10.517829 | AC15: =(AB14*Population!$B$16*0.5*Population!$M$34)+(AC14*Population!$B$15*Population!M$35) -> 2.3845112 | AD15: =(AB14*Population!$B$16*0.5*Population!$M$34)+(AD14*Population!$B$15*Population!M$35) -> 2.3845112 | AE15: =(AC14*Population!$B$16*Population!M$35)+(AE14*Population!$B$15*Population!M$37) -> 8.0604953 | AF15: =(AD14*Population!$B$16*Population!M$35)+(AF14*Population!$B$15*Population!M$37) -> 8.0604953 | AG15: =(AE14*Population!$B$16*Population!M$37)+(AG14*Population!$B$15*Population!M$39) -> 16.958122 | AH15: =(AF14*Population!$B$16*Population!M$37)+(AH14*Population!$B$15*Population!M$39) -> 16.958122 | AI15: =(AG14*Population!$B$16*Population!M$39)+(AI14*Population!$B$15*Population!M$41) -> 18.604638 | AJ15: =(AH14*Population!$B$16*Population!M$39)+(AJ14*Population!$B$15*Population!M$41) -> 18.604638 | AK15: =(AI14*Population!$B$16*Population!M$41)+(AK14*Population!$B$15*Population!M$43) -> 13.1313 | AL15: =(AJ14*Population!$B$16*Population!M$41)+(AL14*Population!$B$15*Population!M$43) -> 13.1313 | AM15: =(AK14*Population!$B$16*Population!M$43)+(AM14*Population!$B$15*Population!M$45) -> 6.63032 | AN15: =(AL14*Population!$B$16*Population!M$43)+(AN14*Population!$B$15*Population!M$45) -> 6.63032 | AO15: =(AM14+AN14)*Population!$B$16*Population!$M$45+AO14*Population!$B$15*Population!$M$47 -> 5.014699 | AP15: =AO14*Population!M$47*Population!$B$16+AP14*Population!$B$15*Population!M$48 -> 1.4736533 | AQ15: =AP14*Population!M$48*Population!$B$16+AQ14*Population!$B$15*Population!M$49 -> 0.3264317 | AR15: =(AQ14*Population!$B$16+AR14)*Population!M$50 -> 0.064370238 | AS15: =AS14*(1-Population!$B$12)+M15 -> 60
A16: =A15+Population!$B$2 -> 13 | B16: =FLOOR(SUM(AA16:AS16),1) -> 228 | C16: =FLOOR(B16-I16-G16-SUM(AO16:AR16),1) -> 182 | D16: =AD15*Population!$P$36*Population!$C$2+AF15*Population!$P$38*Population!$C$2+AH15*Population!$P$40*Population!$C$2+AJ15*Population!$P$42*Population!$C$2+AL15*Population!$P$44*Population!$C$2+AN14*Population!$P$46*Population!$C$2 -> 4.4138979 | E16: =IF(B15>Population!$B$6*Population!$B$19,Population!$B$11,IF(Population!$J$6=1,D16,Population!$B$11*Population!$B$6*0.9/B15)) -> 2.8514204 | F16: =IF(B15>Population!$B$6*0.75,Population!$B$11,E16) -> 2.8514204 | G16: =IF(Population!$J$6=1,IF(E16>H15,H15,E16),IF(E16>X15,X15,E16)) -> 2.8514204 | H16: =FLOOR(AF16+AH16+AJ16+AL16+AN16,1) -> 62 | I16: =FLOOR(SUM(AA16:AD16),1) -> 34 | J16: =I16/H16 -> 0.5483871 | K16: =AA16*Population!$O$33+AB16*Population!$O$34+AC16*Population!$O$35+AD16*Population!$O$36+AE16*Population!$O$37+AF16*Population!$O$38+AG16*Population!$O$39+AH16*Population!$O$40+AI16*Population!$O$41+AJ16*Population!$O$42+AK16*Population!$O$43+AL16*Population!$O$44+AM16*Population!$O$45+AN16*Population!$O$46+AO16*Population!$O$47+AP16*Population!$O$48+AQ16*Population!$O$49+AR16*Population!$O$50 -> 0.3297147 | L16: =G16/H16 -> 0.045990652 | M16: =Population!$C$12 -> 3.0312 | N16: =(AE16+AF16+AG16+AH16+AI16+AJ16)/21*0.5 -> 1.9635672 | O16: =I16/B16 -> 0.14912281 | P16: =B16-I16-Q16*2 -> 74.301432 | Q16: =MAX(X16,I16/2) -> 59.849284 | R16: =SUM(AR15:AR15) -> 0.064370238 | S16: =SUM(AR16:AR16)/B16 -> 0.00046226074 | T16: =X16/H16 -> 0.96531103 | U16: =Population!$B$17*MIN(Y15:Z15) -> 0.7552854 | V16: =X15*Population!$B$18 -> 0.3621824 | W16: =AN15*T15*Population!$B$16 -> 0.90755301 | X16: =X15+U16-W16-V16 -> 59.849284 | Y16: =(AE16+AG16+AI16+AK16+AM16)-X16 -> 2.816637 | Z16: =(AF16+AH16+AJ16+AL16+AN16)-X16 -> 2.816637 | AA16: =(G16+Population!$B$15*AA15)*Population!M$33 -> 17.235425 | AB16: =AA15*Population!$B$16*Population!$M$33+AB15*Population!$B$15*Population!$M$34 -> 11.41078 | AC16: =(AB15*Population!$B$16*0.5*Population!$M$34)+(AC15*Population!$B$15*Population!M$35) -> 2.7930234 | AD16: =(AB15*Population!$B$16*0.5*Population!$M$34)+(AD15*Population!$B$15*Population!M$35) -> 2.7930234 | AE16: =(AC15*Population!$B$16*Population!M$35)+(AE15*Population!$B$15*Population!M$37) -> 7.2427315 | AF16: =(AD15*Population!$B$16*Population!M$35)+(AF15*Population!$B$15*Population!M$37) -> 7.2427315 | AG16: =(AE15*Population!$B$16*Population!M$37)+(AG15*Population!$B$15*Population!M$39) -> 15.658027 | AH16: =(AF15*Population!$B$16*Population!M$37)+(AH15*Population!$B$15*Population!M$39) -> 15.658027 | AI16: =(AG15*Population!$B$16*Population!M$39)+(AI15*Population!$B$15*Population!M$41) -> 18.334152 | AJ16: =(AH15*Population!$B$16*Population!M$39)+(AJ15*Population!$B$15*Population!M$41) -> 18.334152 | AK16: =(AI15*Population!$B$16*Population!M$41)+(AK15*Population!$B$15*Population!M$43) -> 13.886492 | AL16: =(AJ15*Population!$B$16*Population!M$41)+(AL15*Population!$B$15*Population!M$43) -> 13.886492 | AM16: =(AK15*Population!$B$16*Population!M$43)+(AM15*Population!$B$15*Population!M$45) -> 7.5445182 | AN16: =(AL15*Population!$B$16*Population!M$43)+(AN15*Population!$B$15*Population!M$45) -> 7.5445182 | AO16: =(AM15+AN15)*Population!$B$16*Population!$M$45+AO15*Population!$B$15*Population!$M$47 -> 6.1578906 | AP16: =AO15*Population!M$47*Population!$B$16+AP15*Population!$B$15*Population!M$48 -> 1.9651655 | AQ16: =AP15*Population!M$48*Population!$B$16+AQ15*Population!$B$15*Population!M$49 -> 0.47465879 | AR16: =(AQ15*Population!$B$16+AR15)*Population!M$50 -> 0.10539545 | AS16: =AS15*(1-Population!$B$12)+M16 -> 60
A17: =A16+Population!$B$2 -> 14 | B17: =FLOOR(SUM(AA17:AS17),1) -> 230 | C17: =FLOOR(B17-I17-G17-SUM(AO17:AR17),1) -> 180 | D17: =AD16*Population!$P$36*Population!$C$2+AF16*Population!$P$38*Population!$C$2+AH16*Population!$P$40*Population!$C$2+AJ16*Population!$P$42*Population!$C$2+AL16*Population!$P$44*Population!$C$2+AN15*Population!$P$46*Population!$C$2 -> 4.257176 | E17: =IF(B16>Population!$B$6*Population!$B$19,Population!$B$11,IF(Population!$J$6=1,D17,Population!$B$11*Population!$B$6*0.9/B16)) -> 2.8514204 | F17: =IF(B16>Population!$B$6*0.75,Population!$B$11,E17) -> 2.8514204 | G17: =IF(Population!$J$6=1,IF(E17>H16,H16,E17),IF(E17>X16,X16,E17)) -> 2.8514204 | H17: =FLOOR(AF17+AH17+AJ17+AL17+AN17,1) -> 61 | I17: =FLOOR(SUM(AA17:AD17),1) -> 36 | J17: =I17/H17 -> 0.59016393 | K17: =AA17*Population!$O$33+AB17*Population!$O$34+AC17*Population!$O$35+AD17*Population!$O$36+AE17*Population!$O$37+AF17*Population!$O$38+AG17*Population!$O$39+AH17*Population!$O$40+AI17*Population!$O$41+AJ17*Population!$O$42+AK17*Population!$O$43+AL17*Population!$O$44+AM17*Population!$O$45+AN17*Population!$O$46+AO17*Population!$O$47+AP17*Population!$O$48+AQ17*Population!$O$49+AR17*Population!$O$50 -> 0.35480097 | L17: =G17/H17 -> 0.046744597 | M17: =Population!$C$12 -> 3.0312 | N17: =(AE17+AF17+AG17+AH17+AI17+AJ17)/21*0.5 -> 1.85463 | O17: =I17/B17 -> 0.15652174 | P17: =B17-I17-Q17*2 -> 75.692107 | Q17: =MAX(X17,I17/2) -> 59.153947 | R17: =SUM(AR16:AR16) -> 0.10539545 | S17: =SUM(AR17:AR17)/B17 -> 0.0007150156 | T17: =X17/H17 -> 0.96973683 | U17: =Population!$B$17*MIN(Y16:Z16) -> 0.70415925 | V17: =X16*Population!$B$18 -> 0.3590957 | W17: =AN16*T16*Population!$B$16 -> 1.0404009 | X17: =X16+U17-W17-V17 -> 59.153947 | Y17: =(AE17+AG17+AI17+AK17+AM17)-X17 -> 2.7215637 | Z17: =(AF17+AH17+AJ17+AL17+AN17)-X17 -> 2.7215637 | AA17: =(G17+Population!$B$15*AA16)*Population!M$33 -> 17.617486 | AB17: =AA16*Population!$B$16*Population!$M$33+AB16*Population!$B$15*Population!$M$34 -> 12.239672 | AC17: =(AB16*Population!$B$16*0.5*Population!$M$34)+(AC16*Population!$B$15*Population!M$35) -> 3.2066109 | AD17: =(AB16*Population!$B$16*0.5*Population!$M$34)+(AD16*Population!$B$15*Population!M$35) -> 3.2066109 | AE17: =(AC16*Population!$B$16*Population!M$35)+(AE16*Population!$B$15*Population!M$37) -> 6.6007624 | AF17: =(AD16*Population!$B$16*Population!M$35)+(AF16*Population!$B$15*Population!M$37) -> 6.6007624 | AG17: =(AE16*Population!$B$16*Population!M$37)+(AG16*Population!$B$15*Population!M$39) -> 14.429087 | AH17: =(AF16*Population!$B$16*Population!M$37)+(AH16*Population!$B$15*Population!M$39) -> 14.429087 | AI17: =(AG16*Population!$B$16*Population!M$39)+(AI16*Population!$B$15*Population!M$41) -> 17.917381 | AJ17: =(AH16*Population!$B$16*Population!M$39)+(AJ16*Population!$B$15*Population!M$41) -> 17.917381 | AK17: =(AI16*Population!$B$16*Population!M$41)+(AK16*Population!$B$15*Population!M$43) -> 14.49399 | AL17: =(AJ16*Population!$B$16*Population!M$41)+(AL16*Population!$B$15*Population!M$43) -> 14.49399 | AM17: =(AK16*Population!$B$16*Population!M$43)+(AM16*Population!$B$15*Population!M$45) -> 8.4342895 | AN17: =(AL16*Population!$B$16*Population!M$43)+(AN16*Population!$B$15*Population!M$45) -> 8.4342895 | AO17: =(AM16+AN16)*Population!$B$16*Population!$M$45+AO16*Population!$B$15*Population!$M$47 -> 7.391363 | AP17: =AO16*Population!M$47*Population!$B$16+AP16*Population!$B$15*Population!M$48 -> 2.5455363 | AQ17: =AP16*Population!M$48*Population!$B$16+AQ16*Population!$B$15*Population!M$49 -> 0.66499888 | AR17: =(AQ16*Population!$B$16+AR16)*Population!M$50 -> 0.16445359 | AS17: =AS16*(1-Population!$B$12)+M17 -> 60
A18: =A17+Population!$B$2 -> 15 | B18: =FLOOR(SUM(AA18:AS18),1) -> 233 | C18: =FLOOR(B18-I18-G18-SUM(AO18:AR18),1) -> 179 | D18: =AD17*Population!$P$36*Population!$C$2+AF17*Population!$P$38*Population!$C$2+AH17*Population!$P$40*Population!$C$2+AJ17*Population!$P$42*Population!$C$2+AL17*Population!$P$44*Population!$C$2+AN16*Population!$P$46*Population!$C$2 -> 4.1049524 | E18: =IF(B17>Population!$B$6*Population!$B$19,Population!$B$11,IF(Population!$J$6=1,D18,Population!$B$11*Population!$B$6*0.9/B17)) -> 2.8514204 | F18: =IF(B17>Population!$B$6*0.75,Population!$B$11,E18) -> 2.8514204 | G18: =IF(Population!$J$6=1,IF(E18>H17,H17,E18),IF(E18>X17,X17,E18)) -> 2.8514204 | H18: =FLOOR(AF18+AH18+AJ18+AL18+AN18,1) -> 61 | I18: =FLOOR(SUM(AA18:AD18),1) -> 38 | J18: =I18/H18 -> 0.62295082 | K18: =AA18*Population!$O$33+AB18*Population!$O$34+AC18*Population!$O$35+AD18*Population!$O$36+AE18*Population!$O$37+AF18*Population!$O$38+AG18*Population!$O$39+AH18*Population!$O$40+AI18*Population!$O$41+AJ18*Population!$O$42+AK18*Population!$O$43+AL18*Population!$O$44+AM18*Population!$O$45+AN18*Population!$O$46+AO18*Population!$O$47+AP18*Population!$O$48+AQ18*Population!$O$49+AR18*Population!$O$50 -> 0.38396979 | L18: =G18/H18 -> 0.046744597 | M18: =Population!$C$12 -> 3.0312 | N18: =(AE18+AF18+AG18+AH18+AI18+AJ18)/21*0.5 -> 1.7515131 | O18: =I18/B18 -> 0.16309013 | P18: =B18-I18-Q18*2 -> 78.378041 | Q18: =MAX(X18,I18/2) -> 58.310979 | R18: =SUM(AR17:AR17) -> 0.16445359 | S18: =SUM(AR18:AR18)/B18 -> 0.0010572783 | T18: =X18/H18 -> 0.9559177 | U18: =Population!$B$17*MIN(Y17:Z17) -> 0.68039092 | V18: =X17*Population!$B$18 -> 0.35492368 | W18: =AN17*T17*Population!$B$16 -> 1.1684345 | X18: =X17+U18-W18-V18 -> 58.310979 | Y18: =(AE18+AG18+AI18+AK18+AM18)-X18 -> 2.7071785 | Z18: =(AF18+AH18+AJ18+AL18+AN18)-X18 -> 2.7071785 | AA18: =(G18+Population!$B$15*AA17)*Population!M$33 -> 17.944834 | AB18: =AA17*Population!$B$16*Population!$M$33+AB17*Population!$B$15*Population!$M$34 -> 13.004549 | AC18: =(AB17*Population!$B$16*0.5*Population!$M$34)+(AC17*Population!$B$15*Population!M$35) -> 3.6199699 | AD18: =(AB17*Population!$B$16*0.5*Population!$M$34)+(AD17*Population!$B$15*Population!M$35) -> 3.6199699 | AE18: =(AC17*Population!$B$16*Population!M$35)+(AE17*Population!$B$15*Population!M$37) -> 6.1100552 | AF18: =(AD17*Population!$B$16*Population!M$35)+(AF17*Population!$B$15*Population!M$37) -> 6.1100552 | AG18: =(AE17*Population!$B$16*Population!M$37)+(AG17*Population!$B$15*Population!M$39) -> 13.28611 | AH18: =(AF17*Population!$B$16*Population!M$37)+(AH17*Population!$B$15*Population!M$39) -> 13.28611 | AI18: =(AG17*Population!$B$16*Population!M$39)+(AI17*Population!$B$15*Population!M$41) -> 17.385609 | AJ18: =(AH17*Population!$B$16*Population!M$39)+(AJ17*Population!$B$15*Population!M$41) -> 17.385609 | AK18: =(AI17*Population!$B$16*Population!M$41)+(AK17*Population!$B$15*Population!M$43) -> 14.954279 | AL18: =(AJ17*Population!$B$16*Population!M$41)+(AL17*Population!$B$15*Population!M$43) -> 14.954279 | AM18: =(AK17*Population!$B$16*Population!M$43)+(AM17*Population!$B$15*Population!M$45) -> 9.2821051 | AN18: =(AL17*Population!$B$16*Population!M$43)+(AN17*Population!$B$15*Population!M$45) -> 9.2821051 | AO18: =(AM17+AN17)*Population!$B$16*Population!$M$45+AO17*Population!$B$15*Population!$M$47 -> 8.6946921 | AP18: =AO17*Population!M$47*Population!$B$16+AP17*Population!$B$15*Population!M$48 -> 3.2143232 | AQ18: =AP17*Population!M$48*Population!$B$16+AQ17*Population!$B$15*Population!M$49 -> 0.90221428 | AR18: =(AQ17*Population!$B$16+AR17)*Population!M$50 -> 0.24634584 | AS18: =AS17*(1-Population!$B$12)+M18 -> 60
A19: =A18+Population!$B$2 -> 16 | B19: =FLOOR(SUM(AA19:AS19),1) -> 235 | C19: =FLOOR(B19-I19-G19-SUM(AO19:AR19),1) -> 177 | D19: =AD18*Population!$P$36*Population!$C$2+AF18*Population!$P$38*Population!$C$2+AH18*Population!$P$40*Population!$C$2+AJ18*Population!$P$42*Population!$C$2+AL18*Population!$P$44*Population!$C$2+AN17*Population!$P$46*Population!$C$2 -> 3.9585042 | E19: =IF(B18>Population!$B$6*Population!$B$19,Population!$B$11,IF(Population!$J$6=1,D19,Population!$B$11*Population!$B$6*0.9/B18)) -> 2.8514204 | F19: =IF(B18>Population!$B$6*0.75,Population!$B$11,E19) -> 2.8514204 | G19: =IF(Population!$J$6=1,IF(E19>H18,H18,E19),IF(E19>X18,X18,E19)) -> 2.8514204 | H19: =FLOOR(AF19+AH19+AJ19+AL19+AN19,1) -> 60 | I19: =FLOOR(SUM(AA19:AD19),1) -> 39 | J19: =I19/H19 -> 0.65 | K19: =AA19*Population!$O$33+AB19*Population!$O$34+AC19*Population!$O$35+AD19*Population!$O$36+AE19*Population!$O$37+AF19*Population!$O$38+AG19*Population!$O$39+AH19*Population!$O$40+AI19*Population!$O$41+AJ19*Population!$O$42+AK19*Population!$O$43+AL19*Population!$O$44+AM19*Population!$O$45+AN19*Population!$O$46+AO19*Population!$O$47+AP19*Population!$O$48+AQ19*Population!$O$49+AR19*Population!$O$50 -> 0.41755158 | L19: =G19/H19 -> 0.047523673 | M19: =Population!$C$12 -> 3.0312 | N19: =(AE19+AF19+AG19+AH19+AI19+AJ19)/21*0.5 -> 1.6549913 | O19: =I19/B19 -> 0.16595745 | P19: =B19-I19-Q19*2 -> 81.259306 | Q19: =MAX(X19,I19/2) -> 57.370347 | R19: =SUM(AR18:AR18) -> 0.24634584 | S19: =SUM(AR19:AR19)/B19 -> 0.0015160715 | T19: =X19/H19 -> 0.95617245 | U19: =Population!$B$17*MIN(Y18:Z18) -> 0.67679462 | V19: =X18*Population!$B$18 -> 0.34986588 | W19: =AN18*T18*Population!$B$16 -> 1.2675612 | X19: =X18+U19-W19-V19 -> 57.370347 | Y19: =(AE19+AG19+AI19+AK19+AM19)-X19 -> 2.7297412 | Z19: =(AF19+AH19+AJ19+AL19+AN19)-X19 -> 2.7297412 | AA19: =(G19+Population!$B$15*AA18)*Population!M$33 -> 18.225304 | AB19: =AA18*Population!$B$16*Population!$M$33+AB18*Population!$B$15*Population!$M$34 -> 13.706755 | AC19: =(AB18*Population!$B$16*0.5*Population!$M$34)+(AC18*Population!$B$15*Population!M$35) -> 4.0285617 | AD19: =(AB18*Population!$B$16*0.5*Population!$M$34)+(AD18*Population!$B$15*Population!M$35) -> 4.0285617 | AE19: =(AC18*Population!$B$16*Population!M$35)+(AE18*Population!$B$15*Population!M$37) -> 5.7488448 | AF19: =(AD18*Population!$B$16*Population!M$35)+(AF18*Population!$B$15*Population!M$37) -> 5.7488448 | AG19: =(AE18*Population!$B$16*Population!M$37)+(AG18*Population!$B$15*Population!M$39) -> 12.238263 | AH19: =(AF18*Population!$B$16*Population!M$37)+(AH18*Population!$B$15*Population!M$39) -> 12.238263 | AI19: =(AG18*Population!$B$16*Population!M$39)+(AI18*Population!$B$15*Population!M$41) -> 16.76771 | AJ19: =(AH18*Population!$B$16*Population!M$39)+(AJ18*Population!$B$15*Population!M$41) -> 16.76771 | AK19: =(AI18*Population!$B$16*Population!M$41)+(AK18*Population!$B$15*Population!M$43) -> 15.272232 | AL19: =(AJ18*Population!$B$16*Population!M$41)+(AL18*Population!$B$15*Population!M$43) -> 15.272232 | AM19: =(AK18*Population!$B$16*Population!M$43)+(AM18*Population!$B$15*Population!M$45) -> 10.073038 | AN19: =(AL18*Population!$B$16*Population!M$43)+(AN18*Population!$B$15*Population!M$45) -> 10.073038 | AO19: =(AM18+AN18)*Population!$B$16*Population!$M$45+AO18*Population!$B$15*Population!$M$47 -> 10.0455 | AP19: =AO18*Population!M$47*Population!$B$16+AP18*Population!$B$15*Population!M$48 -> 3.9682531 | AQ19: =AP18*Population!M$48*Population!$B$16+AQ18*Population!$B$15*Population!M$49 -> 1.190118 | AR19: =(AQ18*Population!$B$16+AR18)*Population!M$50 -> 0.35627679 | AS19: =AS18*(1-Population!$B$12)+M19 -> 60
... A47: =A46+Population!$B$2 -> 44 | B47: =FLOOR(SUM(AA47:AS47),1) -> 278 | C47: =FLOOR(B47-I47-G47-SUM(AO47:AR47),1) -> 138 | D47: =AD46*Population!$P$36*Population!$C$2+AF46*Population!$P$38*Population!$C$2+AH46*Population!$P$40*Population!$C$2+AJ46*Population!$P$42*Population!$C$2+AL46*Population!$P$44*Population!$C$2+AN45*Population!$P$46*Population!$C$2 -> 2.7078606 | E47: =IF(B46>Population!$B$6*Population!$B$19,Population!$B$11,IF(Population!$J$6=1,D47,Population!$B$11*Population!$B$6*0.9/B46)) -> 2.8514204 | F47: =IF(B46>Population!$B$6*0.75,Population!$B$11,E47) -> 2.8514204 | G47: =IF(Population!$J$6=1,IF(E47>H46,H46,E47),IF(E47>X46,X46,E47)) -> 2.8514204 | H47: =FLOOR(AF47+AH47+AJ47+AL47+AN47,1) -> 40 | I47: =FLOOR(SUM(AA47:AD47),1) -> 58 | J47: =I47/H47 -> 1.45 | K47: =AA47*Population!$O$33+AB47*Population!$O$34+AC47*Population!$O$35+AD47*Population!$O$36+AE47*Population!$O$37+AF47*Population!$O$38+AG47*Population!$O$39+AH47*Population!$O$40+AI47*Population!$O$41+AJ47*Population!$O$42+AK47*Population!$O$43+AL47*Population!$O$44+AM47*Population!$O$45+AN47*Population!$O$46+AO47*Population!$O$47+AP47*Population!$O$48+AQ47*Population!$O$49+AR47*Population!$O$50 -> 2.3656112 | L47: =G47/H47 -> 0.07128551 | M47: =Population!$C$12 -> 3.0312 | N47: =(AE47+AF47+AG47+AH47+AI47+AJ47)/21*0.5 -> 1.1463087 | O47: =I47/B47 -> 0.20863309 | P47: =B47-I47-Q47*2 -> 148.97766 | Q47: =MAX(X47,I47/2) -> 35.511171 | R47: =SUM(AR46:AR46) -> 21.181392 | S47: =SUM(AR47:AR47)/B47 -> 0.079820997 | T47: =X47/H47 -> 0.88777927 | U47: =Population!$B$17*MIN(Y46:Z46) -> 1.3036793 | V47: =X46*Population!$B$18 -> 0.21354308 | W47: =AN46*T46*Population!$B$16 -> 1.169479 | X47: =X46+U47-W47-V47 -> 35.511171 | Y47: =(AE47+AG47+AI47+AK47+AM47)-X47 -> 5.2607934 | Z47: =(AF47+AH47+AJ47+AL47+AN47)-X47 -> 5.2607934 | AA47: =(G47+Population!$B$15*AA46)*Population!M$33 -> 19.881205 | AB47: =AA46*Population!$B$16*Population!$M$33+AB46*Population!$B$15*Population!$M$34 -> 19.683092 | AC47: =(AB46*Population!$B$16*0.5*Population!$M$34)+(AC46*Population!$B$15*Population!M$35) -> 9.4947118 | AD47: =(AB46*Population!$B$16*0.5*Population!$M$34)+(AD46*Population!$B$15*Population!M$35) -> 9.4947118 | AE47: =(AC46*Population!$B$16*Population!M$35)+(AE46*Population!$B$15*Population!M$37) -> 8.8121375 | AF47: =(AD46*Population!$B$16*Population!M$35)+(AF46*Population!$B$15*Population!M$37) -> 8.8121375 | AG47: =(AE46*Population!$B$16*Population!M$37)+(AG46*Population!$B$15*Population!M$39) -> 7.9070717 | AH47: =(AF46*Population!$B$16*Population!M$37)+(AH46*Population!$B$15*Population!M$39) -> 7.9070717 | AI47: =(AG46*Population!$B$16*Population!M$39)+(AI46*Population!$B$15*Population!M$41) -> 7.3532738 | AJ47: =(AH46*Population!$B$16*Population!M$39)+(AJ46*Population!$B$15*Population!M$41) -> 7.3532738 | AK47: =(AI46*Population!$B$16*Population!M$41)+(AK46*Population!$B$15*Population!M$43) -> 7.7158309 | AL47: =(AJ46*Population!$B$16*Population!M$41)+(AL46*Population!$B$15*Population!M$43) -> 7.7158309 | AM47: =(AK46*Population!$B$16*Population!M$43)+(AM46*Population!$B$15*Population!M$45) -> 8.9836504 | AN47: =(AL46*Population!$B$16*Population!M$43)+(AN46*Population!$B$15*Population!M$45) -> 8.9836504 | AO47: =(AM46+AN46)*Population!$B$16*Population!$M$45+AO46*Population!$B$15*Population!$M$47 -> 20.124393 | AP47: =AO46*Population!M$47*Population!$B$16+AP46*Population!$B$15*Population!M$48 -> 20.608405 | AQ47: =AP46*Population!M$48*Population!$B$16+AQ46*Population!$B$15*Population!M$49 -> 15.422181 | AR47: =(AQ46*Population!$B$16+AR46)*Population!M$50 -> 22.190237 | AS47: =AS46*(1-Population!$B$12)+M47 -> 60
A48: =A47+Population!$B$2 -> 45 | B48: =FLOOR(SUM(AA48:AS48),1) -> 278 | C48: =FLOOR(B48-I48-G48-SUM(AO48:AR48),1) -> 138 | D48: =AD47*Population!$P$36*Population!$C$2+AF47*Population!$P$38*Population!$C$2+AH47*Population!$P$40*Population!$C$2+AJ47*Population!$P$42*Population!$C$2+AL47*Population!$P$44*Population!$C$2+AN46*Population!$P$46*Population!$C$2 -> 2.7228916 | E48: =IF(B47>Population!$B$6*Population!$B$19,Population!$B$11,IF(Population!$J$6=1,D48,Population!$B$11*Population!$B$6*0.9/B47)) -> 2.8514204 | F48: =IF(B47>Population!$B$6*0.75,Population!$B$11,E48) -> 2.8514204 | G48: =IF(Population!$J$6=1,IF(E48>H47,H47,E48),IF(E48>X47,X47,E48)) -> 2.8514204 | H48: =FLOOR(AF48+AH48+AJ48+AL48+AN48,1) -> 40 | I48: =FLOOR(SUM(AA48:AD48),1) -> 58 | J48: =I48/H48 -> 1.45 | K48: =AA48*Population!$O$33+AB48*Population!$O$34+AC48*Population!$O$35+AD48*Population!$O$36+AE48*Population!$O$37+AF48*Population!$O$38+AG48*Population!$O$39+AH48*Population!$O$40+AI48*Population!$O$41+AJ48*Population!$O$42+AK48*Population!$O$41+AL48*Population!$O$42+AM48*Population!$O$43+AN48*Population!$O$44+AO48*Population!$O$45+AP48*Population!$O$46+AQ48*Population!$O$47+AR48*Population!$O$48 -> 0.52709993 | L48: =G48/H48 -> 0.07128551 | M48: =Population!$C$12 -> 3.0312 | N48: =(AE48+AF48+AG48+AH48+AI48+AJ48)/21*0.5 -> 1.1591157 | O48: =I48/B48 -> 0.20863309 | P48: =B48-I48-Q48*2 -> 149.05211 | Q48: =MAX(X48,I48/2) -> 35.473945 | R48: =SUM(AR47:AR47) -> 22.190237 | S48: =SUM(AR48:AR48)/B48 -> 0.083313133 | T48: =X48/H48 -> 0.88684863 | U48: =Population!$B$17*MIN(Y47:Z47) -> 1.3151984 | V48: =X47*Population!$B$18 -> 0.21306702 | W48: =AN47*T47*Population!$B$16 -> 1.1393569 | X48: =X47+U48-W48-V48 -> 35.473945 | Y48: =(AE48+AG48+AI48+AK48+AM48)-X48 -> 5.3024384 | Z48: =(AF48+AH48+AJ48+AL48+AN48)-X48 -> 5.3024384 | AA48: =(G48+Population!$B$15*AA47)*Population!M$33 -> 19.884377 | AB48: =AA47*Population!$B$16*Population!$M$33+AB47*Population!$B$15*Population!$M$34 -> 19.706445 | AC48: =(AB47*Population!$B$16*0.5*Population!$M$34)+(AC47*Population!$B$15*Population!M$35) -> 9.5361874 | AD48: =(AB47*Population!$B$16*0.5*Population!$M$34)+(AD47*Population!$B$15*Population!M$35) -> 9.5361874 | AE48: =(AC47*Population!$B$16*Population!M$35)+(AE47*Population!$B$15*Population!M$37) -> 8.9011572 | AF48: =(AD47*Population!$B$16*Population!M$35)+(AF47*Population!$B$15*Population!M$37) -> 8.9011572 | AG48: =(AE47*Population!$B$16*Population!M$37)+(AG47*Population!$B$15*Population!M$39) -> 8.0221543 | AH48: =(AF47*Population!$B$16*Population!M$37)+(AH47*Population!$B$15*Population!M$39) -> 8.0221543 | AI48: =(AG47*Population!$B$16*Population!M$39)+(AI47*Population!$B$15*Population!M$41) -> 7.4181176 | AJ48: =(AH47*Population!$B$16*Population!M$39)+(AJ47*Population!$B$15*Population!M$41) -> 7.4181176 | AK48: =(AI47*Population!$B$16*Population!M$41)+(AK47*Population!$B$15*Population!M$43) -> 7.6493221 | AL48: =(AJ47*Population!$B$16*Population!M$41)+(AL47*Population!$B$15*Population!M$43) -> 7.6493221 | AM48: =(AK47*Population!$B$16*Population!M$43)+(AM47*Population!$B$15*Population!M$45) -> 8.7856324 | AN48: =(AL47*Population!$B$16*Population!M$43)+(AN47*Population!$B$15*Population!M$45) -> 8.7856324 | AO48: =(AM47+AN47)*Population!$B$16*Population!$M$45+AO47*Population!$B$15*Population!$M$47 -> 19.68625 | AP48: =AO47*Population!M$47*Population!$B$16+AP47*Population!$B$15*Population!M$48 -> 20.390351 | AQ48: =AP47*Population!M$48*Population!$B$16+AQ47*Population!$B$15*Population!M$49 -> 15.473901 | AR48: =(AQ47*Population!$B$16+AR47)*Population!M$50 -> 23.161051 | AS48: =AS47*(1-Population!$B$12)+M48 -> 60
A49: =A48+Population!$B$2 -> 46 | B49: =FLOOR(SUM(AA49:AS49),1) -> 279 | C49: =FLOOR(B49-I49-G49-SUM(AO49:AR49),1) -> 139 | D49: =AD48*Population!$P$36*Population!$C$2+AF48*Population!$P$38*Population!$C$2+AH48*Population!$P$40*Population!$C$2+AJ48*Population!$P$42*Population!$C$2+AL48*Population!$P$44*Population!$C$2+AN47*Population!$P$46*Population!$C$2 -> 2.7388362 | E49: =IF(B48>Population!$B$6*Population!$B$19,Population!$B$11,IF(Population!$J$6=1,D49,Population!$B$11*Population!$B$6*0.9/B48)) -> 2.8514204 | F49: =IF(B48>Population!$B$6*0.75,Population!$B$11,E49) -> 2.8514204 | G49: =IF(Population!$J$6=1,IF(E49>H48,H48,E49),IF(E49>X48,X48,E49)) -> 2.8514204 | H49: =FLOOR(AF49+AH49+AJ49+AL49+AN49,1) -> 40 | I49: =FLOOR(SUM(AA49:AD49),1) -> 58 | J49: =I49/H49 -> 1.45 | K49: =AA49*Population!$O$33+AB49*Population!$O$34+AC49*Population!$O$35+AD49*Population!$O$36+AE49*Population!$O$37+AF49*Population!$O$38+AG49*Population!$O$39+AH49*Population!$O$40+AI49*Population!$O$41+AJ49*Population!$O$42+AK49*Population!$O$41+AL49*Population!$O$42+AM49*Population!$O$43+AN49*Population!$O$44+AO49*Population!$O$45+AP49*Population!$O$46+AQ49*Population!$O$47+AR49*Population!$O$48 -> 0.53268089 | L49: =G49/H49 -> 0.07128551 | M49: =Population!$C$12 -> 3.0312 | N49: =(AE49+AF49+AG49+AH49+AI49+AJ49)/21*0.5 -> 1.1717438 | O49: =I49/B49 -> 0.2078853 | P49: =B49-I49-Q49*2 -> 150.05273 | Q49: =MAX(X49,I49/2) -> 35.473636 | R49: =SUM(AR48:AR48) -> 23.161051 | S49: =SUM(AR49:AR49)/B49 -> 0.086343494 | T49: =X49/H49 -> 0.8868409 | U49: =Population!$B$17*MIN(Y48:Z48) -> 1.3256096 | V49: =X48*Population!$B$18 -> 0.21284367 | W49: =AN48*T48*Population!$B$16 -> 1.1130752 | X49: =X48+U49-W49-V49 -> 35.473636 | Y49: =(AE49+AG49+AI49+AK49+AM49)-X49 -> 5.341398 | Z49: =(AF49+AH49+AJ49+AL49+AN49)-X49 -> 5.341398 | AA49: =(G49+Population!$B$15*AA48)*Population!M$33 -> 19.887095 | AB49: =AA48*Population!$B$16*Population!$M$33+AB48*Population!$B$15*Population!$M$34 -> 19.72691 | AC49: =(AB48*Population!$B$16*0.5*Population!$M$34)+(AC48*Population!$B$15*Population!M$35) -> 9.5733717 | AD49: =(AB48*Population!$B$16*0.5*Population!$M$34)+(AD48*Population!$B$15*Population!M$35) -> 9.5733717 | AE49: =(AC48*Population!$B$16*Population!M$35)+(AE48*Population!$B$15*Population!M$37) -> 8.9833066 | AF49: =(AD48*Population!$B$16*Population!M$35)+(AF48*Population!$B$15*Population!M$37) -> 8.9833066 | AG49: =(AE48*Population!$B$16*Population!M$37)+(AG48*Population!$B$15*Population!M$39) -> 8.1333122 | AH49: =(AF48*Population!$B$16*Population!M$37)+(AH48*Population!$B$15*Population!M$39) -> 8.1333122 | AI49: =(AG48*Population!$B$16*Population!M$39)+(AI48*Population!$B$15*Population!M$41) -> 7.4900001 | AJ49: =(AH48*Population!$B$16*Population!M$39)+(AJ48*Population!$B$15*Population!M$41) -> 7.4900001 | AK49: =(AI48*Population!$B$16*Population!M$41)+(AK48*Population!$B$15*Population!M$43) -> 7.6016696 | AL49: =(AJ48*Population!$B$16*Population!M$41)+(AL48*Population!$B$15*Population!M$43) -> 7.6016696 | AM49: =(AK48*Population!$B$16*Population!M$43)+(AM48*Population!$B$15*Population!M$45) -> 8.6067456 | AN49: =(AL48*Population!$B$16*Population!M$43)+(AN48*Population!$B$15*Population!M$45) -> 8.6067456 | AO49: =(AM48+AN48)*Population!$B$16*Population!$M$45+AO48*Population!$B$15*Population!$M$47 -> 19.256954 | AP49: =AO48*Population!M$47*Population!$B$16+AP48*Population!$B$15*Population!M$48 -> 20.142665 | AQ49: =AP48*Population!M$48*Population!$B$16+AQ48*Population!$B$15*Population!M$49 -> 15.485069 | AR49: =(AQ48*Population!$B$16+AR48)*Population!M$50 -> 24.089835 | AS49: =AS48*(1-Population!$B$12)+M49 -> 60
A50: =A49+Population!$B$2 -> 47 | B50: =FLOOR(SUM(AA50:AS50),1) -> 279 | C50: =FLOOR(B50-I50-G50-SUM(AO50:AR50),1) -> 139 | D50: =AD49*Population!$P$36*Population!$C$2+AF49*Population!$P$38*Population!$C$2+AH49*Population!$P$40*Population!$C$2+AJ49*Population!$P$42*Population!$C$2+AL49*Population!$P$44*Population!$C$2+AN48*Population!$P$46*Population!$C$2 -> 2.7554947 | E50: =IF(B49>Population!$B$6*Population!$B$19,Population!$B$11,IF(Population!$J$6=1,D50,Population!$B$11*Population!$B$6*0.9/B49)) -> 2.8514204 | F50: =IF(B49>Population!$B$6*0.75,Population!$B$11,E50) -> 2.8514204 | G50: =IF(Population!$J$6=1,IF(E50>H49,H49,E50),IF(E50>X49,X49,E50)) -> 2.8514204 | H50: =FLOOR(AF50+AH50+AJ50+AL50+AN50,1) -> 40 | I50: =FLOOR(SUM(AA50:AD50),1) -> 58 | J50: =I50/H50 -> 1.45 | K50: =AA50*Population!$O$33+AB50*Population!$O$34+AC50*Population!$O$35+AD50*Population!$O$36+AE50*Population!$O$37+AF50*Population!$O$38+AG50*Population!$O$39+AH50*Population!$O$40+AI50*Population!$O$41+AJ50*Population!$O$42+AK50*Population!$O$41+AL50*Population!$O$42+AM50*Population!$O$43+AN50*Population!$O$44+AO50*Population!$O$45+AP50*Population!$O$46+AQ50*Population!$O$47+AR50*Population!$O$48 -> 0.53776461 | L50: =G50/H50 -> 0.07128551 | M50: =Population!$C$12 -> 3.0312 | N50: =(AE50+AF50+AG50+AH50+AI50+AJ50)/21*0.5 -> 1.184116 | O50: =I50/B50 -> 0.2078853 | P50: =B50-I50-Q50*2 -> 149.98852 | Q50: =MAX(X50,I50/2) -> 35.505742 | R50: =SUM(AR49:AR49) -> 24.089835 | S50: =SUM(AR50:AR50)/B50 -> 0.089509717 | T50: =X50/H50 -> 0.88764354 | U50: =Population!$B$17*MIN(Y49:Z49) -> 1.3353495 | V50: =X49*Population!$B$18 -> 0.21284182 | W50: =AN49*T49*Population!$B$16 -> 1.090402 | X50: =X49+U50-W50-V50 -> 35.505742 | Y50: =(AE50+AG50+AI50+AK50+AM50)-X50 -> 5.3787611 | Z50: =(AF50+AH50+AJ50+AL50+AN50)-X50 -> 5.3787611 | AA50: =(G50+Population!$B$15*AA49)*Population!M$33 -> 19.889423 | AB50: =AA49*Population!$B$16*Population!$M$33+AB49*Population!$B$15*Population!$M$34 -> 19.744836 | AC50: =(AB49*Population!$B$16*0.5*Population!$M$34)+(AC49*Population!$B$15*Population!M$35) -> 9.606675 | AD50: =(AB49*Population!$B$16*0.5*Population!$M$34)+(AD49*Population!$B$15*Population!M$35) -> 9.606675 | AE50: =(AC49*Population!$B$16*Population!M$35)+(AE49*Population!$B$15*Population!M$37) -> 9.0589601 | AF50: =(AD49*Population!$B$16*Population!M$35)+(AF49*Population!$B$15*Population!M$37) -> 9.0589601 | AG50: =(AE49*Population!$B$16*Population!M$37)+(AG49*Population!$B$15*Population!M$39) -> 8.2401318 | AH50: =(AF49*Population!$B$16*Population!M$37)+(AH49*Population!$B$15*Population!M$39) -> 8.2401318 | AI50: =(AG49*Population!$B$16*Population!M$39)+(AI49*Population!$B$15*Population!M$41) -> 7.5673446 | AJ50: =(AH49*Population!$B$16*Population!M$39)+(AJ49*Population!$B$15*Population!M$41) -> 7.5673446 | AK50: =(AI49*Population!$B$16*Population!M$41)+(AK49*Population!$B$15*Population!M$43) -> 7.5711522 | AL50: =(AJ49*Population!$B$16*Population!M$41)+(AL49*Population!$B$15*Population!M$43) -> 7.5711522 | AM50: =(AK49*Population!$B$16*Population!M$43)+(AM49*Population!$B$15*Population!M$45) -> 8.4469141 | AN50: =(AL49*Population!$B$16*Population!M$43)+(AN49*Population!$B$15*Population!M$45) -> 8.4469141 | AO50: =(AM49+AN49)*Population!$B$16*Population!$M$45+AO49*Population!$B$15*Population!$M$47 -> 18.840641 | AP50: =AO49*Population!M$47*Population!$B$16+AP49*Population!$B$15*Population!M$48 -> 19.871018 | AQ50: =AP49*Population!M$48*Population!$B$16+AQ49*Population!$B$15*Population!M$49 -> 15.45903 | AR50: =(AQ49*Population!$B$16+AR49)*Population!M$50 -> 24.973211 | AS50: =AS49*(1-Population!$B$12)+M50 -> 60
A51: =A50+Population!$B$2 -> 48 | B51: =FLOOR(SUM(AA51:AS51),1) -> 280 | C51: =FLOOR(B51-I51-G51-SUM(AO51:AR51),1) -> 139 | D51: =AD50*Population!$P$36*Population!$C$2+AF50*Population!$P$38*Population!$C$2+AH50*Population!$P$40*Population!$C$2+AJ50*Population!$P$42*Population!$C$2+AL50*Population!$P$44*Population!$C$2+AN49*Population!$P$46*Population!$C$2 -> 2.7726856 | E51: =IF(B50>Population!$B$6*Population!$B$19,Population!$B$11,IF(Population!$J$6=1,D51,Population!$B$11*Population!$B$6*0.9/B50)) -> 2.8514204 | F51: =IF(B50>Population!$B$6*0.75,Population!$B$11,E51) -> 2.8514204 | G51: =IF(Population!$J$6=1,IF(E51>H50,H50,E51),IF(E51>X50,X50,E51)) -> 2.8514204 | H51: =FLOOR(AF51+AH51+AJ51+AL51+AN51,1) -> 40 | I51: =FLOOR(SUM(AA51:AD51),1) -> 58 | J51: =I51/H51 -> 1.45 | K51: =AA51*Population!$O$33+AB51*Population!$O$34+AC51*Population!$O$35+AD51*Population!$O$36+AE51*Population!$O$37+AF51*Population!$O$38+AG51*Population!$O$39+AH51*Population!$O$40+AI51*Population!$O$41+AJ51*Population!$O$42+AK51*Population!$O$41+AL51*Population!$O$42+AM51*Population!$O$43+AN51*Population!$O$44+AO51*Population!$O$45+AP51*Population!$O$46+AQ51*Population!$O$47+AR51*Population!$O$48 -> 0.54236107 | L51: =G51/H51 -> 0.07128551 | M51: =Population!$C$12 -> 3.0312 | N51: =(AE51+AF51+AG51+AH51+AI51+AJ51)/21*0.5 -> 1.1961692 | O51: =I51/B51 -> 0.20714286 | P51: =B51-I51-Q51*2 -> 150.86745 | Q51: =MAX(X51,I51/2) -> 35.566276 | R51: =SUM(AR50:AR50) -> 24.973211 | S51: =SUM(AR51:AR51)/B51 -> 0.092172954 | T51: =X51/H51 -> 0.88915691 | U51: =Population!$B$17*MIN(Y50:Z50) -> 1.3446903 | V51: =X50*Population!$B$18 -> 0.21303445 | W51: =AN50*T50*Population!$B$16 -> 1.0711212 | X51: =X50+U51-W51-V51 -> 35.566276 | Y51: =(AE51+AG51+AI51+AK51+AM51)-X51 -> 5.4151774 | Z51: =(AF51+AH51+AJ51+AL51+AN51)-X51 -> 5.4151774 | AA51: =(G51+Population!$B$15*AA50)*Population!M$33 -> 19.891418 | AB51: =AA50*Population!$B$16*Population!$M$33+AB50*Population!$B$15*Population!$M$34 -> 19.760529 | AC51: =(AB50*Population!$B$16*0.5*Population!$M$34)+(AC50*Population!$B$15*Population!M$35) -> 9.6364736 | AD51: =(AB50*Population!$B$16*0.5*Population!$M$34)+(AD50*Population!$B$15*Population!M$35) -> 9.6364736 | AE51: =(AC50*Population!$B$16*Population!M$35)+(AE50*Population!$B$15*Population!M$37) -> 9.1284974 | AF51: =(AD50*Population!$B$16*Population!M$35)+(AF50*Population!$B$15*Population!M$37) -> 9.1284974 | AG51: =(AE50*Population!$B$16*Population!M$37)+(AG50*Population!$B$15*Population!M$39) -> 8.3423131 | AH51: =(AF50*Population!$B$16*Population!M$37)+(AH50*Population!$B$15*Population!M$39) -> 8.3423131 | AI51: =(AG50*Population!$B$16*Population!M$39)+(AI50*Population!$B$15*Population!M$41) -> 7.6487432 | AJ51: =(AH50*Population!$B$16*Population!M$39)+(AJ50*Population!$B$15*Population!M$41) -> 7.6487432 | AK51: =(AI50*Population!$B$16*Population!M$41)+(AK50*Population!$B$15*Population!M$43) -> 7.5560727 | AL51: =(AJ50*Population!$B$16*Population!M$41)+(AL50*Population!$B$15*Population!M$43) -> 7.5560727 | AM51: =(AK50*Population!$B$16*Population!M$43)+(AM50*Population!$B$15*Population!M$45) -> 8.3058274 | AN51: =(AL50*Population!$B$16*Population!M$43)+(AN50*Population!$B$15*Population!M$45) -> 8.3058274 | AO51: =(AM50+AN50)*Population!$B$16*Population!$M$45+AO50*Population!$B$15*Population!$M$47 -> 18.44081 | AP51: =AO50*Population!M$47*Population!$B$16+AP50*Population!$B$15*Population!M$48 -> 19.580823 | AQ51: =AP50*Population!M$48*Population!$B$16+AQ50*Population!$B$15*Population!M$49 -> 15.399313 | AR51: =(AQ50*Population!$B$16+AR50)*Population!M$50 -> 25.808427 | AS51: =AS50*(1-Population!$B$12)+M51 -> 60
A52: =A51+Population!$B$2 -> 49 | B52: =FLOOR(SUM(AA52:AS52),1) -> 280 | C52: =FLOOR(B52-I52-G52-SUM(AO52:AR52),1) -> 139 | D52: =AD51*Population!$P$36*Population!$C$2+AF51*Population!$P$38*Population!$C$2+AH51*Population!$P$40*Population!$C$2+AJ51*Population!$P$42*Population!$C$2+AL51*Population!$P$44*Population!$C$2+AN50*Population!$P$46*Population!$C$2 -> 2.790245 | E52: =IF(B51>Population!$B$6*Population!$B$19,Population!$B$11,IF(Population!$J$6=1,D52,Population!$B$11*Population!$B$6*0.9/B51)) -> 2.8514204 | F52: =IF(B51>Population!$B$6*0.75,Population!$B$11,E52) -> 2.8514204 | G52: =IF(Population!$J$6=1,IF(E52>H51,H51,E52),IF(E52>X51,X51,E52)) -> 2.8514204 | H52: =FLOOR(AF52+AH52+AJ52+AL52+AN52,1) -> 41 | I52: =FLOOR(SUM(AA52:AD52),1) -> 58 | J52: =I52/H52 -> 1.4146341 | K52: =AA52*Population!$O$33+AB52*Population!$O$34+AC52*Population!$O$35+AD52*Population!$O$36+AE52*Population!$O$37+AF52*Population!$O$38+AG52*Population!$O$39+AH52*Population!$O$40+AI52*Population!$O$41+AJ52*Population!$O$42+AK52*Population!$O$41+AL52*Population!$O$42+AM52*Population!$O$43+AN52*Population!$O$44+AO52*Population!$O$45+AP52*Population!$O$46+AQ52*Population!$O$47+AR52*Population!$O$48 -> 0.54648413 | L52: =G52/H52 -> 0.069546839 | M52: =Population!$C$12 -> 3.0312 | N52: =(AE52+AF52+AG52+AH52+AI52+AJ52)/21*0.5 -> 1.2078523 | O52: =I52/B52 -> 0.20714286 | P52: =B52-I52-Q52*2 -> 150.69671 | Q52: =MAX(X52,I52/2) -> 35.651647 | R52: =SUM(AR51:AR51) -> 25.808427 | S52: =SUM(AR52:AR52)/B52 -> 0.094976243 | T52: =X52/H52 -> 0.86955236 | U52: =Population!$B$17*MIN(Y51:Z51) -> 1.3537944 | V52: =X51*Population!$B$18 -> 0.21339766 | W52: =AN51*T51*Population!$B$16 -> 1.0550263 | X52: =X51+U52-W52-V52 -> 35.651647 | Y52: =(AE52+AG52+AI52+AK52+AM52)-X52 -> 5.4510084 | Z52: =(AF52+AH52+AJ52+AL52+AN52)-X52 -> 5.4510084 | AA52: =(G52+Population!$B$15*AA51)*Population!M$33 -> 19.893128 | AB52: =AA51*Population!$B$16*Population!$M$33+AB51*Population!$B$15*Population!$M$34 -> 19.774263 | AC52: =(AB51*Population!$B$16*0.5*Population!$M$34)+(AC51*Population!$B$15*Population!M$35) -> 9.6631117 | AD52: =(AB51*Population!$B$16*0.5*Population!$M$34)+(AD51*Population!$B$15*Population!M$35) -> 9.6631117 | AE52: =(AC51*Population!$B$16*Population!M$35)+(AE51*Population!$B$15*Population!M$37) -> 9.1922968 | AF52: =(AD51*Population!$B$16*Population!M$35)+(AF51*Population!$B$15*Population!M$37) -> 9.1922968 | AG52: =(AE51*Population!$B$16*Population!M$37)+(AG51*Population!$B$15*Population!M$39) -> 8.4396533 | AH52: =(AF51*Population!$B$16*Population!M$37)+(AH51*Population!$B$15*Population!M$39) -> 8.4396533 | AI52: =(AG51*Population!$B$16*Population!M$39)+(AI51*Population!$B$15*Population!M$41) -> 7.7329488 | AJ52: =(AH51*Population!$B$16*Population!M$39)+(AJ51*Population!$B$15*Population!M$41) -> 7.7329488 | AK52: =(AI51*Population!$B$16*Population!M$41)+(AK51*Population!$B$15*Population!M$43) -> 7.5547783 | AL52: =(AJ51*Population!$B$16*Population!M$41)+(AL51*Population!$B$15*Population!M$43) -> 7.5547783 | AM52: =(AK51*Population!$B$16*Population!M$43)+(AM51*Population!$B$15*Population!M$45) -> 8.182978 | AN52: =(AL51*Population!$B$16*Population!M$43)+(AN51*Population!$B$15*Population!M$45) -> 8.182978 | AO52: =(AM51+AN51)*Population!$B$16*Population!$M$45+AO51*Population!$B$15*Population!$M$47 -> 18.060349 | AP52: =AO51*Population!M$47*Population!$B$16+AP51*Population!$B$15*Population!M$48 -> 19.277184 | AQ52: =AP51*Population!M$48*Population!$B$16+AQ51*Population!$B$15*Population!M$49 -> 15.309557 | AR52: =(AQ51*Population!$B$16+AR51)*Population!M$50 -> 26.593348 | AS52: =AS51*(1-Population!$B$12)+M52 -> 60
A53: =A52+Population!$B$2 -> 50 | B53: =FLOOR(SUM(AA53:AS53),1) -> 280 | C53: =FLOOR(B53-I53-G53-SUM(AO53:AR53),1) -> 138 | D53: =AD52*Population!$P$36*Population!$C$2+AF52*Population!$P$38*Population!$C$2+AH52*Population!$P$40*Population!$C$2+AJ52*Population!$P$42*Population!$C$2+AL52*Population!$P$44*Population!$C$2+AN51*Population!$P$46*Population!$C$2 -> 2.808026 | E53: =IF(B52>Population!$B$6*Population!$B$19,Population!$B$11,IF(Population!$J$6=1,D53,Population!$B$11*Population!$B$6*0.9/B52)) -> 2.8514204 | F53: =IF(B52>Population!$B$6*0.75,Population!$B$11,E53) -> 2.8514204 | G53: =IF(Population!$J$6=1,IF(E53>H52,H52,E53),IF(E53>X52,X52,E53)) -> 2.8514204 | H53: =FLOOR(AF53+AH53+AJ53+AL53+AN53,1) -> 41 | I53: =FLOOR(SUM(AA53:AD53),1) -> 59 | J53: =I53/H53 -> 1.4390244 | K53: =AA53*Population!$O$33+AB53*Population!$O$34+AC53*Population!$O$35+AD53*Population!$O$36+AE53*Population!$O$37+AF53*Population!$O$38+AG53*Population!$O$39+AH53*Population!$O$40+AI53*Population!$O$41+AJ53*Population!$O$42+AK53*Population!$O$41+AL53*Population!$O$42+AM53*Population!$O$43+AN53*Population!$O$44+AO53*Population!$O$45+AP53*Population!$O$46+AQ53*Population!$O$47+AR53*Population!$O$48 -> 0.55015097 | L53: =G53/H53 -> 0.069546839 | M53: =Population!$C$12 -> 3.0312 | N53: =(AE53+AF53+AG53+AH53+AI53+AJ53)/21*0.5 -> 1.2191252 | O53: =I53/B53 -> 0.21071429 | P53: =B53-I53-Q53*2 -> 149.43203 | Q53: =MAX(X53,I53/2) -> 35.783985 | R53: =SUM(AR52:AR52) -> 26.593348 | S53: =SUM(AR53:AR53)/B53 -> 0.09759443 | T53: =X53/H53 -> 0.87278012 | U53: =Population!$B$17*MIN(Y52:Z52) -> 1.3627521 | V53: =X52*Population!$B$18 -> 0.21390988 | W53: =AN52*T52*Population!$B$16 -> 1.016504 | X53: =X52+U53-W53-V53 -> 35.783985 | Y53: =(AE53+AG53+AI53+AK53+AM53)-X53 -> 5.4610186 | Z53: =(AF53+AH53+AJ53+AL53+AN53)-X53 -> 5.4610186 | AA53: =(G53+Population!$B$15*AA52)*Population!M$33 -> 19.894592 | AB53: =AA52*Population!$B$16*Population!$M$33+AB52*Population!$B$15*Population!$M$34 -> 19.786276 | AC53: =(AB52*Population!$B$16*0.5*Population!$M$34)+(AC52*Population!$B$15*Population!M$35) -> 9.6869034 | AD53: =(AB52*Population!$B$16*0.5*Population!$M$34)+(AD52*Population!$B$15*Population!M$35) -> 9.6869034 | AE53: =(AC52*Population!$B$16*Population!M$35)+(AE52*Population!$B$15*Population!M$37) -> 9.2507317 | AF53: =(AD52*Population!$B$16*Population!M$35)+(AF52*Population!$B$15*Population!M$37) -> 9.2507317 | AG53: =(AE52*Population!$B$16*Population!M$37)+(AG52*Population!$B$15*Population!M$39) -> 8.5320331 | AH53: =(AF52*Population!$B$16*Population!M$37)+(AH52*Population!$B$15*Population!M$39) -> 8.5320331 | AI53: =(AG52*Population!$B$16*Population!M$39)+(AI52*Population!$B$15*Population!M$41) -> 7.8188655 | AJ53: =(AH52*Population!$B$16*Population!M$39)+(AJ52*Population!$B$15*Population!M$41) -> 7.8188655 | AK53: =(AI52*Population!$B$16*Population!M$41)+(AK52*Population!$B$15*Population!M$43) -> 7.5656771 | AL53: =(AJ52*Population!$B$16*Population!M$41)+(AL52*Population!$B$15*Population!M$43) -> 7.5656771 | AM53: =(AK52*Population!$B$16*Population!M$43)+(AM52*Population!$B$15*Population!M$45) -> 8.0776962 | AN53: =(AL52*Population!$B$16*Population!M$43)+(AN52*Population!$B$15*Population!M$45) -> 8.0776962 | AO53: =(AM52+AN52)*Population!$B$16*Population!$M$45+AO52*Population!$B$15*Population!$M$47 -> 17.701572 | AP53: =AO52*Population!M$47*Population!$B$16+AP52*Population!$B$15*Population!M$48 -> 18.964851 | AQ53: =AP52*Population!M$48*Population!$B$16+AQ52*Population!$B$15*Population!M$49 -> 15.193448 | AR53: =(AQ52*Population!$B$16+AR52)*Population!M$50 -> 27.326441 | AS53: =AS52*(1-Population!$B$12)+M53 -> 60
A54: =A53+Population!$B$2 -> 51 | B54: =FLOOR(SUM(AA54:AS54),1) -> 280 | C54: =FLOOR(B54-I54-G54-SUM(AO54:AR54),1) -> 139 | D54: =AD53*Population!$P$36*Population!$C$2+AF53*Population!$P$38*Population!$C$2+AH53*Population!$P$40*Population!$C$2+AJ53*Population!$P$42*Population!$C$2+AL53*Population!$P$44*Population!$C$2+AN52*Population!$P$46*Population!$C$2 -> 2.8258973 | E54: =IF(B53>Population!$B$6*Population!$B$19,Population!$B$11,IF(Population!$J$6=1,D54,Population!$B$11*Population!$B$6*0.9/B53)) -> 2.8514204 | F54: =IF(B53>Population!$B$6*0.75,Population!$B$11,E54) -> 2.8514204 | G54: =IF(Population!$J$6=1,IF(E54>H53,H53,E54),IF(E54>X53,X53,E54)) -> 2.8514204 | H54: =FLOOR(AF54+AH54+AJ54+AL54+AN54,1) -> 41 | I54: =FLOOR(SUM(AA54:AD54),1) -> 59 | J54: =I54/H54 -> 1.4390244 | K54: =AA54*Population!$O$33+AB54*Population!$O$34+AC54*Population!$O$35+AD54*Population!$O$36+AE54*Population!$O$37+AF54*Population!$O$38+AG54*Population!$O$39+AH54*Population!$O$40+AI54*Population!$O$41+AJ54*Population!$O$42+AK54*Population!$O$41+AL54*Population!$O$42+AM54*Population!$O$43+AN54*Population!$O$44+AO54*Population!$O$45+AP54*Population!$O$46+AQ54*Population!$O$47+AR54*Population!$O$48 -> 0.55338166 | L54: =G54/H54 -> 0.069546839 | M54: =Population!$C$12 -> 3.0312 | N54: =(AE54+AF54+AG54+AH54+AI54+AJ54)/21*0.5 -> 1.2299576 | O54: =I54/B54 -> 0.21071429 | P54: =B54-I54-Q54*2 -> 149.14523 | Q54: =MAX(X54,I54/2) -> 35.927385 | R54: =SUM(AR53:AR53) -> 27.326441 | S54: =SUM(AR54:AR54)/B54 -> 0.1000241 | T54: =X54/H54 -> 0.87627769 | U54: =Population!$B$17*MIN(Y53:Z53) -> 1.3652547 | V54: =X53*Population!$B$18 -> 0.21470391 | W54: =AN53*T53*Population!$B$16 -> 1.0071504 | X54: =X53+U54-W54-V54 -> 35.927385 | Y54: =(AE54+AG54+AI54+AK54+AM54)-X54 -> 5.4781568 | Z54: =(AF54+AH54+AJ54+AL54+AN54)-X54 -> 5.4781568 | AA54: =(G54+Population!$B$15*AA53)*Population!M$33 -> 19.895847 | AB54: =AA53*Population!$B$16*Population!$M$33+AB53*Population!$B$15*Population!$M$34 -> 19.79678 | AC54: =(AB53*Population!$B$16*0.5*Population!$M$34)+(AC53*Population!$B$15*Population!M$35) -> 9.7081347 | AD54: =(AB53*Population!$B$16*0.5*Population!$M$34)+(AD53*Population!$B$15*Population!M$35) -> 9.7081347 | AE54: =(AC53*Population!$B$16*Population!M$35)+(AE53*Population!$B$15*Population!M$37) -> 9.3041666 | AF54: =(AD53*Population!$B$16*Population!M$35)+(AF53*Population!$B$15*Population!M$37) -> 9.3041666 | AG54: =(AE53*Population!$B$16*Population!M$37)+(AG53*Population!$B$15*Population!M$39) -> 8.6194036 | AH54: =(AF53*Population!$B$16*Population!M$37)+(AH53*Population!$B$15*Population!M$39) -> 8.6194036 | AI54: =(AG53*Population!$B$16*Population!M$39)+(AI53*Population!$B$15*Population!M$41) -> 7.9055387 | AJ54: =(AH53*Population!$B$16*Population!M$39)+(AJ53*Population!$B$15*Population!M$41) -> 7.9055387 | AK54: =(AI53*Population!$B$16*Population!M$41)+(AK53*Population!$B$15*Population!M$43) -> 7.5872514 | AL54: =(AJ53*Population!$B$16*Population!M$41)+(AL53*Population!$B$15*Population!M$43) -> 7.5872514 | AM54: =(AK53*Population!$B$16*Population!M$43)+(AM53*Population!$B$15*Population!M$45) -> 7.9891819 | AN54: =(AL53*Population!$B$16*Population!M$43)+(AN53*Population!$B$15*Population!M$45) -> 7.9891819 | AO54: =(AM53+AN53)*Population!$B$16*Population!$M$45+AO53*Population!$B$15*Population!$M$47 -> 17.366255 | AP54: =AO53*Population!M$47*Population!$B$16+AP53*Population!$B$15*Population!M$48 -> 18.648196 | AQ54: =AP53*Population!M$48*Population!$B$16+AQ53*Population!$B$15*Population!M$49 -> 15.054658 | AR54: =(AQ53*Population!$B$16+AR53)*Population!M$50 -> 28.006748 | AS54: =AS53*(1-Population!$B$12)+M54 -> 60
A55: =A54+Population!$B$2 -> 52 | B55: =FLOOR(SUM(AA55:AS55),1) -> 281 | C55: =FLOOR(B55-I55-G55-SUM(AO55:AR55),1) -> 140 | D55: =AD54*Population!$P$36*Population!$C$2+AF54*Population!$P$38*Population!$C$2+AH54*Population!$P$40*Population!$C$2+AJ54*Population!$P$42*Population!$C$2+AL54*Population!$P$44*Population!$C$2+AN53*Population!$P$46*Population!$C$2 -> 2.8437427 | E55: =IF(B54>Population!$B$6*Population!$B$19,Population!$B$11,IF(Population!$J$6=1,D55,Population!$B$11*Population!$B$6*0.9/B54)) -> 2.8514204 | F55: =IF(B54>Population!$B$6*0.75,Population!$B$11,E55) -> 2.8514204 | G55: =IF(Population!$J$6=1,IF(E55>H54,H54,E55),IF(E55>X54,X54,E55)) -> 2.8514204 | H55: =FLOOR(AF55+AH55+AJ55+AL55+AN55,1) -> 41 | I55: =FLOOR(SUM(AA55:AD55),1) -> 59 | J55: =I55/H55 -> 1.4390244 | K55: =AA55*Population!$O$33+AB55*Population!$O$34+AC55*Population!$O$35+AD55*Population!$O$36+AE55*Population!$O$37+AF55*Population!$O$38+AG55*Population!$O$39+AH55*Population!$O$40+AI55*Population!$O$41+AJ55*Population!$O$42+AK55*Population!$O$41+AL55*Population!$O$42+AM55*Population!$O$43+AN55*Population!$O$44+AO55*Population!$O$45+AP55*Population!$O$46+AQ55*Population!$O$47+AR55*Population!$O$48 -> 0.55619859 | L55: =G55/H55 -> 0.069546839 | M55: =Population!$C$12 -> 3.0312 | N55: =(AE55+AF55+AG55+AH55+AI55+AJ55)/21*0.5 -> 1.2403274 | O55: =I55/B55 -> 0.20996441 | P55: =B55-I55-Q55*2 -> 149.83749 | Q55: =MAX(X55,I55/2) -> 36.081254 | R55: =SUM(AR54:AR54) -> 28.006748 | S55: =SUM(AR55:AR55)/B55 -> 0.10189986 | T55: =X55/H55 -> 0.88003059 | U55: =Population!$B$17*MIN(Y54:Z54) -> 1.3695392 | V55: =X54*Population!$B$18 -> 0.21556431 | W55: =AN54*T54*Population!$B$16 -> 1.000106 | X55: =X54+U55-W55-V55 -> 36.081254 | Y55: =(AE55+AG55+AI55+AK55+AM55)-X55 -> 5.5002207 | Z55: =(AF55+AH55+AJ55+AL55+AN55)-X55 -> 5.5002207 | AA55: =(G55+Population!$B$15*AA54)*Population!M$33 -> 19.896922 | AB55: =AA54*Population!$B$16*Population!$M$33+AB54*Population!$B$15*Population!$M$34 -> 19.805961 | AC55: =(AB54*Population!$B$16*0.5*Population!$M$34)+(AC54*Population!$B$15*Population!M$35) -> 9.7270657 | AD55: =(AB54*Population!$B$16*0.5*Population!$M$34)+(AD54*Population!$B$15*Population!M$35) -> 9.7270657 | AE55: =(AC54*Population!$B$16*Population!M$35)+(AE54*Population!$B$15*Population!M$37) -> 9.3529545 | AF55: =(AD54*Population!$B$16*Population!M$35)+(AF54*Population!$B$15*Population!M$37) -> 9.3529545 | AG55: =(AE54*Population!$B$16*Population!M$37)+(AG54*Population!$B$15*Population!M$39) -> 8.7017751 | AH55: =(AF54*Population!$B$16*Population!M$37)+(AH54*Population!$B$15*Population!M$39) -> 8.7017751 | AI55: =(AG54*Population!$B$16*Population!M$39)+(AI54*Population!$B$15*Population!M$41) -> 7.992145 | AJ55: =(AH54*Population!$B$16*Population!M$39)+(AJ54*Population!$B$15*Population!M$41) -> 7.992145 | AK55: =(AI54*Population!$B$16*Population!M$41)+(AK54*Population!$B$15*Population!M$43) -> 7.6180662 | AL55: =(AJ54*Population!$B$16*Population!M$41)+(AL54*Population!$B$15*Population!M$43) -> 7.6180662 | AM55: =(AK54*Population!$B$16*Population!M$43)+(AM54*Population!$B$15*Population!M$45) -> 7.9165342 | AN55: =(AL54*Population!$B$16*Population!M$43)+(AN54*Population!$B$15*Population!M$45) -> 7.9165342 | AO55: =(AM54+AN54)*Population!$B$16*Population!$M$45+AO54*Population!$B$15*Population!$M$47 -> 17.055684 | AP55: =AO54*Population!M$47*Population!$B$16+AP54*Population!$B$15*Population!M$48 -> 18.33119 | AQ55: =AP54*Population!M$48*Population!$B$16+AQ54*Population!$B$15*Population!M$49 -> 14.896796 | AR55: =(AQ54*Population!$B$16+AR54)*Population!M$50 -> 28.633861 | AS55: =AS54*(1-Population!$B$12)+M55 -> 60
A56: =A55+Population!$B$2 -> 53 | B56: =FLOOR(SUM(AA56:AS56),1) -> 281 | C56: =FLOOR(B56-I56-G56-SUM(AO56:AR56),1) -> 140 | D56: =AD55*Population!$P$36*Population!$C$2+AF55*Population!$P$38*Population!$C$2+AH55*Population!$P$40*Population!$C$2+AJ55*Population!$P$42*Population!$C$2+AL55*Population!$P$44*Population!$C$2+AN54*Population!$P$46*Population!$C$2 -> 2.8614599 | E56: =IF(B55>Population!$B$6*Population!$B$19,Population!$B$11,IF(Population!$J$6=1,D56,Population!$B$11*Population!$B$6*0.9/B55)) -> 2.8514204 | F56: =IF(B55>Population!$B$6*0.75,Population!$B$11,E56) -> 2.8514204 | G56: =IF(Population!$J$6=1,IF(E56>H55,H55,E56),IF(E56>X55,X55,E56)) -> 2.8514204 | H56: =FLOOR(AF56+AH56+AJ56+AL56+AN56,1) -> 41 | I56: =FLOOR(SUM(AA56:AD56),1) -> 59 | J56: =I56/H56 -> 1.4390244 | K56: =AA56*Population!$O$33+AB56*Population!$O$34+AC56*Population!$O$35+AD56*Population!$O$36+AE56*Population!$O$37+AF56*Population!$O$38+AG56*Population!$O$39+AH56*Population!$O$40+AI56*Population!$O$41+AJ56*Population!$O$42+AK56*Population!$O$41+AL56*Population!$O$42+AM56*Population!$O$43+AN56*Population!$O$44+AO56*Population!$O$45+AP56*Population!$O$46+AQ56*Population!$O$47+AR56*Population!$O$48 -> 0.55862609 | L56: =G56/H56 -> 0.069546839 | M56: =Population!$C$12 -> 3.0312 | N56: =(AE56+AF56+AG56+AH56+AI56+AJ56)/21*0.5 -> 1.2502201 | O56: =I56/B56 -> 0.20996441 | P56: =B56-I56-Q56*2 -> 149.51087 | Q56: =MAX(X56,I56/2) -> 36.244566 | R56: =SUM(AR55:AR55) -> 28.633861 | S56: =SUM(AR56:AR56)/B56 -> 0.10394263 | T56: =X56/H56 -> 0.8840138 | U56: =Population!$B$17*MIN(Y55:Z55) -> 1.3750552 | V56: =X55*Population!$B$18 -> 0.21648753 | W56: =AN55*T55*Population!$B$16 -> 0.99525604 | X56: =X55+U56-W56-V56 -> 36.244566 | Y56: =(AE56+AG56+AI56+AK56+AM56)-X56 -> 5.5256115 | Z56: =(AF56+AH56+AJ56+AL56+AN56)-X56 -> 5.5256115 | AA56: =(G56+Population!$B$15*AA55)*Population!M$33 -> 19.897843 | AB56: =AA55*Population!$B$16*Population!$M$33+AB55*Population!$B$15*Population!$M$34 -> 19.813981 | AC56: =(AB55*Population!$B$16*0.5*Population!$M$34)+(AC55*Population!$B$15*Population!M$35) -> 9.7439324 | AD56: =(AB55*Population!$B$16*0.5*Population!$M$34)+(AD55*Population!$B$15*Population!M$35) -> 9.7439324 | AE56: =(AC55*Population!$B$16*Population!M$35)+(AE55*Population!$B$15*Population!M$37) -> 9.3974346 | AF56: =(AD55*Population!$B$16*Population!M$35)+(AF55*Population!$B$15*Population!M$37) -> 9.3974346 | AG56: =(AE55*Population!$B$16*Population!M$37)+(AG55*Population!$B$15*Population!M$39) -> 8.7792068 | AH56: =(AF55*Population!$B$16*Population!M$37)+(AH55*Population!$B$15*Population!M$39) -> 8.7792068 | AI56: =(AG55*Population!$B$16*Population!M$39)+(AI55*Population!$B$15*Population!M$41) -> 8.0779811 | AJ56: =(AH55*Population!$B$16*Population!M$39)+(AJ55*Population!$B$15*Population!M$41) -> 8.0779811 | AK56: =(AI55*Population!$B$16*Population!M$41)+(AK55*Population!$B$15*Population!M$43) -> 7.6567767 | AL56: =(AJ55*Population!$B$16*Population!M$41)+(AL55*Population!$B$15*Population!M$43) -> 7.6567767 | AM56: =(AK55*Population!$B$16*Population!M$43)+(AM55*Population!$B$15*Population!M$45) -> 7.8587781 | AN56: =(AL55*Population!$B$16*Population!M$43)+(AN55*Population!$B$15*Population!M$45) -> 7.8587781 | AO56: =(AM55+AN55)*Population!$B$16*Population!$M$45+AO55*Population!$B$15*Population!$M$47 -> 16.770693 | AP56: =AO55*Population!M$47*Population!$B$16+AP55*Population!$B$15*Population!M$48 -> 18.017395 | AQ56: =AP55*Population!M$48*Population!$B$16+AQ55*Population!$B$15*Population!M$49 -> 14.723364 | AR56: =(AQ55*Population!$B$16+AR55)*Population!M$50 -> 29.20788 | AS56: =AS55*(1-Population!$B$12)+M56 -> 60
A57: =A56+Population!$B$2 -> 54 | B57: =FLOOR(SUM(AA57:AS57),1) -> 281 | C57: =FLOOR(B57-I57-G57-SUM(AO57:AR57),1) -> 140 | D57: =AD56*Population!$P$36*Population!$C$2+AF56*Population!$P$38*Population!$C$2+AH56*Population!$P$40*Population!$C$2+AJ56*Population!$P$42*Population!$C$2+AL56*Population!$P$44*Population!$C$2+AN55*Population!$P$46*Population!$C$2 -> 2.87896 | E57: =IF(B56>Population!$B$6*Population!$B$19,Population!$B$11,IF(Population!$J$6=1,D57,Population!$B$11*Population!$B$6*0.9/B56)) -> 2.8514204 | F57: =IF(B56>Population!$B$6*0.75,Population!$B$11,E57) -> 2.8514204 | G57: =IF(Population!$J$6=1,IF(E57>H56,H56,E57),IF(E57>X56,X56,E57)) -> 2.8514204 | H57: =FLOOR(AF57+AH57+AJ57+AL57+AN57,1) -> 41 | I57: =FLOOR(SUM(AA57:AD57),1) -> 59 | J57: =I57/H57 -> 1.4390244 | K57: =AA57*Population!$O$33+AB57*Population!$O$34+AC57*Population!$O$35+AD57*Population!$O$36+AE57*Population!$O$37+AF57*Population!$O$38+AG57*Population!$O$39+AH57*Population!$O$40+AI57*Population!$O$41+AJ57*Population!$O$42+AK57*Population!$O$41+AL57*Population!$O$42+AM57*Population!$O$43+AN57*Population!$O$44+AO57*Population!$O$45+AP57*Population!$O$46+AQ57*Population!$O$47+AR57*Population!$O$48 -> 0.56068992 | L57: =G57/H57 -> 0.069546839 | M57: =Population!$C$12 -> 3.0312 | N57: =(AE57+AF57+AG57+AH57+AI57+AJ57)/21*0.5 -> 1.2596278 | O57: =I57/B57 -> 0.20996441 | P57: =B57-I57-Q57*2 -> 149.16793 | Q57: =MAX(X57,I57/2) -> 36.416034 | R57: =SUM(AR56:AR56) -> 29.20788 | S57: =SUM(AR57:AR57)/B57 -> 0.10579849 | T57: =X57/H57 -> 0.88819596 | U57: =Population!$B$17*MIN(Y56:Z56) -> 1.3814029 | V57: =X56*Population!$B$18 -> 0.2174674 | W57: =AN56*T56*Population!$B$16 -> 0.99246689 | X57: =X56+U57-W57-V57 -> 36.416034 | Y57: =(AE57+AG57+AI57+AK57+AM57)-X57 -> 5.5531682 | Z57: =(AF57+AH57+AJ57+AL57+AN57)-X57 -> 5.5531682 | AA57: =(G57+Population!$B$15*AA56)*Population!M$33 -> 19.898632 | AB57: =AA56*Population!$B$16*Population!$M$33+AB56*Population!$B$15*Population!$M$34 -> 19.820986 | AC57: =(AB56*Population!$B$16*0.5*Population!$M$34)+(AC56*Population!$B$15*Population!M$35) -> 9.7589486 | AD57: =(AB56*Population!$B$16*0.5*Population!$M$34)+(AD56*Population!$B$15*Population!M$35) -> 9.7589486 | AE57: =(AC56*Population!$B$16*Population!M$35)+(AE56*Population!$B$15*Population!M$37) -> 9.4379314 | AF57: =(AD56*Population!$B$16*Population!M$35)+(AF56*Population!$B$15*Population!M$37) -> 9.4379314 | AG57: =(AE56*Population!$B$16*Population!M$37)+(AG56*Population!$B$15*Population!M$39) -> 8.8517976 | AH57: =(AF56*Population!$B$16*Population!M$37)+(AH56*Population!$B$15*Population!M$39) -> 8.8517976 | AI57: =(AG56*Population!$B$16*Population!M$39)+(AI56*Population!$B$15*Population!M$41) -> 8.1624542 | AJ57: =(AH56*Population!$B$16*Population!M$39)+(AJ56*Population!$B$15*Population!M$41) -> 8.1624542 | AK57: =(AI56*Population!$B$16*Population!M$41)+(AK56*Population!$B$15*Population!M$43) -> 7.7021322 | AL57: =(AJ56*Population!$B$16*Population!M$41)+(AL56*Population!$B$15*Population!M$43) -> 7.7021322 | AM57: =(AK56*Population!$B$16*Population!M$43)+(AM56*Population!$B$15*Population!M$45) -> 7.8148873 | AN57: =(AL56*Population!$B$16*Population!M$43)+(AN56*Population!$B$15*Population!M$45) -> 7.8148873 | AO57: =(AM56+AN56)*Population!$B$16*Population!$M$45+AO56*Population!$B$15*Population!$M$47 -> 16.511716 | AP57: =AO56*Population!M$47*Population!$B$16+AP56*Population!$B$15*Population!M$48 -> 17.709959 | AQ57: =AP56*Population!M$48*Population!$B$16+AQ56*Population!$B$15*Population!M$49 -> 14.537715 | AR57: =(AQ56*Population!$B$16+AR56)*Population!M$50 -> 29.729375 | AS57: =AS56*(1-Population!$B$12)+M57 -> 60
