Workbook

Sheet Mission
A1: Based on | C1: http://www.math.ucr.edu/home/baez/physics/Relativity/SR/Rocket/rocket.html | I1: Constants
A2: Total Vehicle Mass | B2: =Vehicle!D58 -> 9.5614478e+10 | C2: kg fuel/J thrust | E2: =Vehicle!B83 -> 7.0167921e-17 | I2: speed of light | J2: =Conversion!B6 -> 299792458 | K2: m/s | M2: Start Date: | N2: 2022
A3: Actual Mission: | I3: seconds/year | J3: =Conversion!B3 -> 31557600 | K3: s | M3: Arrived | N3: =N2+B8 -> 2086.7169
A4: Accelleration | B4: =9.8*0.8 -> 7.84 | C4: m/s/s | I4: Power fuel per year | J4: ='Power Consumption'!C44 -> 5521047.9 | K4: kwh/yr | M4: Mission: | N4: 5
A5: Coast Phase Velocity | B5: 0.7143 | C5: c | D5: =B5*J2 -> 2.1414175e+08 | E5: m/s | F5: =1/SQRT(1-D5^2/J2^2) -> 1.4288988 | I5: Light year | J5: =Conversion!B5 -> 9.4607e+15 | K5: meters | M5: Depart: | N5: =N3+N4 -> 2091.7169
A6: Total Distance | B6: 45.5 | C6: ly | D6: =B6*Conversion!$B$5 -> 4.3046185e+17 | E6: m | I6: Interstellar Medium | J6: =0.5*1000000 -> 500000 | K6: Molecules/m^3 | M6: Return: | N6: =N5+B8 -> 2156.4339
A7: Arrival Time (Ship) | B7: =D15+E18 -> 45.731603 | D7: =(($D$6-D19*2)/D5/B12+2*D19)/$J$3 -> 46.749923 | I7: Avagadro's Number | J7: 6.0221408e+23
A8: Arrival Time (Map) | B8: =D14+G18 -> 64.716936 | C8: Fuel (power) | D8: =B7*'Power Consumption'!$C$44 -> 2.5248637e+08 | I8: Interstellar Atomic Mass | J8: =0.91*1.008+4.003*0.9 -> 4.51998 | L8: 12.011
A9: Fuel Used | B9: =K28 -> 0.58391033 | C9: =EXP($B$4*(D19*2)/Conversion!$B$6)-1 -> 5.00035 | E9: =C9/B9 -> 8.5635581 | I9: Ice Density | J9: 916.7 | K9: kg/m^3
A10: Coast Phase | B10: map | C10: ship | I10: Graphite | J10: =2.2*1000 -> 2200 | K10: kg/m^3
A11: Distance | B11: =D6-B18 -> 4.206283e+17 | C11: m | D11: =B11/B12 -> 2.9437236e+17 | E11: m
A12: Gamma | B12: =1/SQRT(1-D5^2/J2^2) -> 1.4288988 | E12: =1/B12 -> 0.69983963 | I12: Collector Radius | J12: 680 | K12: Area | L12: =PI()*J12^2 -> 1452672.4
A13: Velocity | C13: m/s | E13: c | I13: Total Material Collected | J13: =D6*$L$12*$J$6 -> 3.1266003e+29 | L13: =J13*$J$8/$J$7 -> 2346702.2 | M13: kg | N13: =J13*$L$8/$J$7 -> 6235921.4 | O13: =N13/M19/J10 -> 0.002595663
A14: Travel Time (map) | B14: =B11/D5 -> 1.9642517e+09 | C14: s | D14: =B14/J3 -> 62.243381 | E14: yr | N14: =N13/1000 -> 6235.9214
A15: Travel Time (ship) | B15: =D11/D5 -> 1.3746612e+09 | C15: s | D15: =B15/J3 -> 43.560385 | E15: yr
I16: Reaction Mass | J16: =C9*B2 -> 4.7810586e+11 | L16: Cylindrical Tank | N16: Spherical Tank
A17: Thrust Phase | B17: Distance | C17: Dist (ly) | D17: Time (s) | E17: Time (yr) | F17: Map Time (s) | G17: Map Time (yr) | I17: Total Volume | J17: =J16/$J$9 -> 5.2155106e+08 | K17: m^3 | L17: Outer Radius | M17: 900 | N17: Radius | O17: =POWER(3*J17/(4*PI()),1/3) -> 499.34734 | P17: meter
A18: Total | B18: =B19*2 -> 9.833546e+15 | C18: =B18/Conversion!$B$5 -> 1.03941 | D18: =D19*2 -> 68517023 | E18: =D18/Conversion!$C$3 -> 2.171218 | F18: =F19*2 -> 78057880 | G18: =F18/Conversion!$C$3 -> 2.4735558 | I18: Steel Support | J18: =J17/Vehicle!B66 -> 2904829.5 | K18: kg | L18: Inner Radius | M18: 680
A19: Midpoint | B19: =(J2^2/B4)*(B12-1) -> 4.916773e+15 | C19: =B19/Conversion!$B$5 -> 0.51970499 | D19: =Conversion!$B$6/B4*ACOSH(B4*$B$19/Conversion!$C$6+1) -> 34258512 | E19: =D19/Conversion!$C$3 -> 1.085609 | F19: =SQRT(($B$19/Conversion!$B$6)^2+2*$B$19/B4) -> 39028940 | G19: =F19/Conversion!$C$3 -> 1.2367779 | L19: Cross Section Area | M19: =PI()*M17^2-PI()*M18^2 -> 1092017.6 | N19: Area | O19: =O17^2*PI() -> 783349.11
B20: =B18/B11 -> 0.023378232 | L20: Height | M20: =J17/M19 -> 477.60316 | N20: Height | O20: =O17*2 -> 998.69468
A21: G | B21: =9.8*1 -> 9.8 | G21: =1/C31 -> 0.71414284 | I21: Sphere Radius
L22: Total Journey | N22: Coast Distance | P22: Interstellar Mass Collected | Q22: Ships
A23: %c | B23: Vel (m/s) | C23: Gamma | D23: Distance | E23: ly | F23: Map Time | G23: yr | H23: Proper Time | I23: Years | J23: React Mass | L23: Proper | M23: Earth
A24: 0.1 | B24: =A24*$J$2 -> 29979246 | C24: =1/SQRT(1-B24^2/$J$2^2) -> 1.0050378 | D24: =$J$2^2/$B$21*(C24-1) -> 4.6201659e+13 | E24: =D24/$J$5 -> 0.0048835349 | F24: =SQRT((D24/$J$2)^2+2*D24/$B$21) -> 3074517.9 | G24: =F24/$J$3 -> 0.097425594 | H24: =$J$2/$B$21*ASINH($B$21*F24/$J$2) -> 3069365.4 | I24: =H24/$J$3 -> 0.097262319 | J24: =EXP($B$21*2*H24/$J$2)-1 -> 0.22222222 | K24: =EXP($B$21*H24/$J$2)-1 -> 0.1055416 | L24: =(($D$6-2*D24)/B24/C24+2*H24)/$J$3 -> 452.81517 | M24: =(($D$6-2*D24)/B24+F24*2)/$J$3 -> 455.09572 | N24: =$D$6-D24*2 -> 4.3036945e+17 | O24: =N24/$J$5 -> 45.490233 | P24: =D24*$L$12*$J$6*$J$8/$J$7 -> 251.87257 | Q24: =P24/$B$2 -> 2.6342514e-09
A25: 0.2 | B25: =A25*$J$2 -> 59958492 | C25: =1/SQRT(1-B25^2/$J$2^2) -> 1.0206207 | D25: =$J$2^2/$B$21*(C25-1) -> 1.8911209e+14 | E25: =D25/$J$5 -> 0.019989228 | F25: =SQRT((D25/$J$2)^2+2*D25/$B$21) -> 6244375.4 | G25: =F25/$J$3 -> 0.19787232 | H25: =$J$2/$B$21*ASINH($B$21*F25/$J$2) -> 6201805.2 | I25: =H25/$J$3 -> 0.19652335 | J25: =EXP($B$21*2*H25/$J$2)-1 -> 0.5 | K25: =EXP($B$21*H25/$J$2)-1 -> 0.22474487 | L25: =(($D$6-2*D25)/B25/C25+2*H25)/$J$3 -> 223.10004 | M25: =(($D$6-2*D25)/B25+F25*2)/$J$3 -> 227.69512 | N25: =$D$6-D25*2 -> 4.3008363e+17 | O25: =N25/$J$5 -> 45.460022 | P25: =D25*$L$12*$J$6*$J$8/$J$7 -> 1030.9619 | Q25: =P25/$B$2 -> 1.0782487e-08
A26: 0.3 | B26: =A26*$J$2 -> 89937737 | C26: =1/SQRT(1-B26^2/$J$2^2) -> 1.0482848 | D26: =$J$2^2/$B$21*(C26-1) -> 4.4281885e+14 | E26: =D26/$J$5 -> 0.04680614 | F26: =SQRT((D26/$J$2)^2+2*D26/$B$21) -> 9620445.5 | G26: =F26/$J$3 -> 0.30485352 | H26: =$J$2/$B$21*ASINH($B$21*F26/$J$2) -> 9468535 | I26: =H26/$J$3 -> 0.30003977 | J26: =EXP($B$21*2*H26/$J$2)-1 -> 0.85714286 | K26: =EXP($B$21*H26/$J$2)-1 -> 0.36277029 | L26: =(($D$6-2*D26)/B26/C26+2*H26)/$J$3 -> 144.98273 | M26: =(($D$6-2*D26)/B26+F26*2)/$J$3 -> 151.96385 | N26: =$D$6-D26*2 -> 4.2957621e+17 | O26: =N26/$J$5 -> 45.406388 | P26: =D26*$L$12*$J$6*$J$8/$J$7 -> 2414.0675 | Q26: =P26/$B$2 -> 2.5247928e-08
A27: 0.4 | B27: =A27*$J$2 -> 1.1991698e+08 | C27: =1/SQRT(1-B27^2/$J$2^2) -> 1.0910895 | D27: =$J$2^2/$B$21*(C27-1) -> 8.3537873e+14 | E27: =D27/$J$5 -> 0.088299886 | F27: =SQRT((D27/$J$2)^2+2*D27/$B$21) -> 13351036 | G27: =F27/$J$3 -> 0.42306881 | H27: =$J$2/$B$21*ASINH($B$21*F27/$J$2) -> 12959873 | I27: =H27/$J$3 -> 0.41067359 | J27: =EXP($B$21*2*H27/$J$2)-1 -> 1.3333333 | K27: =EXP($B$21*H27/$J$2)-1 -> 0.52752523 | L27: =(($D$6-2*D27)/B27/C27+2*H27)/$J$3 -> 104.66997 | M27: =(($D$6-2*D27)/B27+F27*2)/$J$3 -> 114.15427 | N27: =$D$6-D27*2 -> 4.2879109e+17 | O27: =N27/$J$5 -> 45.3234 | P27: =D27*$L$12*$J$6*$J$8/$J$7 -> 4554.1437 | Q27: =P27/$B$2 -> 4.7630273e-08
A28: 0.43 | B28: =A28*$J$2 -> 1.2891076e+08 | C28: =1/SQRT(1-B28^2/$J$2^2) -> 1.1076296 | D28: =$J$2^2/$B$21*(C28-1) -> 9.8706797e+14 | E28: =D28/$J$5 -> 0.1043335 | F28: =SQRT((D28/$J$2)^2+2*D28/$B$21) -> 14569936 | G28: =F28/$J$3 -> 0.4616934 | H28: =$J$2/$B$21*ASINH($B$21*F28/$J$2) -> 14068730 | I28: =H28/$J$3 -> 0.44581116 | J28: =EXP($B$21*2*H28/$J$2)-1 -> 1.5087719 | K28: =EXP($B$21*H28/$J$2)-1 -> 0.58391033 | L28: =(($D$6-2*D28)/B28/C28+2*H28)/$J$3 -> 95.985092 | M28: =(($D$6-2*D28)/B28+F28*2)/$J$3 -> 106.25173 | N28: =$D$6-D28*2 -> 4.2848771e+17 | O28: =N28/$J$5 -> 45.291333 | P28: =D28*$L$12*$J$6*$J$8/$J$7 -> 5381.0914 | Q28: =P28/$B$2 -> 5.6279044e-08 | R28: Break Even Point for Reaction Mass Collection in Flight
A29: 0.5 | B29: =A29*$J$2 -> 149896229 | C29: =1/SQRT(1-B29^2/$J$2^2) -> 1.1547005 | D29: =$J$2^2/$B$21*(C29-1) -> 1.4187542e+15 | E29: =D29/$J$5 -> 0.14996292 | F29: =SQRT((D29/$J$2)^2+2*D29/$B$21) -> 17661761 | G29: =F29/$J$3 -> 0.55966743 | H29: =$J$2/$B$21*ASINH($B$21*F29/$J$2) -> 16803861 | I29: =H29/$J$3 -> 0.53248223 | J29: =EXP($B$21*2*H29/$J$2)-1 -> 2 | K29: =EXP($B$21*H29/$J$2)-1 -> 0.73205081 | L29: =(($D$6-2*D29)/B29/C29+2*H29)/$J$3 -> 79.353537 | M29: =(($D$6-2*D29)/B29+F29*2)/$J$3 -> 91.519192 | N29: =$D$6-D29*2 -> 4.2762434e+17 | O29: =N29/$J$5 -> 45.200074 | P29: =D29*$L$12*$J$6*$J$8/$J$7 -> 7734.4684 | Q29: =P29/$B$2 -> 8.089223e-08
A30: 0.6 | B30: =A30*$J$2 -> 1.7987547e+08 | C30: =1/SQRT(1-B30^2/$J$2^2) -> 1.25 | D30: =$J$2^2/$B$21*(C30-1) -> 2.2927428e+15 | E30: =D30/$J$5 -> 0.24234389 | F30: =SQRT((D30/$J$2)^2+2*D30/$B$21) -> 22943300 | G30: =F30/$J$3 -> 0.72702932 | H30: =$J$2/$B$21*ASINH($B$21*F30/$J$2) -> 21204112 | I30: =H30/$J$3 -> 0.67191776 | J30: =EXP($B$21*2*H30/$J$2)-1 -> 3 | K30: =EXP($B$21*H30/$J$2)-1 -> 1 | L30: =(($D$6-2*D30)/B30/C30+2*H30)/$J$3 -> 61.364059 | M30: =(($D$6-2*D30)/B30+F30*2)/$J$3 -> 76.479337 | N30: =$D$6-D30*2 -> 4.2587636e+17 | O30: =N30/$J$5 -> 45.015312 | P30: =D30*$L$12*$J$6*$J$8/$J$7 -> 12499.097 | Q30: =P30/$B$2 -> 1.307239e-07
A31: 0.7 | B31: =A31*$J$2 -> 2.0985472e+08 | C31: =1/SQRT(1-B31^2/$J$2^2) -> 1.4002801 | D31: =$J$2^2/$B$21*(C31-1) -> 3.6709571e+15 | E31: =D31/$J$5 -> 0.38802172 | F31: =SQRT((D31/$J$2)^2+2*D31/$B$21) -> 29985243 | G31: =F31/$J$3 -> 0.95017503 | H31: =$J$2/$B$21*ASINH($B$21*F31/$J$2) -> 26531649 | I31: =H31/$J$3 -> 0.84073721 | J31: =EXP($B$21*2*H31/$J$2)-1 -> 4.6666667 | K31: =EXP($B$21*H31/$J$2)-1 -> 1.3804761 | L31: =(($D$6-2*D31)/B31/C31+2*H31)/$J$3 -> 47.30889 | M31: =(($D$6-2*D31)/B31+F31*2)/$J$3 -> 65.791511 | N31: =$D$6-D31*2 -> 4.2311994e+17 | O31: =N31/$J$5 -> 44.723957 | P31: =D31*$L$12*$J$6*$J$8/$J$7 -> 20012.559 | Q31: =P31/$B$2 -> 2.0930469e-07
A32: 0.7143 | B32: =A32*$J$2 -> 2.1414175e+08 | C32: =1/SQRT(1-B32^2/$J$2^2) -> 1.4288988 | D32: =$J$2^2/$B$21*(C32-1) -> 3.9334184e+15 | E32: =D32/$J$5 -> 0.41576399 | F32: =SQRT((D32/$J$2)^2+2*D32/$B$21) -> 31223152 | G32: =F32/$J$3 -> 0.98940199 | H32: =$J$2/$B$21*ASINH($B$21*F32/$J$2) -> 27406809 | I32: =H32/$J$3 -> 0.86846938 | J32: =EXP($B$21*2*H32/$J$2)-1 -> 5.00035 | K32: =EXP($B$21*H32/$J$2)-1 -> 1.4495612 | L32: =(($D$6-2*D32)/B32/C32+2*H32)/$J$3 -> 45.500996 | M32: =(($D$6-2*D32)/B32+F32*2)/$J$3 -> 64.513213 | N32: =$D$6-D32*2 -> 4.2259501e+17 | O32: =N32/$J$5 -> 44.668472 | P32: =D32*$L$12*$J$6*$J$8/$J$7 -> 21443.391 | Q32: =P32/$B$2 -> 2.2426929e-07
A33: 0.75 | B33: =A33*$J$2 -> 2.2484434e+08 | C33: =1/SQRT(1-B33^2/$J$2^2) -> 1.5118579 | D33: =$J$2^2/$B$21*(C33-1) -> 4.694234e+15 | E33: =D33/$J$5 -> 0.49618252 | F33: =SQRT((D33/$J$2)^2+2*D33/$B$21) -> 34687010 | G33: =F33/$J$3 -> 1.099165 | H33: =$J$2/$B$21*ASINH($B$21*F33/$J$2) -> 29763734 | I33: =H33/$J$3 -> 0.94315582 | J33: =EXP($B$21*2*H33/$J$2)-1 -> 6 | K33: =EXP($B$21*H33/$J$2)-1 -> 1.6457513 | L33: =(($D$6-2*D33)/B33/C33+2*H33)/$J$3 -> 41.13823 | M33: =(($D$6-2*D33)/B33+F33*2)/$J$3 -> 61.541652 | N33: =$D$6-D33*2 -> 4.2107338e+17 | O33: =N33/$J$5 -> 44.507635 | P33: =D33*$L$12*$J$6*$J$8/$J$7 -> 25591.047 | Q33: =P33/$B$2 -> 2.6764824e-07
A34: =B34/$J$2 -> 0.77454736 | B34: =$B$21*F34/C34 -> 2.3220346e+08 | C34: =COSH($B$21*H34/$J$2) -> 1.5809879 | D34: =$J$2^2/$B$21*(C34-1) -> 5.328223e+15 | E34: =D34/$J$5 -> 0.56319543 | F34: =SQRT((D34/$J$2)^2+2*D34/$B$21) -> 37460290 | G34: =F34/$J$3 -> 1.187045 | H34: =I34*$J$3 -> 31557600 | I34: =1*9.8/$B$21 -> 1 | J34: =EXP($B$21*2*H34/$J$2)-1 -> 6.8710426 | K34: =EXP($B$21*H34/$J$2)-1 -> 1.8055378 | L34: =(($D$6-2*D34)/B34/C34+2*H34)/$J$3 -> 38.23655 | M34: =(($D$6-2*D34)/B34+F34*2)/$J$3 -> 59.663636 | N34: =$D$6-D34*2 -> 4.198054e+17 | O34: =N34/$J$5 -> 44.373609 | P34: =D34*$L$12*$J$6*$J$8/$J$7 -> 29047.296 | Q34: =P34/$B$2 -> 3.03796e-07
A35: 0.8 | B35: =A35*$J$2 -> 2.3983397e+08 | C35: =1/SQRT(1-B35^2/$J$2^2) -> 1.6666667 | D35: =$J$2^2/$B$21*(C35-1) -> 6.1139808e+15 | E35: =D35/$J$5 -> 0.64625036 | F35: =SQRT((D35/$J$2)^2+2*D35/$B$21) -> 40788090 | G35: =F35/$J$3 -> 1.2924966 | H35: =$J$2/$B$21*ASINH($B$21*F35/$J$2) -> 33607722 | I35: =H35/$J$3 -> 1.0649645 | J35: =EXP($B$21*2*H35/$J$2)-1 -> 8 | K35: =EXP($B$21*H35/$J$2)-1 -> 2 | L35: =(($D$6-2*D35)/B35/C35+2*H35)/$J$3 -> 35.285447 | M35: =(($D$6-2*D35)/B35+F35*2)/$J$3 -> 57.844189 | N35: =$D$6-D35*2 -> 4.1823389e+17 | O35: =N35/$J$5 -> 44.207499 | P35: =D35*$L$12*$J$6*$J$8/$J$7 -> 33330.926 | Q35: =P35/$B$2 -> 3.4859706e-07
A36: 0.83334 | B36: =A36*$J$2 -> 2.4982905e+08 | C36: =1/SQRT(1-B36^2/$J$2^2) -> 1.809101 | D36: =$J$2^2/$B$21*(C36-1) -> 7.4202416e+15 | E36: =D36/$J$5 -> 0.78432268 | F36: =SQRT((D36/$J$2)^2+2*D36/$B$21) -> 46118976 | G36: =F36/$J$3 -> 1.4614222 | H36: =$J$2/$B$21*ASINH($B$21*F36/$J$2) -> 36677755 | I36: =H36/$J$3 -> 1.1622479 | J36: =EXP($B$21*2*H36/$J$2)-1 -> 10.00048 | K36: =EXP($B$21*H36/$J$2)-1 -> 2.3166972 | L36: =(($D$6-2*D36)/B36/C36+2*H36)/$J$3 -> 31.464403 | M36: =(($D$6-2*D36)/B36+F36*2)/$J$3 -> 55.639878 | N36: =$D$6-D36*2 -> 4.1562137e+17 | O36: =N36/$J$5 -> 43.931355 | P36: =D36*$L$12*$J$6*$J$8/$J$7 -> 40452.127 | Q36: =P36/$B$2 -> 4.2307533e-07
A37: 0.85 | B37: =A37*$J$2 -> 2.5482359e+08 | C37: =1/SQRT(1-B37^2/$J$2^2) -> 1.898316 | D37: =$J$2^2/$B$21*(C37-1) -> 8.2384301e+15 | E37: =D37/$J$5 -> 0.87080555 | F37: =SQRT((D37/$J$2)^2+2*D37/$B$21) -> 49360785 | G37: =F37/$J$3 -> 1.5641489 | H37: =$J$2/$B$21*ASINH($B$21*F37/$J$2) -> 38427055 | I37: =H37/$J$3 -> 1.2176799 | J37: =EXP($B$21*2*H37/$J$2)-1 -> 11.333333 | K37: =EXP($B$21*H37/$J$2)-1 -> 2.5118846 | L37: =(($D$6-2*D37)/B37/C37+2*H37)/$J$3 -> 29.554286 | M37: =(($D$6-2*D37)/B37+F37*2)/$J$3 -> 54.608589 | N37: =$D$6-D37*2 -> 4.1398499e+17 | O37: =N37/$J$5 -> 43.758389 | P37: =D37*$L$12*$J$6*$J$8/$J$7 -> 44912.556 | Q37: =P37/$B$2 -> 4.6972548e-07
A38: 0.9 | B38: =A38*$J$2 -> 2.6981321e+08 | C38: =1/SQRT(1-B38^2/$J$2^2) -> 2.2941573 | D38: =$J$2^2/$B$21*(C38-1) -> 1.186868e+16 | E38: =D38/$J$5 -> 1.2545245 | F38: =SQRT((D38/$J$2)^2+2*D38/$B$21) -> 63162649 | G38: =F38/$J$3 -> 2.0015036 | H38: =$J$2/$B$21*ASINH($B$21*F38/$J$2) -> 45036765 | I38: =H38/$J$3 -> 1.427129 | J38: =EXP($B$21*2*H38/$J$2)-1 -> 18 | K38: =EXP($B$21*H38/$J$2)-1 -> 3.3588989 | L38: =(($D$6-2*D38)/B38/C38+2*H38)/$J$3 -> 23.675659 | M38: =(($D$6-2*D38)/B38+F38*2)/$J$3 -> 51.770577 | N38: =$D$6-D38*2 -> 4.0672449e+17 | O38: =N38/$J$5 -> 42.990951 | P38: =D38*$L$12*$J$6*$J$8/$J$7 -> 64703.194 | Q38: =P38/$B$2 -> 6.7670917e-07
A39: 0.95 | B39: =A39*$J$2 -> 2.8480284e+08 | C39: =1/SQRT(1-B39^2/$J$2^2) -> 3.2025631 | D39: =$J$2^2/$B$21*(C39-1) -> 2.0199643e+16 | E39: =D39/$J$5 -> 2.1351108 | F39: =SQRT((D39/$J$2)^2+2*D39/$B$21) -> 93071331 | G39: =F39/$J$3 -> 2.9492525 | H39: =$J$2/$B$21*ASINH($B$21*F39/$J$2) -> 56036130 | I39: =H39/$J$3 -> 1.7756778 | J39: =EXP($B$21*2*H39/$J$2)-1 -> 38 | K39: =EXP($B$21*H39/$J$2)-1 -> 5.244998 | L39: =(($D$6-2*D39)/B39/C39+2*H39)/$J$3 -> 17.102885 | M39: =(($D$6-2*D39)/B39+F39*2)/$J$3 -> 49.298132 | N39: =$D$6-D39*2 -> 3.9006256e+17 | O39: =N39/$J$5 -> 41.229778 | P39: =D39*$L$12*$J$6*$J$8/$J$7 -> 110120.2 | Q39: =P39/$B$2 -> 1.1517105e-06
A40: 0.975 | B40: =A40*$J$2 -> 2.9229765e+08 | C40: =1/SQRT(1-B40^2/$J$2^2) -> 4.5003516 | D40: =$J$2^2/$B$21*(C40-1) -> 3.2101624e+16 | E40: =D40/$J$5 -> 3.3931552 | F40: =SQRT((D40/$J$2)^2+2*D40/$B$21) -> 1.3422879e+08 | G40: =F40/$J$3 -> 4.2534538 | H40: =$J$2/$B$21*ASINH($B$21*F40/$J$2) -> 66833036 | I40: =H40/$J$3 -> 2.1178111 | J40: =EXP($B$21*2*H40/$J$2)-1 -> 78 | K40: =EXP($B$21*H40/$J$2)-1 -> 7.8881944 | L40: =(($D$6-2*D40)/B40/C40+2*H40)/$J$3 -> 13.058537 | M40: =(($D$6-2*D40)/B40+F40*2)/$J$3 -> 48.213128 | N40: =$D$6-D40*2 -> 3.662586e+17 | O40: =N40/$J$5 -> 38.71369 | P40: =D40*$L$12*$J$6*$J$8/$J$7 -> 175004.94 | Q40: =P40/$B$2 -> 1.8303184e-06
A41: 0.98 | B41: =A41*$J$2 -> 2.9379661e+08 | C41: =1/SQRT(1-B41^2/$J$2^2) -> 5.0251891 | D41: =$J$2^2/$B$21*(C41-1) -> 3.6914893e+16 | E41: =D41/$J$5 -> 3.9019199 | F41: =SQRT((D41/$J$2)^2+2*D41/$B$21) -> 1.5065138e+08 | G41: =F41/$J$3 -> 4.7738541 | H41: =$J$2/$B$21*ASINH($B$21*F41/$J$2) -> 70284810 | I41: =H41/$J$3 -> 2.2271912 | J41: =EXP($B$21*2*H41/$J$2)-1 -> 98 | K41: =EXP($B$21*H41/$J$2)-1 -> 8.9498744 | L41: =(($D$6-2*D41)/B41/C41+2*H41)/$J$3 -> 12.10889 | M41: =(($D$6-2*D41)/B41+F41*2)/$J$3 -> 48.013054 | N41: =$D$6-D41*2 -> 3.5663206e+17 | O41: =N41/$J$5 -> 37.69616 | P41: =D41*$L$12*$J$6*$J$8/$J$7 -> 201244.92 | Q41: =P41/$B$2 -> 2.1047536e-06
A42: =B42/$J$2 -> 0.98360812 | B42: =$B$21*F42/C42 -> 2.9487829e+08 | C42: =COSH($B$21*H42/$J$2) -> 5.5457159 | D42: =$J$2^2/$B$21*(C42-1) -> 4.168863e+16 | E42: =D42/$J$5 -> 4.4065059 | F42: =SQRT((D42/$J$2)^2+2*D42/$B$21) -> 1.668685e+08 | G42: =F42/$J$3 -> 5.2877435 | H42: =I42*$J$3 -> 73355641 | I42: =2.3245*9.8/$B$21 -> 2.3245 | J42: =EXP($B$21*2*H42/$J$2)-1 -> 120.0116 | K42: =EXP($B$21*H42/$J$2)-1 -> 10.000527 | L42: =(($D$6-2*D42)/B42/C42+2*H42)/$J$3 -> 11.374599 | M42: =(($D$6-2*D42)/B42+F42*2)/$J$3 -> 47.873746 | N42: =$D$6-D42*2 -> 3.4708459e+17 | O42: =N42/$J$5 -> 36.686988 | P42: =D42*$L$12*$J$6*$J$8/$J$7 -> 227269.38 | Q42: =P42/$B$2 -> 2.3769348e-06
A43: 0.99 | B43: =A43*$J$2 -> 2.9679453e+08 | C43: =1/SQRT(1-B43^2/$J$2^2) -> 7.0888121 | D43: =$J$2^2/$B$21*(C43-1) -> 5.584032e+16 | E43: =D43/$J$5 -> 5.9023455 | F43: =SQRT((D43/$J$2)^2+2*D43/$B$21) -> 2.1468578e+08 | G43: =F43/$J$3 -> 6.8029819 | H43: =$J$2/$B$21*ASINH($B$21*F43/$J$2) -> 80963922 | I43: =H43/$J$3 -> 2.5655919 | J43: =EXP($B$21*2*H43/$J$2)-1 -> 198 | K43: =EXP($B$21*H43/$J$2)-1 -> 13.106736 | L43: =(($D$6-2*D43)/B43/C43+2*H43)/$J$3 -> 9.9324897 | M43: =(($D$6-2*D43)/B43+F43*2)/$J$3 -> 47.64152 | N43: =$D$6-D43*2 -> 3.1878121e+17 | O43: =N43/$J$5 -> 33.695309 | P43: =D43*$L$12*$J$6*$J$8/$J$7 -> 304418.62 | Q43: =P43/$B$2 -> 3.183813e-06
A44: =B44/$J$2 -> 0.99916453 | B44: =$J$2*TANH(H44*$B$21/$J$2) -> 2.9954199e+08 | C44: =1/SQRT(1-B44^2/$J$2^2) -> 24.468717 | D44: =D6/2 -> 2.1523092e+17 | E44: =D44/$J$5 -> 22.75 | F44: =SQRT((D44/$J$2)^2+2*D44/$B$21) -> 7.4789879e+08 | G44: =F44/$J$3 -> 23.699482 | H44: =$J$2/$B$21*ASINH($B$21*F44/$J$2) -> 1.1900307e+08 | I44: =H44/$J$3 -> 3.7709797 | J44: =EXP($B$21*2*H44/$J$2)-1 -> 2391.872 | K44: =EXP($B$21*H44/$J$2)-1 -> 47.916991 | L44: =(($D$6-2*D44)/B44/C44+2*H44)/$J$3 -> 7.5419594 | M44: =(($D$6-2*D44)/B44+F44*2)/$J$3 -> 47.398965 | N44: =$D$6-D44*2 -> 0 | O44: =N44/$J$5 -> 0 | P44: Constant Accelleration
A46: Earth to Neptune (worst case) | I46: Days
A47: =B47/$J$2 -> 0.022602269 | B47: =$J$2*TANH(H47*$B$21/$J$2) -> 6775989.8 | C47: =1/SQRT(1-B47^2/$J$2^2) -> 1.0002555 | D47: =4686901694426/2 -> 2343450847213 | E47: =D47/$J$5 -> 0.00024770375 | F47: =SQRT((D47/$J$2)^2+2*D47/$B$21) -> 691604.21 | G47: =F47/3600/24 -> 8.0046783 | H47: =$J$2/$B$21*ASINH($B$21*F47/$J$2) -> 691545.3 | I47: =H47/3600/24 -> 8.0039966 | J47: =EXP($B$21*2*H47/$J$2)-1 -> 0.04624989 | K47: =EXP($B$21*H47/$J$2)-1 -> 0.022863574 | L47: =(($D$6-2*D47)/B47/C47+2*H47)/$J$3 -> 2012.5734 | M47: =(($D$6-2*D47)/B47+F47*2)/$J$3 -> 2013.0877 | N47: =$D$6-D47*2 -> 4.3045716e+17 | O47: =N47/$J$5 -> 45.499505 | P47: Constant Accelleration
A48: Psyche
A49: =B49/$J$2 -> 0.0052813943 | B49: =$J$2*TANH(H49*$B$21/$J$2) -> 1583322.2 | C49: =1/SQRT(1-B49^2/$J$2^2) -> 1.0000139 | D49: =1.71*149597900000*0.5 -> 127906204500 | E49: =D49/$J$5 -> 1.351974e-05 | F49: =SQRT((D49/$J$2)^2+2*D49/$B$21) -> 161565.74 | G49: =F49/3600/24 -> 1.8699739 | H49: =$J$2/$B$21*ASINH($B$21*F49/$J$2) -> 161564.99 | I49: =H49/3600/24 -> 1.8699652 | J49: =EXP($B$21*2*H49/$J$2)-1 -> 0.010618871 | K49: =EXP($B$21*H49/$J$2)-1 -> 0.0052954149 | L49: =(($D$6-2*D49)/B49/C49+2*H49)/$J$3 -> 8615.0064 | M49: =(($D$6-2*D49)/B49+F49*2)/$J$3 -> 8615.1265 | N49: =$D$6-D49*2 -> 4.3046159e+17 | O49: =N49/$J$5 -> 45.499973 | P49: Constant Accelleration
A50: =B50/$J$2 -> 0.0075557888 | B50: =$J$2*TANH(H50*$B$21/$J$2) -> 2265168.5 | C50: =1/SQRT(1-B50^2/$J$2^2) -> 1.0000285 | D50: =3.5*149597900000*0.5 -> 261796325000 | E50: =D50/$J$5 -> 2.7671983e-05 | F50: =SQRT((D50/$J$2)^2+2*D50/$B$21) -> 231146.24 | G50: =F50/3600/24 -> 2.6753037 | H50: =$J$2/$B$21*ASINH($B$21*F50/$J$2) -> 231144.04 | I50: =H50/3600/24 -> 2.6752782 | J50: =EXP($B$21*2*H50/$J$2)-1 -> 0.015226627 | K50: =EXP($B$21*H50/$J$2)-1 -> 0.0075845506 | L50: =(($D$6-2*D50)/B50/C50+2*H50)/$J$3 -> 6021.689 | M50: =(($D$6-2*D50)/B50+F50*2)/$J$3 -> 6021.8609 | N50: =$D$6-D50*2 -> 4.3046133e+17 | O50: =N50/$J$5 -> 45.499945 | P50: Constant Accelleration
A51: Ceres
A52: =B52/$J$2 -> 0.0053580498 | B52: =$J$2*TANH(H52*$B$21/$J$2) -> 1606302.9 | C52: =1/SQRT(1-B52^2/$J$2^2) -> 1.0000144 | D52: =1.76*149597900000*0.5 -> 131646152000 | E52: =D52/$J$5 -> 1.3915054e-05 | F52: =SQRT((D52/$J$2)^2+2*D52/$B$21) -> 163910.81 | G52: =F52/3600/24 -> 1.8971159 | H52: =$J$2/$B$21*ASINH($B$21*F52/$J$2) -> 163910.03 | I52: =H52/3600/24 -> 1.8971068 | J52: =EXP($B$21*2*H52/$J$2)-1 -> 0.010773826 | K52: =EXP($B$21*H52/$J$2)-1 -> 0.0053724813 | L52: =(($D$6-2*D52)/B52/C52+2*H52)/$J$3 -> 8491.7517 | M52: =(($D$6-2*D52)/B52+F52*2)/$J$3 -> 8491.8736 | N52: =$D$6-D52*2 -> 4.3046159e+17 | O52: =N52/$J$5 -> 45.499972 | P52: Constant Accelleration
A53: =B53/$J$2 -> 0.0075557888 | B53: =$J$2*TANH(H53*$B$21/$J$2) -> 2265168.5 | C53: =1/SQRT(1-B53^2/$J$2^2) -> 1.0000285 | D53: =3.5*149597900000*0.5 -> 261796325000 | E53: =D53/$J$5 -> 2.7671983e-05 | F53: =SQRT((D53/$J$2)^2+2*D53/$B$21) -> 231146.24 | G53: =F53/3600/24 -> 2.6753037 | H53: =$J$2/$B$21*ASINH($B$21*F53/$J$2) -> 231144.04 | I53: =H53/3600/24 -> 2.6752782 | J53: =EXP($B$21*2*H53/$J$2)-1 -> 0.015226627 | K53: =EXP($B$21*H53/$J$2)-1 -> 0.0075845506 | L53: =(($D$6-2*D53)/B53/C53+2*H53)/$J$3 -> 6021.689 | M53: =(($D$6-2*D53)/B53+F53*2)/$J$3 -> 6021.8609 | N53: =$D$6-D53*2 -> 4.3046133e+17 | O53: =N53/$J$5 -> 45.499945 | P53: Constant Accelleration

Sheet DateConvert
A1: Mission Year Zero | D1: 65746 | F1: =D1 -> 65746 | G1: =D1+2415018.5 -> 2480764.5 | J1: Constants
A2: Mission Departure Date | D2: 65817 | F2: =D2 -> 65817 | G2: =D2+2415018.5 -> 2480835.5 | J2: Light Year | K2: =Conversion!$B$5 -> 9.4607e+15
A3: Mission Arrival Date | D3: =F3 -> 89454.842 | F3: =F2+(Mission!F18+Mission!B14)/3600/24 -> 89454.842 | G3: =D3+2415018.5 -> 2504473.3 | H3: Proper Time | I3: =D9+(Mission!D18+Mission!B15)/3600/24 -> 16774.452 | J3: Speed of Light | K3: 299792458 | L3: =K3^2 -> 8.9875518e+16
A4: Julian Day
A5: Acceleration | D5: =Mission!B4 -> 7.84
A6: Coast Speed | D6: =Mission!B5 -> 0.7143 | H6: Relativistic Formulas | N6: Nice Info to Know
B7: Date | C7: Day of Year | D7: Mission Day | E7: Earth Date | F7: Julian Date | G7: Earth Day | H7: Proper Time | I7: Velocity | J7: Gamma | K7: Distance | L7: Rel Dist | M7: Earth Time | N7: Dist (ly) | O7: dEarth yr
A8: Calendar Start | B8: =CONCATENATE(TEXT((FLOOR(D8/364,1)),"000"),"-",TEXT(LOOKUP(C8,Calendar!A:A,Calendar!B:B),"00"),"-",TEXT(INT(1+C8-LOOKUP(C8,Calendar!A:A,Calendar!A:A)),"00")," MY") -> 000-01-01 MY | C8: 0 | D8: 0 | E8: =G8 -> 65746 | F8: =G8+2415018.5 -> 2480764.5 | G8: =F1 -> 65746 | H8: 0 | I8: 0 | J8: =COSH($D$5*H8/$K$3) -> 1 | K8: 0 | L8: 0 | M8: 0 | N8: =K8/$K$2 -> 0 | O8: 0
A9: Launch Date | B9: =CONCATENATE(TEXT((FLOOR(D9/364,1)),"000"),"-",TEXT(LOOKUP(C9,Calendar!A:A,Calendar!B:B),"00"),"-",TEXT(INT(1+C9-LOOKUP(C9,Calendar!A:A,Calendar!A:A)),"00")," MY") -> 000-04-09 MY | C9: =MOD(D9,364) -> 71 | D9: =F2-F1 -> 71 | E9: =G9 -> 65817 | F9: =G9+2415018.5 -> 2480835.5 | G9: =F2 -> 65817 | H9: =(D9-$D$9)*86400 -> 0 | I9: 0 | J9: =COSH($D$5*H9/$K$3) -> 1 | K9: 0 | L9: 0 | M9: 0 | N9: =K9/$K$2 -> 0 | O9: =(G9-$F$2)/365.26 -> 0
B10: =CONCATENATE(TEXT((FLOOR(D10/364,1)),"000"),"-",TEXT(LOOKUP(C10,Calendar!A:A,Calendar!B:B),"00"),"-",TEXT(INT(1+C10-LOOKUP(C10,Calendar!A:A,Calendar!A:A)),"00")," MY") -> 000-05-01 MY | C10: =MOD(D10,364) -> 91 | D10: =LOOKUP(C9,Calendar!A:A,Calendar!A:A)+LOOKUP(C9,Calendar!A:A,Calendar!E:E) -> 91 | E10: =G10 -> 65837.007 | F10: =G10+2415018.5 -> 2480855.5 | G10: =$F$2+M10/86400 -> 65837.007 | H10: =(D10-$D$9)*86400 -> 1728000 | I10: =TANH($D$5*H10/$K$3) -> 0.045158927 | J10: =COSH($D$5*H10/$K$3) -> 1.0010212 | K10: =$K$3^2*($J$10-1)/($D$5) -> 1.1707049e+13 | L10: =$K$3^2*(J10-1)/($D$5) -> 1.1707049e+13 | M10: =$K$3/$D$5*SINH($D$5*H10/$K$3) -> 1728588.2 | N10: =K10/$K$2 -> 0.0012374401 | O10: =(G10-$F$2)/365.26 -> 0.054774155
B11: =CONCATENATE(TEXT((FLOOR(D11/364,1)),"000"),"-",TEXT(LOOKUP(C11,Calendar!A:A,Calendar!B:B),"00"),"-",TEXT(INT(1+C11-LOOKUP(C11,Calendar!A:A,Calendar!A:A)),"00")," MY") -> 000-06-01 MY | C11: =MOD(D11,364) -> 98 | D11: =LOOKUP(C10,Calendar!A:A,Calendar!A:A)+LOOKUP(C10,Calendar!A:A,Calendar!E:E) -> 98 | E11: =G11 -> 65844.017 | F11: =G11+2415018.5 -> 2480862.5 | G11: =$F$2+M11/86400 -> 65844.017 | H11: =(D11-$D$9)*86400 -> 2332800 | I11: =TANH($D$5*H11/$K$3) -> 0.060930474 | J11: =COSH($D$5*H11/$K$3) -> 1.0018614 | K11: =$K$3^2*(J11-1)/($D$5) -> 2.1339084e+13 | L11: =$K$3^2*(J11-1)/($D$5) -> 2.1339084e+13 | M11: =$K$3/$D$5*SINH($D$5*H11/$K$3) -> 2334247.3 | N11: =K11/$K$2 -> 0.0022555502 | O11: =(G11-$F$2)/365.26 -> 0.073965808
B12: =CONCATENATE(TEXT((FLOOR(D12/364,1)),"000"),"-",TEXT(LOOKUP(C12,Calendar!A:A,Calendar!B:B),"00"),"-",TEXT(INT(1+C12-LOOKUP(C12,Calendar!A:A,Calendar!A:A)),"00")," MY") -> 000-07-01 MY | C12: =MOD(D12,364) -> 126 | D12: =LOOKUP(C11,Calendar!A:A,Calendar!A:A)+LOOKUP(C11,Calendar!A:A,Calendar!E:E) -> 126 | E12: =G12 -> 65872.142 | F12: =G12+2415018.5 -> 2480890.6 | G12: =$F$2+M12/86400 -> 65872.142 | H12: =(D12-$D$9)*86400 -> 4752000 | I12: =TANH($D$5*H12/$K$3) -> 0.12363577 | J12: =COSH($D$5*H12/$K$3) -> 1.0077317 | K12: =$K$3^2*(J12-1)/($D$5) -> 8.8633475e+13 | L12: =$K$3^2*(J12-1)/($D$5) -> 8.8633475e+13 | M12: =$K$3/$D$5*SINH($D$5*H12/$K$3) -> 4764240.6 | N12: =K12/$K$2 -> 0.0093685958 | O12: =(G12-$F$2)/365.26 -> 0.15096554
B13: =CONCATENATE(TEXT((FLOOR(D13/364,1)),"000"),"-",TEXT(LOOKUP(C13,Calendar!A:A,Calendar!B:B),"00"),"-",TEXT(INT(1+C13-LOOKUP(C13,Calendar!A:A,Calendar!A:A)),"00")," MY") -> 000-08-01 MY | C13: =MOD(D13,364) -> 154 | D13: =LOOKUP(C12,Calendar!A:A,Calendar!A:A)+LOOKUP(C12,Calendar!A:A,Calendar!E:E) -> 154 | E13: =G13 -> 65900.487 | F13: =G13+2415018.5 -> 2480919 | G13: =$F$2+M13/86400 -> 65900.487 | H13: =(D13-$D$9)*86400 -> 7171200 | I13: =TANH($D$5*H13/$K$3) -> 0.18536902 | J13: =COSH($D$5*H13/$K$3) -> 1.0176367 | K13: =$K$3^2*(J13-1)/($D$5) -> 2.0218187e+14 | L13: =$K$3^2*(J13-1)/($D$5) -> 2.0218187e+14 | M13: =$K$3/$D$5*SINH($D$5*H13/$K$3) -> 7213309.4 | N13: =K13/$K$2 -> 0.02137071 | O13: =(G13-$F$2)/365.26 -> 0.22856972
B14: =CONCATENATE(TEXT((FLOOR(D14/364,1)),"000"),"-",TEXT(LOOKUP(C14,Calendar!A:A,Calendar!B:B),"00"),"-",TEXT(INT(1+C14-LOOKUP(C14,Calendar!A:A,Calendar!A:A)),"00")," MY") -> 000-09-01 MY | C14: =MOD(D14,364) -> 182 | D14: =LOOKUP(C13,Calendar!A:A,Calendar!A:A)+LOOKUP(C13,Calendar!A:A,Calendar!E:E) -> 182 | E14: =G14 -> 65929.167 | F14: =G14+2415018.5 -> 2480947.7 | G14: =$F$2+M14/86400 -> 65929.167 | H14: =(D14-$D$9)*86400 -> 9590400 | I14: =TANH($D$5*H14/$K$3) -> 0.245673 | J14: =COSH($D$5*H14/$K$3) -> 1.0316162 | K14: =$K$3^2*(J14-1)/($D$5) -> 3.6243891e+14 | L14: =$K$3^2*(J14-1)/($D$5) -> 3.6243891e+14 | M14: =$K$3/$D$5*SINH($D$5*H14/$K$3) -> 9691259.2 | N14: =K14/$K$2 -> 0.038309946 | O14: =(G14-$F$2)/365.26 -> 0.30708906
B15: =CONCATENATE(TEXT((FLOOR(D15/364,1)),"000"),"-",TEXT(LOOKUP(C15,Calendar!A:A,Calendar!B:B),"00"),"-",TEXT(INT(1+C15-LOOKUP(C15,Calendar!A:A,Calendar!A:A)),"00")," MY") -> 000-10-01 MY | C15: =MOD(D15,364) -> 189 | D15: =LOOKUP(C14,Calendar!A:A,Calendar!A:A)+LOOKUP(C14,Calendar!A:A,Calendar!E:E) -> 189 | E15: =G15 -> 65936.403 | F15: =G15+2415018.5 -> 2480954.9 | G15: =$F$2+M15/86400 -> 65936.403 | H15: =(D15-$D$9)*86400 -> 10195200 | I15: =TANH($D$5*H15/$K$3) -> 0.26047602 | J15: =COSH($D$5*H15/$K$3) -> 1.0357539 | K15: =$K$3^2*(J15-1)/($D$5) -> 4.0987244e+14 | L15: =$K$3^2*(J15-1)/($D$5) -> 4.0987244e+14 | M15: =$K$3/$D$5*SINH($D$5*H15/$K$3) -> 10316419 | N15: =K15/$K$2 -> 0.043323691 | O15: =(G15-$F$2)/365.26 -> 0.32689864
B16: =CONCATENATE(TEXT((FLOOR(D16/364,1)),"000"),"-",TEXT(LOOKUP(C16,Calendar!A:A,Calendar!B:B),"00"),"-",TEXT(INT(1+C16-LOOKUP(C16,Calendar!A:A,Calendar!A:A)),"00")," MY") -> 000-11-01 MY | C16: =MOD(D16,364) -> 217 | D16: =LOOKUP(C15,Calendar!A:A,Calendar!A:A)+LOOKUP(C15,Calendar!A:A,Calendar!E:E) -> 217 | E16: =G16 -> 65965.662 | F16: =G16+2415018.5 -> 2480984.2 | G16: =$F$2+M16/86400 -> 65965.662 | H16: =(D16-$D$9)*86400 -> 12614400 | I16: =TANH($D$5*H16/$K$3) -> 0.31841702 | J16: =COSH($D$5*H16/$K$3) -> 1.0549071 | K16: =$K$3^2*(J16-1)/($D$5) -> 6.2943975e+14 | L16: =$K$3^2*(J16-1)/($D$5) -> 6.2943975e+14 | M16: =$K$3/$D$5*SINH($D$5*H16/$K$3) -> 12844439 | N16: =K16/$K$2 -> 0.066532048 | O16: =(G16-$F$2)/365.26 -> 0.40700458
B17: =CONCATENATE(TEXT((FLOOR(D17/364,1)),"000"),"-",TEXT(LOOKUP(C17,Calendar!A:A,Calendar!B:B),"00"),"-",TEXT(INT(1+C17-LOOKUP(C17,Calendar!A:A,Calendar!A:A)),"00")," MY") -> 000-12-01 MY | C17: =MOD(D17,364) -> 245 | D17: =LOOKUP(C16,Calendar!A:A,Calendar!A:A)+LOOKUP(C16,Calendar!A:A,Calendar!E:E) -> 245 | E17: =G17 -> 65995.517 | F17: =G17+2415018.5 -> 2481014 | G17: =$F$2+M17/86400 -> 65995.517 | H17: =(D17-$D$9)*86400 -> 15033600 | I17: =TANH($D$5*H17/$K$3) -> 0.37407269 | J17: =COSH($D$5*H17/$K$3) -> 1.0782841 | K17: =$K$3^2*(J17-1)/($D$5) -> 8.9742637e+14 | L17: =$K$3^2*(J17-1)/($D$5) -> 8.9742637e+14 | M17: =$K$3/$D$5*SINH($D$5*H17/$K$3) -> 15423887 | N17: =K17/$K$2 -> 0.094858348 | O17: =(G17-$F$2)/365.26 -> 0.48874011
B18: =CONCATENATE(TEXT((FLOOR(D18/364,1)),"000"),"-",TEXT(LOOKUP(C18,Calendar!A:A,Calendar!B:B),"00"),"-",TEXT(INT(1+C18-LOOKUP(C18,Calendar!A:A,Calendar!A:A)),"00")," MY") -> 000-13-01 MY | C18: =MOD(D18,364) -> 273 | D18: =LOOKUP(C17,Calendar!A:A,Calendar!A:A)+LOOKUP(C17,Calendar!A:A,Calendar!E:E) -> 273 | E18: =G18 -> 66026.087 | F18: =G18+2415018.5 -> 2481044.6 | G18: =$F$2+M18/86400 -> 66026.087 | H18: =(D18-$D$9)*86400 -> 17452800 | I18: =TANH($D$5*H18/$K$3) -> 0.42715832 | J18: =COSH($D$5*H18/$K$3) -> 1.1059783 | K18: =$K$3^2*(J18-1)/($D$5) -> 1.2149053e+15 | L18: =$K$3^2*(J18-1)/($D$5) -> 1.2149053e+15 | M18: =$K$3/$D$5*SINH($D$5*H18/$K$3) -> 18065090 | N18: =K18/$K$2 -> 0.128416 | O18: =(G18-$F$2)/365.26 -> 0.57243249
B19: =CONCATENATE(TEXT((FLOOR(D19/364,1)),"000"),"-",TEXT(LOOKUP(C19,Calendar!A:A,Calendar!B:B),"00"),"-",TEXT(INT(1+C19-LOOKUP(C19,Calendar!A:A,Calendar!A:A)),"00")," MY") -> 000-14-01 MY | C19: =MOD(D19,364) -> 280 | D19: =LOOKUP(C18,Calendar!A:A,Calendar!A:A)+LOOKUP(C18,Calendar!A:A,Calendar!E:E) -> 280 | E19: =G19 -> 66033.855 | F19: =G19+2415018.5 -> 2481052.4 | G19: =$F$2+M19/86400 -> 66033.855 | H19: =(D19-$D$9)*86400 -> 18057600 | I19: =TANH($D$5*H19/$K$3) -> 0.44000094 | J19: =COSH($D$5*H19/$K$3) -> 1.1135891 | K19: =$K$3^2*(J19-1)/($D$5) -> 1.3021527e+15 | L19: =$K$3^2*(J19-1)/($D$5) -> 1.3021527e+15 | M19: =$K$3/$D$5*SINH($D$5*H19/$K$3) -> 18736273 | N19: =K19/$K$2 -> 0.1376381 | O19: =(G19-$F$2)/365.26 -> 0.59370042
B20: =CONCATENATE(TEXT((FLOOR(D20/364,1)),"000"),"-",TEXT(LOOKUP(C20,Calendar!A:A,Calendar!B:B),"00"),"-",TEXT(INT(1+C20-LOOKUP(C20,Calendar!A:A,Calendar!A:A)),"00")," MY") -> 000-15-01 MY | C20: =MOD(D20,364) -> 308 | D20: =LOOKUP(C19,Calendar!A:A,Calendar!A:A)+LOOKUP(C19,Calendar!A:A,Calendar!E:E) -> 308 | E20: =G20 -> 66065.49 | F20: =G20+2415018.5 -> 2481084 | G20: =$F$2+M20/86400 -> 66065.49 | H20: =(D20-$D$9)*86400 -> 20476800 | I20: =TANH($D$5*H20/$K$3) -> 0.48957218 | J20: =COSH($D$5*H20/$K$3) -> 1.146838 | K20: =$K$3^2*(J20-1)/($D$5) -> 1.6833083e+15 | L20: =$K$3^2*(J20-1)/($D$5) -> 1.6833083e+15 | M20: =$K$3/$D$5*SINH($D$5*H20/$K$3) -> 21469574 | N20: =K20/$K$2 -> 0.1779264 | O20: =(G20-$F$2)/365.26 -> 0.68031112
B21: =CONCATENATE(TEXT((FLOOR(D21/364,1)),"000"),"-",TEXT(LOOKUP(C21,Calendar!A:A,Calendar!B:B),"00"),"-",TEXT(INT(1+C21-LOOKUP(C21,Calendar!A:A,Calendar!A:A)),"00")," MY") -> 000-16-01 MY | C21: =MOD(D21,364) -> 336 | D21: =LOOKUP(C20,Calendar!A:A,Calendar!A:A)+LOOKUP(C20,Calendar!A:A,Calendar!E:E) -> 336 | E21: =G21 -> 66098.121 | F21: =G21+2415018.5 -> 2481116.6 | G21: =$F$2+M21/86400 -> 66098.121 | H21: =(D21-$D$9)*86400 -> 22896000 | I21: =TANH($D$5*H21/$K$3) -> 0.53616878 | J21: =COSH($D$5*H21/$K$3) -> 1.1846786 | K21: =$K$3^2*(J21-1)/($D$5) -> 2.1171027e+15 | L21: =$K$3^2*(J21-1)/($D$5) -> 2.1171027e+15 | M21: =$K$3/$D$5*SINH($D$5*H21/$K$3) -> 24288836 | N21: =K21/$K$2 -> 0.22377865 | O21: =(G21-$F$2)/365.26 -> 0.76964571
B22: =CONCATENATE(TEXT((FLOOR(D22/364,1)),"000"),"-",TEXT(LOOKUP(C22,Calendar!A:A,Calendar!B:B),"00"),"-",TEXT(INT(1+C22-LOOKUP(C22,Calendar!A:A,Calendar!A:A)),"00")," MY") -> 001-01-01 MY | C22: =MOD(D22,364) -> 0 | D22: =LOOKUP(C21,Calendar!A:A,Calendar!A:A)+LOOKUP(C21,Calendar!A:A,Calendar!E:E) -> 364 | E22: =G22 -> 66131.877 | F22: =G22+2415018.5 -> 2481150.4 | G22: =$F$2+M22/86400 -> 66131.877 | H22: =(D22-$D$9)*86400 -> 25315200 | I22: =TANH($D$5*H22/$K$3) -> 0.57971182 | J22: =COSH($D$5*H22/$K$3) -> 1.2272625 | K22: =$K$3^2*(J22-1)/($D$5) -> 2.6052728e+15 | L22: =$K$3^2*(J22-1)/($D$5) -> 2.6052728e+15 | M22: =$K$3/$D$5*SINH($D$5*H22/$K$3) -> 27205348 | N22: =K22/$K$2 -> 0.27537844 | O22: =(G22-$F$2)/365.26 -> 0.86206184
... B27: =CONCATENATE(TEXT((FLOOR(D27/364,1)),"000"),"-",TEXT(LOOKUP(C27,Calendar!A:A,Calendar!B:B),"00"),"-",TEXT(INT(1+C27-LOOKUP(C27,Calendar!A:A,Calendar!A:A)),"00")," MY") -> 000-06-01 MY | C27: =MOD(D27,364) -> 98 | D27: =LOOKUP(C26,Calendar!A:A,Calendar!A:A)+LOOKUP(C26,Calendar!A:A,Calendar!E:E) -> 98 | E27: =G27 -> 65844.017 | F27: =G27+2415018.5 -> 2480862.5 | G27: =$F$2+M27/86400 -> 65844.017 | H27: =(D27-$D$9)*86400 -> 2332800 | I27: =TANH($D$5*H27/$K$3) -> 0.060930474 | J27: =COSH($D$5*H27/$K$3) -> 1.0018614 | K27: =$K$3^2*(J27-1)/($D$5) -> 2.1339084e+13 | L27: =$K$3^2*(J27-1)/($D$5) -> 2.1339084e+13 | M27: =$K$3/$D$5*SINH($D$5*H27/$K$3) -> 2334247.3 | N27: =K27/$K$2 -> 0.0022555502 | O27: =(G27-$F$2)/365.26 -> 0.073965808
A28: Coast Phase Begin | B28: =CONCATENATE(TEXT((FLOOR(D28/364,1)),"000"),"-",TEXT(LOOKUP(C28,Calendar!A:A,Calendar!B:B),"00"),"-",TEXT(INT(1+C28-LOOKUP(C28,Calendar!A:A,Calendar!A:A)),"00")," MY") -> 001-06-06 MY | C28: =MOD(D28,364) -> 103.51055 | D28: =($K$3/$D$5*ACOSH($D$5*K28/$L$3+1))/3600/24+$D$9 -> 467.51055 | E28: =G28 -> 66268.724 | F28: =G28+2415018.5 -> 2481287.2 | G28: =$F$2+M28/86400 -> 66268.724 | H28: =(D28-$D$9)*86400 -> 34258512 | I28: =$D$6*1 -> 0.7143 | J28: =1/SQRT(1-I28^2/1) -> 1.4288988 | K28: =$K$3^2*(J28-1)/($D$5) -> 4.916773e+15 | L28: =$K$3^2*(J28-1)/($D$5) -> 4.916773e+15 | M28: =$K$3/$D$5*SINH($D$5*H28/$K$3) -> 39028940 | N28: =K28/$K$2 -> 0.51970499 | O28: =(G28-$F$2)/365.26 -> 1.2367186
A29: Coast Phase Ends | B29: =CONCATENATE(TEXT((FLOOR(D29/364,1)),"000"),"-",TEXT(LOOKUP(C29,Calendar!A:A,Calendar!B:B),"00"),"-",TEXT(INT(1+C29-LOOKUP(C29,Calendar!A:A,Calendar!A:A)),"00")," MY") -> 044-16-26 MY | C29: =MOD(D29,364) -> 361.94103 | D29: =$D$48-H29/86400 -> 16377.941 | E29: =G29 -> 89003.119 | F29: =G29+2415018.5 -> 2504021.6 | G29: =$F$3-M29/86400 -> 89003.119 | H29: =H28 -> 34258512 | I29: =$D$6*1 -> 0.7143 | J29: =1/SQRT(1-I29^2/1) -> 1.4288988 | K29: =K48-300000000^2*(J29-1)/($D$5) -> 4.2553827e+17 | L29: =$K$3^2*(J29-1)/($D$5) -> 4.916773e+15 | M29: =$K$3/$D$5*SINH($D$5*H29/$K$3) -> 39028940 | N29: =K29/$K$2 -> 44.979575 | O29: =(G29-$F$2)/365.26 -> 63.478395
B30: =CONCATENATE(TEXT((FLOOR(D30/364,1)),"000"),"-",TEXT(LOOKUP(C30,Calendar!A:A,Calendar!B:B),"00"),"-",TEXT(INT(1+C30-LOOKUP(C30,Calendar!A:A,Calendar!A:A)),"00")," MY") -> 045-01-01 MY | C30: =MOD(D30,364) -> 0 | D30: 16380 | E30: =G30 -> 89006.056 | F30: =G30+2415018.5 -> 2504024.6 | G30: =$F$3-M30/86400 -> 89006.056 | H30: =($I$3-D30)*86400 -> 34080616 | I30: =TANH($D$5*H30/$K$3) -> 0.71201388 | J30: =COSH($D$5*H30/$K$3) -> 1.4241659 | K30: =$K$3^2*(J30-1)/($D$5) -> 4.8625164e+15 | L30: =$K$3^2*(J30-1)/($D$5) -> 4.8625164e+15 | M30: =$K$3/$D$5*SINH($D$5*H30/$K$3) -> 38775167 | N30: =$N$48-K30/$K$2 -> 44.98603 | O30: =(G30-$F$2)/365.26 -> 63.486437
B31: =CONCATENATE(TEXT((FLOOR(D31/364,1)),"000"),"-",TEXT(LOOKUP(C31,Calendar!A:A,Calendar!B:B),"00"),"-",TEXT(INT(1+C31-LOOKUP(C31,Calendar!A:A,Calendar!A:A)),"00")," MY") -> 045-02-01 MY | C31: =MOD(D31,364) -> 7 | D31: =D30+LOOKUP(C30,Calendar!A:A,Calendar!E:E) -> 16387 | E31: =G31 -> 89015.969 | F31: =G31+2415018.5 -> 2504034.5 | G31: =$F$3-M31/86400 -> 89015.969 | H31: =($I$3-D31)*86400 -> 33475816 | I31: =TANH($D$5*H31/$K$3) -> 0.70412768 | J31: =COSH($D$5*H31/$K$3) -> 1.4083051 | K31: =$K$3^2*(J31-1)/($D$5) -> 4.6806933e+15 | L31: =$K$3^2*(J31-1)/($D$5) -> 4.6806933e+15 | M31: =$K$3/$D$5*SINH($D$5*H31/$K$3) -> 37918646 | N31: =$N$48-K31/$K$2 -> 45.005249 | O31: =(G31-$F$2)/365.26 -> 63.513577
B32: =CONCATENATE(TEXT((FLOOR(D32/364,1)),"000"),"-",TEXT(LOOKUP(C32,Calendar!A:A,Calendar!B:B),"00"),"-",TEXT(INT(1+C32-LOOKUP(C32,Calendar!A:A,Calendar!A:A)),"00")," MY") -> 045-03-01 MY | C32: =MOD(D32,364) -> 35 | D32: =D31+LOOKUP(C31,Calendar!A:A,Calendar!E:E) -> 16415 | E32: =G32 -> 89054.55 | F32: =G32+2415018.5 -> 2504073 | G32: =$F$3-M32/86400 -> 89054.55 | H32: =($I$3-D32)*86400 -> 31056616 | I32: =TANH($D$5*H32/$K$3) -> 0.67078823 | J32: =COSH($D$5*H32/$K$3) -> 1.3483468 | K32: =$K$3^2*(J32-1)/($D$5) -> 3.9933484e+15 | L32: =$K$3^2*(J32-1)/($D$5) -> 3.9933484e+15 | M32: =$K$3/$D$5*SINH($D$5*H32/$K$3) -> 34585311 | N32: =$N$48-K32/$K$2 -> 45.077901 | O32: =(G32-$F$2)/365.26 -> 63.619201
B33: =CONCATENATE(TEXT((FLOOR(D33/364,1)),"000"),"-",TEXT(LOOKUP(C33,Calendar!A:A,Calendar!B:B),"00"),"-",TEXT(INT(1+C33-LOOKUP(C33,Calendar!A:A,Calendar!A:A)),"00")," MY") -> 045-04-01 MY | C33: =MOD(D33,364) -> 63 | D33: =D32+LOOKUP(C32,Calendar!A:A,Calendar!E:E) -> 16443 | E33: =G33 -> 89091.527 | F33: =G33+2415018.5 -> 2504110 | G33: =$F$3-M33/86400 -> 89091.527 | H33: =($I$3-D33)*86400 -> 28637416 | I33: =TANH($D$5*H33/$K$3) -> 0.63449777 | J33: =COSH($D$5*H33/$K$3) -> 1.2937871 | K33: =$K$3^2*(J33-1)/($D$5) -> 3.3678914e+15 | L33: =$K$3^2*(J33-1)/($D$5) -> 3.3678914e+15 | M33: =$K$3/$D$5*SINH($D$5*H33/$K$3) -> 31390452 | N33: =$N$48-K33/$K$2 -> 45.144012 | O33: =(G33-$F$2)/365.26 -> 63.720438
B34: =CONCATENATE(TEXT((FLOOR(D34/364,1)),"000"),"-",TEXT(LOOKUP(C34,Calendar!A:A,Calendar!B:B),"00"),"-",TEXT(INT(1+C34-LOOKUP(C34,Calendar!A:A,Calendar!A:A)),"00")," MY") -> 045-05-01 MY | C34: =MOD(D34,364) -> 91 | D34: =D33+LOOKUP(C33,Calendar!A:A,Calendar!E:E) -> 16471 | E34: =G34 -> 89127.05 | F34: =G34+2415018.5 -> 2504145.5 | G34: =$F$3-M34/86400 -> 89127.05 | H34: =($I$3-D34)*86400 -> 26218216 | I34: =TANH($D$5*H34/$K$3) -> 0.59517616 | J34: =COSH($D$5*H34/$K$3) -> 1.2444075 | K34: =$K$3^2*(J34-1)/($D$5) -> 2.8018182e+15 | L34: =$K$3^2*(J34-1)/($D$5) -> 2.8018182e+15 | M34: =$K$3/$D$5*SINH($D$5*H34/$K$3) -> 28321275 | N34: =$N$48-K34/$K$2 -> 45.203847 | O34: =(G34-$F$2)/365.26 -> 63.817691
B35: =CONCATENATE(TEXT((FLOOR(D35/364,1)),"000"),"-",TEXT(LOOKUP(C35,Calendar!A:A,Calendar!B:B),"00"),"-",TEXT(INT(1+C35-LOOKUP(C35,Calendar!A:A,Calendar!A:A)),"00")," MY") -> 045-06-01 MY | C35: =MOD(D35,364) -> 98 | D35: =D34+LOOKUP(C34,Calendar!A:A,Calendar!E:E) -> 16478 | E35: =G35 -> 89135.72 | F35: =G35+2415018.5 -> 2504154.2 | G35: =$F$3-M35/86400 -> 89135.72 | H35: =($I$3-D35)*86400 -> 25613416 | I35: =TANH($D$5*H35/$K$3) -> 0.5848663 | J35: =COSH($D$5*H35/$K$3) -> 1.2328484 | K35: =$K$3^2*(J35-1)/($D$5) -> 2.6693078e+15 | L35: =$K$3^2*(J35-1)/($D$5) -> 2.6693078e+15 | M35: =$K$3/$D$5*SINH($D$5*H35/$K$3) -> 27572168 | N35: =$N$48-K35/$K$2 -> 45.217853 | O35: =(G35-$F$2)/365.26 -> 63.841428
B36: =CONCATENATE(TEXT((FLOOR(D36/364,1)),"000"),"-",TEXT(LOOKUP(C36,Calendar!A:A,Calendar!B:B),"00"),"-",TEXT(INT(1+C36-LOOKUP(C36,Calendar!A:A,Calendar!A:A)),"00")," MY") -> 045-07-01 MY | C36: =MOD(D36,364) -> 126 | D36: =D35+LOOKUP(C35,Calendar!A:A,Calendar!E:E) -> 16506 | E36: =G36 -> 89169.624 | F36: =G36+2415018.5 -> 2504188.1 | G36: =$F$3-M36/86400 -> 89169.624 | H36: =($I$3-D36)*86400 -> 23194216 | I36: =TANH($D$5*H36/$K$3) -> 0.54170234 | J36: =COSH($D$5*H36/$K$3) -> 1.1896684 | K36: =$K$3^2*(J36-1)/($D$5) -> 2.174304e+15 | L36: =$K$3^2*(J36-1)/($D$5) -> 2.174304e+15 | M36: =$K$3/$D$5*SINH($D$5*H36/$K$3) -> 24642869 | N36: =$N$48-K36/$K$2 -> 45.270175 | O36: =(G36-$F$2)/365.26 -> 63.93425
B37: =CONCATENATE(TEXT((FLOOR(D37/364,1)),"000"),"-",TEXT(LOOKUP(C37,Calendar!A:A,Calendar!B:B),"00"),"-",TEXT(INT(1+C37-LOOKUP(C37,Calendar!A:A,Calendar!A:A)),"00")," MY") -> 045-08-01 MY | C37: =MOD(D37,364) -> 154 | D37: =D36+LOOKUP(C36,Calendar!A:A,Calendar!E:E) -> 16534 | E37: =G37 -> 89202.386 | F37: =G37+2415018.5 -> 2504220.9 | G37: =$F$3-M37/86400 -> 89202.386 | H37: =($I$3-D37)*86400 -> 20775016 | I37: =TANH($D$5*H37/$K$3) -> 0.49547907 | J37: =COSH($D$5*H37/$K$3) -> 1.1512516 | K37: =$K$3^2*(J37-1)/($D$5) -> 1.7339048e+15 | L37: =$K$3^2*(J37-1)/($D$5) -> 1.7339048e+15 | M37: =$K$3/$D$5*SINH($D$5*H37/$K$3) -> 21812236 | N37: =$N$48-K37/$K$2 -> 45.316726 | O37: =(G37-$F$2)/365.26 -> 64.023945
B38: =CONCATENATE(TEXT((FLOOR(D38/364,1)),"000"),"-",TEXT(LOOKUP(C38,Calendar!A:A,Calendar!B:B),"00"),"-",TEXT(INT(1+C38-LOOKUP(C38,Calendar!A:A,Calendar!A:A)),"00")," MY") -> 045-09-01 MY | C38: =MOD(D38,364) -> 182 | D38: =D37+LOOKUP(C37,Calendar!A:A,Calendar!E:E) -> 16562 | E38: =G38 -> 89234.137 | F38: =G38+2415018.5 -> 2504252.6 | G38: =$F$3-M38/86400 -> 89234.137 | H38: =($I$3-D38)*86400 -> 18355816 | I38: =TANH($D$5*H38/$K$3) -> 0.44626824 | J38: =COSH($D$5*H38/$K$3) -> 1.1174442 | K38: =$K$3^2*(J38-1)/($D$5) -> 1.3463471e+15 | L38: =$K$3^2*(J38-1)/($D$5) -> 1.3463471e+15 | M38: =$K$3/$D$5*SINH($D$5*H38/$K$3) -> 19068937 | N38: =$N$48-K38/$K$2 -> 45.357691 | O38: =(G38-$F$2)/365.26 -> 64.110872
B39: =CONCATENATE(TEXT((FLOOR(D39/364,1)),"000"),"-",TEXT(LOOKUP(C39,Calendar!A:A,Calendar!B:B),"00"),"-",TEXT(INT(1+C39-LOOKUP(C39,Calendar!A:A,Calendar!A:A)),"00")," MY") -> 045-10-01 MY | C39: =MOD(D39,364) -> 189 | D39: =D38+LOOKUP(C38,Calendar!A:A,Calendar!E:E) -> 16569 | E39: =G39 -> 89241.932 | F39: =G39+2415018.5 -> 2504260.4 | G39: =$F$3-M39/86400 -> 89241.932 | H39: =($I$3-D39)*86400 -> 17751016 | I39: =TANH($D$5*H39/$K$3) -> 0.43351281 | J39: =COSH($D$5*H39/$K$3) -> 1.1096964 | K39: =$K$3^2*(J39-1)/($D$5) -> 1.2575278e+15 | L39: =$K$3^2*(J39-1)/($D$5) -> 1.2575278e+15 | M39: =$K$3/$D$5*SINH($D$5*H39/$K$3) -> 18395464 | N39: =$N$48-K39/$K$2 -> 45.367079 | O39: =(G39-$F$2)/365.26 -> 64.132213
B40: =CONCATENATE(TEXT((FLOOR(D40/364,1)),"000"),"-",TEXT(LOOKUP(C40,Calendar!A:A,Calendar!B:B),"00"),"-",TEXT(INT(1+C40-LOOKUP(C40,Calendar!A:A,Calendar!A:A)),"00")," MY") -> 045-11-01 MY | C40: =MOD(D40,364) -> 217 | D40: =D39+LOOKUP(C39,Calendar!A:A,Calendar!E:E) -> 16597 | E40: =G40 -> 89272.598 | F40: =G40+2415018.5 -> 2504291.1 | G40: =$F$3-M40/86400 -> 89272.598 | H40: =($I$3-D40)*86400 -> 15331816 | I40: =TANH($D$5*H40/$K$3) -> 0.38076054 | J40: =COSH($D$5*H40/$K$3) -> 1.0814626 | K40: =$K$3^2*(J40-1)/($D$5) -> 9.3386394e+14 | L40: =$K$3^2*(J40-1)/($D$5) -> 9.3386394e+14 | M40: =$K$3/$D$5*SINH($D$5*H40/$K$3) -> 15745921 | N40: =$N$48-K40/$K$2 -> 45.40129 | O40: =(G40-$F$2)/365.26 -> 64.216169
B41: =CONCATENATE(TEXT((FLOOR(D41/364,1)),"000"),"-",TEXT(LOOKUP(C41,Calendar!A:A,Calendar!B:B),"00"),"-",TEXT(INT(1+C41-LOOKUP(C41,Calendar!A:A,Calendar!A:A)),"00")," MY") -> 045-12-01 MY | C41: =MOD(D41,364) -> 245 | D41: =D40+LOOKUP(C40,Calendar!A:A,Calendar!E:E) -> 16625 | E41: =G41 -> 89302.534 | F41: =G41+2415018.5 -> 2504321 | G41: =$F$3-M41/86400 -> 89302.534 | H41: =($I$3-D41)*86400 -> 12912616 | I41: =TANH($D$5*H41/$K$3) -> 0.32540759 | J41: =COSH($D$5*H41/$K$3) -> 1.0575589 | K41: =$K$3^2*(J41-1)/($D$5) -> 6.5983832e+14 | L41: =$K$3^2*(J41-1)/($D$5) -> 6.5983832e+14 | M41: =$K$3/$D$5*SINH($D$5*H41/$K$3) -> 13159424 | N41: =$N$48-K41/$K$2 -> 45.430255 | O41: =(G41-$F$2)/365.26 -> 64.298128
B42: =CONCATENATE(TEXT((FLOOR(D42/364,1)),"000"),"-",TEXT(LOOKUP(C42,Calendar!A:A,Calendar!B:B),"00"),"-",TEXT(INT(1+C42-LOOKUP(C42,Calendar!A:A,Calendar!A:A)),"00")," MY") -> 045-13-01 MY | C42: =MOD(D42,364) -> 273 | D42: =D41+LOOKUP(C41,Calendar!A:A,Calendar!E:E) -> 16653 | E42: =G42 -> 89331.861 | F42: =G42+2415018.5 -> 2504350.4 | G42: =$F$3-M42/86400 -> 89331.861 | H42: =($I$3-D42)*86400 -> 10493416 | I42: =TANH($D$5*H42/$K$3) -> 0.26773079 | J42: =COSH($D$5*H42/$K$3) -> 1.0378894 | K42: =$K$3^2*(J42-1)/($D$5) -> 4.3435373e+14 | L42: =$K$3^2*(J42-1)/($D$5) -> 4.3435373e+14 | M42: =$K$3/$D$5*SINH($D$5*H42/$K$3) -> 10625614 | N42: =$N$48-K42/$K$2 -> 45.454089 | O42: =(G42-$F$2)/365.26 -> 64.378418
... B47: =CONCATENATE(TEXT((FLOOR(D47/364,1)),"000"),"-",TEXT(LOOKUP(C47,Calendar!A:A,Calendar!B:B),"00"),"-",TEXT(INT(1+C47-LOOKUP(C47,Calendar!A:A,Calendar!A:A)),"00")," MY") -> 046-02-01 MY | C47: =MOD(D47,364) -> 7 | D47: =D46+LOOKUP(C46,Calendar!A:A,Calendar!E:E) -> 16751 | E47: =G47 -> 89431.38 | F47: =G47+2415018.5 -> 2504449.9 | G47: =$F$3-M47/86400 -> 89431.38 | H47: =($I$3-D47)*86400 -> 2026216.4 | I47: =TANH($D$5*H47/$K$3) -> 0.052938908 | J47: =COSH($D$5*H47/$K$3) -> 1.0014042 | K47: =$K$3^2*(J47-1)/($D$5) -> 1.6097533e+13 | L47: =$K$3^2*(J47-1)/($D$5) -> 1.6097533e+13 | M47: =$K$3/$D$5*SINH($D$5*H47/$K$3) -> 2027164.7 | N47: =$N$48-K47/$K$2 -> 45.498298 | O47: =(G47-$F$2)/365.26 -> 64.650879
A48: Arrival Date | B48: =CONCATENATE(TEXT((FLOOR(D48/364,1)),"000"),"-",TEXT(LOOKUP(C48,Calendar!A:A,Calendar!B:B),"00"),"-",TEXT(INT(1+C48-LOOKUP(C48,Calendar!A:A,Calendar!A:A)),"00")," MY") -> 046-02-24 MY | C48: =MOD(D48,364) -> 30.451578 | D48: =I3 -> 16774.452 | E48: =G48 -> 89454.842 | F48: =G48+2415018.5 -> 2504473.3 | G48: =$F$3-M48/86400 -> 89454.842 | H48: 0 | I48: 0 | J48: 1 | K48: =Mission!D6 -> 4.3046185e+17 | L48: =$K$3^2*(J48-1)/($D$5) -> 0 | M48: =$K$3/$D$5*SINH($D$5*H48/$K$3) -> 0 | N48: =K48/$K$2 -> 45.5 | O48: =(G48-$F$2)/365.26 -> 64.715114
A50: UUID Generator | B50: Year | C50: Random Day | D50: Rand Number
B51: -150 | C51: =364*RAND()+B51*364 -> -54574.208 | D51: =INT(2^32*RAND()) -> 1377349778 | E51: =YEAR(F51) -> 1975 | F51: =G51-2415018.5 -> 27748.3 | G51: =ROUND($F$28+(C51-$D$28)/$J$28,1) -> 2442766.8 | H51: =LOWER(CONCATENATE(DEC2HEX(G51),"-",DEC2HEX(D51))) -> 25460e-5218b092
B52: 2 | C52: =364*RAND()+B52*364 -> 863.69289 | D52: =INT(2^32*RAND()) -> 2837066691 | E52: =YEAR(F52) -> 2082 | F52: =G52-2415018.5 -> 66546 | G52: =ROUND($F$28+(C52-$D$28)/$J$28,1) -> 2481564.5 | H52: =LOWER(CONCATENATE(DEC2HEX(G52),"-",DEC2HEX(D52))) -> 25dd9c-a91a33c3
A54: AD | B54: 1998 | C54: =364*RAND() -> 49.576829 | D54: =DATE(B54,1,1) -> 35796 | E54: =D54+2415018.5 -> 2450814.5 | F54: =INT(2^32*RAND()) -> 4285676835 | G54: =DEC2HEX(E54) -> 25657E | H54: =DEC2HEX(F54) -> FF723D23 | I54: =LOWER(CONCATENATE(G54,"-",H54)) -> 25657e-ff723d23 | J54: =B54 -> 1998 | K54: =E54-2415018.5 -> 35796 | L54: =E54 -> 2450814.5
A56: Decode Day | B56: 25e139 | C56: =YEAR(D56) -> 2084 | D56: =E56-2415018.5 -> 67470.5 | E56: =HEX2DEC(B56) -> 2482489
A57: Decode Julian | B57: 2045-01-05 | D57: =DATEVALUE(B57)+2415018.5 -> 2467985.5 | F57: =INT(2^32*RAND()) -> 4270745659 | G57: =DEC2HEX(D57) -> 25A891 | H57: =DEC2HEX(F57) -> FE8E683B | I57: =LOWER(CONCATENATE(G57,"-",H57)) -> 25a891-fe8e683b
B59: =(E29-E28)*0.5+E28 -> 77635.921

Sheet Calendar
A1: Day | B1: Month | C1: Month | D1: Holiday | E1: Length | F1: Total Days: | G1: =SUM(E:E) -> 364
A2: 0 | B2: =1 -> 1 | C2: Retniw | D2: =IF(MOD(B2,4)=1,1,0) -> 1 | E2: =IF(D2,7,28) -> 7
A3: =A2+E2 -> 7 | B3: =B2+1 -> 2 | C3: January | D3: =IF(MOD(B3,4)=1,1,0) -> 0 | E3: =IF(D3,7,28) -> 28
A4: =A3+E3 -> 35 | B4: =B3+1 -> 3 | C4: February | D4: =IF(MOD(B4,4)=1,1,0) -> 0 | E4: =IF(D4,7,28) -> 28
A5: =A4+E4 -> 63 | B5: =B4+1 -> 4 | C5: March | D5: =IF(MOD(B5,4)=1,1,0) -> 0 | E5: =IF(D5,7,28) -> 28
A6: =A5+E5 -> 91 | B6: =B5+1 -> 5 | C6: Gnirps | D6: =IF(MOD(B6,4)=1,1,0) -> 1 | E6: =IF(D6,7,28) -> 7
A7: =A6+E6 -> 98 | B7: =B6+1 -> 6 | C7: April | D7: =IF(MOD(B7,4)=1,1,0) -> 0 | E7: =IF(D7,7,28) -> 28
A8: =A7+E7 -> 126 | B8: =B7+1 -> 7 | C8: May | D8: =IF(MOD(B8,4)=1,1,0) -> 0 | E8: =IF(D8,7,28) -> 28
A9: =A8+E8 -> 154 | B9: =B8+1 -> 8 | C9: June | D9: =IF(MOD(B9,4)=1,1,0) -> 0 | E9: =IF(D9,7,28) -> 28
A10: =A9+E9 -> 182 | B10: =B9+1 -> 9 | C10: Remmus | D10: =IF(MOD(B10,4)=1,1,0) -> 1 | E10: =IF(D10,7,28) -> 7
A11: =A10+E10 -> 189 | B11: =B10+1 -> 10 | C11: July | D11: =IF(MOD(B11,4)=1,1,0) -> 0 | E11: =IF(D11,7,28) -> 28
A12: =A11+E11 -> 217 | B12: =B11+1 -> 11 | C12: August | D12: =IF(MOD(B12,4)=1,1,0) -> 0 | E12: =IF(D12,7,28) -> 28
A13: =A12+E12 -> 245 | B13: =B12+1 -> 12 | C13: September | D13: =IF(MOD(B13,4)=1,1,0) -> 0 | E13: =IF(D13,7,28) -> 28
A14: =A13+E13 -> 273 | B14: =B13+1 -> 13 | C14: Numtua | D14: =IF(MOD(B14,4)=1,1,0) -> 1 | E14: =IF(D14,7,28) -> 7
... A17: =A16+E16 -> 336 | B17: =B16+1 -> 16 | C17: December | D17: =IF(MOD(B17,4)=1,1,0) -> 0 | E17: =IF(D17,7,28) -> 28

Sheet Vehicle
A1: Distance | B1: 1
A2: Accelleration Rate: | B2: =Mission!B4 -> 7.84 | D2: Midpoint:
A4: Distance | B4: =Propulsion!$D$8 -> 4.3046185e+17 | C4: meter | D4: =Propulsion!D9 -> 2.1523092e+17 | E4: meter
A5: Travel time (ship) | B5: =Mission!B15 -> 1.3746612e+09 | C5: sec | D5: =B5/Conversion!$C$3 -> 43.561279 | E5: year
A6: Trave time (map) | B6: =Mission!B14 -> 1.9642517e+09 | C6: sec | D6: =B6/Conversion!$C$3 -> 62.244659 | E6: year
A8: Time in System | B8: 20
A9: Return Trip | B9: 0
A10: Total Mission Length | B10: =D5+B8+IF(B9,D5,0) -> 63.561279 | C10: (Earth) | D10: =D6+B8+IF(B9,D6,0) -> 82.244659 | G10: Frontal Area: | H10: =(4*PI()*700^2)*0.5 -> 3078760.8
A11: Target Population | B11: 3000
A12: Number Domes | B12: 3
A13: Population Profile | B13: island | C13: =LOOKUP(B13,Population!L9:L12,Population!M9:M12) -> Based on Polynsesian colonization. Primarily unmarried people in their 20s
A14: Volume / Dome | B14: =B37/B12*Geometry!C15*0.91 -> 21362664
A15: Dome Radius est | B15: =CEILING(POWER(B14*3/(4*PI()),1/3),2.5)*4 -> 690
A17: Tank Radius | B17: =B18*0.4 -> 260 | C17: 25
A18: 1 G Radius | B18: 650 | C18: =B18*2 -> 1300 | D18: =B18*2*PI() -> 4084.0704 | E18: =D57 -> 1873.6768 | F18: =B82 -> 1307.0015
A19: Population | B19: Seed | C19: Mission Arrival | D19: Mission End | E19: Peak | F19: Final
A20: Year | B20: 0 | C20: =D5+1 -> 44.561279 | D20: =B10 -> 63.561279 | E20: 34 | F20: 100
A21: General | B21: =LOOKUP(B20,'Population Model'!$A$3:$A$100,'Population Model'!$B$3:$B$100) -> 599 | C21: =LOOKUP(C20,'Population Model'!$A$3:$A$100,'Population Model'!$B$3:$B$100) -> 2737 | D21: =LOOKUP(D20,'Population Model'!$A$3:$A$100,'Population Model'!$B$3:$B$100) -> 3034 | E21: =Population!B3 -> 3136 | F21: =LOOKUP(F20,'Population Model'!$A$3:$A$100,'Population Model'!$B$3:$B$100) -> 3115
A22: Workforce | B22: =LOOKUP(B20,'Population Model'!$A$3:$A$100,'Population Model'!$C$3:$C$100) -> 599 | C22: =LOOKUP(C20,'Population Model'!$A$3:$A$100,'Population Model'!$C$3:$C$100) -> 1354 | D22: =LOOKUP(D20,'Population Model'!$A$3:$A$100,'Population Model'!$C$3:$C$100) -> 1400 | E22: =LOOKUP(E20,'Population Model'!$A$3:$A$100,'Population Model'!$C$3:$C$100) -> 1135 | F22: =LOOKUP(F20,'Population Model'!$A$3:$A$100,'Population Model'!$C$3:$C$100) -> 1199
A24: Housing - Single | B24: =Population!C22 -> 1278.7105 | C24: 500
A25: Housing - Family | B25: =Population!C24 -> 462 | C25: 1000
A27: Land Usage | B27: Budget | C27: Implemented | D27: Budget % | E27: Acres | F27: Acres/Capita
A28: Cattle Range: | B28: =Cattle!C11 -> 223000
A29: Crops Range: | B29: =Agriculture!C45*0.75 -> 10235188 | G29: (Assume a magical 25% production increase from technology)
A30: Forest/Orchard:
A31: Agriculture | B31: =B28+B29 -> 10458188 | C31: =Geometry!C21*$B$12 -> 10900212 | D31: =C31/B31 -> 1.0422659 | E31: =C31*Conversion!$F$18 -> 2693.5515 | F31: =E31/$B$11 -> 0.89785049 | G31: =E31*Conversion!D15 -> 1090.0416 | H31: =B31/B37 -> 0.74249095
A32: Settlement Area: | B32: =B24*C24+B25*C25 -> 1101355.2 | C32: =Geometry!C20*$B$12 -> 960327.41 | D32: =C32/B32 -> 0.87195065 | E32: =C32*Conversion!$F$18 -> 237.30651 | F32: =E32/$B$11 -> 0.079102169
A33: Recreation Area: | B33: =B11*40*Conversion!E15/1000 -> 485622.77 | C33: =Geometry!C19*$B$12 -> 576196.38 | D33: =C33/B33 -> 1.1865102 | E33: =C33*Conversion!$F$18 -> 142.38389 | F33: =E33/$B$11 -> 0.047461296
A34: Logistics | B34: =(B60+B62+Agriculture!E40)/1000/2 -> 2040107.4 | C34: =Geometry!C22*$B$12 -> 720245.36 | D34: =C34/B34 -> 0.35304287 | E34: =C34*Conversion!$F$18 -> 177.97983 | F34: =E34/$B$11 -> 0.059326611
A35: Industrial | B35: =E21*250 -> 784000 | C35: =Geometry!C23*$B$12 -> 720495.18 | D35: =C35/B35 -> 0.91899896 | E35: =C35*Conversion!$F$18 -> 178.04156 | F35: =E35/$B$11 -> 0.059347188
A37: Total allocated Area: | B37: =SUM(B31:B34) -> 14085273 | C37: =B52 -> 37922259 | D37: =C37/B37 -> 2.692334 | E37: m^2/person | F37: =B41/B11 -> 3.1235981
A38: Total | B38: =B52 -> 37922259 | C38: m^2 | E38: =19000*6000 -> 114000000 | F38: =E38/B38 -> 3.00615
B39: =B38/1000000 -> 37.922259 | C39: million m^2
B40: =B38/5400 -> 7022.6406 | C40: American football fields | H40: =750/0.26 -> 2884.6154
B41: =B38/4046.85642 -> 9370.7943 | C41: Acres | D41: =B38/Conversion!E17 -> 3792.2259 | G41: 109.728 | H41: =G41/H40 -> 0.03803904
B42: =B38*Conversion!G18 -> 14.641784 | C42: Square Miles
A43: Medievel Estimate | B43: =B11/(180) -> 16.666667 | C43: Square Miles
A45: Dome Radius | B45: =Geometry!E40 -> 260 | C45: =B18/B45 -> 2.5 | D45: =B45*2 -> 520
A46: Dome Land Surface | B46: =Geometry!C18 -> 12640753 | C46: =B46*Conversion!F18 -> 3123.6565
A47: Dome Levels | B47: =Geometry!E38 -> 149.05856
A48: Dome Exterior Surface | B48: =Geometry!E45 -> 849486.65
A49: Dome Volume | B49: =Geometry!E46 -> 73622177
A50: Dome Shield Mass | B50: =Geometry!E48 -> 8.4948665e+09
A51: Dome Structure Mass | B51: =B49*B66 -> 1.3218581e+10
A52: Total Land Area | B52: =B46*B12 -> 37922259
A54: Soil Volume | B54: =Agriculture!C47 -> 14940079
A55: Soil Mass | B55: =Agriculture!C47*Conversion!B10 -> 2.5398134e+10 | C55: kg | F55: =Conversion!$D$32 -> 73155600 | G55: Musashi Class Battleship
A57: Total Vehicle Mass | B57: =D58+B64+B62+B61*B11+D60+D59 -> 1.3706995e+11 | C57: kg | D57: =B57/$F$55 -> 1873.6768 | E57: Musashi Class Battleships (72000 ton)
A58: Dry Mass Estimate | B58: 98100000000 | C58: kg | D58: =SUM(B73:B80) -> 9.5614478e+10 | E58: kg | F58: =D58/$F$55 -> 1307.0015 | G58: =$G$55 -> Musashi Class Battleship
A59: Fuel Mass Estimate | B59: =220000000+Mission!B9*(Vehicle!B58+SUM(Vehicle!B60:B64)) -> 6.0456192e+10 | D59: =D97 -> 1.0524823e+08 | E59: kg | F59: =D59/$F$55 -> 1.43869 | G59: =$G$55 -> Musashi Class Battleship | H59: As Lithium Dueteride
A60: Spare Parts Estimate | B60: 4000000000 | D60: =B79*0.25+(B63+B73+B74)*B63 -> 4.0275224e+10 | E60: kg | F60: =D60/$F$55 -> 550.54191 | G60: =$G$55 -> Musashi Class Battleship
A61: Crew + Effects / per | B61: 5000
A62: Mission Cargo | B62: =B11*20000 -> 60000000
A63: Spare Parts Factor | B63: 10
A64: Cargo Capacity | B64: 1000000000 | E64: Bringing along a self-replicating robot factory to mine remote system
B65: =3220/(390*55*30) -> 0.005003885 | C65: long ton/ft^3
A66: kg/m^3 | B66: =B65*1016.04691/0.0283168466 -> 179.54619
A67: Kg/m^2 manned space | B67: 310 | E67: Based on construction formulas | F67: https://cdn.ymaws.com/www.aspenational.org/resource/resmgr/Techical_Papers/2013_October_TP.pdf
A68: Radition Shielding | B68: 10000 | C68: kg/m^2 | F68: Thickness of water surrounding all habitat areas of ship
E69: 4500 kg/m^2 needed | F69: https://settlement.arc.nasa.gov/75SummerStudy/Chapt4.html#Shielding
B70: =SUM(B58:B64) -> 1.636162e+11 | C70: kg
A71: Impulse | B71: =(B70)*B2 -> 1.282751e+12 | C71: Joules | E71: Mass of spacecraft * accelleration * time
A72: Watt per kg | B72: 1000
A73: Propulsion System | B73: =B71/B72*3 -> 3.848253e+09 | C73: kg | E73: Goal: 1 kW/kg fusion | F73: https://www.space.com/37146-nuclear-fusion-rockets-interstellar-spaceflight.html
A74: Power System | B74: ='Power Consumption'!C43 -> 1.6668442e+08 | C74: kg | D74: =B74/B73 -> 0.04331431 | E74: =B74/12 -> 13890369
A75: Soil | B75: =B55 -> 2.5398134e+10
A76: Atmosphere | B76: =B49*B12*Conversion!B9*0.9 -> 2.4350535e+08 | C76: kg | E76: Assuming STP 1.225 kg/m^3 and 90% of total interior volume
A77: Water Tank/Rad shield | B77: =B50*B12 -> 2.54846e+10
A78: Dome Structure | B78: =B51*B12 -> 3.9655744e+10
A79: Steel Structure | B79: =(B58+B59+SUM(B73:B78))*Conversion!B24*3/Conversion!B23 -> 5.0339922e+08 | C79: =B79/D58 -> 0.0052648849
A80: Flywheel Mass | B80: =Geometry!E62 -> 3.1415927e+08
A81: Dry Mass | B81: =D58 -> 9.5614478e+10 | C81: =B73/D58 -> 0.040247597
B82: =D58/F55 -> 1307.0015 | C82: =G55 -> Musashi Class Battleship
A83: Fuel / J | B83: ='Power Consumption'!C40/3600000 -> 7.0167921e-17 | C83: kg/J | E83: 7 billion kwh / 3100kg fuel | F83: https://f4e.europa.eu/understandingfusion/merits.aspx
A85: Fuel Mass (Power): | B85: ='Power Consumption'!C44*'Power Consumption'!C7 -> 4.6788813e+08
A86: Fuel Mass (Propulsion): | B86: =B71*B83*Mission!$D$19*2/0.4 -> 15417.695
A87: Propulsion Expellent | B87: =(B70*Mission!B9)-SUM(B85:B86) -> 9.5069284e+10
A88: Fuel Mass (raw) | B88: =B85+B86 -> 4.6790354e+08 | D88: Volume
A90: Fuel: | B90: Dueterium / Lithium | D90: https://f4e.europa.eu/understandingfusion/merits.aspx
A91: Deuterium | B91: =B88*(100/(100+3000)) -> 15093663 | C91: kg | D91: 2.0141018 | E91: =B91/(Conversion!$B$7*D91) -> 1.2444357e-17 | F91: Moles
A92: Lithium | B92: =B88*(3000/(100+3000)) -> 4.5280988e+08 | C92: kg | D92: 6.0151229 | E92: =B92/(Conversion!$B$7*D92) -> 1.2500594e-16
A93: Oxygen | D93: 15.994
A94: Carbon | D94: 12.011
A95: Fuel Tank Radius | B95: =B18*3 -> 1950
A96: Fuel Tank Cross Section | B96: =(B95^2*PI())*1.25 -> 14932383 | C96: m^2 | D96: =SQRT(B96/PI()) -> 2180.1663 | E96: =D96*2 -> 4360.3326
A97: Lithium deuteride | B97: 795 | C97: kg/m^3 | D97: =E91*(2*D92+D91)*Conversion!B7 -> 1.0524823e+08 | E97: kg | F97: =D97/B97 -> 132387.71 | G97: M^3 | H97: =F97/$B$96 -> 0.0088658128
A99: Heavy Water | B99: 1107 | C99: kg/m^3 | D99: =E91*(2*D91+D93)*Conversion!B7 -> 1.5004623e+08 | E99: kg | F99: =D99/B99 -> 135543.12 | G99: M^3 | H99: =F99/$B$96 -> 0.0090771261 | K99: Torus
A101: Lithium Carbonate | B101: 2110 | C101: kg/m^3 | D101: =E92*(D92*2+D93*3+D94)*Conversion!B7 -> 5.4218073e+09 | E101: kg | F101: =D101/B101 -> 2569576.9 | G101: M^3 | H101: =F101/$B$96 -> 0.17208084 | M101: V
F102: =D99/B77 -> 0.0058877218 | H102: =H99+H101 -> 0.18115797 | K102: R | L102: r
A103: Water | B103: 1000 | C103: kg/m^3 | D103: =$B$87 -> 9.5069284e+10 | E103: kg | F103: =D103/B103 -> 95069284 | G103: M^3 | H103: =F103/$B$96 -> 6.366652 | I103: =POWER(3*F103/(4*PI()),1/3) -> 283.12868 | J103: =I103*2 -> 566.25737
A104: Iron Oxide | B104: 5745 | C104: kg/m^3 | D104: =$B$87 -> 9.5069284e+10 | E104: kg | F104: =D104/B104 -> 16548178 | G104: M^3 | H104: =F104/$B$96 -> 1.1082075 | I104: =POWER(3*F104/(4*PI()),1/3) -> 158.08374 | J104: =I104*2 -> 316.16747
A105: Iron | B105: 7874 | C105: kg/m^3 | D105: =$B$87 -> 9.5069284e+10 | E105: kg | F105: =D105/B105 -> 12073823 | G105: M^3 | H105: =F105/$B$96 -> 0.80856643 | I105: =POWER(3*F105/(4*PI()),1/3) -> 142.31546 | J105: =I105*2 -> 284.63091
A106: Comet Material | B106: 600 | C106: kg/m^3 | D106: =$B$87 -> 9.5069284e+10 | E106: kg | F106: =D106/B106 -> 1.5844881e+08 | G106: M^3 | H106: =F106/$B$96 -> 10.611087 | I106: =POWER(3*(F106*0.02)/(4*PI()),1/3) -> 91.119247 | J106: =I106*2 -> 182.23849 | K106: =675+L106 -> 1350 | L106: 675 | M106: =2*PI()^2*K106*L106^2 -> 1.2141464e+10 | O106: =L106+675 -> 1350
M107: =M106/F106 -> 76.627046 | O107: =K106+L106 -> 2025
A108: Comet Water | B108: =D99/B109 -> 1.4974674e+15 | C108: kg | E108: comet 3x deuterium concentration | F108: https://earthsky.org/space/rosettas-comet-fuels-debate-on-origin-of-earths-oceans | M108: =1/M107 -> 0.013050223 | O108: =K106-L106 -> 675
B109: =(33.4*3)/1000/1000000 -> 1.002e-07 | E109: Ratio Deuterium Comet Water | F109: https://www.nextbigfuture.com/2012/06/what-is-energy-content-of-earths-water.html
B110: =B108/220000000000000 -> 6.80667 | E110: Number of Equivilent Haley's Comets
A112: Ceres Water | B112: =D99/B113 -> 4.4924022e+15
B113: =(33.4)/1000/1000000 -> 3.34e-08
B114: =200000000*1000000000000 -> 2e+20 | E114: Mass of water on planet | H114: =188/2 -> 94 | I114: =H114*H114*PI() -> 27759.113
...

Sheet Automation
B1: Man Hrs | C1: Crew
B2: PEAK | D2: START
A3: Labor Hours - Repair | B3: =SUM(H:H) -> 1624720.4 | C3: =CEILING(B3/2000,1) -> 813
A4: Labor Hours - Operation | B4: =SUM(F:F) -> 44114.395 | C4: =CEILING(B4/2000,1) -> 23
A5: Labor Hours - Finished Goods/Capita | B5: 10
A7: Maintenance Schedule Robotics | B7: Work Hours | C7: Utilization | D7: Population | E7: Operation Unit (Hr) | F7: Operation All (hr) | G7: Repair Unit (hr) | H7: Repair all (hr) | I7: Design Life | J7: Manufacture | K7: Recycle | L7: Maintenance | M7: 24 | N7: =24*7 -> 168 | O7: 320 | P7: 960 | Q7: 3840 | R7: 5760 | S7: 11520 | T7: 15360
A8: Manufacturing Units | B8: =SUM(G:G)*SUM(D10:D13)/1000 -> 5810.2727 | C8: 1 | D8: =CEILING(B8*C8,1) -> 5811 | E8: 1 | F8: =E8*B8 -> 5810.2727 | G8: =SUM(J8:L8)*3840/I8 -> 133.8869 | H8: =G8*D8 -> 778016.8 | I8: =I10*3 -> 46080 | J8: 1000 | K8: =J8*0.25 -> 250 | L8: =M8*(I8/$M$7)+N8*(I8/$N$7)+O8*(I8/$O$7)+P8*(I8/$P$7)+Q8*(I8/$Q$7)+R8*(I8/$R$7)+S8*(I8/$S$7)+T8*(I8/$T$7) -> 356.64286 | M8: =1/60 -> 0.016666667 | N8: =2/60 -> 0.033333333 | O8: =5/60 -> 0.083333333 | P8: 1 | Q8: 1 | R8: 2 | S8: 10 | T8: =K8*0.25 -> 62.5
A10: Mobile Units | B10: =Vehicle!E21+Vehicle!B37/240 -> 61824.638 | C10: 0.1 | D10: =CEILING(B10*C10,1) -> 6183 | E10: 0.5 | F10: =E10*B10 -> 30912.319 | G10: =SUM(J10:L10)*3840/I10 -> 41.595238 | H10: =G10*D10 -> 257183.36 | I10: =15360 -> 15360 | J10: 100 | K10: =J10*0.1 -> 10 | L10: =M10*(I10/$M$7)+N10*(I10/$N$7)+O10*(I10/$O$7)+P10*(I10/$P$7)+Q10*(I10/$Q$7)+R10*(I10/$R$7)+S10*(I10/$S$7)+T10*(I10/$T$7) -> 56.380952 | M10: =1/60 -> 0.016666667 | N10: =2/60 -> 0.033333333 | O10: =5/60 -> 0.083333333 | P10: 1 | Q10: 1 | R10: 2 | S10: 10
A11: Food Processing Units | B11: =(Agriculture!E37+Agriculture!E38)/1000 -> 2887.8158 | C11: 0.1 | D11: =CEILING(B11*C11,1) -> 289 | E11: 1 | F11: =E11*B11 -> 2887.8158 | G11: =SUM(J11:L11)*3840/I11 -> 133.8869 | H11: =G11*D11 -> 38693.315 | I11: =I8 -> 46080 | J11: 1000 | K11: =J11*0.25 -> 250 | L11: =M11*(I11/$M$7)+N11*(I11/$N$7)+O11*(I11/$O$7)+P11*(I11/$P$7)+Q11*(I11/$Q$7)+R11*(I11/$R$7)+S11*(I11/$S$7)+T11*(I11/$T$7) -> 356.64286 | M11: =1/60 -> 0.016666667 | N11: =2/60 -> 0.033333333 | O11: =5/60 -> 0.083333333 | P11: 1 | Q11: 1 | R11: 2 | S11: 10 | T11: =K11*0.25 -> 62.5
A12: Tractors | B12: =SUM(Crops!AD:AD)/100 -> 1367.9873 | C12: 0.25 | D12: =CEILING(B12*C12,1) -> 342 | E12: 1 | F12: =E12*B12 -> 1367.9873 | G12: =SUM(J12:L12)*3840/I12 -> 41.595238 | H12: =G12*D12 -> 14225.571 | I12: =15360 -> 15360 | J12: 100 | K12: =J12*0.1 -> 10 | L12: =M12*(I12/$M$7)+N12*(I12/$N$7)+O12*(I12/$O$7)+P12*(I12/$P$7)+Q12*(I12/$Q$7)+R12*(I12/$R$7)+S12*(I12/$S$7)+T12*(I12/$T$7) -> 56.380952 | M12: =1/60 -> 0.016666667 | N12: =2/60 -> 0.033333333 | O12: =5/60 -> 0.083333333 | P12: 1 | Q12: 1 | R12: 2 | S12: 10
A13: Industrial Finished Goods | B13: =(Vehicle!E21*B5) -> 31360 | C13: 0.05 | D13: =CEILING(B13*C13,1) -> 1568 | E13: 0.1 | F13: =E13*B13 -> 3136 | G13: =SUM(J13:L13)*3840/I13 -> 342.22024 | H13: =G13*D13 -> 536601.33 | I13: =I10 -> 15360 | J13: 1000 | K13: =J13*0.25 -> 250 | L13: =M13*(I13/$M$7)+N13*(I13/$N$7)+O13*(I13/$O$7)+P13*(I13/$P$7)+Q13*(I13/$Q$7)+R13*(I13/$R$7)+S13*(I13/$S$7)+T13*(I13/$T$7) -> 118.88095 | M13: =1/60 -> 0.016666667 | N13: =2/60 -> 0.033333333 | O13: =5/60 -> 0.083333333 | P13: 1 | Q13: 1 | R13: 2 | S13: 10 | T13: =K13*0.25 -> 62.5

Sheet Conversion
A1: Constants | B1: Niave | C1: Exact | D1: Ship Calendar
A2: Days in year | B2: 365.25 | C2: 365.2425 | D2: 360
A3: Seconds in year | B3: =B2*3600*24 -> 31557600 | C3: =C2*3600*24 -> 31556952 | D3: =D2*3600*24 -> 31104000 | E3: http://www.projectrho.com/public_html/rocket/enginelist.php
A4: Hours/year | B4: =B3/3600 -> 8766 | C4: =C3/3600 -> 8765.82 | D4: =D3/3600 -> 8640
A5: Light Year | B5: 9.4607e+15
A6: Speed of Light | B6: 299792458 | C6: =B6*B6 -> 8.9875518e+16
A7: Mole | B7: 6.022e+23 | E7: 2130
A8: 3 * square Root of three | B8: =3*SQRT(3) -> 5.1961524 | C8: =1.4422*3 -> 4.3266
A9: Air Density | B9: 1.225 | C9: kg/m^3
A10: Soil Density | B10: 1700 | C10: kg/m^3
A11: G | B11: 9.8 | C11: m/s/s
A13: Area
A14: Agriculture Calculations | C14: km^2 | D14: hectare | E14: m^2 | F14: acre | G14: mile^2 | H14: ft^2
A15: acre | C15: 0.00404686 | D15: =1/F17 -> 0.40468564 | E15: 4046.8564 | F15: 1 | G15: 0.0015625
A16: km^2 | C16: 1 | D16: 100 | E16: =E17*D16 -> 1000000 | F16: 247.10538 | G16: 0.38610216
A17: hectare | C17: =1/D16 -> 0.01 | D17: 1 | E17: 10000 | F17: 2.4710538 | G17: 0.00386102
A18: m^2 | C18: 1e-06 | D18: =1/E17 -> 0.0001 | E18: 1 | F18: 0.00024711 | G18: 3.861e-07 | H18: 10.76
A21: Other
A22: 1 us ton/acre -> kg/hectare | D22: 2241.7023
A23: Beam Capacity | B23: =13790*3 -> 41370 | C23: kg/m
A24: Mass per m | B24: =27.4 -> 27.4
A25: Material | B25: Nickle/Iron Alloy 52/48
A26: Tensile Strength | B26: 640 | C26: N/mm^2
A27: Yield Point | B27: 240 | C27: N/mm^2
A28: Density | B28: 8.45 | C28: g/cm^3 | E28: e = m c^2
A29: Mass of eros | B29: 6.668e+15 | C29: kg | D29: =B29/(Vehicle!B79+Vehicle!B73) -> 1532291.6
A30: Mass of ceres | B30: 9.1e+20 | D30: =B30/(Vehicle!B55+Vehicle!B92) -> 3.520181e+10
A31: Nimitz Carrier | B31: 104600 | C31: Long Ton | D31: =B31*1016.05 -> 106278830 | E31: kg
A32: Musashi Class Battleship | B32: 72000 | C32: Long Ton | D32: =B32*1016.05 -> 73155600 | E32: kg
A33: Horsepower to KW | B33: 0.74569987
A34: KW to Horsepower | B34: =1/B33 -> 1.3410221
A35: Cultivation energy / hectare | B35: 312 | C35: kwh/hectare | D35: http://www.fao.org/docrep/003/X8054E/x8054e05.htm
A37: kwh/yr -> watt | B37: =1000/B3 -> 3.1688088e-05 | C37: =1/B37 -> 31557.6
A38: kwh/day -> watt | B38: =1000/(3600*24) -> 0.011574074 | C38: =1/B38 -> 86.4
A40: kilogram of oil (kgoe) | B40: =41868/1000 -> 41.868 | D40: kJ/kg
A41: Length of a Nimtz Carrier | B41: 333 | C41: m
A42: Length of Football Field | B42: 109.728 | C42: m
A44: Image Scale (carrier) | B44: 3.24 | C44: in | D44: 550 | E44: m | F44: =B44/D44*Conversion!B41 -> 1.9616727 | G44: in
A45: Image Scale (field) | B45: 7.2 | C45: in | D45: =Vehicle!B45*2 -> 520 | E45: m | F45: =B45/D45*Conversion!B42 -> 1.5193108 | G45: in

Sheet Geometry
A1: 1 G Radius | E1: =Vehicle!B18 -> 650 | G1: Max Tile Size: | H1: 847 | J1: Tile Room Area | L1: Housing Units Per Capita | O1: =80*50 -> 4000
A2: Radation Shielding | E2: =Vehicle!B68 -> 10000 | F2: kg/m^2 | G2: Shape | H2: Hexagon | J2: =H4*H4*(3*SQRT(3)/8) -> 889.19158 | K2: m^2 | L2: =Vehicle!B11/F20 -> 8.333329 | M2: =J2/8 -> 111.14895 | O2: =SQRT(O1*8/(3*SQRT(3))) -> 78.475492
A3: Accelleration | E3: 9.8 | G3: Max D | H3: =SQRT(H1*8/(3*SQRT(3))) -> 36.111519 | J3: =J2*Conversion!$H$18 -> 9567.7014 | K3: ft^2
A4: Angular Speed | E4: =SQRT(E3*1.05/E1) -> 0.12582038 | F4: =E3/E1 -> 0.015076923 | G4: Tile D | H4: 37 | I4: =35.3/2 -> 17.65 | J4: =J2*Conversion!F18 -> 0.21972813 | K4: Acres | O4: Hex:
A5: RPM | E5: =E4*30/PI() -> 1.2014962 | G5: Tile Outer Width | H5: 42 | I5: rad | O5: D | P5: =H4 -> 37 | R5: 100
A6: Mass m^3 | E6: =Vehicle!B66 -> 179.54619 | G6: Ring | H6: Perimeter | I6: 0 | J6: 0 | L6: Area | M6: Util | O6: R | P6: =P5/2 -> 18.5 | R6: =R5/2 -> 50
A7: Segment Length | E7: =2*E1*PI()/6 -> 680.67841 | G7: 0 | H7: 1 | I7: =$H$4*0.5+$H$5*G7 -> 18.5 | J7: =J6+H7 -> 1 | K7: =J7*$J$2 -> 889.19158 | L7: =I7*I7*PI() -> 1075.2101 | M7: =K7/L7 -> 0.82699334 | O7: r | P7: =COS(30*PI()/180)*P6 -> 16.02147 | Q7: =P7*2 -> 32.04294 | R7: =COS(30*PI()/180)*R6 -> 43.30127 | S7: =R7*2 -> 86.60254
A8: G at apex | E8: =$F$4*($E$1-E41)/9.8 -> 0.2 | G8: =G7+1 -> 1 | H8: 6 | I8: =$H$4*0.5+$H$5*G8 -> 60.5 | J8: =J7+H8 -> 7 | K8: =J8*$J$2 -> 6224.3411 | L8: =I8*I8*PI() -> 11499.015 | M8: =K8/L8 -> 0.54129344 | O8: t | P8: =P7*2/SQRT(3) -> 18.5 | R8: =R7*2/SQRT(3) -> 50
G9: =G8+1 -> 2 | H9: 12 | I9: =$H$4*0.5+$H$5*G9 -> 102.5 | J9: =J8+H9 -> 19 | K9: =J9*$J$2 -> 16894.64 | L9: =I9*I9*PI() -> 33006.358 | M9: =K9/L9 -> 0.51186017
A10: Diameter | C10: =Geometry!E41 -> 520 | D10: =Geometry!E40 -> 260 | E10: =D10*D10 -> 67600 | G10: =G9+1 -> 3 | H10: 18 | I10: =$H$4*0.5+$H$5*G10 -> 144.5 | J10: =J9+H10 -> 37 | K10: =J10*$J$2 -> 32900.089 | L10: =I10*I10*PI() -> 65597.24 | M10: =K10/L10 -> 0.50154684
A11: Vertical Usage | C11: 0.9 | D11: =C10*C11 -> 468 | G11: =G10+1 -> 4 | H11: 24 | I11: =$H$4*0.5+$H$5*G11 -> 186.5 | J11: =J10+H11 -> 61 | K11: =J11*$J$2 -> 54240.687 | L11: =I11*I11*PI() -> 109271.66 | M11: =K11/L11 -> 0.49638384
A12: Angular Speed | C12: =Geometry!E4 -> 0.12582038 | D12: =C12*C12 -> 0.015830769 | G12: =G11+1 -> 5 | H12: =H11+6 -> 30 | I12: =$H$4*0.5+$H$5*G12 -> 228.5 | J12: =J11+H12 -> 91 | K12: =J12*$J$2 -> 80916.434 | L12: =I12*I12*PI() -> 164029.62 | M12: =K12/L12 -> 0.49330379
A13: 1g Radius | C13: =Geometry!E1 -> 650 | G13: =G12+1 -> 6 | H13: =H12+6 -> 36 | I13: =$H$4*0.5+$H$5*G13 -> 270.5 | J13: =J12+H13 -> 127 | K13: =J13*$J$2 -> 112927.33 | L13: =I13*I13*PI() -> 229871.12 | M13: =K13/L13 -> 0.49126367
A14: Domes | C14: =Vehicle!B12 -> 3 | G14: =G13+1 -> 7 | H14: =H13+6 -> 42 | I14: =$H$4*0.5+$H$5*G14 -> 312.5 | J14: =J13+H14 -> 169 | K14: =J14*$J$2 -> 150273.38 | L14: =I14*I14*PI() -> 306796.16 | M14: =K14/L14 -> 0.48981506
A15: dy Standard | C15: 5 | D15: =C15*3.2808399 -> 16.4042 | E15: (1 meter utility, 1-2 meter soil, 3-4 meter headspace)
A16: Gallery Rate | C16: 5 | D16: =C16*3.2808399 -> 16.4042 | G16: Note: Some decks do not have area that adds up to 100% to represent thru-deck features
A17: Floor Count | C17: =SUM(Gravity!I:I) -> 149.05856 | F17: Tiles
A18: Total Area | C18: =SUM(Gravity!J:J) -> 12640753 | D18: =C18*Conversion!F18 -> 3123.6565 | H18: Height
A19: Park Area | C19: =SUM(Gravity!P:P)*2/3 -> 192065.46 | D19: =Vehicle!B33/$C$14 -> 161874.26 | E19: =C19/D19 -> 1.1865102 | F19: =C19/$J$2 -> 216.00009 | G19: Machinery | H19: 0 | I19: 5
A20: Settlement Area | C20: =SUM(Gravity!O:O) -> 320109.14 | D20: =Vehicle!B32/$C$14 -> 367118.41 | E20: =C20/D20 -> 0.87195065 | F20: =C20/$J$2 -> 360.00019 | G20: Agriculture | H20: 1 | I20: 5 | M20: =15.5*12 -> 186
A21: Agriculture | C21: =SUM(Gravity!M:N)+SUM(Gravity!P:P)*1/3 -> 3633404.1 | D21: =Vehicle!B31/$C$14 -> 3486062.6 | E21: =C21/D21 -> 1.0422659 | F21: =C21/$J$2 -> 4086.1882 | G21: Forest | H21: 2 | I21: 15 | M21: =18*10 -> 180
A22: Cargo Area | C22: =SUM(Gravity!Q:Q) -> 240081.79 | D22: =Vehicle!B34/$C$14 -> 680035.79 | E22: =C22/D22 -> 0.35304287 | F22: =C22/$J$2 -> 270.00007 | G22: Residential | H22: 3 | I22: 5
A23: Industry | C23: =SUM(Gravity!R:R) -> 240165.06 | D23: =Vehicle!B35/$C$14 -> 261333.33 | E23: =C23/D23 -> 0.91899896 | F23: =C23/$J$2 -> 270.09372 | G23: Park/Rec/Orchard | H23: 4 | I23: 15
A24: Machinery | C24: =SUM(Gravity!S:S) -> 189397.81 | G24: Cargo/Commercial | H24: 5 | I24: 5
A25: Height | G25: Industry | H25: 6 | I25: 5
A26: Usage: | C26: =SUM(J19:J23) -> 0 | G26: Future | H26: 7 | I26: 5
A28: Widest Deck | B28: =LOOKUP(C28,Gravity!D:D,Gravity!A:A) -> 46 | C28: =C13-C10+D10 -> 390 | D28: =LOOKUP(B28,Gravity!A:A,Gravity!H:H) -> 260
A30: Design of a spheriod dome | E30: Sphere + Flywheel
A31: Total Area | E31: =Vehicle!B37 -> 14085273
A32: Number of domes | E32: =Vehicle!B12 -> 3
A33: Inner Radius | E33: =E1/IF(E32=3,5,IF(E32=6,2)) -> 130
A34: Design Area per dome | E34: =E31/E32 -> 4695091
E35: =E36/$E$34 -> 3.1747746e-05
A36: Implementation area | E36: =SUM(Gravity!I:I) -> 149.05856
A37: dy | E37: 5
A38: Levels | E38: =Geometry!C17 -> 149.05856
A39: Verticle Usage | E39: 1
A40: Radius | E40: =E41/2 -> 260 | F40: =E40*2 -> 520
A41: Height | E41: =E1-E33 -> 520 | G41: =E41*2+E33*2 -> 1300
A42: Width | E42: =E40*2 -> 520
A43: Slice Area
A45: Surface area | E45: =IF(E41<E40,2*PI()*E40*E40+PI()*E41*E41/E43*LN((1+E43)/(1-E43)),4*PI()*E40*E40) -> 849486.65
A46: Volume | E46: =4*PI()/3*E40*E40*E40 -> 73622177
A47: area / volume | E47: =E45/E46 -> 0.011538462
A48: Radiation Mass | E48: =E45*E2 -> 8.4948665e+09
A49: Structure Mass | E49: =E46*$E$6 -> 1.3218581e+10
A51: Soil Mass | E51: =E36*Conversion!B10 -> 253399.55
A52: Atmosphere | E52: =(E46-E51/Conversion!B10-E49/8000)*Conversion!B9 -> 88162889
A54: Total Mass | E54: =(E52+E51+E49+E48)*Vehicle!B12 -> 6.5405592e+10
A55: Moment of Inertia | E55: =0.25*E54*(4*(E1-E40)*(E1-E40)+4*(E40*E40))+0.5*E1*E1*E62 -> 1.4435975e+16
A56: Angular Momentum | E56: =E55*E4 -> 1.8163399e+15
A57: Flywheel Inner Radius | E57: =E58-10 -> 120
A58: Flywheel Max Radius | E58: =FLOOR(E1-E41,1) -> 130
B59: 2d Slice Area | E59: =(PI()*E58*E58-PI()*E57*E57) -> 7853.9816
A60: Flywheel Thickness | E60: 5
A61: Flywheel Density | E61: 8000
A62: Flywheel Mass | E62: =E59*E60*E61 -> 3.1415927e+08 | F62: =E62/E54 -> 0.0048032478
A63: Flywheel Moment of Inertia | E63: =0.5*E62*(E58*E58+E57*E57) -> 4.9165925e+12
A64: Flywheel Angular Speed | E64: =E56/E63 -> 369.43064 | F64: =E64*30/PI() -> 3527.8027

Sheet Gravity
A1: Total Levels | C1: =Geometry!C17 -> 149.05856 | G1: Tile Area | H1: =Geometry!J2 -> 889.19158
A2: Widest | C2: =Geometry!B28 -> 46 | E2: Spheres | F2: =Vehicle!B12 -> 3 | H2: =SQRT(H1*(SQRT(3))/2) -> 27.75 | I2: =H2*2 -> 55.5 | J2: =I2*10 -> 555 | L2: =390*COS(120/180*PI()) -> -195 | N2: =(12.5)*PI() -> 39.269908 | O2: =5/N2 -> 0.12732395 | Q2: 0.06 | R2: =5/Q2 -> 83.333333
A3: Hab Levels | C3: 5 | E3: Start Radius | F3: =Geometry!E33 -> 130 | I3: =364/I2 -> 6.5585586 | L3: =390*SIN(120/180*PI()) -> 337.74991 | N3: =32*4 -> 128 | O3: =5/N3 -> 0.0390625 | P3: =15/N3 -> 0.1171875
A4: Ag Level | C4: 4
A5: Machinery | C5: 5 | E5: Sphere Radius | F5: =Geometry!$D$10 -> 260
A6: Levels | B6: Name | C6: Usage | D6: Rot Radius | E6: h | G6: %g | H6: Floor Radius | J6: Area | K6: Tiles | L6: Floor Area | M6: Agriculture | N6: Forest | O6: Settlement | P6: Park | Q6: Cargo | R6: Industry | S6: Machinery
B7: =2*F5 -> 520 | D7: =F3 -> 130 | E7: =F5 -> 260 | F7: =Geometry!$D$12*D7 -> 2.058 | G7: =IF(H7>0,F7/9.8,0) -> 0 | H7: =IF(ABS(F5*F5)<=Geometry!$E$10,SQRT(Geometry!$E$10-F5*F5),0) -> 0 | I7: =IF(H7>0,1,0) -> 0
A8: 1 | B8: =B7-(D8-D7) -> 515 | C8: 0 | D8: =D7+LOOKUP(C8,Geometry!$H$19:$I$25) -> 135 | E8: =E7-(D8-D7) -> 255 | F8: =Geometry!$D$12*D8 -> 2.1371538 | G8: =IF(H8>0,F8/9.8,0) -> 0.21807692 | H8: =IF(ABS(E8*E8)<=Geometry!$E$10,SQRT(Geometry!$E$10-E8*E8),0) -> 50.744458 | I8: =IF(H8>0,1,0) -> 1 | J8: =PI()*H8*H8 -> 8089.6011 | K8: =LOOKUP(H8,Geometry!$I$6:$J$14) -> 1 | L8: =K8*Geometry!$J$2 -> 889.19158 | M8: =IF($C8=1,$L8-$S8,0) -> 0 | N8: =IF($C8=2,$L8-$S8,0) -> 0 | O8: =IF($C8=3,$L8-$S8,0) -> 0 | P8: =IF($C8=4,$L8-$S8,0) -> 0 | Q8: =IF($C8=5,$L8-$S8,0) -> 0 | R8: =IF($C8=6,$L8-$S8,0) -> 0 | S8: =IF($C8=0,$L8,$H$1) -> 889.19158
A9: =A8+1 -> 2 | B9: =B8-(D9-D8) -> 510 | C9: 0 | D9: =D8+LOOKUP(C9,Geometry!$H$19:$I$25) -> 140 | E9: =E8-(D9-D8) -> 250 | F9: =Geometry!$D$12*D9 -> 2.2163077 | G9: =IF(H9>0,F9/9.8,0) -> 0.22615385 | H9: =IF(ABS(E9*E9)<=Geometry!$E$10,SQRT(Geometry!$E$10-E9*E9),0) -> 71.414284 | I9: =IF(H9>0,1,0) -> 1 | J9: =PI()*H9*H9 -> 16022.123 | K9: =LOOKUP(H9,Geometry!$I$6:$J$14) -> 7 | L9: =K9*Geometry!$J$2 -> 6224.3411 | M9: =IF($C9=1,$L9-$S9,0) -> 0 | N9: =IF($C9=2,$L9-$S9,0) -> 0 | O9: =IF($C9=3,$L9-$S9,0) -> 0 | P9: =IF($C9=4,$L9-$S9,0) -> 0 | Q9: =IF($C9=5,$L9-$S9,0) -> 0 | R9: =IF($C9=6,$L9-$S9,0) -> 0 | S9: =IF($C9=0,$L9,$H$1) -> 6224.3411
A10: =A9+1 -> 3 | B10: =B9-(D10-D9) -> 505 | C10: 0 | D10: =D9+LOOKUP(C10,Geometry!$H$19:$I$25) -> 145 | E10: =E9-(D10-D9) -> 245 | F10: =Geometry!$D$12*D10 -> 2.2954615 | G10: =IF(H10>0,F10/9.8,0) -> 0.23423077 | H10: =IF(ABS(E10*E10)<=Geometry!$E$10,SQRT(Geometry!$E$10-E10*E10),0) -> 87.034476 | I10: =IF(H10>0,1,0) -> 1 | J10: =PI()*H10*H10 -> 23797.564 | K10: =LOOKUP(H10,Geometry!$I$6:$J$14) -> 7 | L10: =K10*Geometry!$J$2 -> 6224.3411 | M10: =IF($C10=1,$L10-$S10,0) -> 0 | N10: =IF($C10=2,$L10-$S10,0) -> 0 | O10: =IF($C10=3,$L10-$S10,0) -> 0 | P10: =IF($C10=4,$L10-$S10,0) -> 0 | Q10: =IF($C10=5,$L10-$S10,0) -> 0 | R10: =IF($C10=6,$L10-$S10,0) -> 0 | S10: =IF($C10=0,$L10,$H$1) -> 6224.3411
A11: =A10+1 -> 4 | B11: =B10-(D11-D10) -> 500 | C11: 0 | D11: =D10+LOOKUP(C11,Geometry!$H$19:$I$25) -> 150 | E11: =E10-(D11-D10) -> 240 | F11: =Geometry!$D$12*D11 -> 2.3746154 | G11: =IF(H11>0,F11/9.8,0) -> 0.24230769 | H11: =IF(ABS(E11*E11)<=Geometry!$E$10,SQRT(Geometry!$E$10-E11*E11),0) -> 100 | I11: =IF(H11>0,1,0) -> 1 | J11: =PI()*H11*H11 -> 31415.927 | K11: =LOOKUP(H11,Geometry!$I$6:$J$14) -> 7 | L11: =K11*Geometry!$J$2 -> 6224.3411 | M11: =IF($C11=1,$L11-$S11,0) -> 0 | N11: =IF($C11=2,$L11-$S11,0) -> 0 | O11: =IF($C11=3,$L11-$S11,0) -> 0 | P11: =IF($C11=4,$L11-$S11,0) -> 0 | Q11: =IF($C11=5,$L11-$S11,0) -> 0 | R11: =IF($C11=6,$L11-$S11,0) -> 0 | S11: =IF($C11=0,$L11,$H$1) -> 6224.3411
A12: =A11+1 -> 5 | B12: =B11-(D12-D11) -> 485 | C12: 2 | D12: =D11+LOOKUP(C12,Geometry!$H$19:$I$25) -> 165 | E12: =E11-(D12-D11) -> 225 | F12: =Geometry!$D$12*D12 -> 2.6120769 | G12: =IF(H12>0,F12/9.8,0) -> 0.26653846 | H12: =IF(ABS(E12*E12)<=Geometry!$E$10,SQRT(Geometry!$E$10-E12*E12),0) -> 130.28814 | I12: =IF(H12>0,1,0) -> 1 | J12: =PI()*H12*H12 -> 53328.535 | K12: =LOOKUP(H12,Geometry!$I$6:$J$14) -> 19 | L12: =K12*Geometry!$J$2 -> 16894.64 | M12: =IF($C12=1,$L12-$S12,0) -> 0 | N12: =IF($C12=2,$L12-$S12,0) -> 16005.449 | O12: =IF($C12=3,$L12-$S12,0) -> 0 | P12: =IF($C12=4,$L12-$S12,0) -> 0 | Q12: =IF($C12=5,$L12-$S12,0) -> 0 | R12: =IF($C12=6,$L12-$S12,0) -> 0 | S12: =IF($C12=0,$L12,$H$1) -> 889.19158
A13: =A12+1 -> 6 | B13: =B12-(D13-D12) -> 470 | C13: 2 | D13: =D12+LOOKUP(C13,Geometry!$H$19:$I$25) -> 180 | E13: =E12-(D13-D12) -> 210 | F13: =Geometry!$D$12*D13 -> 2.8495385 | G13: =IF(H13>0,F13/9.8,0) -> 0.29076923 | H13: =IF(ABS(E13*E13)<=Geometry!$E$10,SQRT(Geometry!$E$10-E13*E13),0) -> 153.2971 | I13: =IF(H13>0,1,0) -> 1 | J13: =PI()*H13*H13 -> 73827.427 | K13: =LOOKUP(H13,Geometry!$I$6:$J$14) -> 37 | L13: =K13*Geometry!$J$2 -> 32900.089 | M13: =IF($C13=1,$L13-$S13,0) -> 0 | N13: =IF($C13=2,$L13-$S13,0) -> 32010.897 | O13: =IF($C13=3,$L13-$S13,0) -> 0 | P13: =IF($C13=4,$L13-$S13,0) -> 0 | Q13: =IF($C13=5,$L13-$S13,0) -> 0 | R13: =IF($C13=6,$L13-$S13,0) -> 0 | S13: =IF($C13=0,$L13,$H$1) -> 889.19158
A14: =A13+1 -> 7 | B14: =B13-(D14-D13) -> 455 | C14: 4 | D14: =D13+LOOKUP(C14,Geometry!$H$19:$I$25) -> 195 | E14: =E13-(D14-D13) -> 195 | F14: =Geometry!$D$12*D14 -> 3.087 | G14: =IF(H14>0,F14/9.8,0) -> 0.315 | H14: =IF(ABS(E14*E14)<=Geometry!$E$10,SQRT(Geometry!$E$10-E14*E14),0) -> 171.97384 | I14: =IF(H14>0,1,0) -> 1 | J14: =PI()*H14*H14 -> 92912.603 | K14: =LOOKUP(H14,Geometry!$I$6:$J$14) -> 37 | L14: =K14*Geometry!$J$2 -> 32900.089 | M14: =IF($C14=1,$L14-$S14,0) -> 0 | N14: =IF($C14=2,$L14-$S14,0) -> 0 | O14: =IF($C14=3,$L14-$S14,0) -> 0 | P14: =IF($C14=4,$L14-$S14,0) -> 32010.897 | Q14: =IF($C14=5,$L14-$S14,0) -> 0 | R14: =IF($C14=6,$L14-$S14,0) -> 0 | S14: =IF($C14=0,$L14,$H$1) -> 889.19158
A15: =A14+1 -> 8 | B15: =B14-(D15-D14) -> 450 | C15: 1 | D15: =D14+LOOKUP(C15,Geometry!$H$19:$I$25) -> 200 | E15: =E14-(D15-D14) -> 190 | F15: =Geometry!$D$12*D15 -> 3.1661538 | G15: =IF(H15>0,F15/9.8,0) -> 0.32307692 | H15: =IF(ABS(E15*E15)<=Geometry!$E$10,SQRT(Geometry!$E$10-E15*E15),0) -> 177.48239 | I15: =IF(H15>0,1,0) -> 1 | J15: =PI()*H15*H15 -> 98960.169 | K15: =LOOKUP(H15,Geometry!$I$6:$J$14) -> 37 | L15: =K15*Geometry!$J$2 -> 32900.089 | M15: =IF($C15=1,$L15-$S15,0) -> 32010.897 | N15: =IF($C15=2,$L15-$S15,0) -> 0 | O15: =IF($C15=3,$L15-$S15,0) -> 0 | P15: =IF($C15=4,$L15-$S15,0) -> 0 | Q15: =IF($C15=5,$L15-$S15,0) -> 0 | R15: =IF($C15=6,$L15-$S15,0) -> 0 | S15: =IF($C15=0,$L15,$H$1) -> 889.19158
A16: =A15+1 -> 9 | B16: =B15-(D16-D15) -> 445 | C16: 1 | D16: =D15+LOOKUP(C16,Geometry!$H$19:$I$25) -> 205 | E16: =E15-(D16-D15) -> 185 | F16: =Geometry!$D$12*D16 -> 3.2453077 | G16: =IF(H16>0,F16/9.8,0) -> 0.33115385 | H16: =IF(ABS(E16*E16)<=Geometry!$E$10,SQRT(Geometry!$E$10-E16*E16),0) -> 182.68826 | I16: =IF(H16>0,1,0) -> 1 | J16: =PI()*H16*H16 -> 104850.65 | K16: =LOOKUP(H16,Geometry!$I$6:$J$14) -> 37 | L16: =K16*Geometry!$J$2 -> 32900.089 | M16: =IF($C16=1,$L16-$S16,0) -> 32010.897 | N16: =IF($C16=2,$L16-$S16,0) -> 0 | O16: =IF($C16=3,$L16-$S16,0) -> 0 | P16: =IF($C16=4,$L16-$S16,0) -> 0 | Q16: =IF($C16=5,$L16-$S16,0) -> 0 | R16: =IF($C16=6,$L16-$S16,0) -> 0 | S16: =IF($C16=0,$L16,$H$1) -> 889.19158
A17: =A16+1 -> 10 | B17: =B16-(D17-D16) -> 440 | C17: 1 | D17: =D16+LOOKUP(C17,Geometry!$H$19:$I$25) -> 210 | E17: =E16-(D17-D16) -> 180 | F17: =Geometry!$D$12*D17 -> 3.3244615 | G17: =IF(H17>0,F17/9.8,0) -> 0.33923077 | H17: =IF(ABS(E17*E17)<=Geometry!$E$10,SQRT(Geometry!$E$10-E17*E17),0) -> 187.61663 | I17: =IF(H17>0,1,0) -> 1 | J17: =PI()*H17*H17 -> 110584.06 | K17: =LOOKUP(H17,Geometry!$I$6:$J$14) -> 61 | L17: =K17*Geometry!$J$2 -> 54240.687 | M17: =IF($C17=1,$L17-$S17,0) -> 53351.495 | N17: =IF($C17=2,$L17-$S17,0) -> 0 | O17: =IF($C17=3,$L17-$S17,0) -> 0 | P17: =IF($C17=4,$L17-$S17,0) -> 0 | Q17: =IF($C17=5,$L17-$S17,0) -> 0 | R17: =IF($C17=6,$L17-$S17,0) -> 0 | S17: =IF($C17=0,$L17,$H$1) -> 889.19158
A18: =A17+1 -> 11 | B18: =B17-(D18-D17) -> 435 | C18: 1 | D18: =D17+LOOKUP(C18,Geometry!$H$19:$I$25) -> 215 | E18: =E17-(D18-D17) -> 175 | F18: =Geometry!$D$12*D18 -> 3.4036154 | G18: =IF(H18>0,F18/9.8,0) -> 0.34730769 | H18: =IF(ABS(E18*E18)<=Geometry!$E$10,SQRT(Geometry!$E$10-E18*E18),0) -> 192.28885 | I18: =IF(H18>0,1,0) -> 1 | J18: =PI()*H18*H18 -> 116160.39 | K18: =LOOKUP(H18,Geometry!$I$6:$J$14) -> 61 | L18: =K18*Geometry!$J$2 -> 54240.687 | M18: =IF($C18=1,$L18-$S18,0) -> 53351.495 | N18: =IF($C18=2,$L18-$S18,0) -> 0 | O18: =IF($C18=3,$L18-$S18,0) -> 0 | P18: =IF($C18=4,$L18-$S18,0) -> 0 | Q18: =IF($C18=5,$L18-$S18,0) -> 0 | R18: =IF($C18=6,$L18-$S18,0) -> 0 | S18: =IF($C18=0,$L18,$H$1) -> 889.19158
A19: =A18+1 -> 12 | B19: =B18-(D19-D18) -> 430 | C19: 1 | D19: =D18+LOOKUP(C19,Geometry!$H$19:$I$25) -> 220 | E19: =E18-(D19-D18) -> 170 | F19: =Geometry!$D$12*D19 -> 3.4827692 | G19: =IF(H19>0,F19/9.8,0) -> 0.35538462 | H19: =IF(ABS(E19*E19)<=Geometry!$E$10,SQRT(Geometry!$E$10-E19*E19),0) -> 196.72316 | I19: =IF(H19>0,1,0) -> 1 | J19: =PI()*H19*H19 -> 121579.64 | K19: =LOOKUP(H19,Geometry!$I$6:$J$14) -> 61 | L19: =K19*Geometry!$J$2 -> 54240.687 | M19: =IF($C19=1,$L19-$S19,0) -> 53351.495 | N19: =IF($C19=2,$L19-$S19,0) -> 0 | O19: =IF($C19=3,$L19-$S19,0) -> 0 | P19: =IF($C19=4,$L19-$S19,0) -> 0 | Q19: =IF($C19=5,$L19-$S19,0) -> 0 | R19: =IF($C19=6,$L19-$S19,0) -> 0 | S19: =IF($C19=0,$L19,$H$1) -> 889.19158
A20: =A19+1 -> 13 | B20: =B19-(D20-D19) -> 425 | C20: 1 | D20: =D19+LOOKUP(C20,Geometry!$H$19:$I$25) -> 225 | E20: =E19-(D20-D19) -> 165 | F20: =Geometry!$D$12*D20 -> 3.5619231 | G20: =IF(H20>0,F20/9.8,0) -> 0.36346154 | H20: =IF(ABS(E20*E20)<=Geometry!$E$10,SQRT(Geometry!$E$10-E20*E20),0) -> 200.93531 | I20: =IF(H20>0,1,0) -> 1 | J20: =PI()*H20*H20 -> 126841.8 | K20: =LOOKUP(H20,Geometry!$I$6:$J$14) -> 61 | L20: =K20*Geometry!$J$2 -> 54240.687 | M20: =IF($C20=1,$L20-$S20,0) -> 53351.495 | N20: =IF($C20=2,$L20-$S20,0) -> 0 | O20: =IF($C20=3,$L20-$S20,0) -> 0 | P20: =IF($C20=4,$L20-$S20,0) -> 0 | Q20: =IF($C20=5,$L20-$S20,0) -> 0 | R20: =IF($C20=6,$L20-$S20,0) -> 0 | S20: =IF($C20=0,$L20,$H$1) -> 889.19158
... A84: =A83+1 -> 77 | B84: =B83-(D84-D83) -> 65 | C84: 1 | D84: =D83+LOOKUP(C84,Geometry!$H$19:$I$25) -> 585 | E84: =E83-(D84-D83) -> -195 | F84: =Geometry!$D$12*D84 -> 9.261 | G84: =IF(H84>0,F84/9.8,0) -> 0.945 | H84: =IF(ABS(E84*E84)<=Geometry!$E$10,SQRT(Geometry!$E$10-E84*E84),0) -> 171.97384 | I84: =IF(H84>0,1,0) -> 1 | J84: =PI()*H84*H84 -> 92912.603 | K84: =LOOKUP(H84,Geometry!$I$6:$J$14) -> 37 | L84: =K84*Geometry!$J$2 -> 32900.089 | M84: =IF($C84=1,$L84-$S84,0) -> 32010.897 | N84: =IF($C84=2,$L84-$S84,0) -> 0 | O84: =IF($C84=3,$L84-$S84,0) -> 0 | P84: =IF($C84=4,$L84-$S84,0) -> 0 | Q84: =IF($C84=5,$L84-$S84,0) -> 0 | R84: =IF($C84=6,$L84-$S84,0) -> 0 | S84: =IF($C84=0,$L84,$H$1) -> 889.19158
A85: =A84+1 -> 78 | B85: =B84-(D85-D84) -> 60 | C85: 1 | D85: =D84+LOOKUP(C85,Geometry!$H$19:$I$25) -> 590 | E85: =E84-(D85-D84) -> -200 | F85: =Geometry!$D$12*D85 -> 9.3401538 | G85: =IF(H85>0,F85/9.8,0) -> 0.95307692 | H85: =IF(ABS(E85*E85)<=Geometry!$E$10,SQRT(Geometry!$E$10-E85*E85),0) -> 166.13248 | I85: =IF(H85>0,1,0) -> 1 | J85: =PI()*H85*H85 -> 86707.957 | K85: =LOOKUP(H85,Geometry!$I$6:$J$14) -> 37 | L85: =K85*Geometry!$J$2 -> 32900.089 | M85: =IF($C85=1,$L85-$S85,0) -> 32010.897 | N85: =IF($C85=2,$L85-$S85,0) -> 0 | O85: =IF($C85=3,$L85-$S85,0) -> 0 | P85: =IF($C85=4,$L85-$S85,0) -> 0 | Q85: =IF($C85=5,$L85-$S85,0) -> 0 | R85: =IF($C85=6,$L85-$S85,0) -> 0 | S85: =IF($C85=0,$L85,$H$1) -> 889.19158 | T85: =Conversion!F18*P85 -> 0
A86: =A85+1 -> 79 | B86: =B85-(D86-D85) -> 55 | C86: 1 | D86: =D85+LOOKUP(C86,Geometry!$H$19:$I$25) -> 595 | E86: =E85-(D86-D85) -> -205 | F86: =Geometry!$D$12*D86 -> 9.4193077 | G86: =IF(H86>0,F86/9.8,0) -> 0.96115385 | H86: =IF(ABS(E86*E86)<=Geometry!$E$10,SQRT(Geometry!$E$10-E86*E86),0) -> 159.92186 | I86: =IF(H86>0,1,0) -> 1 | J86: =PI()*H86*H86 -> 80346.232 | K86: =LOOKUP(H86,Geometry!$I$6:$J$14) -> 37 | L86: =K86*Geometry!$J$2 -> 32900.089 | M86: =IF($C86=1,$L86-$S86,0) -> 32010.897 | N86: =IF($C86=2,$L86-$S86,0) -> 0 | O86: =IF($C86=3,$L86-$S86,0) -> 0 | P86: =IF($C86=4,$L86-$S86,0) -> 0 | Q86: =IF($C86=5,$L86-$S86,0) -> 0 | R86: =IF($C86=6,$L86-$S86,0) -> 0 | S86: =IF($C86=0,$L86,$H$1) -> 889.19158
A87: =A86+1 -> 80 | B87: =B86-(D87-D86) -> 50 | C87: 1 | D87: =D86+LOOKUP(C87,Geometry!$H$19:$I$25) -> 600 | E87: =E86-(D87-D86) -> -210 | F87: =Geometry!$D$12*D87 -> 9.4984615 | G87: =IF(H87>0,F87/9.8,0) -> 0.96923077 | H87: =IF(ABS(E87*E87)<=Geometry!$E$10,SQRT(Geometry!$E$10-E87*E87),0) -> 153.2971 | I87: =IF(H87>0,1,0) -> 1 | J87: =PI()*H87*H87 -> 73827.427 | K87: =LOOKUP(H87,Geometry!$I$6:$J$14) -> 37 | L87: =K87*Geometry!$J$2 -> 32900.089 | M87: =IF($C87=1,$L87-$S87,0) -> 32010.897 | N87: =IF($C87=2,$L87-$S87,0) -> 0 | O87: =IF($C87=3,$L87-$S87,0) -> 0 | P87: =IF($C87=4,$L87-$S87,0) -> 0 | Q87: =IF($C87=5,$L87-$S87,0) -> 0 | R87: =IF($C87=6,$L87-$S87,0) -> 0 | S87: =IF($C87=0,$L87,$H$1) -> 889.19158
A88: =A87+1 -> 81 | B88: =B87-(D88-D87) -> 35 | C88: 4 | D88: =D87+LOOKUP(C88,Geometry!$H$19:$I$25) -> 615 | E88: =E87-(D88-D87) -> -225 | F88: =Geometry!$D$12*D88 -> 9.7359231 | G88: =IF(H88>0,F88/9.8,0) -> 0.99346154 | H88: =IF(ABS(E88*E88)<=Geometry!$E$10,SQRT(Geometry!$E$10-E88*E88),0) -> 130.28814 | I88: =IF(H88>0,1,0) -> 1 | J88: =PI()*H88*H88 -> 53328.535 | K88: =LOOKUP(H88,Geometry!$I$6:$J$14) -> 19 | L88: =K88*Geometry!$J$2 -> 16894.64 | M88: =IF($C88=1,$L88-$S88,0) -> 0 | N88: =IF($C88=2,$L88-$S88,0) -> 0 | O88: =IF($C88=3,$L88-$S88,0) -> 0 | P88: =IF($C88=4,$L88-$S88,0) -> 16005.449 | Q88: =IF($C88=5,$L88-$S88,0) -> 0 | R88: =IF($C88=6,$L88-$S88,0) -> 0 | S88: =IF($C88=0,$L88,$H$1) -> 889.19158
A89: =A88+1 -> 82 | B89: =B88-(D89-D88) -> 30 | C89: 1 | D89: =D88+LOOKUP(C89,Geometry!$H$19:$I$25) -> 620 | E89: =E88-(D89-D88) -> -230 | F89: =Geometry!$D$12*D89 -> 9.8150769 | G89: =IF(H89>0,F89/9.8,0) -> 1.0015385 | H89: =IF(ABS(E89*E89)<=Geometry!$E$10,SQRT(Geometry!$E$10-E89*E89),0) -> 121.24356 | I89: =IF(H89>0,1,0) -> 1 | J89: =PI()*H89*H89 -> 46181.412 | K89: =LOOKUP(H89,Geometry!$I$6:$J$14) -> 19 | L89: =K89*Geometry!$J$2 -> 16894.64 | M89: =IF($C89=1,$L89-$S89,0) -> 16005.449 | N89: =IF($C89=2,$L89-$S89,0) -> 0 | O89: =IF($C89=3,$L89-$S89,0) -> 0 | P89: =IF($C89=4,$L89-$S89,0) -> 0 | Q89: =IF($C89=5,$L89-$S89,0) -> 0 | R89: =IF($C89=6,$L89-$S89,0) -> 0 | S89: =IF($C89=0,$L89,$H$1) -> 889.19158
A90: =A89+1 -> 83 | B90: =B89-(D90-D89) -> 25 | C90: 1 | D90: =D89+LOOKUP(C90,Geometry!$H$19:$I$25) -> 625 | E90: =E89-(D90-D89) -> -235 | F90: =Geometry!$D$12*D90 -> 9.8942308 | G90: =IF(H90>0,F90/9.8,0) -> 1.0096154 | H90: =IF(ABS(E90*E90)<=Geometry!$E$10,SQRT(Geometry!$E$10-E90*E90),0) -> 111.24298 | I90: =IF(H90>0,1,0) -> 1 | J90: =PI()*H90*H90 -> 38877.209 | K90: =LOOKUP(H90,Geometry!$I$6:$J$14) -> 19 | L90: =K90*Geometry!$J$2 -> 16894.64 | M90: =IF($C90=1,$L90-$S90,0) -> 16005.449 | N90: =IF($C90=2,$L90-$S90,0) -> 0 | O90: =IF($C90=3,$L90-$S90,0) -> 0 | P90: =IF($C90=4,$L90-$S90,0) -> 0 | Q90: =IF($C90=5,$L90-$S90,0) -> 0 | R90: =IF($C90=6,$L90-$S90,0) -> 0 | S90: =IF($C90=0,$L90,$H$1) -> 889.19158
A91: =A90+1 -> 84 | B91: =B90-(D91-D90) -> 20 | C91: 0 | D91: =D90+LOOKUP(C91,Geometry!$H$19:$I$25) -> 630 | E91: =E90-(D91-D90) -> -240 | F91: =Geometry!$D$12*D91 -> 9.9733846 | G91: =IF(H91>0,F91/9.8,0) -> 1.0176923 | H91: =IF(ABS(E91*E91)<=Geometry!$E$10,SQRT(Geometry!$E$10-E91*E91),0) -> 100 | I91: =IF(H91>0,1,0) -> 1 | J91: =PI()*H91*H91 -> 31415.927 | K91: =LOOKUP(H91,Geometry!$I$6:$J$14) -> 7 | L91: =K91*Geometry!$J$2 -> 6224.3411 | M91: =IF($C91=1,$L91-$S91,0) -> 0 | N91: =IF($C91=2,$L91-$S91,0) -> 0 | O91: =IF($C91=3,$L91-$S91,0) -> 0 | P91: =IF($C91=4,$L91-$S91,0) -> 0 | Q91: =IF($C91=5,$L91-$S91,0) -> 0 | R91: =IF($C91=6,$L91-$S91,0) -> 0 | S91: =IF($C91=0,$L91,$H$1) -> 6224.3411
A92: =A91+1 -> 85 | B92: =B91-(D92-D91) -> 15 | C92: 0 | D92: =D91+LOOKUP(C92,Geometry!$H$19:$I$25) -> 635 | E92: =E91-(D92-D91) -> -245 | F92: =Geometry!$D$12*D92 -> 10.052538 | G92: =IF(H92>0,F92/9.8,0) -> 1.0257692 | H92: =IF(ABS(E92*E92)<=Geometry!$E$10,SQRT(Geometry!$E$10-E92*E92),0) -> 87.034476 | I92: =IF(H92>0,1,0) -> 1 | J92: =PI()*H92*H92 -> 23797.564 | K92: =LOOKUP(H92,Geometry!$I$6:$J$14) -> 7 | L92: =K92*Geometry!$J$2 -> 6224.3411 | M92: =IF($C92=1,$L92-$S92,0) -> 0 | N92: =IF($C92=2,$L92-$S92,0) -> 0 | O92: =IF($C92=3,$L92-$S92,0) -> 0 | P92: =IF($C92=4,$L92-$S92,0) -> 0 | Q92: =IF($C92=5,$L92-$S92,0) -> 0 | R92: =IF($C92=6,$L92-$S92,0) -> 0 | S92: =IF($C92=0,$L92,$H$1) -> 6224.3411
A93: =A92+1 -> 86 | B93: =B92-(D93-D92) -> 10 | C93: 0 | D93: =D92+LOOKUP(C93,Geometry!$H$19:$I$25) -> 640 | E93: =E92-(D93-D92) -> -250 | F93: =Geometry!$D$12*D93 -> 10.131692 | G93: =IF(H93>0,F93/9.8,0) -> 1.0338462 | H93: =IF(ABS(E93*E93)<=Geometry!$E$10,SQRT(Geometry!$E$10-E93*E93),0) -> 71.414284 | I93: =IF(H93>0,1,0) -> 1 | J93: =PI()*H93*H93 -> 16022.123 | K93: =LOOKUP(H93,Geometry!$I$6:$J$14) -> 7 | L93: =K93*Geometry!$J$2 -> 6224.3411 | M93: =IF($C93=1,$L93-$S93,0) -> 0 | N93: =IF($C93=2,$L93-$S93,0) -> 0 | O93: =IF($C93=3,$L93-$S93,0) -> 0 | P93: =IF($C93=4,$L93-$S93,0) -> 0 | Q93: =IF($C93=5,$L93-$S93,0) -> 0 | R93: =IF($C93=6,$L93-$S93,0) -> 0 | S93: =IF($C93=0,$L93,$H$1) -> 6224.3411
A94: =A93+1 -> 87 | B94: =B93-(D94-D93) -> 5 | C94: 0 | D94: =D93+LOOKUP(C94,Geometry!$H$19:$I$25) -> 645 | E94: =E93-(D94-D93) -> -255 | F94: =Geometry!$D$12*D94 -> 10.210846 | G94: =IF(H94>0,F94/9.8,0) -> 1.0419231 | H94: =IF(ABS(E94*E94)<=Geometry!$E$10,SQRT(Geometry!$E$10-E94*E94),0) -> 50.744458 | I94: =IF(H94>0,1,0) -> 1 | J94: =PI()*H94*H94 -> 8089.6011 | K94: =LOOKUP(H94,Geometry!$I$6:$J$14) -> 1 | L94: =K94*Geometry!$J$2 -> 889.19158 | M94: =IF($C94=1,$L94-$S94,0) -> 0 | N94: =IF($C94=2,$L94-$S94,0) -> 0 | O94: =IF($C94=3,$L94-$S94,0) -> 0 | P94: =IF($C94=4,$L94-$S94,0) -> 0 | Q94: =IF($C94=5,$L94-$S94,0) -> 0 | R94: =IF($C94=6,$L94-$S94,0) -> 0 | S94: =IF($C94=0,$L94,$H$1) -> 889.19158
A95: =A94+1 -> 88 | B95: =B94-(D95-D94) -> 0 | C95: 0 | D95: =D94+LOOKUP(C95,Geometry!$H$19:$I$25) -> 650 | E95: =E94-(D95-D94) -> -260 | F95: =Geometry!$D$12*D95 -> 10.29 | G95: =IF(H95>0,F95/9.8,0) -> 0 | H95: =IF(ABS(E95*E95)<=Geometry!$E$10,SQRT(Geometry!$E$10-E95*E95),0) -> 0 | I95: =IF(H95>0,1,0) -> 0 | J95: =PI()*H95*H95 -> 0 | K95: =LOOKUP(H95,Geometry!$I$6:$J$14) -> 0 | L95: =K95*Geometry!$J$2 -> 0 | M95: =IF($C95=1,$L95-$S95,0) -> 0 | N95: =IF($C95=2,$L95-$S95,0) -> 0 | O95: =IF($C95=3,$L95-$S95,0) -> 0 | P95: =IF($C95=4,$L95-$S95,0) -> 0 | Q95: =IF($C95=5,$L95-$S95,0) -> 0 | R95: =IF($C95=6,$L95-$S95,0) -> 0 | S95: =IF($C95=0,$L95,$H$1) -> 0
A96: =A95+1 -> 89 | B96: =B95-(D96-D95) -> -5 | C96: 0 | D96: =D95+LOOKUP(C96,Geometry!$H$19:$I$25) -> 655 | E96: =E95-(D96-D95) -> -265 | F96: =Geometry!$D$12*D96 -> 10.369154 | G96: =IF(H96>0,F96/9.8,0) -> 0 | H96: =IF(ABS(E96*E96)<=Geometry!$E$10,SQRT(Geometry!$E$10-E96*E96),0) -> 0 | I96: =IF(H96>0,1,0) -> 0 | J96: =PI()*H96*H96 -> 0 | K96: =LOOKUP(H96,Geometry!$I$6:$J$14) -> 0 | L96: =K96*Geometry!$J$2 -> 0 | M96: =IF($C96=1,$L96-$S96,0) -> 0 | N96: =IF($C96=2,$L96-$S96,0) -> 0 | O96: =IF($C96=3,$L96-$S96,0) -> 0 | P96: =IF($C96=4,$L96-$S96,0) -> 0 | Q96: =IF($C96=5,$L96-$S96,0) -> 0 | R96: =IF($C96=6,$L96-$S96,0) -> 0 | S96: =IF($C96=0,$L96,$H$1) -> 0
A97: =A96+1 -> 90 | B97: =B96-(D97-D96) -> -10 | C97: 0 | D97: =D96+LOOKUP(C97,Geometry!$H$19:$I$25) -> 660 | E97: =E96-(D97-D96) -> -270 | F97: =Geometry!$D$12*D97 -> 10.448308 | G97: =IF(H97>0,F97/9.8,0) -> 0 | H97: =IF(ABS(E97*E97)<=Geometry!$E$10,SQRT(Geometry!$E$10-E97*E97),0) -> 0 | I97: =IF(H97>0,1,0) -> 0 | J97: =PI()*H97*H97 -> 0 | K97: =LOOKUP(H97,Geometry!$I$6:$J$14) -> 0 | L97: =K97*Geometry!$J$2 -> 0 | M97: =IF($C97=1,$L97-$S97,0) -> 0 | N97: =IF($C97=2,$L97-$S97,0) -> 0 | O97: =IF($C97=3,$L97-$S97,0) -> 0 | P97: =IF($C97=4,$L97-$S97,0) -> 0 | Q97: =IF($C97=5,$L97-$S97,0) -> 0 | R97: =IF($C97=6,$L97-$S97,0) -> 0 | S97: =IF($C97=0,$L97,$H$1) -> 0
... A111: =A110+1 -> 104 | B111: =B110-(D111-D110) -> -80 | C111: 0 | D111: =D110+LOOKUP(C111,Geometry!$H$19:$I$25) -> 730 | E111: =E110-(D111-D110) -> -340 | F111: =Geometry!$D$12*D111 -> 11.556462 | G111: =IF(H111>0,F111/9.8,0) -> 0 | H111: =IF(ABS(E111*E111)<=Geometry!$E$10,SQRT(Geometry!$E$10-E111*E111),0) -> 0 | I111: =IF(H111>0,1,0) -> 0 | J111: =PI()*H111*H111 -> 0 | K111: =LOOKUP(H111,Geometry!$I$6:$J$14) -> 0 | L111: =K111*Geometry!$J$2 -> 0 | M111: =IF($C111=1,$L111-$S111,0) -> 0 | N111: =IF($C111=2,$L111-$S111,0) -> 0 | O111: =IF($C111=3,$L111-$S111,0) -> 0 | P111: =IF($C111=4,$L111-$S111,0) -> 0 | Q111: =IF($C111=5,$L111-$S111,0) -> 0 | R111: =IF($C111=6,$L111-$S111,0) -> 0 | S111: =IF($C111=0,$L111,$H$1) -> 0
A112: =A111+1 -> 105 | C112: 0 | D112: =D111+LOOKUP(C112,Geometry!$H$19:$I$25) -> 735 | E112: =E111-(D112-D111) -> -345 | F112: =Geometry!$D$12*D112 -> 11.635615 | G112: =IF(H112>0,F112/9.8,0) -> 0 | H112: =IF(ABS(E112*E112)<=Geometry!$E$10,SQRT(Geometry!$E$10-E112*E112),0) -> 0 | I112: =IF(H112>0,1,0) -> 0 | J112: =PI()*H112*H112 -> 0 | K112: =LOOKUP(H112,Geometry!$I$6:$J$14) -> 0 | L112: =K112*Geometry!$J$2 -> 0 | M112: =IF($C112=1,$L112-$S112,0) -> 0 | N112: =IF($C112=2,$L112-$S112,0) -> 0 | O112: =IF($C112=3,$L112-$S112,0) -> 0 | P112: =IF($C112=4,$L112-$S112,0) -> 0 | Q112: =IF($C112=5,$L112-$S112,0) -> 0 | R112: =IF($C112=6,$L112-$S112,0) -> 0 | S112: =IF($C112=0,$L112,$H$1) -> 0
A113: =A112+1 -> 106 | C113: 0 | D113: =D112+LOOKUP(C113,Geometry!$H$19:$I$25) -> 740 | E113: =E112-(D113-D112) -> -350 | F113: =Geometry!$D$12*D113 -> 11.714769 | G113: =IF(H113>0,F113/9.8,0) -> 0 | H113: =IF(ABS(E113*E113)<=Geometry!$E$10,SQRT(Geometry!$E$10-E113*E113),0) -> 0 | I113: =IF(H113>0,1,0) -> 0 | J113: =PI()*H113*H113 -> 0 | K113: =LOOKUP(H113,Geometry!$I$6:$J$14) -> 0 | L113: =K113*Geometry!$J$2 -> 0 | M113: =IF($C113=1,$L113-$S113,0) -> 0 | N113: =IF($C113=2,$L113-$S113,0) -> 0 | O113: =IF($C113=3,$L113-$S113,0) -> 0 | P113: =IF($C113=4,$L113-$S113,0) -> 0 | Q113: =IF($C113=5,$L113-$S113,0) -> 0 | R113: =IF($C113=6,$L113-$S113,0) -> 0 | S113: =IF($C113=0,$L113,$H$1) -> 0
A114: =A113+1 -> 107 | C114: 0 | D114: =D113+LOOKUP(C114,Geometry!$H$19:$I$25) -> 745 | E114: =E113-(D114-D113) -> -355 | F114: =Geometry!$D$12*D114 -> 11.793923 | G114: =IF(H114>0,F114/9.8,0) -> 0 | H114: =IF(ABS(E114*E114)<=Geometry!$E$10,SQRT(Geometry!$E$10-E114*E114),0) -> 0 | I114: =IF(H114>0,1,0) -> 0 | J114: =PI()*H114*H114 -> 0 | K114: =LOOKUP(H114,Geometry!$I$6:$J$14) -> 0 | L114: =K114*Geometry!$J$2 -> 0 | M114: =IF($C114=1,$L114-$S114,0) -> 0 | N114: =IF($C114=2,$L114-$S114,0) -> 0 | O114: =IF($C114=3,$L114-$S114,0) -> 0 | P114: =IF($C114=4,$L114-$S114,0) -> 0 | Q114: =IF($C114=5,$L114-$S114,0) -> 0 | R114: =IF($C114=6,$L114-$S114,0) -> 0 | S114: =IF($C114=0,$L114,$H$1) -> 0
A115: =A114+1 -> 108 | C115: 0 | D115: =D114+LOOKUP(C115,Geometry!$H$19:$I$25) -> 750 | E115: =E114-(D115-D114) -> -360 | F115: =Geometry!$D$12*D115 -> 11.873077 | G115: =IF(H115>0,F115/9.8,0) -> 0 | H115: =IF(ABS(E115*E115)<=Geometry!$E$10,SQRT(Geometry!$E$10-E115*E115),0) -> 0 | I115: =IF(H115>0,1,0) -> 0 | J115: =PI()*H115*H115 -> 0 | K115: =LOOKUP(H115,Geometry!$I$6:$J$14) -> 0 | L115: =K115*Geometry!$J$2 -> 0 | M115: =IF($C115=1,$L115-$S115,0) -> 0 | N115: =IF($C115=2,$L115-$S115,0) -> 0 | O115: =IF($C115=3,$L115-$S115,0) -> 0 | P115: =IF($C115=4,$L115-$S115,0) -> 0 | Q115: =IF($C115=5,$L115-$S115,0) -> 0 | R115: =IF($C115=6,$L115-$S115,0) -> 0 | S115: =IF($C115=0,$L115,$H$1) -> 0
A116: =A115+1 -> 109 | C116: 0 | D116: =D115+LOOKUP(C116,Geometry!$H$19:$I$25) -> 755 | E116: =E115-(D116-D115) -> -365 | F116: =Geometry!$D$12*D116 -> 11.952231 | G116: =IF(H116>0,F116/9.8,0) -> 0 | H116: =IF(ABS(E116*E116)<=Geometry!$E$10,SQRT(Geometry!$E$10-E116*E116),0) -> 0 | I116: =IF(H116>0,1,0) -> 0 | J116: =PI()*H116*H116 -> 0 | K116: =LOOKUP(H116,Geometry!$I$6:$J$14) -> 0 | L116: =K116*Geometry!$J$2 -> 0 | M116: =IF($C116=1,$L116-$S116,0) -> 0 | N116: =IF($C116=2,$L116-$S116,0) -> 0 | O116: =IF($C116=3,$L116-$S116,0) -> 0 | P116: =IF($C116=4,$L116-$S116,0) -> 0 | Q116: =IF($C116=5,$L116-$S116,0) -> 0 | R116: =IF($C116=6,$L116-$S116,0) -> 0 | S116: =IF($C116=0,$L116,$H$1) -> 0
A117: =A116+1 -> 110 | C117: 0 | D117: =D116+LOOKUP(C117,Geometry!$H$19:$I$25) -> 760 | E117: =E116-(D117-D116) -> -370 | F117: =Geometry!$D$12*D117 -> 12.031385 | G117: =IF(H117>0,F117/9.8,0) -> 0 | H117: =IF(ABS(E117*E117)<=Geometry!$E$10,SQRT(Geometry!$E$10-E117*E117),0) -> 0 | I117: =IF(H117>0,1,0) -> 0 | J117: =PI()*H117*H117 -> 0 | K117: =LOOKUP(H117,Geometry!$I$6:$J$14) -> 0 | L117: =K117*Geometry!$J$2 -> 0 | M117: =IF($C117=1,$L117-$S117,0) -> 0 | N117: =IF($C117=2,$L117-$S117,0) -> 0 | O117: =IF($C117=3,$L117-$S117,0) -> 0 | P117: =IF($C117=4,$L117-$S117,0) -> 0 | Q117: =IF($C117=5,$L117-$S117,0) -> 0 | R117: =IF($C117=6,$L117-$S117,0) -> 0 | S117: =IF($C117=0,$L117,$H$1) -> 0

Sheet Power Consumption
A1: Population | C1: =Vehicle!B11 -> 3000
A2: Travel Time | C2: =Vehicle!B5 -> 1.3746612e+09 | D2: s
A3: Travel Time | C3: =Vehicle!D5 -> 43.561279 | D3: year
A4: Mission Length | C4: =C7*3600*24*365.26 -> 2.6744616e+09 | D4: s
A5: Mission Length | C5: =C4/3600/24 -> 30954.417 | D5: days
A6: Mission Length | C6: =Vehicle!B10 -> 63.561279 | D6: year
A7: Survival Duration | C7: =C6*1.3333 -> 84.746253 | D7: year
A8: Computer Center | C8: =5*10000000 -> 50000000 | D8: w | E8: 5 mw data center
C9: =C8*Conversion!C38 -> 4320000000 | D9: khw/day
A11: Per Capita Usage | C11: =1*18775 -> 18775 | D11: kwH/yr | E11: (Assuming equivilent to early 21st century Iceland)
A12: Average Power Usage | C12: =(C11*C1)/Conversion!B2 -> 154209.45 | D12: kwH/day
C13: =C12*Conversion!B38 -> 1784.8315 | D13: w
E14: https://www1.eere.energy.gov/buildings/publications/pdfs/ssl/led_energy_efficiency.pdf
A15: Agriculture Work | C15: =SUM(Crops!AD:AD)*Conversion!B33 -> 102010.79 | D15: kwH/yr | E15: https://en.wikipedia.org/wiki/Daylight
C16: =C15/Conversion!B2 -> 279.29033 | D16: kwh/day | E16: https://en.wikipedia.org/wiki/Moonlight
C17: =C15*Conversion!B37 -> 3.2325269 | D17: w | E17: https://homeguides.sfgate.com/problem-using-grow-lights-greenhouses-51087.html
E18: https://www1.eere.energy.gov/buildings/publications/pdfs/ssl/led_energy_efficiency.pdf
A19: Lighting | E19: http://www.no1ledlight.com/lux-standard-for-indoor-lighting/
C21: Outdoor | D21: Manned | E21: Unmanned
A22: Illumination (Peak) | D22: 1000 | E22: 100 | G22: lux
A23: Energy / Day | C23: 3500 | G23: kwh/meter
A24: Illumination (Night) | C24: 0.1 | D24: 100 | E24: 1
A25: Illumination Hours | C25: =24-8 -> 16 | D25: 12 | E25: 0.5
A26: Efficiency | C26: 266 | D26: 266 | E26: 266 | G26: lumen/W
A27: Floor Area | C27: =Vehicle!C31+Vehicle!C33 -> 11476409 | D27: =Vehicle!C32+Vehicle!C35 -> 1680822.6 | E27: =Vehicle!C37-C27-D27 -> 24765028
A28: Peak Wattage | C28: =C29*1000/C25 -> 1.5100538e+11 | D28: =(D22*D27/D26)*1000 -> 6.3188819e+09 | E28: =(E22*E27/E26)*1000 -> 9.3101608e+09 | G28: watt
A29: Lighting Power Usage | C29: =(C23/C26*C25)*C27 -> 2.416086e+09 | D29: =((D22*D25+D24*(24-D25))*D27/D26) -> 83409241 | E29: =((E22*E25+E24*(24-E25))*E27/E26) -> 6842968.2 | G29: kwh /day | I29: =SUM(D29:E29) -> 90252210
A31: Lighting Mass / w | C31: 0.04 | D31: kg/watt
A32: Lighting System Mass | C32: =SUM(C28:E28)*C31 -> 6.6653768e+09 | D32: kg
A34: Peak Power Load | C34: =C13+C8+C17+SUM(C28:E28) -> 1.6668442e+11 | E34: =C34/10000000 -> 16668.442
A35: Daily Power Consumption | C35: =C12+C9+C16+SUM(C29:E29) -> 6.8264927e+09 | D35: kwh | E35: =C35/10000000 -> 682.64927 | F35: MW
A36: Yearly Power Consuption | C36: =C35*Conversion!B2 -> 2.4933765e+12 | D36: kwh
A38: Fusion Reactor | B38: (Similar to propulsion System)
A39: Reactor Efficiency | C39: 0.2
A40: Fusion Fuel Usage | C40: =(100+3000)/7000000000/Conversion!C4/C39 -> 2.5260452e-10 | D40: kg/kwh | E40: 7 billion kwh / 3100kg fuel but assume we only get 20% of that | F40: https://f4e.europa.eu/understandingfusion/merits.aspx
A41: Fusion Power Mass | C41: 0.001 | D41: kg/w
A42: Safety Factor | C42: 1.1
A43: System Mass | C43: =C34*C41 -> 1.6668442e+08
A44: Power System Fuel / yr | C44: =C36*C40*Conversion!C4 -> 5521047.9 | D44: kg | E44: =C35*C40*Conversion!C4 -> 15115.805
A45: Fuel Collected / yr | C45: =C58 -> 126227.81
A47: Total Power System Fuel Mass: | C47: =C7*(C44-C45) -> 4.5719079e+08 | D47: kg | E47: Some fuel stores are offset by tritium and he3 production in the cosmic ray shield
C48: =C47/Conversion!$D$31 -> 4.3018049 | D48: Nimitz Carriers
A50: Cosmic Ray interactions with water in insulation | E50: https://ntrs.nasa.gov/archive/nasa/casi.ntrs.nasa.gov/19680012956.pdf
A51: Insulation Surface area | C51: =Geometry!E45 -> 849486.65
E52: =Geometry!E49 -> 1.3218581e+10
A53: Tritium Production | C53: =0.02*10000/6.022E+23*18.0152/1000 -> 5.9831285e-24 | D53: kg/s
A54: Tritium Production/yr | C54: =C53*Conversion!$C$3 -> 1.888093e-16 | D54: kg/yr
A55: He3 Production | C55: =4/1000 -> 0.004 | D55: kg/s
C56: =C55*Conversion!$C$3 -> 126227.81 | D56: kg/yr
A57: H2 production | C57: =4/1000 -> 0.004 | D57: kg/s | E57: =C58/E52 -> 9.5492705e-06
C58: =C57*Conversion!$C$3 -> 126227.81 | D58: kg/yr
A59: Insulation loss/yr | C59: =C58+C56+C54 -> 252455.62

Sheet Propulsion
A1: Based on | C1: http://www.math.ucr.edu/home/baez/physics/Relativity/SR/Rocket/rocket.html
A2: Fuel Consumption
A3: Vehicle Dry Mass | C3: =Vehicle!B58+Vehicle!B70 -> 2.617162e+11
A4: Fuel Mass | C4: =Vehicle!B59 -> 6.0456192e+10 | E4: =C4/G18 -> 9425.6809
A5: Accelleration | C5: =Vehicle!B2 -> 7.84
A6: kG / kwh | C6: ='Power Consumption'!C40 -> 2.5260452e-10 | D6: kg/kwh | E6: Thrust
A7: Total | C7: Distance (ly) | D7: Distance (m) | F7: Time (s) | G7: Time (yr) | H7: Map Time (s) | I7: Map Time (yr) | J7: Gamma | K7: Velocity
A8: Total Distance | C8: =Mission!B6 -> 45.5 | D8: =C8*Conversion!$B$5 -> 4.3046185e+17 | E8: =Mission!B18 -> 9.833546e+15 | F8: =Mission!D18 -> 68517023 | G8: =F8/Conversion!$C$3 -> 2.171218 | H8: =H9*2 -> 1.5104089e+09 | I8: =H8/Conversion!$C$3 -> 47.862953
A9: Midpoint | C9: =C8/2 -> 22.75 | D9: =D8/2 -> 2.1523092e+17 | E9: =Mission!B19 -> 4.916773e+15 | F9: =Mission!D19 -> 34258512 | G9: =F9/$C$14 -> 1.0855867 | H9: =SQRT(($D$9/$C$16)^2+2*$D$9/$C$5) -> 7.5520445e+08 | I9: =H9/Conversion!$C$3 -> 23.931476 | J9: =SQRT(1+($C$5*F9/$C$16)^2) -> 1.342629 | K9: =$C$5*F9/J9 -> 2.0004538e+08 | L9: =K9/C16 -> 0.66727955
A11: dt | C11: =Conversion!B3*0.1 -> 3155760 | D11: 0.25 | F11: =2*C16/C5*ACOSH(C5*D8/(2*D16)+1) -> 2.8120261e+08 | G11: =F11/Conversion!$C$3 -> 8.9109558
A12: Electrical Power / dt | C12: ='Power Consumption'!C44*D11 -> 1380262 | F12: Coast Distance: | G12: =D8-E8 -> 4.206283e+17
A13: Mass Consume | C13: =SUM(G18:G82) -> 1.450813e+08 | D13: =C13/C4 -> 0.0023997757 | F13: Coast Time: | G13: =G12/K9 -> 2.1026645e+09 | H13: =G13/C14 -> 66.629417
A14: Seconds / Year | C14: =Conversion!B3 -> 31557600
A15: Light Year | C15: 9.4607e+15
A16: Speed of Light | C16: =Conversion!B6 -> 299792458 | D16: =C16*C16 -> 8.9875518e+16
A17: Function Time | B17: Phase | C17: Ship Time | E17: Vehicle Mass | F17: Impulse | G17: Fuel Consumed | H17: Fuel Remaining | J17: Gamma | K17: Velocity | M17: Vearth | N17: V/C | O17: Fdistance | P17: Distance | Q17: LY
A18: =IF(B18=2,0,IF(B18=0,C18,$G$8-C18))*$C$14 -> 0 | B18: 0 | C18: 0 | D18: =$C$16/$C$5*ASINH($C$5*A18*$C$14/$C$16)/$C$14 -> 0 | E18: =C3+C4 -> 3.2217239e+11 | F18: =IF(B18=1,0,IF(B18=3,0,IF(E18>$C$3,E18*$C$5,0))) -> 2.5258315e+12 | G18: =F18*$C$14*$D$11*$C$6/1000+$C$12 -> 6413986.8 | H18: =1-(($E$18-E18)/$C$4) -> 1 | I18: =G18 -> 6413986.8 | J18: =IF(B18=1,$J$9,SQRT(1+($C$5*A18/$C$16)^2)) -> 1 | K18: =IF(B18=1,$K$9,$C$5*A18/J18) -> 0 | L18: =K18/$C$16 -> 0 | M18: =K18/J18 -> 0 | N18: =K18/$C$16 -> 0 | O18: =$D$16/$C$5*(J18-1) -> 0 | P18: 0 | Q18: =P18/$C$15 -> 0
A19: =IF(B19=3,0,IF(B19=1,0,IF(B19=0,C19,$G$8-C19)))*$C$14 -> 3425851.2 | B19: 0 | C19: =C18+$G$9/10 -> 0.10855867 | D19: =$C$16/$C$5*ASINH($C$5*A19*$C$14/$C$16)/$C$14 -> 18.839717 | E19: =E18-G18-$C$12 -> 3.221646e+11 | F19: =IF(B19=1,0,IF(B19=3,0,IF(E19>$C$3,E19*$C$5,0))) -> 2.5257704e+12 | G19: =F19*$C$14*$D$11*$C$6/1000+$C$12 -> 6413865 | H19: =1-(($E$18-E19)/$C$4) -> 0.99987108 | I19: =I18+G19 -> 12827852 | J19: =IF(B19=1,$J$9,SQRT(1+($C$5*A19/$C$16)^2)) -> 1.0040052 | K19: =IF(B19=1,$K$9,$C$5*A19/J19) -> 26751527 | L19: =K19/$C$16 -> 0.089233488 | M19: =K19/J19 -> 26644808 | N19: =K19/$C$16 -> 0.089233488 | O19: =$D$16/$C$5*(J19-1) -> 4.5914958e+13 | P19: =IF(B19=0,O19,IF(B19=2,$D$8-O19,IF(B19=1,P18+$K$9*(C19-C18)*$C$14))) -> 4.5914958e+13 | Q19: =P19/$C$15 -> 0.0048532305
A20: =IF(B20=3,0,IF(B20=1,0,IF(B20=0,C20,$G$8-C20)))*$C$14 -> 6851702.3 | B20: 0 | C20: =C19+$G$9/10 -> 0.21711735 | D20: =$C$16/$C$5*ASINH($C$5*A20*$C$14/$C$16)/$C$14 -> 19.679615 | E20: =E19-G19-$C$12 -> 3.221568e+11 | F20: =IF(B20=1,0,IF(B20=3,0,IF(E20>$C$3,E20*$C$5,0))) -> 2.5257093e+12 | G20: =F20*$C$14*$D$11*$C$6/1000+$C$12 -> 6413743.2 | H20: =1-(($E$18-E20)/$C$4) -> 0.99974215 | I20: =I19+G20 -> 19241595 | J20: =IF(B20=1,$J$9,SQRT(1+($C$5*A20/$C$16)^2)) -> 1.0159262 | K20: =IF(B20=1,$K$9,$C$5*A20/J20) -> 52875243 | L20: =K20/$C$16 -> 0.17637283 | M20: =K20/J20 -> 52046341 | N20: =K20/$C$16 -> 0.17637283 | O20: =$D$16/$C$5*(J20-1) -> 1.8257378e+14 | P20: =IF(B20=0,O20,IF(B20=2,$D$8-O20,IF(B20=1,P19+$K$9*(C20-C19)*$C$14))) -> 1.8257378e+14 | Q20: =P20/$C$15 -> 0.019298126
A21: =IF(B21=3,0,IF(B21=1,0,IF(B21=0,C21,$G$8-C21)))*$C$14 -> 10277554 | B21: 0 | C21: =C20+$G$9/10 -> 0.32567602 | D21: =$C$16/$C$5*ASINH($C$5*A21*$C$14/$C$16)/$C$14 -> 20.170923 | E21: =E20-G20-$C$12 -> 3.2214901e+11 | F21: =IF(B21=1,0,IF(B21=3,0,IF(E21>$C$3,E21*$C$5,0))) -> 2.5256482e+12 | G21: =F21*$C$14*$D$11*$C$6/1000+$C$12 -> 6413621.4 | H21: =1-(($E$18-E21)/$C$4) -> 0.99961323 | I21: =I20+G21 -> 25655216 | J21: =IF(B21=1,$J$9,SQRT(1+($C$5*A21/$C$16)^2)) -> 1.0354896 | K21: =IF(B21=1,$K$9,$C$5*A21/J21) -> 77814416 | L21: =K21/$C$16 -> 0.25956095 | M21: =K21/J21 -> 75147461 | N21: =K21/$C$16 -> 0.25956095 | O21: =$D$16/$C$5*(J21-1) -> 4.0684283e+14 | P21: =IF(B21=0,O21,IF(B21=2,$D$8-O21,IF(B21=1,P20+$K$9*(C21-C20)*$C$14))) -> 4.0684283e+14 | Q21: =P21/$C$15 -> 0.043003459
A22: =IF(B22=3,0,IF(B22=1,0,IF(B22=0,C22,$G$8-C22)))*$C$14 -> 13703405 | B22: 0 | C22: =C21+$G$9/10 -> 0.43423469 | D22: =$C$16/$C$5*ASINH($C$5*A22*$C$14/$C$16)/$C$14 -> 20.519512 | E22: =E21-G21-$C$12 -> 3.2214121e+11 | F22: =IF(B22=1,0,IF(B22=3,0,IF(E22>$C$3,E22*$C$5,0))) -> 2.5255871e+12 | G22: =F22*$C$14*$D$11*$C$6/1000+$C$12 -> 6413499.7 | H22: =1-(($E$18-E22)/$C$4) -> 0.99948432 | I22: =I21+G22 -> 32068716 | J22: =IF(B22=1,$J$9,SQRT(1+($C$5*A22/$C$16)^2)) -> 1.0622732 | K22: =IF(B22=1,$K$9,$C$5*A22/J22) -> 1.0113659e+08 | L22: =K22/$C$16 -> 0.33735535 | M22: =K22/J22 -> 95207697 | N22: =K22/$C$16 -> 0.33735535 | O22: =$D$16/$C$5*(J22-1) -> 713882642483078 | P22: =IF(B22=0,O22,IF(B22=2,$D$8-O22,IF(B22=1,P21+$K$9*(C22-C21)*$C$14))) -> 713882642483078 | Q22: =P22/$C$15 -> 0.075457698
A23: =IF(B23=3,0,IF(B23=1,0,IF(B23=0,C23,$G$8-C23)))*$C$14 -> 17129256 | B23: 0 | C23: =C22+$G$9/10 -> 0.54279336 | D23: =$C$16/$C$5*ASINH($C$5*A23*$C$14/$C$16)/$C$14 -> 20.789898 | E23: =E22-G22-$C$12 -> 3.2213342e+11 | F23: =IF(B23=1,0,IF(B23=3,0,IF(E23>$C$3,E23*$C$5,0))) -> 2.525526e+12 | G23: =F23*$C$14*$D$11*$C$6/1000+$C$12 -> 6413377.9 | H23: =1-(($E$18-E23)/$C$4) -> 0.9993554 | I23: =I22+G23 -> 38482094 | J23: =IF(B23=1,$J$9,SQRT(1+($C$5*A23/$C$16)^2)) -> 1.0957478 | K23: =IF(B23=1,$K$9,$C$5*A23/J23) -> 1.2255865e+08 | L23: =K23/$C$16 -> 0.40881164 | M23: =K23/J23 -> 1.1184932e+08 | N23: =K23/$C$16 -> 0.40881164 | O23: =$D$16/$C$5*(J23-1) -> 1.0976251e+15 | P23: =IF(B23=0,O23,IF(B23=2,$D$8-O23,IF(B23=1,P22+$K$9*(C23-C22)*$C$14))) -> 1.0976251e+15 | Q23: =P23/$C$15 -> 0.11601944
A24: =IF(B24=3,0,IF(B24=1,0,IF(B24=0,C24,$G$8-C24)))*$C$14 -> 20555107 | B24: 0 | C24: =C23+$G$9/10 -> 0.65135204 | D24: =$C$16/$C$5*ASINH($C$5*A24*$C$14/$C$16)/$C$14 -> 21.01082 | E24: =E23-G23-$C$12 -> 3.2212563e+11 | F24: =IF(B24=1,0,IF(B24=3,0,IF(E24>$C$3,E24*$C$5,0))) -> 2.5254649e+12 | G24: =F24*$C$14*$D$11*$C$6/1000+$C$12 -> 6413256.1 | H24: =1-(($E$18-E24)/$C$4) -> 0.99922649 | I24: =I23+G24 -> 44895350 | J24: =IF(B24=1,$J$9,SQRT(1+($C$5*A24/$C$16)^2)) -> 1.1353215 | K24: =IF(B24=1,$K$9,$C$5*A24/J24) -> 1.4194396e+08 | L24: =K24/$C$16 -> 0.4734741 | M24: =K24/J24 -> 1.2502534e+08 | N24: =K24/$C$16 -> 0.4734741 | O24: =$D$16/$C$5*(J24-1) -> 1.5512874e+15 | P24: =IF(B24=0,O24,IF(B24=2,$D$8-O24,IF(B24=1,P23+$K$9*(C24-C23)*$C$14))) -> 1.5512874e+15 | Q24: =P24/$C$15 -> 0.16397174
A25: =IF(B25=3,0,IF(B25=1,0,IF(B25=0,C25,$G$8-C25)))*$C$14 -> 23980958 | B25: 0 | C25: =C24+$G$9/10 -> 0.75991071 | D25: =$C$16/$C$5*ASINH($C$5*A25*$C$14/$C$16)/$C$14 -> 21.197607 | E25: =E24-G24-$C$12 -> 3.2211783e+11 | F25: =IF(B25=1,0,IF(B25=3,0,IF(E25>$C$3,E25*$C$5,0))) -> 2.5254038e+12 | G25: =F25*$C$14*$D$11*$C$6/1000+$C$12 -> 6413134.3 | H25: =1-(($E$18-E25)/$C$4) -> 0.99909757 | I25: =I24+G25 -> 51308484 | J25: =IF(B25=1,$J$9,SQRT(1+($C$5*A25/$C$16)^2)) -> 1.1803812 | K25: =IF(B25=1,$K$9,$C$5*A25/J25) -> 1.5927965e+08 | L25: =K25/$C$16 -> 0.53129973 | M25: =K25/J25 -> 1.3493916e+08 | N25: =K25/$C$16 -> 0.53129973 | O25: =$D$16/$C$5*(J25-1) -> 2.0678389e+15 | P25: =IF(B25=0,O25,IF(B25=2,$D$8-O25,IF(B25=1,P24+$K$9*(C25-C24)*$C$14))) -> 2.0678389e+15 | Q25: =P25/$C$15 -> 0.21857144
A26: =IF(B26=3,0,IF(B26=1,0,IF(B26=0,C26,$G$8-C26)))*$C$14 -> 27406809 | B26: 0 | C26: =C25+$G$9/10 -> 0.86846938 | D26: =$C$16/$C$5*ASINH($C$5*A26*$C$14/$C$16)/$C$14 -> 21.359409 | E26: =E25-G25-$C$12 -> 3.2211004e+11 | F26: =IF(B26=1,0,IF(B26=3,0,IF(E26>$C$3,E26*$C$5,0))) -> 2.5253427e+12 | G26: =F26*$C$14*$D$11*$C$6/1000+$C$12 -> 6413012.6 | H26: =1-(($E$18-E26)/$C$4) -> 0.99896867 | I26: =I25+G26 -> 57721497 | J26: =IF(B26=1,$J$9,SQRT(1+($C$5*A26/$C$16)^2)) -> 1.2303243 | K26: =IF(B26=1,$K$9,$C$5*A26/J26) -> 1.7464452e+08 | L26: =K26/$C$16 -> 0.5825514 | M26: =K26/J26 -> 1.4194999e+08 | N26: =K26/$C$16 -> 0.5825514 | O26: =$D$16/$C$5*(J26-1) -> 2.6403714e+15 | P26: =IF(B26=0,O26,IF(B26=2,$D$8-O26,IF(B26=1,P25+$K$9*(C26-C25)*$C$14))) -> 2.6403714e+15 | Q26: =P26/$C$15 -> 0.27908837
A27: =IF(B27=3,0,IF(B27=1,0,IF(B27=0,C27,$G$8-C27)))*$C$14 -> 30832661 | B27: 0 | C27: =C26+$G$9/10 -> 0.97702805 | D27: =$C$16/$C$5*ASINH($C$5*A27*$C$14/$C$16)/$C$14 -> 21.502128 | E27: =E26-G26-$C$12 -> 3.2210225e+11 | F27: =IF(B27=1,0,IF(B27=3,0,IF(E27>$C$3,E27*$C$5,0))) -> 2.5252816e+12 | G27: =F27*$C$14*$D$11*$C$6/1000+$C$12 -> 6412890.8 | H27: =1-(($E$18-E27)/$C$4) -> 0.99883976 | I27: =I26+G27 -> 64134388 | J27: =IF(B27=1,$J$9,SQRT(1+($C$5*A27/$C$16)^2)) -> 1.2845812 | K27: =IF(B27=1,$K$9,$C$5*A27/J27) -> 1.8817656e+08 | L27: =K27/$C$16 -> 0.62768943 | M27: =K27/J27 -> 1.4648865e+08 | N27: =K27/$C$16 -> 0.62768943 | O27: =$D$16/$C$5*(J27-1) -> 3.2623569e+15 | P27: =IF(B27=0,O27,IF(B27=2,$D$8-O27,IF(B27=1,P26+$K$9*(C27-C26)*$C$14))) -> 3.2623569e+15 | Q27: =P27/$C$15 -> 0.34483251
A28: =IF(B28=3,0,IF(B28=1,0,IF(B28=0,C28,$G$8-C28)))*$C$14 -> 34258512 | B28: 0 | C28: =C27+$G$9/10 -> 1.0855867 | D28: =$C$16/$C$5*ASINH($C$5*A28*$C$14/$C$16)/$C$14 -> 21.629795 | E28: =E27-G27-$C$12 -> 3.2209445e+11 | F28: =IF(B28=1,0,IF(B28=3,0,IF(E28>$C$3,E28*$C$5,0))) -> 2.5252205e+12 | G28: =F28*$C$14*$D$11*$C$6/1000+$C$12 -> 6412769 | H28: =1-(($E$18-E28)/$C$4) -> 0.99871085 | I28: =I27+G28 -> 70547157 | J28: =IF(B28=1,$J$9,SQRT(1+($C$5*A28/$C$16)^2)) -> 1.342629 | K28: =IF(B28=1,$K$9,$C$5*A28/J28) -> 2.0004538e+08 | L28: =K28/$C$16 -> 0.66727955 | M28: =K28/J28 -> 1.4899527e+08 | N28: =K28/$C$16 -> 0.66727955 | O28: =$D$16/$C$5*(J28-1) -> 3.9278014e+15 | P28: =E9 -> 4.916773e+15 | Q28: =P28/$C$15 -> 0.51970499
A29: =IF(B29=3,0,IF(B29=1,0,IF(B29=0,C29,$G$8-C29)))*$C$14 -> 0 | B29: =IF(P28>$D$8,3,IF(P28>$D$8-$E$9,2,1)) -> 1 | C29: =C28+$D$11 -> 1.3355867 | D29: =$C$16/$C$5*ASINH($C$5*A29*$C$14/$C$16)/$C$14 -> 0 | E29: =E28-G28-$C$12 -> 3.2208666e+11 | F29: =IF(B29=1,0,IF(B29=3,0,IF(E29>$C$3,E29*$C$5,0))) -> 0 | G29: =F29*$C$14*$D$11*$C$6/1000+$C$12 -> 1380262 | H29: =1-(($E$18-E29)/$C$4) -> 0.99858195 | I29: =I28+G29 -> 71927419 | J29: =IF(B29=1,$J$9,SQRT(1+($C$5*A29/$C$16)^2)) -> 1.342629 | K29: =IF(B29=1,$K$9,$C$5*A29/J29) -> 2.0004538e+08 | L29: =K29/$C$16 -> 0.66727955 | M29: =K29/J29 -> 1.4899527e+08 | N29: =K29/$C$16 -> 0.66727955 | O29: =$D$16/$C$5*(J29-1) -> 3.9278014e+15 | P29: =IF(B29=0,O29,IF(B29=2,$D$8-O29,IF(B29=1,P28+$K$9*(C29-C28)*$C$14))) -> 6.495011e+15 | Q29: =P29/$C$15 -> 0.68652542
A30: =IF(B30=3,0,IF(B30=1,0,IF(B30=0,C30,$G$8-C30)))*$C$14 -> 0 | B30: =IF(P29>$D$8,3,IF(P29>$D$8-$E$9,2,1)) -> 1 | C30: =C29+$D$11 -> 1.5855867 | D30: =$C$16/$C$5*ASINH($C$5*A30*$C$14/$C$16)/$C$14 -> 0 | E30: =E29-G29-$C$12 -> 3.220839e+11 | F30: =IF(B30=1,0,IF(B30=3,0,IF(E30>$C$3,E30*$C$5,0))) -> 0 | G30: =F30*$C$14*$D$11*$C$6/1000+$C$12 -> 1380262 | H30: =1-(($E$18-E30)/$C$4) -> 0.99853629 | I30: =I29+G30 -> 73307681 | J30: =IF(B30=1,$J$9,SQRT(1+($C$5*A30/$C$16)^2)) -> 1.342629 | K30: =IF(B30=1,$K$9,$C$5*A30/J30) -> 2.0004538e+08 | L30: =K30/$C$16 -> 0.66727955 | M30: =K30/J30 -> 1.4899527e+08 | N30: =K30/$C$16 -> 0.66727955 | O30: =$D$16/$C$5*(J30-1) -> 3.9278014e+15 | P30: =IF(B30=0,O30,IF(B30=2,$D$8-O30,IF(B30=1,P29+$K$9*(C30-C29)*$C$14))) -> 8.073249e+15 | Q30: =P30/$C$15 -> 0.85334584
A31: =IF(B31=3,0,IF(B31=1,0,IF(B31=0,C31,$G$8-C31)))*$C$14 -> 0 | B31: =IF(P30>$D$8,3,IF(P30>$D$8-$E$9,2,1)) -> 1 | C31: =C30+$D$11 -> 1.8355867 | D31: =$C$16/$C$5*ASINH($C$5*A31*$C$14/$C$16)/$C$14 -> 0 | E31: =E30-G30-$C$12 -> 3.2208114e+11 | F31: =IF(B31=1,0,IF(B31=3,0,IF(E31>$C$3,E31*$C$5,0))) -> 0 | G31: =F31*$C$14*$D$11*$C$6/1000+$C$12 -> 1380262 | H31: =1-(($E$18-E31)/$C$4) -> 0.99849062 | I31: =I30+G31 -> 74687943 | J31: =IF(B31=1,$J$9,SQRT(1+($C$5*A31/$C$16)^2)) -> 1.342629 | K31: =IF(B31=1,$K$9,$C$5*A31/J31) -> 2.0004538e+08 | L31: =K31/$C$16 -> 0.66727955 | M31: =K31/J31 -> 1.4899527e+08 | N31: =K31/$C$16 -> 0.66727955 | O31: =$D$16/$C$5*(J31-1) -> 3.9278014e+15 | P31: =IF(B31=0,O31,IF(B31=2,$D$8-O31,IF(B31=1,P30+$K$9*(C31-C30)*$C$14))) -> 9.651487e+15 | Q31: =P31/$C$15 -> 1.0201663
A32: =IF(B32=3,0,IF(B32=1,0,IF(B32=0,C32,$G$8-C32)))*$C$14 -> 0 | B32: =IF(P31>$D$8,3,IF(P31>$D$8-$E$9,2,1)) -> 1 | C32: =C31+$D$11 -> 2.0855867 | D32: =$C$16/$C$5*ASINH($C$5*A32*$C$14/$C$16)/$C$14 -> 0 | E32: =E31-G31-$C$12 -> 3.2207838e+11 | F32: =IF(B32=1,0,IF(B32=3,0,IF(E32>$C$3,E32*$C$5,0))) -> 0 | G32: =F32*$C$14*$D$11*$C$6/1000+$C$12 -> 1380262 | H32: =1-(($E$18-E32)/$C$4) -> 0.99844496 | I32: =I31+G32 -> 76068205 | J32: =IF(B32=1,$J$9,SQRT(1+($C$5*A32/$C$16)^2)) -> 1.342629 | K32: =IF(B32=1,$K$9,$C$5*A32/J32) -> 2.0004538e+08 | L32: =K32/$C$16 -> 0.66727955 | M32: =K32/J32 -> 1.4899527e+08 | N32: =K32/$C$16 -> 0.66727955 | O32: =$D$16/$C$5*(J32-1) -> 3.9278014e+15 | P32: =IF(B32=0,O32,IF(B32=2,$D$8-O32,IF(B32=1,P31+$K$9*(C32-C31)*$C$14))) -> 1.1229725e+16 | Q32: =P32/$C$15 -> 1.1869867
A33: =IF(B33=3,0,IF(B33=1,0,IF(B33=0,C33,$G$8-C33)))*$C$14 -> 0 | B33: =IF(P32>$D$8,3,IF(P32>$D$8-$E$9,2,1)) -> 1 | C33: =C32+$D$11 -> 2.3355867 | D33: =$C$16/$C$5*ASINH($C$5*A33*$C$14/$C$16)/$C$14 -> 0 | E33: =E32-G32-$C$12 -> 3.2207562e+11 | F33: =IF(B33=1,0,IF(B33=3,0,IF(E33>$C$3,E33*$C$5,0))) -> 0 | G33: =F33*$C$14*$D$11*$C$6/1000+$C$12 -> 1380262 | H33: =1-(($E$18-E33)/$C$4) -> 0.9983993 | I33: =I32+G33 -> 77448467 | J33: =IF(B33=1,$J$9,SQRT(1+($C$5*A33/$C$16)^2)) -> 1.342629 | K33: =IF(B33=1,$K$9,$C$5*A33/J33) -> 2.0004538e+08 | L33: =K33/$C$16 -> 0.66727955 | M33: =K33/J33 -> 1.4899527e+08 | N33: =K33/$C$16 -> 0.66727955 | O33: =$D$16/$C$5*(J33-1) -> 3.9278014e+15 | P33: =IF(B33=0,O33,IF(B33=2,$D$8-O33,IF(B33=1,P32+$K$9*(C33-C32)*$C$14))) -> 1.2807963e+16 | Q33: =P33/$C$15 -> 1.3538071
A34: =IF(B34=3,0,IF(B34=1,0,IF(B34=0,C34,$G$8-C34)))*$C$14 -> 0 | B34: =IF(P33>$D$8,3,IF(P33>$D$8-$E$9,2,1)) -> 1 | C34: =C33+$D$11 -> 2.5855867 | D34: =$C$16/$C$5*ASINH($C$5*A34*$C$14/$C$16)/$C$14 -> 0 | E34: =E33-G33-$C$12 -> 3.2207286e+11 | F34: =IF(B34=1,0,IF(B34=3,0,IF(E34>$C$3,E34*$C$5,0))) -> 0 | G34: =F34*$C$14*$D$11*$C$6/1000+$C$12 -> 1380262 | H34: =1-(($E$18-E34)/$C$4) -> 0.99835364 | I34: =I33+G34 -> 78828729 | J34: =IF(B34=1,$J$9,SQRT(1+($C$5*A34/$C$16)^2)) -> 1.342629 | K34: =IF(B34=1,$K$9,$C$5*A34/J34) -> 2.0004538e+08 | L34: =K34/$C$16 -> 0.66727955 | M34: =K34/J34 -> 1.4899527e+08 | N34: =K34/$C$16 -> 0.66727955 | O34: =$D$16/$C$5*(J34-1) -> 3.9278014e+15 | P34: =IF(B34=0,O34,IF(B34=2,$D$8-O34,IF(B34=1,P33+$K$9*(C34-C33)*$C$14))) -> 1.4386201e+16 | Q34: =P34/$C$15 -> 1.5206275
A35: =IF(B35=3,0,IF(B35=1,0,IF(B35=0,C35,$G$8-C35)))*$C$14 -> 0 | B35: =IF(P34>$D$8,3,IF(P34>$D$8-$E$9,2,1)) -> 1 | C35: =C34+$D$11 -> 2.8355867 | D35: =$C$16/$C$5*ASINH($C$5*A35*$C$14/$C$16)/$C$14 -> 0 | E35: =E34-G34-$C$12 -> 3.220701e+11 | F35: =IF(B35=1,0,IF(B35=3,0,IF(E35>$C$3,E35*$C$5,0))) -> 0 | G35: =F35*$C$14*$D$11*$C$6/1000+$C$12 -> 1380262 | H35: =1-(($E$18-E35)/$C$4) -> 0.99830798 | I35: =I34+G35 -> 80208991 | J35: =IF(B35=1,$J$9,SQRT(1+($C$5*A35/$C$16)^2)) -> 1.342629 | K35: =IF(B35=1,$K$9,$C$5*A35/J35) -> 2.0004538e+08 | L35: =K35/$C$16 -> 0.66727955 | M35: =K35/J35 -> 1.4899527e+08 | N35: =K35/$C$16 -> 0.66727955 | O35: =$D$16/$C$5*(J35-1) -> 3.9278014e+15 | P35: =IF(B35=0,O35,IF(B35=2,$D$8-O35,IF(B35=1,P34+$K$9*(C35-C34)*$C$14))) -> 1.5964439e+16 | Q35: =P35/$C$15 -> 1.687448
A36: =IF(B36=3,0,IF(B36=1,0,IF(B36=0,C36,$G$8-C36)))*$C$14 -> 0 | B36: =IF(P35>$D$8,3,IF(P35>$D$8-$E$9,2,1)) -> 1 | C36: =C35+$D$11 -> 3.0855867 | D36: =$C$16/$C$5*ASINH($C$5*A36*$C$14/$C$16)/$C$14 -> 0 | E36: =E35-G35-$C$12 -> 3.2206734e+11 | F36: =IF(B36=1,0,IF(B36=3,0,IF(E36>$C$3,E36*$C$5,0))) -> 0 | G36: =F36*$C$14*$D$11*$C$6/1000+$C$12 -> 1380262 | H36: =1-(($E$18-E36)/$C$4) -> 0.99826232 | I36: =I35+G36 -> 81589253 | J36: =IF(B36=1,$J$9,SQRT(1+($C$5*A36/$C$16)^2)) -> 1.342629 | K36: =IF(B36=1,$K$9,$C$5*A36/J36) -> 2.0004538e+08 | L36: =K36/$C$16 -> 0.66727955 | M36: =K36/J36 -> 1.4899527e+08 | N36: =K36/$C$16 -> 0.66727955 | O36: =$D$16/$C$5*(J36-1) -> 3.9278014e+15 | P36: =IF(B36=0,O36,IF(B36=2,$D$8-O36,IF(B36=1,P35+$K$9*(C36-C35)*$C$14))) -> 1.7542677e+16 | Q36: =P36/$C$15 -> 1.8542684
A37: =IF(B37=3,0,IF(B37=1,0,IF(B37=0,C37,$G$8-C37)))*$C$14 -> 0 | B37: =IF(P36>$D$8,3,IF(P36>$D$8-$E$9,2,1)) -> 1 | C37: =C36+$D$11 -> 3.3355867 | D37: =$C$16/$C$5*ASINH($C$5*A37*$C$14/$C$16)/$C$14 -> 0 | E37: =E36-G36-$C$12 -> 3.2206458e+11 | F37: =IF(B37=1,0,IF(B37=3,0,IF(E37>$C$3,E37*$C$5,0))) -> 0 | G37: =F37*$C$14*$D$11*$C$6/1000+$C$12 -> 1380262 | H37: =1-(($E$18-E37)/$C$4) -> 0.99821666 | I37: =I36+G37 -> 82969515 | J37: =IF(B37=1,$J$9,SQRT(1+($C$5*A37/$C$16)^2)) -> 1.342629 | K37: =IF(B37=1,$K$9,$C$5*A37/J37) -> 2.0004538e+08 | L37: =K37/$C$16 -> 0.66727955 | M37: =K37/J37 -> 1.4899527e+08 | N37: =K37/$C$16 -> 0.66727955 | O37: =$D$16/$C$5*(J37-1) -> 3.9278014e+15 | P37: =IF(B37=0,O37,IF(B37=2,$D$8-O37,IF(B37=1,P36+$K$9*(C37-C36)*$C$14))) -> 1.9120915e+16 | Q37: =P37/$C$15 -> 2.0210888
A38: =IF(B38=3,0,IF(B38=1,0,IF(B38=0,C38,$G$8-C38)))*$C$14 -> 0 | B38: =IF(P37>$D$8,3,IF(P37>$D$8-$E$9,2,1)) -> 1 | C38: =C37+$D$11 -> 3.5855867 | D38: =$C$16/$C$5*ASINH($C$5*A38*$C$14/$C$16)/$C$14 -> 0 | E38: =E37-G37-$C$12 -> 3.2206182e+11 | F38: =IF(B38=1,0,IF(B38=3,0,IF(E38>$C$3,E38*$C$5,0))) -> 0 | G38: =F38*$C$14*$D$11*$C$6/1000+$C$12 -> 1380262 | H38: =1-(($E$18-E38)/$C$4) -> 0.99817099 | I38: =I37+G38 -> 84349777 | J38: =IF(B38=1,$J$9,SQRT(1+($C$5*A38/$C$16)^2)) -> 1.342629 | K38: =IF(B38=1,$K$9,$C$5*A38/J38) -> 2.0004538e+08 | L38: =K38/$C$16 -> 0.66727955 | M38: =K38/J38 -> 1.4899527e+08 | N38: =K38/$C$16 -> 0.66727955 | O38: =$D$16/$C$5*(J38-1) -> 3.9278014e+15 | P38: =IF(B38=0,O38,IF(B38=2,$D$8-O38,IF(B38=1,P37+$K$9*(C38-C37)*$C$14))) -> 2.0699153e+16 | Q38: =P38/$C$15 -> 2.1879092
A39: =IF(B39=3,0,IF(B39=1,0,IF(B39=0,C39,$G$8-C39)))*$C$14 -> 0 | B39: =IF(P38>$D$8,3,IF(P38>$D$8-$E$9,2,1)) -> 1 | C39: =C38+$D$11 -> 3.8355867 | D39: =$C$16/$C$5*ASINH($C$5*A39*$C$14/$C$16)/$C$14 -> 0 | E39: =E38-G38-$C$12 -> 3.2205905e+11 | F39: =IF(B39=1,0,IF(B39=3,0,IF(E39>$C$3,E39*$C$5,0))) -> 0 | G39: =F39*$C$14*$D$11*$C$6/1000+$C$12 -> 1380262 | H39: =1-(($E$18-E39)/$C$4) -> 0.99812533 | I39: =I38+G39 -> 85730039 | J39: =IF(B39=1,$J$9,SQRT(1+($C$5*A39/$C$16)^2)) -> 1.342629 | K39: =IF(B39=1,$K$9,$C$5*A39/J39) -> 2.0004538e+08 | L39: =K39/$C$16 -> 0.66727955 | M39: =K39/J39 -> 1.4899527e+08 | N39: =K39/$C$16 -> 0.66727955 | O39: =$D$16/$C$5*(J39-1) -> 3.9278014e+15 | P39: =IF(B39=0,O39,IF(B39=2,$D$8-O39,IF(B39=1,P38+$K$9*(C39-C38)*$C$14))) -> 2.2277391e+16 | Q39: =P39/$C$15 -> 2.3547297
A40: =IF(B40=3,0,IF(B40=1,0,IF(B40=0,C40,$G$8-C40)))*$C$14 -> 0 | B40: =IF(P39>$D$8,3,IF(P39>$D$8-$E$9,2,1)) -> 1 | C40: =C39+$D$11 -> 4.0855867 | D40: =$C$16/$C$5*ASINH($C$5*A40*$C$14/$C$16)/$C$14 -> 0 | E40: =E39-G39-$C$12 -> 3.2205629e+11 | F40: =IF(B40=1,0,IF(B40=3,0,IF(E40>$C$3,E40*$C$5,0))) -> 0 | G40: =F40*$C$14*$D$11*$C$6/1000+$C$12 -> 1380262 | H40: =1-(($E$18-E40)/$C$4) -> 0.99807967 | I40: =I39+G40 -> 87110301 | J40: =IF(B40=1,$J$9,SQRT(1+($C$5*A40/$C$16)^2)) -> 1.342629 | K40: =IF(B40=1,$K$9,$C$5*A40/J40) -> 2.0004538e+08 | L40: =K40/$C$16 -> 0.66727955 | M40: =K40/J40 -> 1.4899527e+08 | N40: =K40/$C$16 -> 0.66727955 | O40: =$D$16/$C$5*(J40-1) -> 3.9278014e+15 | P40: =IF(B40=0,O40,IF(B40=2,$D$8-O40,IF(B40=1,P39+$K$9*(C40-C39)*$C$14))) -> 2.3855629e+16 | Q40: =P40/$C$15 -> 2.5215501
... A70: =IF(B70=3,0,IF(B70=1,0,IF(B70=0,C70,$G$8-C70)))*$C$14 -> 0 | B70: =IF(P69>$D$8,3,IF(P69>$D$8-$E$9,2,1)) -> 1 | C70: =C69+$D$11 -> 11.585587 | D70: =$C$16/$C$5*ASINH($C$5*A70*$C$14/$C$16)/$C$14 -> 0 | E70: =E69-G69-$C$12 -> 3.2197348e+11 | F70: =IF(B70=1,0,IF(B70=3,0,IF(E70>$C$3,E70*$C$5,0))) -> 0 | G70: =F70*$C$14*$D$11*$C$6/1000+$C$12 -> 1380262 | H70: =1-(($E$18-E70)/$C$4) -> 0.99670982 | I70: =I69+G70 -> 1.2851816e+08 | J70: =IF(B70=1,$J$9,SQRT(1+($C$5*A70/$C$16)^2)) -> 1.342629 | K70: =IF(B70=1,$K$9,$C$5*A70/J70) -> 2.0004538e+08 | L70: =K70/$C$16 -> 0.66727955 | M70: =K70/J70 -> 1.4899527e+08 | N70: =K70/$C$16 -> 0.66727955 | O70: =$D$16/$C$5*(J70-1) -> 3.9278014e+15 | P70: =IF(B70=0,O70,IF(B70=2,$D$8-O70,IF(B70=1,P69+$K$9*(C70-C69)*$C$14))) -> 7.1202768e+16 | Q70: =P70/$C$15 -> 7.5261628
A71: =IF(B71=3,0,IF(B71=1,0,IF(B71=0,C71,$G$8-C71)))*$C$14 -> 0 | B71: =IF(P70<$E$9,0,IF(P70>$D$8,3,IF(P70>$D$8-$E$9,2,1))) -> 1 | C71: =C70+$D$11 -> 11.835587 | D71: =$C$16/$C$5*ASINH($C$5*A71*$C$14/$C$16)/$C$14 -> 0 | E71: =E70-G70-$C$12 -> 3.2197072e+11 | F71: =IF(B71=1,0,IF(B71=3,0,IF(E71>$C$3,E71*$C$5,0))) -> 0 | G71: =F71*$C$14*$D$11*$C$6/1000+$C$12 -> 1380262 | H71: =1-(($E$18-E71)/$C$4) -> 0.99666416 | I71: =I70+G71 -> 1.2989842e+08 | J71: =IF(B71=1,$J$9,SQRT(1+($C$5*A71/$C$16)^2)) -> 1.342629 | K71: =IF(B71=1,$K$9,$C$5*A71/J71) -> 2.0004538e+08 | L71: =K71/$C$16 -> 0.66727955 | M71: =K71/J71 -> 1.4899527e+08 | N71: =K71/$C$16 -> 0.66727955 | O71: =$D$16/$C$5*(J71-1) -> 3.9278014e+15 | P71: =IF(B71=0,O71,IF(B71=2,$D$8-O71,IF(B71=1,P70+$K$9*(C71-C70)*$C$14))) -> 7.2781006e+16 | Q71: =P71/$C$15 -> 7.6929832
A72: =IF(B72=3,0,IF(B72=1,0,IF(B72=0,C72,$G$8-C72)))*$C$14 -> 0 | B72: =IF(P71<$E$9,0,IF(P71>$D$8,3,IF(P71>$D$8-$E$9,2,1))) -> 1 | C72: =C71+$D$11 -> 12.085587 | D72: =$C$16/$C$5*ASINH($C$5*A72*$C$14/$C$16)/$C$14 -> 0 | E72: =E71-G71-$C$12 -> 3.2196796e+11 | F72: =IF(B72=1,0,IF(B72=3,0,IF(E72>$C$3,E72*$C$5,0))) -> 0 | G72: =F72*$C$14*$D$11*$C$6/1000+$C$12 -> 1380262 | H72: =1-(($E$18-E72)/$C$4) -> 0.9966185 | I72: =I71+G72 -> 1.3127868e+08 | J72: =IF(B72=1,$J$9,SQRT(1+($C$5*A72/$C$16)^2)) -> 1.342629 | K72: =IF(B72=1,$K$9,$C$5*A72/J72) -> 2.0004538e+08 | L72: =K72/$C$16 -> 0.66727955 | M72: =K72/J72 -> 1.4899527e+08 | N72: =K72/$C$16 -> 0.66727955 | O72: =$D$16/$C$5*(J72-1) -> 3.9278014e+15 | P72: =IF(B72=0,O72,IF(B72=2,$D$8-O72,IF(B72=1,P71+$K$9*(C72-C71)*$C$14))) -> 7.4359244e+16 | Q72: =P72/$C$15 -> 7.8598036
A73: =IF(B73=3,0,IF(B73=1,0,IF(B73=0,C73,$G$8-C73)))*$C$14 -> 0 | B73: =IF(P72<$E$9,0,IF(P72>$D$8,3,IF(P72>$D$8-$E$9,2,1))) -> 1 | C73: =C72+$D$11 -> 12.335587 | D73: =$C$16/$C$5*ASINH($C$5*A73*$C$14/$C$16)/$C$14 -> 0 | E73: =E72-G72-$C$12 -> 3.219652e+11 | F73: =IF(B73=1,0,IF(B73=3,0,IF(E73>$C$3,E73*$C$5,0))) -> 0 | G73: =F73*$C$14*$D$11*$C$6/1000+$C$12 -> 1380262 | H73: =1-(($E$18-E73)/$C$4) -> 0.99657284 | I73: =I72+G73 -> 1.3265895e+08 | J73: =IF(B73=1,$J$9,SQRT(1+($C$5*A73/$C$16)^2)) -> 1.342629 | K73: =IF(B73=1,$K$9,$C$5*A73/J73) -> 2.0004538e+08 | L73: =K73/$C$16 -> 0.66727955 | M73: =K73/J73 -> 1.4899527e+08 | N73: =K73/$C$16 -> 0.66727955 | O73: =$D$16/$C$5*(J73-1) -> 3.9278014e+15 | P73: =IF(B73=0,O73,IF(B73=2,$D$8-O73,IF(B73=1,P72+$K$9*(C73-C72)*$C$14))) -> 7.5937482e+16 | Q73: =P73/$C$15 -> 8.0266241
A74: =IF(B74=3,0,IF(B74=1,0,IF(B74=0,C74,$G$8-C74)))*$C$14 -> 0 | B74: =IF(P73<$E$9,0,IF(P73>$D$8,3,IF(P73>$D$8-$E$9,2,1))) -> 1 | C74: =C73+$D$11 -> 12.585587 | D74: =$C$16/$C$5*ASINH($C$5*A74*$C$14/$C$16)/$C$14 -> 0 | E74: =E73-G73-$C$12 -> 3.2196244e+11 | F74: =IF(B74=1,0,IF(B74=3,0,IF(E74>$C$3,E74*$C$5,0))) -> 0 | G74: =F74*$C$14*$D$11*$C$6/1000+$C$12 -> 1380262 | H74: =1-(($E$18-E74)/$C$4) -> 0.99652718 | I74: =I73+G74 -> 1.3403921e+08 | J74: =IF(B74=1,$J$9,SQRT(1+($C$5*A74/$C$16)^2)) -> 1.342629 | K74: =IF(B74=1,$K$9,$C$5*A74/J74) -> 2.0004538e+08 | L74: =K74/$C$16 -> 0.66727955 | M74: =K74/J74 -> 1.4899527e+08 | N74: =K74/$C$16 -> 0.66727955 | O74: =$D$16/$C$5*(J74-1) -> 3.9278014e+15 | P74: =IF(B74=0,O74,IF(B74=2,$D$8-O74,IF(B74=1,P73+$K$9*(C74-C73)*$C$14))) -> 7.751572e+16 | Q74: =P74/$C$15 -> 8.1934445
A75: =IF(B75=3,0,IF(B75=1,0,IF(B75=0,C75,$G$8-C75)))*$C$14 -> 0 | B75: =IF(P74<$E$9,0,IF(P74>$D$8,3,IF(P74>$D$8-$E$9,2,1))) -> 1 | C75: =C74+$D$11 -> 12.835587 | D75: =$C$16/$C$5*ASINH($C$5*A75*$C$14/$C$16)/$C$14 -> 0 | E75: =E74-G74-$C$12 -> 3.2195968e+11 | F75: =IF(B75=1,0,IF(B75=3,0,IF(E75>$C$3,E75*$C$5,0))) -> 0 | G75: =F75*$C$14*$D$11*$C$6/1000+$C$12 -> 1380262 | H75: =1-(($E$18-E75)/$C$4) -> 0.99648152 | I75: =I74+G75 -> 1.3541947e+08 | J75: =IF(B75=1,$J$9,SQRT(1+($C$5*A75/$C$16)^2)) -> 1.342629 | K75: =IF(B75=1,$K$9,$C$5*A75/J75) -> 2.0004538e+08 | L75: =K75/$C$16 -> 0.66727955 | M75: =K75/J75 -> 1.4899527e+08 | N75: =K75/$C$16 -> 0.66727955 | O75: =$D$16/$C$5*(J75-1) -> 3.9278014e+15 | P75: =IF(B75=0,O75,IF(B75=2,$D$8-O75,IF(B75=1,P74+$K$9*(C75-C74)*$C$14))) -> 7.9093958e+16 | Q75: =P75/$C$15 -> 8.3602649
A76: =IF(B76=3,0,IF(B76=1,0,IF(B76=0,C76,$G$8-C76)))*$C$14 -> 0 | B76: =IF(P75<$E$9,0,IF(P75>$D$8,3,IF(P75>$D$8-$E$9,2,1))) -> 1 | C76: =C75+$D$11 -> 13.085587 | D76: =$C$16/$C$5*ASINH($C$5*A76*$C$14/$C$16)/$C$14 -> 0 | E76: =E75-G75-$C$12 -> 3.2195692e+11 | F76: =IF(B76=1,0,IF(B76=3,0,IF(E76>$C$3,E76*$C$5,0))) -> 0 | G76: =F76*$C$14*$D$11*$C$6/1000+$C$12 -> 1380262 | H76: =1-(($E$18-E76)/$C$4) -> 0.99643585 | I76: =I75+G76 -> 1.3679973e+08 | J76: =IF(B76=1,$J$9,SQRT(1+($C$5*A76/$C$16)^2)) -> 1.342629 | K76: =IF(B76=1,$K$9,$C$5*A76/J76) -> 2.0004538e+08 | L76: =K76/$C$16 -> 0.66727955 | M76: =K76/J76 -> 1.4899527e+08 | N76: =K76/$C$16 -> 0.66727955 | O76: =$D$16/$C$5*(J76-1) -> 3.9278014e+15 | P76: =IF(B76=0,O76,IF(B76=2,$D$8-O76,IF(B76=1,P75+$K$9*(C76-C75)*$C$14))) -> 8.0672196e+16 | Q76: =P76/$C$15 -> 8.5270853
A77: =IF(B77=3,0,IF(B77=1,0,IF(B77=0,C77,$G$8-C77)))*$C$14 -> 0 | B77: =IF(P76<$E$9,0,IF(P76>$D$8,3,IF(P76>$D$8-$E$9,2,1))) -> 1 | C77: =C76+$D$11 -> 13.335587 | D77: =$C$16/$C$5*ASINH($C$5*A77*$C$14/$C$16)/$C$14 -> 0 | E77: =E76-G76-$C$12 -> 3.2195415e+11 | F77: =IF(B77=1,0,IF(B77=3,0,IF(E77>$C$3,E77*$C$5,0))) -> 0 | G77: =F77*$C$14*$D$11*$C$6/1000+$C$12 -> 1380262 | H77: =1-(($E$18-E77)/$C$4) -> 0.99639019 | I77: =I76+G77 -> 1.3817999e+08 | J77: =IF(B77=1,$J$9,SQRT(1+($C$5*A77/$C$16)^2)) -> 1.342629 | K77: =IF(B77=1,$K$9,$C$5*A77/J77) -> 2.0004538e+08 | L77: =K77/$C$16 -> 0.66727955 | M77: =K77/J77 -> 1.4899527e+08 | N77: =K77/$C$16 -> 0.66727955 | O77: =$D$16/$C$5*(J77-1) -> 3.9278014e+15 | P77: =IF(B77=0,O77,IF(B77=2,$D$8-O77,IF(B77=1,P76+$K$9*(C77-C76)*$C$14))) -> 8.2250434e+16 | Q77: =P77/$C$15 -> 8.6939058
A78: =IF(B78=3,0,IF(B78=1,0,IF(B78=0,C78,$G$8-C78)))*$C$14 -> 0 | B78: =IF(P77<$E$9,0,IF(P77>$D$8,3,IF(P77>$D$8-$E$9,2,1))) -> 1 | C78: =C77+$D$11 -> 13.585587 | D78: =$C$16/$C$5*ASINH($C$5*A78*$C$14/$C$16)/$C$14 -> 0 | E78: =E77-G77-$C$12 -> 3.2195139e+11 | F78: =IF(B78=1,0,IF(B78=3,0,IF(E78>$C$3,E78*$C$5,0))) -> 0 | G78: =F78*$C$14*$D$11*$C$6/1000+$C$12 -> 1380262 | H78: =1-(($E$18-E78)/$C$4) -> 0.99634453 | I78: =I77+G78 -> 1.3956026e+08 | J78: =IF(B78=1,$J$9,SQRT(1+($C$5*A78/$C$16)^2)) -> 1.342629 | K78: =IF(B78=1,$K$9,$C$5*A78/J78) -> 2.0004538e+08 | L78: =K78/$C$16 -> 0.66727955 | M78: =K78/J78 -> 1.4899527e+08 | N78: =K78/$C$16 -> 0.66727955 | O78: =$D$16/$C$5*(J78-1) -> 3.9278014e+15 | P78: =IF(B78=0,O78,IF(B78=2,$D$8-O78,IF(B78=1,P77+$K$9*(C78-C77)*$C$14))) -> 8.3828672e+16 | Q78: =P78/$C$15 -> 8.8607262
A79: =IF(B79=3,0,IF(B79=1,0,IF(B79=0,C79,$G$8-C79)))*$C$14 -> 0 | B79: =IF(P78<$E$9,0,IF(P78>$D$8,3,IF(P78>$D$8-$E$9,2,1))) -> 1 | C79: =C78+$D$11 -> 13.835587 | D79: =$C$16/$C$5*ASINH($C$5*A79*$C$14/$C$16)/$C$14 -> 0 | E79: =E78-G78-$C$12 -> 3.2194863e+11 | F79: =IF(B79=1,0,IF(B79=3,0,IF(E79>$C$3,E79*$C$5,0))) -> 0 | G79: =F79*$C$14*$D$11*$C$6/1000+$C$12 -> 1380262 | H79: =1-(($E$18-E79)/$C$4) -> 0.99629887 | I79: =I78+G79 -> 1.4094052e+08 | J79: =IF(B79=1,$J$9,SQRT(1+($C$5*A79/$C$16)^2)) -> 1.342629 | K79: =IF(B79=1,$K$9,$C$5*A79/J79) -> 2.0004538e+08 | L79: =K79/$C$16 -> 0.66727955 | M79: =K79/J79 -> 1.4899527e+08 | N79: =K79/$C$16 -> 0.66727955 | O79: =$D$16/$C$5*(J79-1) -> 3.9278014e+15 | P79: =IF(B79=0,O79,IF(B79=2,$D$8-O79,IF(B79=1,P78+$K$9*(C79-C78)*$C$14))) -> 8.540691e+16 | Q79: =P79/$C$15 -> 9.0275466
A80: =IF(B80=3,0,IF(B80=1,0,IF(B80=0,C80,$G$8-C80)))*$C$14 -> 0 | B80: =IF(P79<$E$9,0,IF(P79>$D$8,3,IF(P79>$D$8-$E$9,2,1))) -> 1 | C80: =C79+$D$11 -> 14.085587 | D80: =$C$16/$C$5*ASINH($C$5*A80*$C$14/$C$16)/$C$14 -> 0 | E80: =E79-G79-$C$12 -> 3.2194587e+11 | F80: =IF(B80=1,0,IF(B80=3,0,IF(E80>$C$3,E80*$C$5,0))) -> 0 | G80: =F80*$C$14*$D$11*$C$6/1000+$C$12 -> 1380262 | H80: =1-(($E$18-E80)/$C$4) -> 0.99625321 | I80: =I79+G80 -> 1.4232078e+08 | J80: =IF(B80=1,$J$9,SQRT(1+($C$5*A80/$C$16)^2)) -> 1.342629 | K80: =IF(B80=1,$K$9,$C$5*A80/J80) -> 2.0004538e+08 | L80: =K80/$C$16 -> 0.66727955 | M80: =K80/J80 -> 1.4899527e+08 | N80: =K80/$C$16 -> 0.66727955 | O80: =$D$16/$C$5*(J80-1) -> 3.9278014e+15 | P80: =IF(B80=0,O80,IF(B80=2,$D$8-O80,IF(B80=1,P79+$K$9*(C80-C79)*$C$14))) -> 8.6985148e+16 | Q80: =P80/$C$15 -> 9.194367
A81: =IF(B81=3,0,IF(B81=1,0,IF(B81=0,C81,$G$8-C81)))*$C$14 -> 0 | B81: =IF(P80<$E$9,0,IF(P80>$D$8,3,IF(P80>$D$8-$E$9,2,1))) -> 1 | C81: =C80+$D$11 -> 14.335587 | D81: =$C$16/$C$5*ASINH($C$5*A81*$C$14/$C$16)/$C$14 -> 0 | E81: =E80-G80-$C$12 -> 3.2194311e+11 | F81: =IF(B81=1,0,IF(B81=3,0,IF(E81>$C$3,E81*$C$5,0))) -> 0 | G81: =F81*$C$14*$D$11*$C$6/1000+$C$12 -> 1380262 | H81: =1-(($E$18-E81)/$C$4) -> 0.99620755 | I81: =I80+G81 -> 1.4370104e+08 | J81: =IF(B81=1,$J$9,SQRT(1+($C$5*A81/$C$16)^2)) -> 1.342629 | K81: =IF(B81=1,$K$9,$C$5*A81/J81) -> 2.0004538e+08 | L81: =K81/$C$16 -> 0.66727955 | M81: =K81/J81 -> 1.4899527e+08 | N81: =K81/$C$16 -> 0.66727955 | O81: =$D$16/$C$5*(J81-1) -> 3.9278014e+15 | P81: =IF(B81=0,O81,IF(B81=2,$D$8-O81,IF(B81=1,P80+$K$9*(C81-C80)*$C$14))) -> 8.8563386e+16 | Q81: =P81/$C$15 -> 9.3611875
A82: =IF(B82=3,0,IF(B82=1,0,IF(B82=0,C82,$G$8-C82)))*$C$14 -> 0 | B82: =IF(P81<$E$9,0,IF(P81>$D$8,3,IF(P81>$D$8-$E$9,2,1))) -> 1 | C82: =C81+$D$11 -> 14.585587 | D82: =$C$16/$C$5*ASINH($C$5*A82*$C$14/$C$16)/$C$14 -> 0 | E82: =E81-G81-$C$12 -> 3.2194035e+11 | F82: =IF(B82=1,0,IF(B82=3,0,IF(E82>$C$3,E82*$C$5,0))) -> 0 | G82: =F82*$C$14*$D$11*$C$6/1000+$C$12 -> 1380262 | H82: =1-(($E$18-E82)/$C$4) -> 0.99616189 | I82: =I81+G82 -> 1.450813e+08 | J82: =IF(B82=1,$J$9,SQRT(1+($C$5*A82/$C$16)^2)) -> 1.342629 | K82: =IF(B82=1,$K$9,$C$5*A82/J82) -> 2.0004538e+08 | L82: =K82/$C$16 -> 0.66727955 | M82: =K82/J82 -> 1.4899527e+08 | N82: =K82/$C$16 -> 0.66727955 | O82: =$D$16/$C$5*(J82-1) -> 3.9278014e+15 | P82: =IF(B82=0,O82,IF(B82=2,$D$8-O82,IF(B82=1,P81+$K$9*(C82-C81)*$C$14))) -> 9.0141624e+16 | Q82: =P82/$C$15 -> 9.5280079
... A351: =IF(B351=3,0,IF(B351=1,0,IF(B351=0,C351,$G$8-C351)))*$C$14 -> 0 | B351: =IF(P350<$E$9,0,IF(P350>$D$8,3,IF(P350>$D$8-$E$9,2,1))) -> 3 | C351: =C350+$D$11 -> 81.835587 | D351: =$C$16/$C$5*ASINH($C$5*A351*$C$14/$C$16)/$C$14 -> 0 | E351: =E350-G350-$C$12 -> 3.2118773e+11 | F351: =IF(B351=1,0,IF(B351=3,0,IF(E351>$C$3,E351*$C$5,0))) -> 0 | G351: =F351*$C$14*$D$11*$C$6/1000+$C$12 -> 1380262 | H351: =1-(($E$18-E351)/$C$4) -> 0.98371283 | I351: =I350+G351 -> 5.2641339e+08 | J351: =IF(B351=1,$J$9,SQRT(1+($C$5*A351/$C$16)^2)) -> 1 | K351: =IF(B351=1,$K$9,$C$5*A351/J351) -> 0 | L351: =K351/$C$16 -> 0 | M351: =K351/J351 -> 0 | N351: =K351/$C$16 -> 0 | O351: =$D$16/$C$5*(J351-1) -> 0 | P351: =IF(B351=0,O351,IF(B351=2,$D$8-O351,IF(B351=1,P350+$K$9*(C351-C350)*$C$14))) -> FALSE | Q351: =P351/$C$15 -> 0

Sheet Population
A1: Death Rate Info https://www.allcountries.org/uscensus/129_death_and_death_rates_by_age.html
A2: DT | B2: 1 | C2: =(1/1000)*$B$2 -> 0.001 | G2: Travel Time | J2: =Vehicle!D5 -> 43.561279 | N2: Natural | O2: Marriage % | P2: F:M Ratio | Q2: Trip Growth | R2: Knee | S2: Children | T2: 21-27 | U2: 28-34 | V2: 35-41 | W2: 42-48 | X2: 49-55 | Y2: 56-62 | Z2: Elderly
A3: Peak | B3: =MAX('Population Model'!B3:B103) -> 3136 | C3: =B6/B3 -> 0.95663265 | G3: Pop Start | J3: =B6*(1-LOOKUP($J$5,$M$3:$M$6,$Q$3:$Q$6)) -> 600 | L3: balanced | M3: 0 | N3: 0 | O3: 0.5 | P3: 0.5 | Q3: 0 | R3: 0.9 | S3: 0.25 | T3: 0.1234 | U3: =T3*0.99 -> 0.122166 | V3: =U3*0.99 -> 0.12094434 | W3: =V3*0.99 -> 0.1197349 | X3: =W3*0.99 -> 0.11853755 | Y3: =X3*0.95 -> 0.11261067 | Z3: 0.15
A4: Min | B4: =MIN('Population Model'!B3:B103) -> 599 | G4: Select Profile: | J4: =Vehicle!B13 -> island | L4: growth | M4: 1 | N4: 1 | O4: 0 | P4: 0.9 | Q4: 0.7 | R4: 1 | S4: 0 | T4: 1 | U4: 0 | V4: 0 | W4: 0 | X4: 0 | Y4: 0 | Z4: 0
A5: Final | B5: ='Population Model'!B103 -> 3106 | J5: =LOOKUP(J4,Population!L3:L6,Population!M3:M6) -> 2 | L5: island | M5: 2 | N5: 0 | O5: 0 | P5: 0.5 | Q5: 0.8 | R5: 0.9 | S5: 0 | T5: 0.5 | U5: 0.4 | V5: 0.1 | W5: 0 | X5: 0 | Y5: 0 | Z5: 0 | AN5: =SUM(A25:Y25) -> 441
A6: Target Population: | B6: =Vehicle!B11 -> 3000 | C6: Life Exp | D6: 73 | G6: Reproduction Model | J6: =LOOKUP(J4,Population!L3:L5,Population!N3:N5) -> 0 | L6: professional | M6: 3 | N6: 0 | O6: 0.9 | P6: 0.4 | Q6: =(1-0.84021) -> 0.15979 | R6: 0.5 | S6: 0.165 | T6: 0.4 | U6: 0.225 | V6: 0.05 | W6: 0.05 | X6: 0.05 | Y6: 0.05 | Z6: 0.05
A7: Average | B7: =AVERAGE('Population Model'!B3:B103) -> 2564.1386 | G7: F:M Ratio | J7: =LOOKUP($J$5,$M$3:$M$6,$P$3:$P$6) -> 0.5
A8: Replacement | B8: =B6*B10*B9 -> 35.642755 | G8: M:F Ratio | J8: =1-J7 -> 0.5
A9: Magic Factor | B9: 1.1158 | G9: Seed Females | J9: =J34+J36+J38+J40+J42 -> 300 | L9: balanced | M9: Balanced Population Level based on developed technological cultures
A10: Mortality | B10: =1-GEOMEAN(N29:N46) -> 0.010647892 | C10: =1/B10 -> 93.915299 | D10: =POWER(M29*M30*M31*M33*M35*M37*M39*M41*M43*M44,7)*POWER(M45,3.38) -> 0.70562633 | G10: Seed Male | J10: =J33+J35+J37+J39+J41 -> 300 | L10: growth | M10: Minimizes starting population - Young crew, predominately female
A11: Carry | B11: =1-B12 -> 0.85714286 | G11: Seed Child | J11: =SUM(J29:J32) -> 0 | L11: island | M11: Based on Polynsesian colonization. Primarily unmarried people in their 20s
A12: Promote | B12: =$B$2/7 -> 0.14285714 | G12: Seed Marriages | J12: =MIN(J9,J10)*LOOKUP($J$5,$M$3:$M$6,$O$3:$O$6) -> 0 | L12: professional | M12: Crew composed of existing professionals. Middle aged crew, most married, some children, skews male
A13: Marriage Rate | B13: 0.25
A14: Divorce Rate | B14: =0.3/50 -> 0.006 | G14: Population | H14: Seed | I14: Mission Arrival | J14: Return | K14: Peak | L14: Final
A15: Growth Knee | B15: =LOOKUP($J$5,$M$3:$M$6,$Q$3:$Q$6) -> 0.8 | G15: Year | H15: 0 | I15: =Vehicle!D5+1 -> 44.561279 | J15: =I15+5+Vehicle!D5 -> 93.122558 | K15: 34 | L15: 100
A16: M/F Ratio | B16: =J8 -> 0.5 | G16: General | H16: =LOOKUP(H15,'Population Model'!$A$3:$A$100,'Population Model'!$B$3:$B$100) -> 599 | I16: =LOOKUP(I15,'Population Model'!$A$3:$A$100,'Population Model'!$B$3:$B$100) -> 2737 | J16: =LOOKUP(J15,'Population Model'!$A$3:$A$100,'Population Model'!$B$3:$B$100) -> 3125 | K16: =MAX('Population Model'!B:B) -> 3136 | L16: =LOOKUP(L15,'Population Model'!$A$3:$A$100,'Population Model'!$B$3:$B$100) -> 3115
A17: Grade Level Size | C17: =(MAX('Population Model'!AC:AC)+MAX('Population Model'!AD:AD))/7 -> 52.068451 | D17: =(MIN('Population Model'!AC:AC)+MIN('Population Model'!AD:AD))/7 -> 0 | G17: Workforce | H17: =LOOKUP(H15,'Population Model'!$A$3:$A$100,'Population Model'!$C$3:$C$100) -> 599 | I17: =LOOKUP(I15,'Population Model'!$A$3:$A$100,'Population Model'!$C$3:$C$100) -> 1354 | J17: =LOOKUP(J15,'Population Model'!$A$3:$A$100,'Population Model'!$C$3:$C$100) -> 1212 | K17: =LOOKUP(K15,'Population Model'!$A$3:$A$100,'Population Model'!$C$3:$C$100) -> 1135 | L17: =LOOKUP(L15,'Population Model'!$A$3:$A$100,'Population Model'!$C$3:$C$100) -> 1199
A18: Potential Mate Rate | H18: =H17/H16 -> 1 | I18: =I17/I16 -> 0.49470223 | J18: =J17/J16 -> 0.38784 | K18: =K17/K16 -> 0.36192602 | L18: =L17/L16 -> 0.38491172
B19: Female | C19: =(C33+C35+C37+C39+C41+C43) -> 1053.401
B20: Male | C20: =(C34+C36+C38+C40) -> 638.35347
A21: HOUSING
A22: Single | C22: =MAX('Population Model'!O:O) -> 1278.7105 | D22: =CEILING(AVERAGE('Population Model'!O:O),1) -> 816 | E22: =LOOKUP(C22,'Population Model'!A:A,'Population Model'!O:O) -> 1258.2495 | F22: =CEILING(C22/10,1) -> 128
A23: Couples | C23: =CEILING(MAX('Population Model'!Q:Q),1) -> 328 | D23: =CEILING(AVERAGE('Population Model'!Q:Q),1) -> 164 | F23: =CEILING(C23/4,1) -> 82
A24: Family | C24: =CEILING(MAX('Population Model'!P:P),1) -> 462 | D24: =CEILING(AVERAGE('Population Model'!P:P),1) -> 337 | F24: =CEILING(C24/2,1) -> 231 | J24: =SUM(J29:J46) -> 600 | K24: =SUM(K33:K43) -> 1
E25: Tiles: | F25: =SUM(F22:F24) -> 441
C27: Max | D27: Min | E27: avg | H27: Marriage | I27: Housing | J27: Seed | K27: Seed % | L27: Death/100000 | M27: Mortality | Q27: Fertility Rate
A28: Age | F28: Family | G28: Single
A29: 0 | C29: =MAX('Population Model'!AA4:AA103) -> 462.18778 | D29: =MIN('Population Model'!AA4:AA103) -> 74.96955 | E29: =AVERAGE('Population Model'!AA2:AA103) -> 286.37519 | F29: =C29*H29 -> 0 | G29: =C29*I29 -> 0 | J29: =$J$3*1/3*K29 -> 0 | K29: =LOOKUP($J$5,$M$3:$M$6,$S$3:$S$6) -> 0 | L29: 40.6 | M29: =((100000-L29)/100000) -> 0.999594 | N29: =M29 -> 0.999594 | O29: =1-M29 -> 0.000406 | P29: Natural | Q29: High | R29: Low
A30: =A29+7 -> 7 | C30: =MAX('Population Model'!AB4:AB103) -> 397.44479 | D30: =MIN('Population Model'!AB4:AB103) -> 0 | E30: =AVERAGE('Population Model'!AB2:AB103) -> 268.85076 | F30: =C30*H30 -> 0 | G30: =C30*I30 -> 0 | J30: =$J$3*1/3*K30 -> 0 | K30: =LOOKUP($J$5,$M$3:$M$6,$S$3:$S$6) -> 0 | L30: 22.5 | M30: =((100000-L30)/100000) -> 0.999775 | N30: =M30 -> 0.999775 | O30: =1-M30 -> 0.000225
A31: =A30+7 -> 14 | B31: male | C31: =MAX('Population Model'!AC4:AC103) -> 182.23958 | D31: =MIN('Population Model'!AC2:AC103) -> 0 | E31: =AVERAGE('Population Model'!AC2:AC103) -> 125.2037 | F31: =C31*H31 -> 18.223958 | G31: =C31*I31 -> 72.895832 | H31: 0.1 | I31: 0.4 | J31: =$J$3*1/3*K31 -> 0 | K31: =LOOKUP($J$5,$M$3:$M$6,$S$3:$S$6)*0.5 -> 0 | L31: 95.3 | M31: =((100000-L31)/100000) -> 0.999047 | N31: =M31 -> 0.999047 | O31: =1-M31 -> 0.000953
B32: femal | C32: =MAX('Population Model'!AD4:AD103) -> 182.23958 | D32: =MIN('Population Model'!AD2:AD103) -> 0 | E32: =AVERAGE('Population Model'!AD2:AD103) -> 125.2037 | F32: =C32*H32 -> 18.223958 | G32: =C32*I32 -> 72.895832 | H32: 0.1 | I32: 0.4 | J32: =$J$3*1/3*K32 -> 0 | K32: =LOOKUP($J$5,$M$3:$M$6,$S$3:$S$6)*0.5 -> 0 | L32: 95.3 | M32: =((100000-L32)/100000) -> 0.999047 | O32: =1-M32 -> 0.000953 | P32: 12 | Q32: 12 | R32: 12
A33: =A31+7 -> 21 | B33: male | C33: =MAX('Population Model'!AE4:AE103) -> 171.46454 | D33: =MIN('Population Model'!AE2:AE103) -> 42.111293 | E33: =AVERAGE('Population Model'!AE2:AE103) -> 126.22452 | F33: =C33*H33 -> 17.146454 | G33: =C33*I33 -> 154.31809 | H33: 0.1 | I33: =1-H33 -> 0.9 | J33: =$J$3*K33 -> 150 | K33: =LOOKUP($J$5,$M$3:$M$6,$T$3:$T$6)*$J$8 -> 0.25 | L33: 95.3 | M33: =((100000-L33)/100000) -> 0.999047 | N33: =M33 -> 0.999047 | O33: =1-M33 -> 0.000953
B34: female | C34: =MAX('Population Model'!AF4:AF103) -> 171.46454 | D34: =MIN('Population Model'!AF2:AF103) -> 42.111293 | E34: =AVERAGE('Population Model'!AF2:AF103) -> 126.22452 | F34: =C34*H34 -> 17.146454 | G34: =C34*I34 -> 154.31809 | H34: 0.1 | I34: =1-H34 -> 0.9 | J34: =$J$3*K34 -> 150 | K34: =LOOKUP($J$5,$M$3:$M$6,$T$3:$T$6)*$J$7 -> 0.25 | L34: 95.3 | M34: =((100000-L34)/100000) -> 0.999047 | O34: =1-M34 -> 0.000953 | P34: 88 | Q34: 100 | R34: 12
A35: =A33+7 -> 28 | B35: male | C35: =MAX('Population Model'!AG4:AG103) -> 162.49879 | D35: =MIN('Population Model'!AG2:AG103) -> 61.039684 | E35: =AVERAGE('Population Model'!AG2:AG103) -> 124.53955 | F35: =C35*H35 -> 32.499757 | G35: =C35*I35 -> 129.99903 | H35: 0.2 | I35: =1-H35 -> 0.8 | J35: =$J$3*K35 -> 120 | K35: =LOOKUP($J$5,$M$3:$M$6,$U$3:$U$6)*$J$8 -> 0.2 | L35: 192 | M35: =((100000-L35)/100000) -> 0.99808 | N35: =M35 -> 0.99808 | O35: =1-M35 -> 0.00192
B36: female | C36: =MAX('Population Model'!AH4:AH103) -> 162.49879 | D36: =MIN('Population Model'!AH2:AH103) -> 61.039684 | E36: =AVERAGE('Population Model'!AH2:AH103) -> 124.53955 | F36: =C36*H36 -> 32.499757 | G36: =C36*I36 -> 129.99903 | H36: 0.2 | I36: =1-H36 -> 0.8 | J36: =$J$3*K36 -> 120 | K36: =LOOKUP($J$5,$M$3:$M$6,$U$3:$U$6)*$J$7 -> 0.2 | L36: 192 | M36: =((100000-L36)/100000) -> 0.99808 | O36: =1-M36 -> 0.00192 | P36: 88 | Q36: 100 | R36: 29
A37: =A35+7 -> 35 | B37: male | C37: =MAX('Population Model'!AI4:AI103) -> 155.20222 | D37: =MIN('Population Model'!AI2:AI103) -> 30 | E37: =AVERAGE('Population Model'!AI2:AI103) -> 116.6772 | F37: =C37*H37 -> 77.601108 | G37: =C37*I37 -> 77.601108 | H37: 0.5 | I37: =1-H37 -> 0.5 | J37: =$J$3*K37 -> 30 | K37: =LOOKUP($J$5,$M$3:$M$6,$V$3:$V$6)*$J$8 -> 0.05 | L37: 192 | M37: =((100000-L37)/100000) -> 0.99808 | N37: =M37 -> 0.99808 | O37: =1-M37 -> 0.00192
B38: female | C38: =MAX('Population Model'!AJ4:AJ103) -> 155.20222 | D38: =MIN('Population Model'!AJ2:AJ103) -> 30 | E38: =AVERAGE('Population Model'!AJ2:AJ103) -> 116.6772 | F38: =C38*H38 -> 77.601108 | G38: =C38*I38 -> 77.601108 | H38: 0.5 | I38: =1-H38 -> 0.5 | J38: =$J$3*K38 -> 30 | K38: =LOOKUP($J$5,$M$3:$M$6,$V$3:$V$6)*$J$7 -> 0.05 | L38: 192 | M38: =((100000-L38)/100000) -> 0.99808 | O38: =1-M38 -> 0.00192 | P38: 88 | Q38: 88 | R38: 29
A39: =A37+7 -> 42 | B39: male | C39: =MAX('Population Model'!AK4:AK103) -> 149.18793 | D39: =MIN('Population Model'!AK2:AK103) -> 0 | E39: =AVERAGE('Population Model'!AK2:AK103) -> 106.84118 | F39: =C39*H39 -> 74.593964 | G39: =C39*I39 -> 74.593964 | H39: 0.5 | I39: =1-H39 -> 0.5 | J39: =$J$3*K39 -> 0 | K39: =LOOKUP($J$5,$M$3:$M$6,$W$3:$W$6)*$J$8 -> 0 | L39: 192 | M39: =((100000-L39)/100000) -> 0.99808 | N39: =M39 -> 0.99808 | O39: =1-M39 -> 0.00192
B40: female | C40: =MAX('Population Model'!AL4:AL103) -> 149.18793 | D40: =MIN('Population Model'!AL2:AL103) -> 0 | E40: =AVERAGE('Population Model'!AL2:AL103) -> 106.84118 | F40: =C40*H40 -> 74.593964 | G40: =C40*I40 -> 74.593964 | H40: 0.5 | I40: =1-H40 -> 0.5 | J40: =$J$3*K40 -> 0 | K40: =LOOKUP($J$5,$M$3:$M$6,$W$3:$W$6)*$J$7 -> 0 | L40: 192 | M40: =((100000-L40)/100000) -> 0.99808 | O40: =1-M40 -> 0.00192 | P40: 29 | Q40: 29 | R40: 29
A41: =A39+7 -> 49 | B41: male | C41: =MAX('Population Model'!AM4:AM103) -> 144.07733 | D41: =MIN('Population Model'!AM2:AM103) -> 0 | E41: =AVERAGE('Population Model'!AM2:AM103) -> 97.015299 | F41: =C41*H41 -> 72.038666 | G41: =C41*I41 -> 72.038666 | H41: 0.5 | I41: =1-H41 -> 0.5 | J41: =$J$3*K41 -> 0 | K41: =LOOKUP($J$5,$M$3:$M$6,$X$3:$X$6)*$J$8 -> 0 | L41: 192 | M41: =((100000-L41)/100000) -> 0.99808 | N41: =M41 -> 0.99808 | O41: =1-M41 -> 0.00192
B42: female | C42: =MAX('Population Model'!AN4:AN103) -> 144.07733 | D42: =MIN('Population Model'!AN2:AN103) -> 0 | E42: =AVERAGE('Population Model'!AN2:AN103) -> 97.015299 | F42: =C42*H42 -> 72.038666 | G42: =C42*I42 -> 72.038666 | H42: 0.5 | I42: =1-H42 -> 0.5 | J42: =$J$3*K42 -> 0 | K42: =LOOKUP($J$5,$M$3:$M$6,$X$3:$X$6)*$J$7 -> 0 | L42: 192 | M42: =((100000-L42)/100000) -> 0.99808 | O42: =1-M42 -> 0.00192 | P42: 29 | Q42: 29 | R42: 29
A43: =A41+7 -> 56 | C43: =MAX('Population Model'!AO4:AO103) -> 270.97017 | D43: =MIN('Population Model'!AO2:AO103) -> 0 | E43: =AVERAGE('Population Model'!AO2:AO103) -> 169.47439 | F43: =C43*H43 -> 108.38807 | G43: =C43*I43 -> 162.5821 | H43: 0.4 | I43: =1-H43 -> 0.6 | J43: =$J$3*K43 -> 0 | K43: =LOOKUP($J$5,$M$3:$M$6,$Y$3:$Y$6)*$J$8 -> 0 | L43: 725 | M43: =((100000-L43)/100000) -> 0.99275 | N43: =M43 -> 0.99275 | O43: =1-M43 -> 0.00725
A44: =A43+7 -> 63 | C44: =MAX('Population Model'!AP4:AP103) -> 254.08089 | D44: =MIN('Population Model'!AQ2:AQ103) -> 0 | E44: =AVERAGE('Population Model'!AP2:AP103) -> 145.39696 | F44: =C44*H44 -> 76.224268 | G44: =C44*I44 -> 177.85663 | H44: 0.3 | I44: =1-H44 -> 0.7 | J44: =$J$3*1/3*K44 -> 0 | K44: =LOOKUP($J$5,$M$3:$M$6,$Y$3:$Y$6)*$J$7 -> 0 | L44: 725 | M44: =((100000-L44)/100000) -> 0.99275 | N44: =M44 -> 0.99275 | O44: =1-M44 -> 0.00725
A45: =A44+7 -> 70 | C45: =MAX('Population Model'!AQ4:AQ103) -> 192.04816 | D45: =MIN('Population Model'!AR2:AR103) -> 0 | E45: =AVERAGE('Population Model'!AQ2:AQ103) -> 100.89781 | F45: =C45*H45 -> 19.204816 | G45: =C45*I45 -> 172.84334 | H45: 0.1 | I45: =1-H45 -> 0.9 | J45: =$J$3*1/3*K45 -> 0 | K45: =LOOKUP($J$5,$M$3:$M$6,$Z$3:$Z$6)*0.7 -> 0 | L45: 5052 | M45: =((100000-L45)/100000) -> 0.94948 | N45: =M45 -> 0.94948 | O45: =1-M45 -> 0.05052
A46: 77 | C46: =MAX('Population Model'!AR4:AR103) -> 459.02046 | D46: =MIN('Population Model'!AS3:AS103) -> 0 | E46: =AVERAGE('Population Model'!AR2:AR103) -> 181.36934 | F46: =C46*H46 -> 45.902046 | G46: =C46*I46 -> 413.11841 | H46: 0.1 | I46: =1-H46 -> 0.9 | J46: =$J$3*1/3*K46 -> 0 | K46: =LOOKUP($J$5,$M$3:$M$6,$Z$3:$Z$6)*0.7 -> 0 | L46: 5052 | M46: =((100000-L46)/100000) -> 0.94948 | N46: =M46 -> 0.94948 | O46: =1-M46 -> 0.05052
A47: 84 | L47: 5052 | M47: =((100000-L47)/100000) -> 0.94948 | N47: =M47 -> 0.94948 | O47: =1-M47 -> 0.05052
A48: 91 | L48: 5052 | N48: =POWER(M48,7) -> 0
A49: 100 | L49: 5052 | N49: =POWER(M49,7) -> 0
A50: 107 | L50: 5052 | N50: =POWER(M50,7) -> 0
A52: Relativity | F52: 12
A53: 1 | B53: 0.077 | D53: M | E53: F | F53: Pool
A54: 2 | B54: 1.228 | C54: 0 | D54: 1 | E54: 1 | F54: =E54*$F$52 -> 12
A55: 3 | B55: 6.218 | C55: =C54+1 -> 1 | D55: =F54*0.5*0.85 -> 5.1 | E55: =F54*0.5*0.85 -> 5.1 | F55: =E55*$F$52 -> 61.2 | G55: =F55*4 -> 244.8
A56: 4 | B56: 19.65 | C56: =C55+1 -> 2 | D56: =F55*0.5*0.85 -> 26.01 | E56: =F55*0.5*0.85 -> 26.01 | F56: =E56*$F$52 -> 312.12
A57: 5 | B57: 47.98 | C57: =C56+1 -> 3 | D57: =F56*0.5*0.85 -> 132.651 | E57: =F56*0.5*0.85 -> 132.651 | F57: =E57*$F$52 -> 1591.812
A58: 6 | B58: 99.49 | C58: =C57+1 -> 4 | D58: =F57*0.5*0.85 -> 676.5201 | E58: =F57*0.5*0.85 -> 676.5201 | F58: =E58*$F$52 -> 8118.2412
A59: 7 | B59: 184.3
A60: 8 | B60: 314.4
A61: 9 | B61: 503.7
A62: 10 | B62: 767.7
A63: 11 | B63: 1124
A64: 12 | B64: 1592

Sheet Population Model
A1: Year | B1: Population | C1: Workforce | D1: Natural | E1: Target | F1: Ideal | G1: Births | H1: Fertile Female | I1: Children | J1: Child/Female | K1: Death | L1: Births per F | M1: MPP | N1: Child % | O1: housing | S1: Elderly % | U1: weddings | V1: divorce | W1: age out | X1: Marriages | Y1: Singles | AA1: 0 | AB1: =AA1+7 -> 7 | AC1: =AB1+7 -> 14 | AE1: =AC1+7 -> 21 | AG1: =AE1+7 -> 28 | AI1: =AG1+7 -> 35 | AK1: =AI1+7 -> 42 | AM1: =AK1+7 -> 49 | AO1: =AM1+7 -> 56 | AP1: =AO1+7 -> 63 | AQ1: =AP1+7 -> 70 | AR1: Over 70
B2: =FLOOR(SUM(AA2:AR2),1) -> 600 | D2: 0 | H2: =FLOOR(AF2+AH2+AJ2+AL2+AN2,1) -> 300 | L2: =SUM(G1:G2)/H2 -> 0 | M2: =(AE2+AF2+AG2+AH2+AI2+AJ2)/21*0.5 -> 14.285714 | N2: =I2/B2 -> 0 | O2: single | P2: family | Q2: Couples | S2: =SUM(AR2:AR2)/B2 -> 0 | T2: =X2/H2 -> 0 | X2: =Population!J12 -> 0 | Y2: =(AE2+AG2+AI2+AK2+AM2)-X2 -> 300 | Z2: =(AF2+AH2+AJ2+AL2+AN2)-X2 -> 300 | AA2: =Population!J29 -> 0 | AB2: =Population!J30 -> 0 | AC2: =Population!J31 -> 0 | AD2: =Population!J32 -> 0 | AE2: =Population!J33 -> 150 | AF2: =Population!J34 -> 150 | AG2: =Population!J35 -> 120 | AH2: =Population!J36 -> 120 | AI2: =Population!J37 -> 30 | AJ2: =Population!J38 -> 30 | AK2: =Population!J39 -> 0 | AL2: =Population!J40 -> 0 | AM2: =Population!J41 -> 0 | AN2: =Population!J42 -> 0 | AO2: =Population!J43 -> 0 | AP2: =Population!J44 -> 0 | AQ2: =Population!J45 -> 0 | AR2: =Population!J46 -> 0
A3: 0 | B3: =FLOOR(SUM(AA3:AR3),1) -> 599 | C3: =FLOOR(B3-I3-G3-SUM(AO3:AR3),1) -> 599 | D3: =AD2*Population!$P$32*Population!$C$2+AF2*Population!$P$34*Population!$C$2+AH2*Population!$P$36*Population!$C$2+AJ2*Population!$P$38*Population!$C$2+AL2*Population!$P$40*Population!$C$2+AN1*Population!$P$42*Population!$C$2 -> 26.4 | E3: =IF(B2>Population!$B$6*Population!$B$15,Population!$B$8,IF(Population!$J$6=1,D3,Population!$B$8*Population!$B$6*0.9/B2)) -> 160.3924 | F3: =IF(B2>Population!$B$6*0.75,Population!$B$8,E3) -> 160.3924 | G3: =IF(Population!$J$6=1,IF(E3>H2,H2,E3),IF(E3>X2,X2,E3)) -> 0 | H3: =FLOOR(AF2+AH2+AJ2+AL2+AN2,1) -> 300 | I3: =FLOOR(SUM(AA2:AD2),1) -> 0 | J3: =I3/H3 -> 0 | K3: =AA3*Population!$O$29+AB3*Population!$O$30+AC3*Population!$O$31+AD3*Population!$O$32+AE3*Population!$O$33+AF3*Population!$O$34+AG3*Population!$O$35+AH3*Population!$O$36+AI3*Population!$O$37+AJ3*Population!$O$38+AK3*Population!$O$39+AL3*Population!$O$40+AM3*Population!$O$41+AN3*Population!$O$42+AO3*Population!$O$43+AP3*Population!$O$44+AQ3*Population!$O$45+AR3*Population!$O$46 -> 0.90192498 | L3: =G3/H3 -> 0 | M3: =(AE2+AF2+AG2+AH2+AI2+AJ2)/21*0.5 -> 14.285714 | N3: =I3/B3 -> 0 | O3: =B3-I3-P3*2-Q3*2 -> 449 | P3: =CEILING(I3/2.4,1) -> 0 | Q3: =X3-P3 -> 75 | R3: =SUM(AR2:AR2) -> 0 | S3: =SUM(AR2:AR2)/B3 -> 0 | T3: =X3/H3 -> 0.25 | U3: =Population!$B$13*MIN(Y2:Z2) -> 75 | V3: =X2*Population!$B$14 -> 0 | W3: =AN2*T2*Population!$B$12 -> 0 | X3: =X2+U3-W3-V3 -> 75 | Y3: =(AE2+AG2+AI2+AK2+AM2)-X3 -> 225 | Z3: =(AF2+AH2+AJ2+AL2+AN2)-X3 -> 225 | AA3: =G3+Population!$B$11*AA2*Population!M$29 -> 0 | AB3: =AA2*Population!$B$12*Population!$M$29+AB2*Population!$B$11*Population!$M$30 -> 0 | AC3: =(AB2*Population!$B$12*0.5*Population!$M$30)+(AC2*Population!$B$11*Population!M$31) -> 0 | AD3: =(AB2*Population!$B$12*0.5*Population!$M$30)+(AD2*Population!$B$11*Population!M$31) -> 0 | AE3: =(AC2*Population!$B$12*Population!M$31)+(AE2*Population!$B$11*Population!M$33) -> 128.4489 | AF3: =(AD2*Population!$B$12*Population!M$31)+(AF2*Population!$B$11*Population!M$33) -> 128.4489 | AG3: =(AE2*Population!$B$12*Population!M$33)+(AG2*Population!$B$11*Population!M$35) -> 124.06781 | AH3: =(AF2*Population!$B$12*Population!M$33)+(AH2*Population!$B$11*Population!M$35) -> 124.06781 | AI3: =(AG2*Population!$B$12*Population!M$35)+(AI2*Population!$B$11*Population!M$37) -> 42.774857 | AJ3: =(AH2*Population!$B$12*Population!M$35)+(AJ2*Population!$B$11*Population!M$37) -> 42.774857 | AK3: =(AI2*Population!$B$12*Population!M$37)+(AK2*Population!$B$11*Population!M$39) -> 4.2774857 | AL3: =(AJ2*Population!$B$12*Population!M$37)+(AL2*Population!$B$11*Population!M$39) -> 4.2774857 | AM3: =(AK2*Population!$B$12*Population!M$39)+(AM2*Population!$B$11*Population!M$41) -> 0 | AN3: =(AL2*Population!$B$12*Population!M$39)+(AN2*Population!$B$11*Population!M$41) -> 0 | AO3: =(AM2+AN2)*Population!$B$12*Population!$M$41+AO2*Population!$B$11*Population!$M$43 -> 0 | AP3: =AO2*Population!M$43*Population!$B$12+AP2*Population!$B$11*Population!M$44 -> 0 | AQ3: =AP2*Population!M$44*Population!$B$12+AQ2*Population!$B$11*Population!M$45 -> 0 | AR3: =(AQ2*Population!$B$12+AR2)*Population!M$46 -> 0
A4: =A3+Population!$B$2 -> 1 | B4: =FLOOR(SUM(AA4:AR4),1) -> 673 | C4: =FLOOR(B4-I4-G4-SUM(AO4:AR4),1) -> 524 | D4: =AD3*Population!$P$32*Population!$C$2+AF3*Population!$P$34*Population!$C$2+AH3*Population!$P$36*Population!$C$2+AJ3*Population!$P$38*Population!$C$2+AL3*Population!$P$40*Population!$C$2+AN2*Population!$P$42*Population!$C$2 -> 26.109705 | E4: =IF(B3>Population!$B$6*Population!$B$15,Population!$B$8,IF(Population!$J$6=1,D4,Population!$B$8*Population!$B$6*0.9/B3)) -> 160.66016 | F4: =IF(B3>Population!$B$6*0.75,Population!$B$8,E4) -> 160.66016 | G4: =IF(Population!$J$6=1,IF(E4>H3,H3,E4),IF(E4>X3,X3,E4)) -> 75 | H4: =FLOOR(AF4+AH4+AJ4+AL4+AN4,1) -> 299 | I4: =FLOOR(SUM(AA4:AD4),1) -> 74 | J4: =I4/H4 -> 0.24749164 | K4: =AA4*Population!$O$29+AB4*Population!$O$30+AC4*Population!$O$31+AD4*Population!$O$32+AE4*Population!$O$33+AF4*Population!$O$34+AG4*Population!$O$35+AH4*Population!$O$36+AI4*Population!$O$37+AJ4*Population!$O$38+AK4*Population!$O$39+AL4*Population!$O$40+AM4*Population!$O$41+AN4*Population!$O$42+AO4*Population!$O$43+AP4*Population!$O$44+AQ4*Population!$O$45+AR4*Population!$O$46 -> 0.96632244 | L4: =G4/H4 -> 0.25083612 | M4: =(AE4+AF4+AG4+AH4+AI4+AJ4)/21*0.5 -> 13.749993 | N4: =I4/B4 -> 0.10995542 | O4: =B4-I4-P4*2-Q4*2 -> 337.4 | P4: =CEILING(I4/2.4,1) -> 31 | Q4: =X4-P4 -> 99.8 | R4: =SUM(AR3:AR3) -> 0 | S4: =SUM(AR4:AR4)/B4 -> 0 | T4: =X4/H4 -> 0.43745819 | U4: =Population!$B$13*MIN(Y3:Z3) -> 56.25 | V4: =X3*Population!$B$14 -> 0.45 | W4: =AN3*T3*Population!$B$12 -> 0 | X4: =X3+U4-W4-V4 -> 130.8 | Y4: =(AE4+AG4+AI4+AK4+AM4)-X4 -> 168.31809 | Z4: =(AF4+AH4+AJ4+AL4+AN4)-X4 -> 168.31809 | AA4: =(G4+Population!$B$11*AA3)*Population!M$29 -> 74.96955 | AB4: =AA3*Population!$B$12*Population!$M$29+AB3*Population!$B$11*Population!$M$30 -> 0 | AC4: =(AB3*Population!$B$12*0.5*Population!$M$30)+(AC3*Population!$B$11*Population!M$31) -> 0 | AD4: =(AB3*Population!$B$12*0.5*Population!$M$30)+(AD3*Population!$B$11*Population!M$31) -> 0 | AE4: =(AC3*Population!$B$12*Population!M$31)+(AE3*Population!$B$11*Population!M$33) -> 109.99413 | AF4: =(AD3*Population!$B$12*Population!M$31)+(AF3*Population!$B$11*Population!M$33) -> 109.99413 | AG4: =(AE3*Population!$B$12*Population!M$33)+(AG3*Population!$B$11*Population!M$35) -> 124.47201 | AH4: =(AF3*Population!$B$12*Population!M$33)+(AH3*Population!$B$11*Population!M$35) -> 124.47201 | AI4: =(AG3*Population!$B$12*Population!M$35)+(AI3*Population!$B$11*Population!M$37) -> 54.28371 | AJ4: =(AH3*Population!$B$12*Population!M$35)+(AJ3*Population!$B$11*Population!M$37) -> 54.28371 | AK4: =(AI3*Population!$B$12*Population!M$37)+(AK3*Population!$B$11*Population!M$39) -> 9.7583382 | AL4: =(AJ3*Population!$B$12*Population!M$37)+(AL3*Population!$B$11*Population!M$39) -> 9.7583382 | AM4: =(AK3*Population!$B$12*Population!M$39)+(AM3*Population!$B$11*Population!M$41) -> 0.60989613 | AN4: =(AL3*Population!$B$12*Population!M$39)+(AN3*Population!$B$11*Population!M$41) -> 0.60989613 | AO4: =(AM3+AN3)*Population!$B$12*Population!$M$41+AO3*Population!$B$11*Population!$M$43 -> 0 | AP4: =AO3*Population!M$43*Population!$B$12+AP3*Population!$B$11*Population!M$44 -> 0 | AQ4: =AP3*Population!M$44*Population!$B$12+AQ3*Population!$B$11*Population!M$45 -> 0 | AR4: =(AQ3*Population!$B$12+AR3)*Population!M$46 -> 0
A5: =A4+Population!$B$2 -> 2 | B5: =FLOOR(SUM(AA5:AR5),1) -> 802 | C5: =FLOOR(B5-I5-G5-SUM(AO5:AR5),1) -> 466 | D5: =AD4*Population!$P$32*Population!$C$2+AF4*Population!$P$34*Population!$C$2+AH4*Population!$P$36*Population!$C$2+AJ4*Population!$P$38*Population!$C$2+AL4*Population!$P$40*Population!$C$2+AN3*Population!$P$42*Population!$C$2 -> 25.692979 | E5: =IF(B4>Population!$B$6*Population!$B$15,Population!$B$8,IF(Population!$J$6=1,D5,Population!$B$8*Population!$B$6*0.9/B4)) -> 142.99471 | F5: =IF(B4>Population!$B$6*0.75,Population!$B$8,E5) -> 142.99471 | G5: =IF(Population!$J$6=1,IF(E5>H4,H4,E5),IF(E5>X4,X4,E5)) -> 130.8 | H5: =FLOOR(AF5+AH5+AJ5+AL5+AN5,1) -> 298 | I5: =FLOOR(SUM(AA5:AD5),1) -> 205 | J5: =I5/H5 -> 0.68791946 | K5: =AA5*Population!$O$29+AB5*Population!$O$30+AC5*Population!$O$31+AD5*Population!$O$32+AE5*Population!$O$33+AF5*Population!$O$34+AG5*Population!$O$35+AH5*Population!$O$36+AI5*Population!$O$37+AJ5*Population!$O$38+AK5*Population!$O$39+AL5*Population!$O$40+AM5*Population!$O$41+AN5*Population!$O$42+AO5*Population!$O$43+AP5*Population!$O$44+AQ5*Population!$O$45+AR5*Population!$O$46 -> 1.0471493 | L5: =G5/H5 -> 0.43892617 | M5: =(AE5+AF5+AG5+AH5+AI5+AJ5)/21*0.5 -> 13.36009 | N5: =I5/B5 -> 0.25561097 | O5: =B5-I5-P5*2-Q5*2 -> 252.88679 | P5: =CEILING(I5/2.4,1) -> 86 | Q5: =X5-P5 -> 86.056607 | R5: =SUM(AR4:AR4) -> 0 | S5: =SUM(AR5:AR5)/B5 -> 0 | T5: =X5/H5 -> 0.57737116 | U5: =Population!$B$13*MIN(Y4:Z4) -> 42.079522 | V5: =X4*Population!$B$14 -> 0.7848 | W5: =AN4*T4*Population!$B$12 -> 0.038114866 | X5: =X4+U5-W5-V5 -> 172.05661 | Y5: =(AE5+AG5+AI5+AK5+AM5)-X5 -> 126.50658 | Z5: =(AF5+AH5+AJ5+AL5+AN5)-X5 -> 126.50658 | AA5: =(G5+Population!$B$11*AA4)*Population!M$29 -> 194.98042 | AB5: =AA4*Population!$B$12*Population!$M$29+AB4*Population!$B$11*Population!$M$30 -> 10.705587 | AC5: =(AB4*Population!$B$12*0.5*Population!$M$30)+(AC4*Population!$B$11*Population!M$31) -> 0 | AD5: =(AB4*Population!$B$12*0.5*Population!$M$30)+(AD4*Population!$B$11*Population!M$31) -> 0 | AE5: =(AC4*Population!$B$12*Population!M$31)+(AE4*Population!$B$11*Population!M$33) -> 94.190836 | AF5: =(AD4*Population!$B$12*Population!M$31)+(AF4*Population!$B$11*Population!M$33) -> 94.190836 | AG5: =(AE4*Population!$B$12*Population!M$33)+(AG4*Population!$B$11*Population!M$35) -> 122.18392 | AH5: =(AF4*Population!$B$12*Population!M$33)+(AH4*Population!$B$11*Population!M$35) -> 122.18392 | AI5: =(AG4*Population!$B$12*Population!M$35)+(AI4*Population!$B$11*Population!M$37) -> 64.187134 | AJ5: =(AH4*Population!$B$12*Population!M$35)+(AJ4*Population!$B$11*Population!M$37) -> 64.187134 | AK5: =(AI4*Population!$B$12*Population!M$37)+(AK4*Population!$B$11*Population!M$39) -> 16.088157 | AL5: =(AJ4*Population!$B$12*Population!M$37)+(AL4*Population!$B$11*Population!M$39) -> 16.088157 | AM5: =(AK4*Population!$B$12*Population!M$39)+(AM4*Population!$B$11*Population!M$41) -> 1.9131361 | AN5: =(AL4*Population!$B$12*Population!M$39)+(AN4*Population!$B$11*Population!M$41) -> 1.9131361 | AO5: =(AM4+AN4)*Population!$B$12*Population!$M$41+AO4*Population!$B$11*Population!$M$43 -> 0.17392147 | AP5: =AO4*Population!M$43*Population!$B$12+AP4*Population!$B$11*Population!M$44 -> 0 | AQ5: =AP4*Population!M$44*Population!$B$12+AQ4*Population!$B$11*Population!M$45 -> 0 | AR5: =(AQ4*Population!$B$12+AR4)*Population!M$46 -> 0
A6: =A5+Population!$B$2 -> 3 | B6: =FLOOR(SUM(AA6:AR6),1) -> 921 | C6: =FLOOR(B6-I6-G6-SUM(AO6:AR6),1) -> 475 | D6: =AD5*Population!$P$32*Population!$C$2+AF5*Population!$P$34*Population!$C$2+AH5*Population!$P$36*Population!$C$2+AJ5*Population!$P$38*Population!$C$2+AL5*Population!$P$40*Population!$C$2+AN4*Population!$P$42*Population!$C$2 -> 25.17369 | E6: =IF(B5>Population!$B$6*Population!$B$15,Population!$B$8,IF(Population!$J$6=1,D6,Population!$B$8*Population!$B$6*0.9/B5)) -> 119.99431 | F6: =IF(B5>Population!$B$6*0.75,Population!$B$8,E6) -> 119.99431 | G6: =IF(Population!$J$6=1,IF(E6>H5,H5,E6),IF(E6>X5,X5,E6)) -> 119.99431 | H6: =FLOOR(AF6+AH6+AJ6+AL6+AN6,1) -> 297 | I6: =FLOOR(SUM(AA6:AD6),1) -> 325 | J6: =I6/H6 -> 1.0942761 | K6: =AA6*Population!$O$29+AB6*Population!$O$30+AC6*Population!$O$31+AD6*Population!$O$32+AE6*Population!$O$33+AF6*Population!$O$34+AG6*Population!$O$35+AH6*Population!$O$36+AI6*Population!$O$37+AJ6*Population!$O$38+AK6*Population!$O$39+AL6*Population!$O$40+AM6*Population!$O$41+AN6*Population!$O$42+AO6*Population!$O$43+AP6*Population!$O$44+AQ6*Population!$O$45+AR6*Population!$O$46 -> 1.1191077 | L6: =G6/H6 -> 0.40402125 | M6: =(AE6+AF6+AG6+AH6+AI6+AJ6)/21*0.5 -> 12.902967 | N6: =I6/B6 -> 0.35287731 | O6: =B6-I6-P6*2-Q6*2 -> 191.01377 | P6: =CEILING(I6/2.4,1) -> 136 | Q6: =X6-P6 -> 66.493113 | R6: =SUM(AR5:AR5) -> 0 | S6: =SUM(AR6:AR6)/B6 -> 0 | T6: =X6/H6 -> 0.68179499 | U6: =Population!$B$13*MIN(Y5:Z5) -> 31.626644 | V6: =X5*Population!$B$14 -> 1.0323396 | W6: =AN5*T5*Population!$B$12 -> 0.15779852 | X6: =X5+U6-W6-V6 -> 202.49311 | Y6: =(AE6+AG6+AI6+AK6+AM6)-X6 -> 95.315132 | Z6: =(AF6+AH6+AJ6+AL6+AN6)-X6 -> 95.315132 | AA6: =(G6+Population!$B$11*AA5)*Population!M$29 -> 287.00382 | AB6: =AA5*Population!$B$12*Population!$M$29+AB5*Population!$B$11*Population!$M$30 -> 37.01719 | AC6: =(AB5*Population!$B$12*0.5*Population!$M$30)+(AC5*Population!$B$11*Population!M$31) -> 0.76451277 | AD6: =(AB5*Population!$B$12*0.5*Population!$M$30)+(AD5*Population!$B$11*Population!M$31) -> 0.76451277 | AE6: =(AC5*Population!$B$12*Population!M$31)+(AE5*Population!$B$11*Population!M$33) -> 80.658062 | AF6: =(AD5*Population!$B$12*Population!M$31)+(AF5*Population!$B$11*Population!M$33) -> 80.658062 | AG6: =(AE5*Population!$B$12*Population!M$33)+(AG5*Population!$B$11*Population!M$35) -> 117.97101 | AH6: =(AF5*Population!$B$12*Population!M$33)+(AH5*Population!$B$11*Population!M$35) -> 117.97101 | AI6: =(AG5*Population!$B$12*Population!M$35)+(AI5*Population!$B$11*Population!M$37) -> 72.333242 | AJ6: =(AH5*Population!$B$12*Population!M$35)+(AJ5*Population!$B$11*Population!M$37) -> 72.333242 | AK6: =(AI5*Population!$B$12*Population!M$37)+(AK5*Population!$B$11*Population!M$39) -> 22.915357 | AL6: =(AJ5*Population!$B$12*Population!M$37)+(AL5*Population!$B$11*Population!M$39) -> 22.915357 | AM6: =(AK5*Population!$B$12*Population!M$39)+(AM5*Population!$B$11*Population!M$41) -> 3.9305779 | AN6: =(AL5*Population!$B$12*Population!M$39)+(AN5*Population!$B$11*Population!M$41) -> 3.9305779 | AO6: =(AM5+AN5)*Population!$B$12*Population!$M$41+AO5*Population!$B$11*Population!$M$43 -> 0.69355558 | AP6: =AO5*Population!M$43*Population!$B$12+AP5*Population!$B$11*Population!M$44 -> 0.024665791 | AQ6: =AP5*Population!M$44*Population!$B$12+AQ5*Population!$B$11*Population!M$45 -> 0 | AR6: =(AQ5*Population!$B$12+AR5)*Population!M$46 -> 0
A7: =A6+Population!$B$2 -> 4 | B7: =FLOOR(SUM(AA7:AR7),1) -> 1025 | C7: =FLOOR(B7-I7-G7-SUM(AO7:AR7),1) -> 489 | D7: =AD6*Population!$P$32*Population!$C$2+AF6*Population!$P$34*Population!$C$2+AH6*Population!$P$36*Population!$C$2+AJ6*Population!$P$38*Population!$C$2+AL6*Population!$P$40*Population!$C$2+AN5*Population!$P$42*Population!$C$2 -> 24.573884 | E7: =IF(B6>Population!$B$6*Population!$B$15,Population!$B$8,IF(Population!$J$6=1,D7,Population!$B$8*Population!$B$6*0.9/B6)) -> 104.49016 | F7: =IF(B6>Population!$B$6*0.75,Population!$B$8,E7) -> 104.49016 | G7: =IF(Population!$J$6=1,IF(E7>H6,H6,E7),IF(E7>X6,X6,E7)) -> 104.49016 | H7: =FLOOR(AF7+AH7+AJ7+AL7+AN7,1) -> 296 | I7: =FLOOR(SUM(AA7:AD7),1) -> 429 | J7: =I7/H7 -> 1.4493243 | K7: =AA7*Population!$O$29+AB7*Population!$O$30+AC7*Population!$O$31+AD7*Population!$O$32+AE7*Population!$O$33+AF7*Population!$O$34+AG7*Population!$O$35+AH7*Population!$O$36+AI7*Population!$O$37+AJ7*Population!$O$38+AK7*Population!$O$39+AL7*Population!$O$40+AM7*Population!$O$41+AN7*Population!$O$42+AO7*Population!$O$43+AP7*Population!$O$44+AQ7*Population!$O$45+AR7*Population!$O$46 -> 1.1844974 | L7: =G7/H7 -> 0.3530073 | M7: =(AE7+AF7+AG7+AH7+AI7+AJ7)/21*0.5 -> 12.395985 | N7: =I7/B7 -> 0.41853659 | O7: =B7-I7-P7*2-Q7*2 -> 146.5518 | P7: =CEILING(I7/2.4,1) -> 179 | Q7: =X7-P7 -> 45.724102 | R7: =SUM(AR6:AR6) -> 0 | S7: =SUM(AR7:AR7)/B7 -> 0 | T7: =X7/H7 -> 0.75920305 | U7: =Population!$B$13*MIN(Y6:Z6) -> 23.828783 | V7: =X6*Population!$B$14 -> 1.2149587 | W7: =AN6*T6*Population!$B$12 -> 0.38283547 | X7: =X6+U7-W7-V7 -> 224.7241 | Y7: =(AE7+AG7+AI7+AK7+AM7)-X7 -> 72.139027 | Z7: =(AF7+AH7+AJ7+AL7+AN7)-X7 -> 72.139027 | AA7: =(G7+Population!$B$11*AA6)*Population!M$29 -> 350.35113 | AB7: =AA6*Population!$B$12*Population!$M$29+AB6*Population!$B$11*Population!$M$30 -> 72.70578 | AC7: =(AB6*Population!$B$12*0.5*Population!$M$30)+(AC6*Population!$B$11*Population!M$31) -> 3.2981622 | AD7: =(AB6*Population!$B$12*0.5*Population!$M$30)+(AD6*Population!$B$11*Population!M$31) -> 3.2981622 | AE7: =(AC6*Population!$B$12*Population!M$31)+(AE6*Population!$B$11*Population!M$33) -> 69.178707 | AF7: =(AD6*Population!$B$12*Population!M$31)+(AF6*Population!$B$11*Population!M$33) -> 69.178707 | AG7: =(AE6*Population!$B$12*Population!M$33)+(AG6*Population!$B$11*Population!M$35) -> 112.43546 | AH7: =(AF6*Population!$B$12*Population!M$33)+(AH6*Population!$B$11*Population!M$35) -> 112.43546 | AI7: =(AG6*Population!$B$12*Population!M$35)+(AI6*Population!$B$11*Population!M$37) -> 78.701525 | AJ7: =(AH6*Population!$B$12*Population!M$35)+(AJ6*Population!$B$11*Population!M$37) -> 78.701525 | AK7: =(AI6*Population!$B$12*Population!M$37)+(AK6*Population!$B$11*Population!M$39) -> 29.917503 | AL7: =(AJ6*Population!$B$12*Population!M$37)+(AL6*Population!$B$11*Population!M$39) -> 29.917503 | AM7: =(AK6*Population!$B$12*Population!M$39)+(AM6*Population!$B$11*Population!M$41) -> 6.6299353 | AN7: =(AL6*Population!$B$12*Population!M$39)+(AN6*Population!$B$11*Population!M$41) -> 6.6299353 | AO7: =(AM6+AN6)*Population!$B$12*Population!$M$41+AO6*Population!$B$11*Population!$M$43 -> 1.7110323 | AP7: =AO6*Population!M$43*Population!$B$12+AP6*Population!$B$11*Population!M$44 -> 0.11934987 | AQ7: =AP6*Population!M$44*Population!$B$12+AQ6*Population!$B$11*Population!M$45 -> 0.0034981377 | AR7: =(AQ6*Population!$B$12+AR6)*Population!M$46 -> 0
A8: =A7+Population!$B$2 -> 5 | B8: =FLOOR(SUM(AA8:AR8),1) -> 1117 | C8: =FLOOR(B8-I8-G8-SUM(AO8:AR8),1) -> 497 | D8: =AD7*Population!$P$32*Population!$C$2+AF7*Population!$P$34*Population!$C$2+AH7*Population!$P$36*Population!$C$2+AJ7*Population!$P$38*Population!$C$2+AL7*Population!$P$40*Population!$C$2+AN6*Population!$P$42*Population!$C$2 -> 23.928953 | E8: =IF(B7>Population!$B$6*Population!$B$15,Population!$B$8,IF(Population!$J$6=1,D8,Population!$B$8*Population!$B$6*0.9/B7)) -> 93.888233 | F8: =IF(B7>Population!$B$6*0.75,Population!$B$8,E8) -> 93.888233 | G8: =IF(Population!$J$6=1,IF(E8>H7,H7,E8),IF(E8>X7,X7,E8)) -> 93.888233 | H8: =FLOOR(AF8+AH8+AJ8+AL8+AN8,1) -> 295 | I8: =FLOOR(SUM(AA8:AD8),1) -> 522 | J8: =I8/H8 -> 1.7694915 | K8: =AA8*Population!$O$29+AB8*Population!$O$30+AC8*Population!$O$31+AD8*Population!$O$32+AE8*Population!$O$33+AF8*Population!$O$34+AG8*Population!$O$35+AH8*Population!$O$36+AI8*Population!$O$37+AJ8*Population!$O$38+AK8*Population!$O$39+AL8*Population!$O$40+AM8*Population!$O$41+AN8*Population!$O$42+AO8*Population!$O$43+AP8*Population!$O$44+AQ8*Population!$O$45+AR8*Population!$O$46 -> 1.2490323 | L8: =G8/H8 -> 0.3182652 | M8: =(AE8+AF8+AG8+AH8+AI8+AJ8)/21*0.5 -> 11.863429 | N8: =I8/B8 -> 0.46732319 | O8: =B8-I8-P8*2-Q8*2 -> 113.61711 | P8: =CEILING(I8/2.4,1) -> 218 | Q8: =X8-P8 -> 22.691447 | R8: =SUM(AR7:AR7) -> 0 | S8: =SUM(AR8:AR8)/B8 -> 4.2478729e-07 | T8: =X8/H8 -> 0.81590321 | U8: =Population!$B$13*MIN(Y7:Z7) -> 18.034757 | V8: =X7*Population!$B$14 -> 1.3483446 | W8: =AN7*T7*Population!$B$12 -> 0.71906672 | X8: =X7+U8-W8-V8 -> 240.69145 | Y8: =(AE8+AG8+AI8+AK8+AM8)-X8 -> 55.194002 | Z8: =(AF8+AH8+AJ8+AL8+AN8)-X8 -> 55.194002 | AA8: =(G8+Population!$B$11*AA7)*Population!M$29 -> 394.02916 | AB8: =AA7*Population!$B$12*Population!$M$29+AB7*Population!$B$11*Population!$M$30 -> 112.33506 | AC8: =(AB7*Population!$B$12*0.5*Population!$M$30)+(AC7*Population!$B$11*Population!M$31) -> 8.0164036 | AD8: =(AB7*Population!$B$12*0.5*Population!$M$30)+(AD7*Population!$B$11*Population!M$31) -> 8.0164036 | AE8: =(AC7*Population!$B$12*Population!M$31)+(AE7*Population!$B$11*Population!M$33) -> 59.710243 | AF8: =(AD7*Population!$B$12*Population!M$31)+(AF7*Population!$B$11*Population!M$33) -> 59.710243 | AG8: =(AE7*Population!$B$12*Population!M$33)+(AG7*Population!$B$11*Population!M$35) -> 106.06147 | AH8: =(AF7*Population!$B$12*Population!M$33)+(AH7*Population!$B$11*Population!M$35) -> 106.06147 | AI8: =(AG7*Population!$B$12*Population!M$35)+(AI7*Population!$B$11*Population!M$37) -> 83.360299 | AJ8: =(AH7*Population!$B$12*Population!M$35)+(AJ7*Population!$B$11*Population!M$37) -> 83.360299 | AK8: =(AI7*Population!$B$12*Population!M$37)+(AK7*Population!$B$11*Population!M$39) -> 36.815827 | AL8: =(AJ7*Population!$B$12*Population!M$37)+(AL7*Population!$B$11*Population!M$39) -> 36.815827 | AM8: =(AK7*Population!$B$12*Population!M$39)+(AM7*Population!$B$11*Population!M$41) -> 9.9376137 | AN8: =(AL7*Population!$B$12*Population!M$39)+(AN7*Population!$B$11*Population!M$41) -> 9.9376137 | AO8: =(AM7+AN7)*Population!$B$12*Population!$M$41+AO7*Population!$B$11*Population!$M$43 -> 3.3465965 | AP8: =AO7*Population!M$43*Population!$B$12+AP7*Population!$B$11*Population!M$44 -> 0.34421926 | AQ8: =AP7*Population!M$44*Population!$B$12+AQ7*Population!$B$11*Population!M$45 -> 0.019773293 | AR8: =(AQ7*Population!$B$12+AR7)*Population!M$46 -> 0.0004744874
A9: =A8+Population!$B$2 -> 6 | B9: =FLOOR(SUM(AA9:AR9),1) -> 1202 | C9: =FLOOR(B9-I9-G9-SUM(AO9:AR9),1) -> 503 | D9: =AD8*Population!$P$32*Population!$C$2+AF8*Population!$P$34*Population!$C$2+AH8*Population!$P$36*Population!$C$2+AJ8*Population!$P$38*Population!$C$2+AL8*Population!$P$40*Population!$C$2+AN7*Population!$P$42*Population!$C$2 -> 23.279741 | E9: =IF(B8>Population!$B$6*Population!$B$15,Population!$B$8,IF(Population!$J$6=1,D9,Population!$B$8*Population!$B$6*0.9/B8)) -> 86.155272 | F9: =IF(B8>Population!$B$6*0.75,Population!$B$8,E9) -> 86.155272 | G9: =IF(Population!$J$6=1,IF(E9>H8,H8,E9),IF(E9>X8,X8,E9)) -> 86.155272 | H9: =FLOOR(AF9+AH9+AJ9+AL9+AN9,1) -> 295 | I9: =FLOOR(SUM(AA9:AD9),1) -> 606 | J9: =I9/H9 -> 2.0542373 | K9: =AA9*Population!$O$29+AB9*Population!$O$30+AC9*Population!$O$31+AD9*Population!$O$32+AE9*Population!$O$33+AF9*Population!$O$34+AG9*Population!$O$35+AH9*Population!$O$36+AI9*Population!$O$37+AJ9*Population!$O$38+AK9*Population!$O$39+AL9*Population!$O$40+AM9*Population!$O$41+AN9*Population!$O$42+AO9*Population!$O$43+AP9*Population!$O$44+AQ9*Population!$O$45+AR9*Population!$O$46 -> 1.3170107 | L9: =G9/H9 -> 0.29205177 | M9: =(AE9+AF9+AG9+AH9+AI9+AJ9)/21*0.5 -> 11.331894 | N9: =I9/B9 -> 0.50415973 | O9: =B9-I9-P9*2-Q9*2 -> 92.225011 | P9: =CEILING(I9/2.4,1) -> 253 | Q9: =X9-P9 -> -1.1125053 | R9: =SUM(AR8:AR8) -> 0.0004744874 | S9: =SUM(AR9:AR9)/B9 -> 2.606128e-06 | T9: =X9/H9 -> 0.85385591 | U9: =Population!$B$13*MIN(Y8:Z8) -> 13.7985 | V9: =X8*Population!$B$14 -> 1.4441487 | W9: =AN8*T8*Population!$B$12 -> 1.1583044 | X9: =X8+U9-W9-V9 -> 251.88749 | Y9: =(AE9+AG9+AI9+AK9+AM9)-X9 -> 43.21477 | Z9: =(AF9+AH9+AJ9+AL9+AN9)-X9 -> 43.21477 | AA9: =(G9+Population!$B$11*AA8)*Population!M$29 -> 423.72245 | AB9: =AA8*Population!$B$12*Population!$M$29+AB8*Population!$B$11*Population!$M$30 -> 152.53256 | AC9: =(AB8*Population!$B$12*0.5*Population!$M$30)+(AC8*Population!$B$11*Population!M$31) -> 14.886782 | AD9: =(AB8*Population!$B$12*0.5*Population!$M$30)+(AD8*Population!$B$11*Population!M$31) -> 14.886782 | AE9: =(AC8*Population!$B$12*Population!M$31)+(AE8*Population!$B$11*Population!M$33) -> 52.275542 | AF9: =(AD8*Population!$B$12*Population!M$31)+(AF8*Population!$B$11*Population!M$33) -> 52.275542 | AG9: =(AE8*Population!$B$12*Population!M$33)+(AG8*Population!$B$11*Population!M$35) -> 99.257188 | AH9: =(AF8*Population!$B$12*Population!M$33)+(AH8*Population!$B$11*Population!M$35) -> 99.257188 | AI9: =(AG8*Population!$B$12*Population!M$35)+(AI8*Population!$B$11*Population!M$37) -> 86.437045 | AJ9: =(AH8*Population!$B$12*Population!M$35)+(AJ8*Population!$B$11*Population!M$37) -> 86.437045 | AK9: =(AI8*Population!$B$12*Population!M$37)+(AK8*Population!$B$11*Population!M$39) -> 43.381584 | AL9: =(AJ8*Population!$B$12*Population!M$37)+(AL8*Population!$B$11*Population!M$39) -> 43.381584 | AM9: =(AK8*Population!$B$12*Population!M$39)+(AM8*Population!$B$11*Population!M$41) -> 13.750906 | AN9: =(AL8*Population!$B$12*Population!M$39)+(AN8*Population!$B$11*Population!M$41) -> 13.750906 | AO9: =(AM8+AN8)*Population!$B$12*Population!$M$41+AO8*Population!$B$11*Population!$M$43 -> 5.6815813 | AP9: =AO8*Population!M$43*Population!$B$12+AP8*Population!$B$11*Population!M$44 -> 0.7675251 | AQ9: =AP8*Population!M$44*Population!$B$12+AQ8*Population!$B$11*Population!M$45 -> 0.064909964 | AR9: =(AQ8*Population!$B$12+AR8)*Population!M$46 -> 0.0031325658
A10: =A9+Population!$B$2 -> 7 | B10: =FLOOR(SUM(AA10:AR10),1) -> 1281 | C10: =FLOOR(B10-I10-G10-SUM(AO10:AR10),1) -> 509 | D10: =AD9*Population!$P$32*Population!$C$2+AF9*Population!$P$34*Population!$C$2+AH9*Population!$P$36*Population!$C$2+AJ9*Population!$P$38*Population!$C$2+AL9*Population!$P$40*Population!$C$2+AN8*Population!$P$42*Population!$C$2 -> 22.666238 | E10: =IF(B9>Population!$B$6*Population!$B$15,Population!$B$8,IF(Population!$J$6=1,D10,Population!$B$8*Population!$B$6*0.9/B9)) -> 80.062761 | F10: =IF(B9>Population!$B$6*0.75,Population!$B$8,E10) -> 80.062761 | G10: =IF(Population!$J$6=1,IF(E10>H9,H9,E10),IF(E10>X9,X9,E10)) -> 80.062761 | H10: =FLOOR(AF10+AH10+AJ10+AL10+AN10,1) -> 294 | I10: =FLOOR(SUM(AA10:AD10),1) -> 681 | J10: =I10/H10 -> 2.3163265 | K10: =AA10*Population!$O$29+AB10*Population!$O$30+AC10*Population!$O$31+AD10*Population!$O$32+AE10*Population!$O$33+AF10*Population!$O$34+AG10*Population!$O$35+AH10*Population!$O$36+AI10*Population!$O$37+AJ10*Population!$O$38+AK10*Population!$O$39+AL10*Population!$O$40+AM10*Population!$O$41+AN10*Population!$O$42+AO10*Population!$O$43+AP10*Population!$O$44+AQ10*Population!$O$45+AR10*Population!$O$46 -> 1.3919481 | L10: =G10/H10 -> 0.27232232 | M10: =(AE10+AF10+AG10+AH10+AI10+AJ10)/21*0.5 -> 10.82684 | N10: =I10/B10 -> 0.53161593 | O10: =B10-I10-P10*2-Q10*2 -> 80.99493 | P10: =CEILING(I10/2.4,1) -> 284 | Q10: =X10-P10 -> -24.497465 | R10: =SUM(AR9:AR9) -> 0.0031325658 | S10: =SUM(AR10:AR10)/B10 -> 9.1949228e-06 | T10: =X10/H10 -> 0.88266168 | U10: =Population!$B$13*MIN(Y9:Z9) -> 10.803693 | V10: =X9*Population!$B$14 -> 1.511325 | W10: =AN9*T9*Population!$B$12 -> 1.6773275 | X10: =X9+U10-W10-V10 -> 259.50253 | Y10: =(AE10+AG10+AI10+AK10+AM10)-X10 -> 35.247697 | Z10: =(AF10+AH10+AJ10+AL10+AN10)-X10 -> 35.247697 | AA10: =(G10+Population!$B$11*AA9)*Population!M$29 -> 443.07347 | AB10: =AA9*Population!$B$12*Population!$M$29+AB9*Population!$B$11*Population!$M$30 -> 191.21998 | AC10: =(AB9*Population!$B$12*0.5*Population!$M$30)+(AC9*Population!$B$11*Population!M$31) -> 23.64067 | AD10: =(AB9*Population!$B$12*0.5*Population!$M$30)+(AD9*Population!$B$11*Population!M$31) -> 23.64067 | AE10: =(AC9*Population!$B$12*Population!M$31)+(AE9*Population!$B$11*Population!M$33) -> 46.889563 | AF10: =(AD9*Population!$B$12*Population!M$31)+(AF9*Population!$B$11*Population!M$33) -> 46.889563 | AG10: =(AE9*Population!$B$12*Population!M$33)+(AG9*Population!$B$11*Population!M$35) -> 92.375058 | AH10: =(AF9*Population!$B$12*Population!M$33)+(AH9*Population!$B$11*Population!M$35) -> 92.375058 | AI10: =(AG9*Population!$B$12*Population!M$35)+(AI9*Population!$B$11*Population!M$37) -> 88.099018 | AJ10: =(AH9*Population!$B$12*Population!M$35)+(AJ9*Population!$B$11*Population!M$37) -> 88.099018 | AK10: =(AI9*Population!$B$12*Population!M$37)+(AK9*Population!$B$11*Population!M$39) -> 49.437262 | AL10: =(AJ9*Population!$B$12*Population!M$37)+(AL9*Population!$B$11*Population!M$39) -> 49.437262 | AM10: =(AK9*Population!$B$12*Population!M$39)+(AM9*Population!$B$11*Population!M$41) -> 17.949331 | AN10: =(AL9*Population!$B$12*Population!M$39)+(AN9*Population!$B$11*Population!M$41) -> 17.949331 | AO10: =(AM9+AN9)*Population!$B$12*Population!$M$41+AO9*Population!$B$11*Population!$M$43 -> 8.7559068 | AP10: =AO9*Population!M$43*Population!$B$12+AP9*Population!$B$11*Population!M$44 -> 1.458879 | AQ10: =AP9*Population!M$44*Population!$B$12+AQ9*Population!$B$11*Population!M$45 -> 0.16167783 | AR10: =(AQ9*Population!$B$12+AR9)*Population!M$46 -> 0.011778696
A11: =A10+Population!$B$2 -> 8 | B11: =FLOOR(SUM(AA11:AR11),1) -> 1355 | C11: =FLOOR(B11-I11-G11-SUM(AO11:AR11),1) -> 515 | D11: =AD10*Population!$P$32*Population!$C$2+AF10*Population!$P$34*Population!$C$2+AH10*Population!$P$36*Population!$C$2+AJ10*Population!$P$38*Population!$C$2+AL10*Population!$P$40*Population!$C$2+AN9*Population!$P$42*Population!$C$2 -> 22.124145 | E11: =IF(B10>Population!$B$6*Population!$B$15,Population!$B$8,IF(Population!$J$6=1,D11,Population!$B$8*Population!$B$6*0.9/B10)) -> 75.125245 | F11: =IF(B10>Population!$B$6*0.75,Population!$B$8,E11) -> 75.125245 | G11: =IF(Population!$J$6=1,IF(E11>H10,H10,E11),IF(E11>X10,X10,E11)) -> 75.125245 | H11: =FLOOR(AF11+AH11+AJ11+AL11+AN11,1) -> 295 | I11: =FLOOR(SUM(AA11:AD11),1) -> 749 | J11: =I11/H11 -> 2.5389831 | K11: =AA11*Population!$O$29+AB11*Population!$O$30+AC11*Population!$O$31+AD11*Population!$O$32+AE11*Population!$O$33+AF11*Population!$O$34+AG11*Population!$O$35+AH11*Population!$O$36+AI11*Population!$O$37+AJ11*Population!$O$38+AK11*Population!$O$39+AL11*Population!$O$40+AM11*Population!$O$41+AN11*Population!$O$42+AO11*Population!$O$43+AP11*Population!$O$44+AQ11*Population!$O$45+AR11*Population!$O$46 -> 1.4770261 | L11: =G11/H11 -> 0.25466185 | M11: =(AE11+AF11+AG11+AH11+AI11+AJ11)/21*0.5 -> 10.370717 | N11: =I11/B11 -> 0.55276753 | O11: =B11-I11-P11*2-Q11*2 -> 77.011737 | P11: =CEILING(I11/2.4,1) -> 313 | Q11: =X11-P11 -> -48.505869 | R11: =SUM(AR10:AR10) -> 0.011778696 | S11: =SUM(AR11:AR11)/B11 -> 2.4438094e-05 | T11: =X11/H11 -> 0.89659028 | U11: =Population!$B$13*MIN(Y10:Z10) -> 8.8119243 | V11: =X10*Population!$B$14 -> 1.5570152 | W11: =AN10*T10*Population!$B$12 -> 2.2633124 | X11: =X10+U11-W11-V11 -> 264.49413 | Y11: =(AE11+AG11+AI11+AK11+AM11)-X11 -> 30.550275 | Z11: =(AF11+AH11+AJ11+AL11+AN11)-X11 -> 30.550275 | AA11: =(G11+Population!$B$11*AA10)*Population!M$29 -> 454.71782 | AB11: =AA10*Population!$B$12*Population!$M$29+AB10*Population!$B$11*Population!$M$30 -> 227.13647 | AC11: =(AB10*Population!$B$12*0.5*Population!$M$30)+(AC10*Population!$B$11*Population!M$31) -> 33.899617 | AD11: =(AB10*Population!$B$12*0.5*Population!$M$30)+(AD10*Population!$B$11*Population!M$31) -> 33.899617 | AE11: =(AC10*Population!$B$12*Population!M$31)+(AE10*Population!$B$11*Population!M$33) -> 43.526772 | AF11: =(AD10*Population!$B$12*Population!M$31)+(AF10*Population!$B$11*Population!M$33) -> 43.526772 | AG11: =(AE10*Population!$B$12*Population!M$33)+(AG10*Population!$B$11*Population!M$35) -> 85.718724 | AH11: =(AF10*Population!$B$12*Population!M$33)+(AH10*Population!$B$11*Population!M$35) -> 85.718724 | AI11: =(AG10*Population!$B$12*Population!M$35)+(AI10*Population!$B$11*Population!M$37) -> 88.539558 | AJ11: =(AH10*Population!$B$12*Population!M$35)+(AJ10*Population!$B$11*Population!M$37) -> 88.539558 | AK11: =(AI10*Population!$B$12*Population!M$37)+(AK10*Population!$B$11*Population!M$39) -> 54.854846 | AL11: =(AJ10*Population!$B$12*Population!M$37)+(AL10*Population!$B$11*Population!M$39) -> 54.854846 | AM11: =(AK10*Population!$B$12*Population!M$39)+(AM10*Population!$B$11*Population!M$41) -> 22.404507 | AN11: =(AL10*Population!$B$12*Population!M$39)+(AN10*Population!$B$11*Population!M$41) -> 22.404507 | AO11: =(AM10+AN10)*Population!$B$12*Population!$M$41+AO10*Population!$B$11*Population!$M$43 -> 12.569185 | AP11: =AO10*Population!M$43*Population!$B$12+AP10*Population!$B$11*Population!M$44 -> 2.483177 | AQ11: =AP10*Population!M$44*Population!$B$12+AQ10*Population!$B$11*Population!M$45 -> 0.33848019 | AR11: =(AQ10*Population!$B$12+AR10)*Population!M$46 -> 0.033113617
A12: =A11+Population!$B$2 -> 9 | B12: =FLOOR(SUM(AA12:AR12),1) -> 1424 | C12: =FLOOR(B12-I12-G12-SUM(AO12:AR12),1) -> 521 | D12: =AD11*Population!$P$32*Population!$C$2+AF11*Population!$P$34*Population!$C$2+AH11*Population!$P$36*Population!$C$2+AJ11*Population!$P$38*Population!$C$2+AL11*Population!$P$40*Population!$C$2+AN10*Population!$P$42*Population!$C$2 -> 21.683201 | E12: =IF(B11>Population!$B$6*Population!$B$15,Population!$B$8,IF(Population!$J$6=1,D12,Population!$B$8*Population!$B$6*0.9/B11)) -> 71.022464 | F12: =IF(B11>Population!$B$6*0.75,Population!$B$8,E12) -> 71.022464 | G12: =IF(Population!$J$6=1,IF(E12>H11,H11,E12),IF(E12>X11,X11,E12)) -> 71.022464 | H12: =FLOOR(AF12+AH12+AJ12+AL12+AN12,1) -> 296 | I12: =FLOOR(SUM(AA12:AD12),1) -> 810 | J12: =I12/H12 -> 2.7364865 | K12: =AA12*Population!$O$29+AB12*Population!$O$30+AC12*Population!$O$31+AD12*Population!$O$32+AE12*Population!$O$33+AF12*Population!$O$34+AG12*Population!$O$35+AH12*Population!$O$36+AI12*Population!$O$37+AJ12*Population!$O$38+AK12*Population!$O$39+AL12*Population!$O$40+AM12*Population!$O$41+AN12*Population!$O$42+AO12*Population!$O$43+AP12*Population!$O$44+AQ12*Population!$O$45+AR12*Population!$O$46 -> 1.5751984 | L12: =G12/H12 -> 0.23994076 | M12: =(AE12+AF12+AG12+AH12+AI12+AJ12)/21*0.5 -> 9.9820457 | N12: =I12/B12 -> 0.56882022 | O12: =B12-I12-P12*2-Q12*2 -> 78.649861 | P12: =CEILING(I12/2.4,1) -> 338 | Q12: =X12-P12 -> -70.324931 | R12: =SUM(AR11:AR11) -> 0.033113617 | S12: =SUM(AR12:AR12)/B12 -> 5.4320345e-05 | T12: =X12/H12 -> 0.90430767 | U12: =Population!$B$13*MIN(Y11:Z11) -> 7.6375688 | V12: =X11*Population!$B$14 -> 1.5869648 | W12: =AN11*T11*Population!$B$12 -> 2.8696662 | X12: =X11+U12-W12-V12 -> 267.67507 | Y12: =(AE12+AG12+AI12+AK12+AM12)-X12 -> 28.488631 | Z12: =(AF12+AH12+AJ12+AL12+AN12)-X12 -> 28.488631 | AA12: =(G12+Population!$B$11*AA11)*Population!M$29 -> 460.59352 | AB12: =AA11*Population!$B$12*Population!$M$29+AB11*Population!$B$11*Population!$M$30 -> 259.57791 | AC12: =(AB11*Population!$B$12*0.5*Population!$M$30)+(AC11*Population!$B$11*Population!M$31) -> 45.249506 | AD12: =(AB11*Population!$B$12*0.5*Population!$M$30)+(AD11*Population!$B$11*Population!M$31) -> 45.249506 | AE12: =(AC11*Population!$B$12*Population!M$31)+(AE11*Population!$B$11*Population!M$33) -> 42.111293 | AF12: =(AD11*Population!$B$12*Population!M$31)+(AF11*Population!$B$11*Population!M$33) -> 42.111293 | AG12: =(AE11*Population!$B$12*Population!M$33)+(AG11*Population!$B$11*Population!M$35) -> 79.544308 | AH12: =(AF11*Population!$B$12*Population!M$33)+(AH11*Population!$B$11*Population!M$35) -> 79.544308 | AI12: =(AG11*Population!$B$12*Population!M$35)+(AI11*Population!$B$11*Population!M$37) -> 87.967359 | AJ12: =(AH11*Population!$B$12*Population!M$35)+(AJ11*Population!$B$11*Population!M$37) -> 87.967359 | AK12: =(AI11*Population!$B$12*Population!M$37)+(AK11*Population!$B$11*Population!M$39) -> 59.552387 | AL12: =(AJ11*Population!$B$12*Population!M$37)+(AL11*Population!$B$11*Population!M$39) -> 59.552387 | AM12: =(AK11*Population!$B$12*Population!M$39)+(AM11*Population!$B$11*Population!M$41) -> 26.988353 | AN12: =(AL11*Population!$B$12*Population!M$39)+(AN11*Population!$B$11*Population!M$41) -> 26.988353 | AO12: =(AM11+AN11)*Population!$B$12*Population!$M$41+AO11*Population!$B$11*Population!$M$43 -> 17.084476 | AP12: =AO11*Population!M$43*Population!$B$12+AP11*Population!$B$11*Population!M$44 -> 3.8955861 | AQ12: =AP11*Population!M$44*Population!$B$12+AQ11*Population!$B$11*Population!M$45 -> 0.62763643 | AR12: =(AQ11*Population!$B$12+AR11)*Population!M$46 -> 0.077352171
A13: =A12+Population!$B$2 -> 10 | B13: =FLOOR(SUM(AA13:AR13),1) -> 1490 | C13: =FLOOR(B13-I13-G13-SUM(AO13:AR13),1) -> 529 | D13: =AD12*Population!$P$32*Population!$C$2+AF12*Population!$P$34*Population!$C$2+AH12*Population!$P$36*Population!$C$2+AJ12*Population!$P$38*Population!$C$2+AL12*Population!$P$40*Population!$C$2+AN11*Population!$P$42*Population!$C$2 -> 21.366565 | E13: =IF(B12>Population!$B$6*Population!$B$15,Population!$B$8,IF(Population!$J$6=1,D13,Population!$B$8*Population!$B$6*0.9/B12)) -> 67.581066 | F13: =IF(B12>Population!$B$6*0.75,Population!$B$8,E13) -> 67.581066 | G13: =IF(Population!$J$6=1,IF(E13>H12,H12,E13),IF(E13>X12,X12,E13)) -> 67.581066 | H13: =FLOOR(AF13+AH13+AJ13+AL13+AN13,1) -> 298 | I13: =FLOOR(SUM(AA13:AD13),1) -> 864 | J13: =I13/H13 -> 2.8993289 | K13: =AA13*Population!$O$29+AB13*Population!$O$30+AC13*Population!$O$31+AD13*Population!$O$32+AE13*Population!$O$33+AF13*Population!$O$34+AG13*Population!$O$35+AH13*Population!$O$36+AI13*Population!$O$37+AJ13*Population!$O$38+AK13*Population!$O$39+AL13*Population!$O$40+AM13*Population!$O$41+AN13*Population!$O$42+AO13*Population!$O$43+AP13*Population!$O$44+AQ13*Population!$O$45+AR13*Population!$O$46 -> 1.6892374 | L13: =G13/H13 -> 0.2267821 | M13: =(AE13+AF13+AG13+AH13+AI13+AJ13)/21*0.5 -> 9.6750773 | N13: =I13/B13 -> 0.57986577 | O13: =B13-I13-P13*2-Q13*2 -> 86.590725 | P13: =CEILING(I13/2.4,1) -> 360 | Q13: =X13-P13 -> -90.295363 | R13: =SUM(AR12:AR12) -> 0.077352171 | S13: =SUM(AR13:AR13)/B13 -> 0.00010642748 | T13: =X13/H13 -> 0.90504912 | U13: =Population!$B$13*MIN(Y12:Z12) -> 7.1221578 | V13: =X12*Population!$B$14 -> 1.6060504 | W13: =AN12*T12*Population!$B$12 -> 3.4865392 | X13: =X12+U13-W13-V13 -> 269.70464 | Y13: =(AE13+AG13+AI13+AK13+AM13)-X13 -> 28.541129 | Z13: =(AF13+AH13+AJ13+AL13+AN13)-X13 -> 28.541129 | AA13: =(G13+Population!$B$11*AA12)*Population!M$29 -> 462.18778 | AB13: =AA12*Population!$B$12*Population!$M$29+AB12*Population!$B$11*Population!$M$30 -> 288.21765 | AC13: =(AB12*Population!$B$12*0.5*Population!$M$30)+(AC12*Population!$B$11*Population!M$31) -> 57.285437 | AD13: =(AB12*Population!$B$12*0.5*Population!$M$30)+(AD12*Population!$B$11*Population!M$31) -> 57.285437 | AE13: =(AC12*Population!$B$12*Population!M$31)+(AE12*Population!$B$11*Population!M$33) -> 42.51905 | AF13: =(AD12*Population!$B$12*Population!M$31)+(AF12*Population!$B$11*Population!M$33) -> 42.51905 | AG13: =(AE12*Population!$B$12*Population!M$33)+(AG12*Population!$B$11*Population!M$35) -> 74.060094 | AH13: =(AF12*Population!$B$12*Population!M$33)+(AH12*Population!$B$11*Population!M$35) -> 74.060094 | AI13: =(AG12*Population!$B$12*Population!M$35)+(AI12*Population!$B$11*Population!M$37) -> 86.597479 | AJ13: =(AH12*Population!$B$12*Population!M$35)+(AJ12*Population!$B$11*Population!M$37) -> 86.597479 | AK13: =(AI12*Population!$B$12*Population!M$37)+(AK12*Population!$B$11*Population!M$39) -> 63.489535 | AL13: =(AJ12*Population!$B$12*Population!M$37)+(AL12*Population!$B$11*Population!M$39) -> 63.489535 | AM13: =(AK12*Population!$B$12*Population!M$39)+(AM12*Population!$B$11*Population!M$41) -> 31.579608 | AN13: =(AL12*Population!$B$12*Population!M$39)+(AN12*Population!$B$11*Population!M$41) -> 31.579608 | AO13: =(AM12+AN12)*Population!$B$12*Population!$M$41+AO12*Population!$B$11*Population!$M$43 -> 22.233822 | AP13: =AO12*Population!M$43*Population!$B$12+AP12*Population!$B$11*Population!M$44 -> 5.7378103 | AQ13: =AP12*Population!M$44*Population!$B$12+AQ12*Population!$B$11*Population!M$45 -> 1.0632732 | AR13: =(AQ12*Population!$B$12+AR12)*Population!M$46 -> 0.15857694
A14: =A13+Population!$B$2 -> 11 | B14: =FLOOR(SUM(AA14:AR14),1) -> 1553 | C14: =FLOOR(B14-I14-G14-SUM(AO14:AR14),1) -> 538 | D14: =AD13*Population!$P$32*Population!$C$2+AF13*Population!$P$34*Population!$C$2+AH13*Population!$P$36*Population!$C$2+AJ13*Population!$P$38*Population!$C$2+AL13*Population!$P$40*Population!$C$2+AN12*Population!$P$42*Population!$C$2 -> 21.190827 | E14: =IF(B13>Population!$B$6*Population!$B$15,Population!$B$8,IF(Population!$J$6=1,D14,Population!$B$8*Population!$B$6*0.9/B13)) -> 64.587543 | F14: =IF(B13>Population!$B$6*0.75,Population!$B$8,E14) -> 64.587543 | G14: =IF(Population!$J$6=1,IF(E14>H13,H13,E14),IF(E14>X13,X13,E14)) -> 64.587543 | H14: =FLOOR(AF14+AH14+AJ14+AL14+AN14,1) -> 301 | I14: =FLOOR(SUM(AA14:AD14),1) -> 912 | J14: =I14/H14 -> 3.0299003 | K14: =AA14*Population!$O$29+AB14*Population!$O$30+AC14*Population!$O$31+AD14*Population!$O$32+AE14*Population!$O$33+AF14*Population!$O$34+AG14*Population!$O$35+AH14*Population!$O$36+AI14*Population!$O$37+AJ14*Population!$O$38+AK14*Population!$O$39+AL14*Population!$O$40+AM14*Population!$O$41+AN14*Population!$O$42+AO14*Population!$O$43+AP14*Population!$O$44+AQ14*Population!$O$45+AR14*Population!$O$46 -> 1.8216707 | L14: =G14/H14 -> 0.21457655 | M14: =(AE14+AF14+AG14+AH14+AI14+AJ14)/21*0.5 -> 9.4598171 | N14: =I14/B14 -> 0.58725048 | O14: =B14-I14-P14*2-Q14*2 -> 98.722644 | P14: =CEILING(I14/2.4,1) -> 380 | Q14: =X14-P14 -> -108.86132 | R14: =SUM(AR13:AR13) -> 0.15857694 | S14: =SUM(AR14:AR14)/B14 -> 0.00018981843 | T14: =X14/H14 -> 0.90079295 | U14: =Population!$B$13*MIN(Y13:Z13) -> 7.1352822 | V14: =X13*Population!$B$14 -> 1.6182278 | W14: =AN13*T13*Population!$B$12 -> 4.0830138 | X14: =X13+U14-W14-V14 -> 271.13868 | Y14: =(AE14+AG14+AI14+AK14+AM14)-X14 -> 30.248696 | Z14: =(AF14+AH14+AJ14+AL14+AN14)-X14 -> 30.248696 | AA14: =(G14+Population!$B$11*AA13)*Population!M$29 -> 460.56144 | AB14: =AA13*Population!$B$12*Population!$M$29+AB13*Population!$B$11*Population!$M$30 -> 312.98814 | AC14: =(AB13*Population!$B$12*0.5*Population!$M$30)+(AC13*Population!$B$11*Population!M$31) -> 69.637352 | AD14: =(AB13*Population!$B$12*0.5*Population!$M$30)+(AD13*Population!$B$11*Population!M$31) -> 69.637352 | AE14: =(AC13*Population!$B$12*Population!M$31)+(AE13*Population!$B$11*Population!M$33) -> 44.586003 | AF14: =(AD13*Population!$B$12*Population!M$31)+(AF13*Population!$B$11*Population!M$33) -> 44.586003 | AG14: =(AE13*Population!$B$12*Population!M$33)+(AG13*Population!$B$11*Population!M$35) -> 69.42656 | AH14: =(AF13*Population!$B$12*Population!M$33)+(AH13*Population!$B$11*Population!M$35) -> 69.42656 | AI14: =(AG13*Population!$B$12*Population!M$35)+(AI13*Population!$B$11*Population!M$37) -> 84.643596 | AJ14: =(AH13*Population!$B$12*Population!M$35)+(AJ13*Population!$B$11*Population!M$37) -> 84.643596 | AK14: =(AI13*Population!$B$12*Population!M$37)+(AK13*Population!$B$11*Population!M$39) -> 66.662431 | AL14: =(AJ13*Population!$B$12*Population!M$37)+(AL13*Population!$B$11*Population!M$39) -> 66.662431 | AM14: =(AK13*Population!$B$12*Population!M$39)+(AM13*Population!$B$11*Population!M$41) -> 36.068784 | AN14: =(AL13*Population!$B$12*Population!M$39)+(AN13*Population!$B$11*Population!M$41) -> 36.068784 | AO14: =(AM13+AN13)*Population!$B$12*Population!$M$41+AO13*Population!$B$11*Population!$M$43 -> 27.924816 | AP14: =AO13*Population!M$43*Population!$B$12+AP13*Population!$B$11*Population!M$44 -> 8.0356991 | AQ14: =AP13*Population!M$44*Population!$B$12+AQ13*Population!$B$11*Population!M$45 -> 1.6790787 | AR14: =(AQ13*Population!$B$12+AR13)*Population!M$46 -> 0.29478802
A15: =A14+Population!$B$2 -> 12 | B15: =FLOOR(SUM(AA15:AR15),1) -> 1613 | C15: =FLOOR(B15-I15-G15-SUM(AO15:AR15),1) -> 549 | D15: =AD14*Population!$P$32*Population!$C$2+AF14*Population!$P$34*Population!$C$2+AH14*Population!$P$36*Population!$C$2+AJ14*Population!$P$38*Population!$C$2+AL14*Population!$P$40*Population!$C$2+AN13*Population!$P$42*Population!$C$2 -> 21.166409 | E15: =IF(B14>Population!$B$6*Population!$B$15,Population!$B$8,IF(Population!$J$6=1,D15,Population!$B$8*Population!$B$6*0.9/B14)) -> 61.967443 | F15: =IF(B14>Population!$B$6*0.75,Population!$B$8,E15) -> 61.967443 | G15: =IF(Population!$J$6=1,IF(E15>H14,H14,E15),IF(E15>X14,X14,E15)) -> 61.967443 | H15: =FLOOR(AF15+AH15+AJ15+AL15+AN15,1) -> 305 | I15: =FLOOR(SUM(AA15:AD15),1) -> 954 | J15: =I15/H15 -> 3.1278689 | K15: =AA15*Population!$O$29+AB15*Population!$O$30+AC15*Population!$O$31+AD15*Population!$O$32+AE15*Population!$O$33+AF15*Population!$O$34+AG15*Population!$O$35+AH15*Population!$O$36+AI15*Population!$O$37+AJ15*Population!$O$38+AK15*Population!$O$39+AL15*Population!$O$40+AM15*Population!$O$41+AN15*Population!$O$42+AO15*Population!$O$43+AP15*Population!$O$44+AQ15*Population!$O$45+AR15*Population!$O$46 -> 1.974779 | L15: =G15/H15 -> 0.20317194 | M15: =(AE15+AF15+AG15+AH15+AI15+AJ15)/21*0.5 -> 9.3422781 | N15: =I15/B15 -> 0.59144451 | O15: =B15-I15-P15*2-Q15*2 -> 114.13496 | P15: =CEILING(I15/2.4,1) -> 398 | Q15: =X15-P15 -> -125.56748 | R15: =SUM(AR14:AR14) -> 0.29478802 | S15: =SUM(AR15:AR15)/B15 -> 0.00031472137 | T15: =X15/H15 -> 0.89322137 | U15: =Population!$B$13*MIN(Y14:Z14) -> 7.562174 | V15: =X14*Population!$B$14 -> 1.6268321 | W15: =AN14*T14*Population!$B$12 -> 4.6415009 | X15: =X14+U15-W15-V15 -> 272.43252 | Y15: =(AE15+AG15+AI15+AK15+AM15)-X15 -> 33.215228 | Z15: =(AF15+AH15+AJ15+AL15+AN15)-X15 -> 33.215228 | AA15: =(G15+Population!$B$11*AA14)*Population!M$29 -> 456.54895 | AB15: =AA14*Population!$B$12*Population!$M$29+AB14*Population!$B$11*Population!$M$30 -> 333.98296 | AC15: =(AB14*Population!$B$12*0.5*Population!$M$30)+(AC14*Population!$B$11*Population!M$31) -> 81.98354 | AD15: =(AB14*Population!$B$12*0.5*Population!$M$30)+(AD14*Population!$B$11*Population!M$31) -> 81.98354 | AE15: =(AC14*Population!$B$12*Population!M$31)+(AE14*Population!$B$11*Population!M$33) -> 48.118866 | AF15: =(AD14*Population!$B$12*Population!M$31)+(AF14*Population!$B$11*Population!M$33) -> 48.118866 | AG15: =(AE14*Population!$B$12*Population!M$33)+(AG14*Population!$B$11*Population!M$35) -> 65.757583 | AH15: =(AF14*Population!$B$12*Population!M$33)+(AH14*Population!$B$11*Population!M$35) -> 65.757583 | AI15: =(AG14*Population!$B$12*Population!M$35)+(AI14*Population!$B$11*Population!M$37) -> 82.311392 | AJ15: =(AH14*Population!$B$12*Population!M$35)+(AJ14*Population!$B$11*Population!M$37) -> 82.311392 | AK15: =(AI14*Population!$B$12*Population!M$37)+(AK14*Population!$B$11*Population!M$39) -> 69.098245 | AL15: =(AJ14*Population!$B$12*Population!M$37)+(AL14*Population!$B$11*Population!M$39) -> 69.098245 | AM15: =(AK14*Population!$B$12*Population!M$39)+(AM14*Population!$B$11*Population!M$41) -> 40.361661 | AN15: =(AL14*Population!$B$12*Population!M$39)+(AN14*Population!$B$11*Population!M$41) -> 40.361661 | AO15: =(AM14+AN14)*Population!$B$12*Population!$M$41+AO14*Population!$B$11*Population!$M$43 -> 34.047604 | AP15: =AO14*Population!M$43*Population!$B$12+AP14*Population!$B$11*Population!M$44 -> 10.798143 | AQ15: =AP14*Population!M$44*Population!$B$12+AQ14*Population!$B$11*Population!M$45 -> 2.5061357 | AR15: =(AQ14*Population!$B$12+AR14)*Population!M$46 -> 0.50764556
... A47: =A46+Population!$B$2 -> 44 | B47: =FLOOR(SUM(AA47:AR47),1) -> 2737 | C47: =FLOOR(B47-I47-G47-SUM(AO47:AR47),1) -> 1354 | D47: =AD46*Population!$P$32*Population!$C$2+AF46*Population!$P$34*Population!$C$2+AH46*Population!$P$36*Population!$C$2+AJ46*Population!$P$38*Population!$C$2+AL46*Population!$P$40*Population!$C$2+AN45*Population!$P$42*Population!$C$2 -> 49.6108 | E47: =IF(B46>Population!$B$6*Population!$B$15,Population!$B$8,IF(Population!$J$6=1,D47,Population!$B$8*Population!$B$6*0.9/B46)) -> 35.642755 | F47: =IF(B46>Population!$B$6*0.75,Population!$B$8,E47) -> 35.642755 | G47: =IF(Population!$J$6=1,IF(E47>H46,H46,E47),IF(E47>X46,X46,E47)) -> 35.642755 | H47: =FLOOR(AF47+AH47+AJ47+AL47+AN47,1) -> 695 | I47: =FLOOR(SUM(AA47:AD47),1) -> 850 | J47: =I47/H47 -> 1.2230216 | K47: =AA47*Population!$O$29+AB47*Population!$O$30+AC47*Population!$O$31+AD47*Population!$O$32+AE47*Population!$O$33+AF47*Population!$O$34+AG47*Population!$O$35+AH47*Population!$O$36+AI47*Population!$O$37+AJ47*Population!$O$38+AK47*Population!$O$39+AL47*Population!$O$40+AM47*Population!$O$41+AN47*Population!$O$42+AO47*Population!$O$43+AP47*Population!$O$44+AQ47*Population!$O$45+AR47*Population!$O$46 -> 15.39661 | L47: =G47/H47 -> 0.05128454 | M47: =(AE47+AF47+AG47+AH47+AI47+AJ47)/21*0.5 -> 22.555346 | N47: =I47/B47 -> 0.31055901 | O47: =B47-I47-P47*2-Q47*2 -> 687.84766 | P47: =CEILING(I47/2.4,1) -> 355 | Q47: =X47-P47 -> 244.57617 | R47: =SUM(AR46:AR46) -> 114.49853 | S47: =SUM(AR47:AR47)/B47 -> 0.043936613 | T47: =X47/H47 -> 0.86269953 | U47: =Population!$B$13*MIN(Y46:Z46) -> 24.151975 | V47: =X46*Population!$B$14 -> 3.5448373 | W47: =AN46*T46*Population!$B$12 -> 11.837189 | X47: =X46+U47-W47-V47 -> 599.57617 | Y47: =(AE47+AG47+AI47+AK47+AM47)-X47 -> 95.496613 | Z47: =(AF47+AH47+AJ47+AL47+AN47)-X47 -> 95.496613 | AA47: =(G47+Population!$B$11*AA46)*Population!M$29 -> 257.5022 | AB47: =AA46*Population!$B$12*Population!$M$29+AB46*Population!$B$11*Population!$M$30 -> 281.24189 | AC47: =(AB46*Population!$B$12*0.5*Population!$M$30)+(AC46*Population!$B$11*Population!M$31) -> 155.68509 | AD47: =(AB46*Population!$B$12*0.5*Population!$M$30)+(AD46*Population!$B$11*Population!M$31) -> 155.68509 | AE47: =(AC46*Population!$B$12*Population!M$31)+(AE46*Population!$B$11*Population!M$33) -> 165.65059 | AF47: =(AD46*Population!$B$12*Population!M$31)+(AF46*Population!$B$11*Population!M$33) -> 165.65059 | AG47: =(AE46*Population!$B$12*Population!M$33)+(AG46*Population!$B$11*Population!M$35) -> 162.31143 | AH47: =(AF46*Population!$B$12*Population!M$33)+(AH46*Population!$B$11*Population!M$35) -> 162.31143 | AI47: =(AG46*Population!$B$12*Population!M$35)+(AI46*Population!$B$11*Population!M$37) -> 145.70024 | AJ47: =(AH46*Population!$B$12*Population!M$35)+(AJ46*Population!$B$11*Population!M$37) -> 145.70024 | AK47: =(AI46*Population!$B$12*Population!M$37)+(AK46*Population!$B$11*Population!M$39) -> 122.04713 | AL47: =(AJ46*Population!$B$12*Population!M$37)+(AL46*Population!$B$11*Population!M$39) -> 122.04713 | AM47: =(AK46*Population!$B$12*Population!M$39)+(AM46*Population!$B$11*Population!M$41) -> 99.363385 | AN47: =(AL46*Population!$B$12*Population!M$39)+(AN46*Population!$B$11*Population!M$41) -> 99.363385 | AO47: =(AM46+AN46)*Population!$B$12*Population!$M$41+AO46*Population!$B$11*Population!$M$43 -> 159.58491 | AP47: =AO46*Population!M$43*Population!$B$12+AP46*Population!$B$11*Population!M$44 -> 130.07931 | AQ47: =AP46*Population!M$44*Population!$B$12+AQ46*Population!$B$11*Population!M$45 -> 87.252846 | AR47: =(AQ46*Population!$B$12+AR46)*Population!M$46 -> 120.25451
