Workbook

Sheet Mission
A1: Based on | C1: http://www.math.ucr.edu/home/baez/physics/Relativity/SR/Rocket/rocket.html | I1: Constants
A2: Total Vehicle Mass | B2: =Vehicle!D58 -> 9.5614478e+10 | C2: kg fuel/J thrust | E2: =Vehicle!B83 -> 7.0167921e-17 | I2: speed of light | J2: =Conversion!B6 -> 299792458 | K2: m/s | M2: Start Date: | N2: 2022
A3: Actual Mission: | I3: seconds/year | J3: =Conversion!B3 -> 31557600 | K3: s | M3: Arrived | N3: =N2+B8 -> 2086.7169
A4: Accelleration | B4: =9.8*0.8 -> 7.84 | C4: m/s/s | I4: Power fuel per year | J4: ='Power Consumption'!C44 -> 5521047.9 | K4: kwh/yr | M4: Mission: | N4: 5
A5: Coast Phase Velocity | B5: 0.7143 | C5: c | D5: =B5*J2 -> 2.1414175e+08 | E5: m/s | F5: =1/SQRT(1-D5^2/J2^2) -> 1.4288988 | I5: Light year | J5: =Conversion!B5 -> 9.4607e+15 | K5: meters | M5: Depart: | N5: =N3+N4 -> 2091.7169
A6: Total Distance | B6: 45.5 | C6: ly | D6: =B6*Conversion!$B$5 -> 4.3046185e+17 | E6: m | I6: Interstellar Medium | J6: =0.5*1000000 -> 500000 | K6: Molecules/m^3 | M6: Return: | N6: =N5+B8 -> 2156.4339
A7: Arrival Time (Ship) | B7: =D15+E18 -> 45.731603 | D7: =(($D$6-D19*2)/D5/B12+2*D19)/$J$3 -> 46.749923 | I7: Avagadro's Number | J7: 6.0221408e+23
A8: Arrival Time (Map) | B8: =D14+G18 -> 64.716936 | C8: Fuel (power) | D8: =B7*'Power Consumption'!$C$44 -> 2.5248637e+08 | I8: Interstellar Atomic Mass | J8: =0.91*1.008+4.003*0.9 -> 4.51998 | L8: 12.011
A9: Fuel Used | B9: =K28 -> 0.58391033 | C9: =EXP($B$4*(D19*2)/Conversion!$B$6)-1 -> 5.00035 | E9: =C9/B9 -> 8.5635581 | I9: Ice Density | J9: 916.7 | K9: kg/m^3
A10: Coast Phase | B10: map | C10: ship | I10: Graphite | J10: =2.2*1000 -> 2200 | K10: kg/m^3
A11: Distance | B11: =D6-B18 -> 4.206283e+17 | C11: m | D11: =B11/B12 -> 2.9437236e+17 | E11: m
A12: Gamma | B12: =1/SQRT(1-D5^2/J2^2) -> 1.4288988 | E12: =1/B12 -> 0.69983963 | I12: Collector Radius | J12: 680 | K12: Area | L12: =PI()*J12^2 -> 1452672.4
A13: Velocity | C13: m/s | E13: c | I13: Total Material Collected | J13: =D6*$L$12*$J$6 -> 3.1266003e+29 | L13: =J13*$J$8/$J$7 -> 2346702.2 | M13: kg | N13: =J13*$L$8/$J$7 -> 6235921.4 | O13: =N13/M19/J10 -> 0.002595663
A14: Travel Time (map) | B14: =B11/D5 -> 1.9642517e+09 | C14: s | D14: =B14/J3 -> 62.243381 | E14: yr | N14: =N13/1000 -> 6235.9214
A15: Travel Time (ship) | B15: =D11/D5 -> 1.3746612e+09 | C15: s | D15: =B15/J3 -> 43.560385 | E15: yr
I16: Reaction Mass | J16: =C9*B2 -> 4.7810586e+11 | L16: Cylindrical Tank | N16: Spherical Tank
A17: Thrust Phase | B17: Distance | C17: Dist (ly) | D17: Time (s) | E17: Time (yr) | F17: Map Time (s) | G17: Map Time (yr) | I17: Total Volume | J17: =J16/$J$9 -> 5.2155106e+08 | K17: m^3 | L17: Outer Radius | M17: 900 | N17: Radius | O17: =POWER(3*J17/(4*PI()),1/3) -> 499.34734 | P17: meter
A18: Total | B18: =B19*2 -> 9.833546e+15 | C18: =B18/Conversion!$B$5 -> 1.03941 | D18: =D19*2 -> 68517023 | E18: =D18/Conversion!$C$3 -> 2.171218 | F18: =F19*2 -> 78057880 | G18: =F18/Conversion!$C$3 -> 2.4735558 | I18: Steel Support | J18: =J17/Vehicle!B66 -> 2904829.5 | K18: kg | L18: Inner Radius | M18: 680
A19: Midpoint | B19: =(J2^2/B4)*(B12-1) -> 4.916773e+15 | C19: =B19/Conversion!$B$5 -> 0.51970499 | D19: =Conversion!$B$6/B4*ACOSH(B4*$B$19/Conversion!$C$6+1) -> 34258512 | E19: =D19/Conversion!$C$3 -> 1.085609 | F19: =SQRT(($B$19/Conversion!$B$6)^2+2*$B$19/B4) -> 39028940 | G19: =F19/Conversion!$C$3 -> 1.2367779 | L19: Cross Section Area | M19: =PI()*M17^2-PI()*M18^2 -> 1092017.6 | N19: Area | O19: =O17^2*PI() -> 783349.11
B20: =B18/B11 -> 0.023378232 | L20: Height | M20: =J17/M19 -> 477.60316 | N20: Height | O20: =O17*2 -> 998.69468
A21: G | B21: =9.8*1 -> 9.8 | G21: =1/C31 -> 0.71414284 | I21: Sphere Radius
L22: Total Journey | N22: Coast Distance | P22: Interstellar Mass Collected | Q22: Ships
A23: %c | B23: Vel (m/s) | C23: Gamma | D23: Distance | E23: ly | F23: Map Time | G23: yr | H23: Proper Time | I23: Years | J23: React Mass | L23: Proper | M23: Earth
A24: 0.1 | B24: =A24*$J$2 -> 29979246 | C24: =1/SQRT(1-B24^2/$J$2^2) -> 1.0050378 | D24: =$J$2^2/$B$21*(C24-1) -> 4.6201659e+13 | E24: =D24/$J$5 -> 0.0048835349 | F24: =SQRT((D24/$J$2)^2+2*D24/$B$21) -> 3074517.9 | G24: =F24/$J$3 -> 0.097425594 | H24: =$J$2/$B$21*ASINH($B$21*F24/$J$2) -> 3069365.4 | I24: =H24/$J$3 -> 0.097262319 | J24: =EXP($B$21*2*H24/$J$2)-1 -> 0.22222222 | K24: =EXP($B$21*H24/$J$2)-1 -> 0.1055416 | L24: =(($D$6-2*D24)/B24/C24+2*H24)/$J$3 -> 452.81517 | M24: =(($D$6-2*D24)/B24+F24*2)/$J$3 -> 455.09572 | N24: =$D$6-D24*2 -> 4.3036945e+17 | O24: =N24/$J$5 -> 45.490233 | P24: =D24*$L$12*$J$6*$J$8/$J$7 -> 251.87257 | Q24: =P24/$B$2 -> 2.6342514e-09
A25: 0.2 | B25: =A25*$J$2 -> 59958492 | C25: =1/SQRT(1-B25^2/$J$2^2) -> 1.0206207 | D25: =$J$2^2/$B$21*(C25-1) -> 1.8911209e+14 | E25: =D25/$J$5 -> 0.019989228 | F25: =SQRT((D25/$J$2)^2+2*D25/$B$21) -> 6244375.4 | G25: =F25/$J$3 -> 0.19787232 | H25: =$J$2/$B$21*ASINH($B$21*F25/$J$2) -> 6201805.2 | I25: =H25/$J$3 -> 0.19652335 | J25: =EXP($B$21*2*H25/$J$2)-1 -> 0.5 | K25: =EXP($B$21*H25/$J$2)-1 -> 0.22474487 | L25: =(($D$6-2*D25)/B25/C25+2*H25)/$J$3 -> 223.10004 | M25: =(($D$6-2*D25)/B25+F25*2)/$J$3 -> 227.69512 | N25: =$D$6-D25*2 -> 4.3008363e+17 | O25: =N25/$J$5 -> 45.460022 | P25: =D25*$L$12*$J$6*$J$8/$J$7 -> 1030.9619 | Q25: =P25/$B$2 -> 1.0782487e-08
A26: 0.3 | B26: =A26*$J$2 -> 89937737 | C26: =1/SQRT(1-B26^2/$J$2^2) -> 1.0482848 | D26: =$J$2^2/$B$21*(C26-1) -> 4.4281885e+14 | E26: =D26/$J$5 -> 0.04680614 | F26: =SQRT((D26/$J$2)^2+2*D26/$B$21) -> 9620445.5 | G26: =F26/$J$3 -> 0.30485352 | H26: =$J$2/$B$21*ASINH($B$21*F26/$J$2) -> 9468535 | I26: =H26/$J$3 -> 0.30003977 | J26: =EXP($B$21*2*H26/$J$2)-1 -> 0.85714286 | K26: =EXP($B$21*H26/$J$2)-1 -> 0.36277029 | L26: =(($D$6-2*D26)/B26/C26+2*H26)/$J$3 -> 144.98273 | M26: =(($D$6-2*D26)/B26+F26*2)/$J$3 -> 151.96385 | N26: =$D$6-D26*2 -> 4.2957621e+17 | O26: =N26/$J$5 -> 45.406388 | P26: =D26*$L$12*$J$6*$J$8/$J$7 -> 2414.0675 | Q26: =P26/$B$2 -> 2.5247928e-08
A27: 0.4 | B27: =A27*$J$2 -> 1.1991698e+08 | C27: =1/SQRT(1-B27^2/$J$2^2) -> 1.0910895 | D27: =$J$2^2/$B$21*(C27-1) -> 8.3537873e+14 | E27: =D27/$J$5 -> 0.088299886 | F27: =SQRT((D27/$J$2)^2+2*D27/$B$21) -> 13351036 | G27: =F27/$J$3 -> 0.42306881 | H27: =$J$2/$B$21*ASINH($B$21*F27/$J$2) -> 12959873 | I27: =H27/$J$3 -> 0.41067359 | J27: =EXP($B$21*2*H27/$J$2)-1 -> 1.3333333 | K27: =EXP($B$21*H27/$J$2)-1 -> 0.52752523 | L27: =(($D$6-2*D27)/B27/C27+2*H27)/$J$3 -> 104.66997 | M27: =(($D$6-2*D27)/B27+F27*2)/$J$3 -> 114.15427 | N27: =$D$6-D27*2 -> 4.2879109e+17 | O27: =N27/$J$5 -> 45.3234 | P27: =D27*$L$12*$J$6*$J$8/$J$7 -> 4554.1437 | Q27: =P27/$B$2 -> 4.7630273e-08
A28: 0.43 | B28: =A28*$J$2 -> 1.2891076e+08 | C28: =1/SQRT(1-B28^2/$J$2^2) -> 1.1076296 | D28: =$J$2^2/$B$21*(C28-1) -> 9.8706797e+14 | E28: =D28/$J$5 -> 0.1043335 | F28: =SQRT((D28/$J$2)^2+2*D28/$B$21) -> 14569936 | G28: =F28/$J$3 -> 0.4616934 | H28: =$J$2/$B$21*ASINH($B$21*F28/$J$2) -> 14068730 | I28: =H28/$J$3 -> 0.44581116 | J28: =EXP($B$21*2*H28/$J$2)-1 -> 1.5087719 | K28: =EXP($B$21*H28/$J$2)-1 -> 0.58391033 | L28: =(($D$6-2*D28)/B28/C28+2*H28)/$J$3 -> 95.985092 | M28: =(($D$6-2*D28)/B28+F28*2)/$J$3 -> 106.25173 | N28: =$D$6-D28*2 -> 4.2848771e+17 | O28: =N28/$J$5 -> 45.291333 | P28: =D28*$L$12*$J$6*$J$8/$J$7 -> 5381.0914 | Q28: =P28/$B$2 -> 5.6279044e-08 | R28: Break Even Point for Reaction Mass Collection in Flight
A29: 0.5 | B29: =A29*$J$2 -> 149896229 | C29: =1/SQRT(1-B29^2/$J$2^2) -> 1.1547005 | D29: =$J$2^2/$B$21*(C29-1) -> 1.4187542e+15 | E29: =D29/$J$5 -> 0.14996292 | F29: =SQRT((D29/$J$2)^2+2*D29/$B$21) -> 17661761 | G29: =F29/$J$3 -> 0.55966743 | H29: =$J$2/$B$21*ASINH($B$21*F29/$J$2) -> 16803861 | I29: =H29/$J$3 -> 0.53248223 | J29: =EXP($B$21*2*H29/$J$2)-1 -> 2 | K29: =EXP($B$21*H29/$J$2)-1 -> 0.73205081 | L29: =(($D$6-2*D29)/B29/C29+2*H29)/$J$3 -> 79.353537 | M29: =(($D$6-2*D29)/B29+F29*2)/$J$3 -> 91.519192 | N29: =$D$6-D29*2 -> 4.2762434e+17 | O29: =N29/$J$5 -> 45.200074 | P29: =D29*$L$12*$J$6*$J$8/$J$7 -> 7734.4684 | Q29: =P29/$B$2 -> 8.089223e-08
A30: 0.6 | B30: =A30*$J$2 -> 1.7987547e+08 | C30: =1/SQRT(1-B30^2/$J$2^2) -> 1.25 | D30: =$J$2^2/$B$21*(C30-1) -> 2.2927428e+15 | E30: =D30/$J$5 -> 0.24234389 | F30: =SQRT((D30/$J$2)^2+2*D30/$B$21) -> 22943300 | G30: =F30/$J$3 -> 0.72702932 | H30: =$J$2/$B$21*ASINH($B$21*F30/$J$2) -> 21204112 | I30: =H30/$J$3 -> 0.67191776 | J30: =EXP($B$21*2*H30/$J$2)-1 -> 3 | K30: =EXP($B$21*H30/$J$2)-1 -> 1 | L30: =(($D$6-2*D30)/B30/C30+2*H30)/$J$3 -> 61.364059 | M30: =(($D$6-2*D30)/B30+F30*2)/$J$3 -> 76.479337 | N30: =$D$6-D30*2 -> 4.2587636e+17 | O30: =N30/$J$5 -> 45.015312 | P30: =D30*$L$12*$J$6*$J$8/$J$7 -> 12499.097 | Q30: =P30/$B$2 -> 1.307239e-07
A31: 0.7 | B31: =A31*$J$2 -> 2.0985472e+08 | C31: =1/SQRT(1-B31^2/$J$2^2) -> 1.4002801 | D31: =$J$2^2/$B$21*(C31-1) -> 3.6709571e+15 | E31: =D31/$J$5 -> 0.38802172 | F31: =SQRT((D31/$J$2)^2+2*D31/$B$21) -> 29985243 | G31: =F31/$J$3 -> 0.95017503 | H31: =$J$2/$B$21*ASINH($B$21*F31/$J$2) -> 26531649 | I31: =H31/$J$3 -> 0.84073721 | J31: =EXP($B$21*2*H31/$J$2)-1 -> 4.6666667 | K31: =EXP($B$21*H31/$J$2)-1 -> 1.3804761 | L31: =(($D$6-2*D31)/B31/C31+2*H31)/$J$3 -> 47.30889 | M31: =(($D$6-2*D31)/B31+F31*2)/$J$3 -> 65.791511 | N31: =$D$6-D31*2 -> 4.2311994e+17 | O31: =N31/$J$5 -> 44.723957 | P31: =D31*$L$12*$J$6*$J$8/$J$7 -> 20012.559 | Q31: =P31/$B$2 -> 2.0930469e-07
A32: 0.7143 | B32: =A32*$J$2 -> 2.1414175e+08 | C32: =1/SQRT(1-B32^2/$J$2^2) -> 1.4288988 | D32: =$J$2^2/$B$21*(C32-1) -> 3.9334184e+15 | E32: =D32/$J$5 -> 0.41576399 | F32: =SQRT((D32/$J$2)^2+2*D32/$B$21) -> 31223152 | G32: =F32/$J$3 -> 0.98940199 | H32: =$J$2/$B$21*ASINH($B$21*F32/$J$2) -> 27406809 | I32: =H32/$J$3 -> 0.86846938 | J32: =EXP($B$21*2*H32/$J$2)-1 -> 5.00035 | K32: =EXP($B$21*H32/$J$2)-1 -> 1.4495612 | L32: =(($D$6-2*D32)/B32/C32+2*H32)/$J$3 -> 45.500996 | M32: =(($D$6-2*D32)/B32+F32*2)/$J$3 -> 64.513213 | N32: =$D$6-D32*2 -> 4.2259501e+17 | O32: =N32/$J$5 -> 44.668472 | P32: =D32*$L$12*$J$6*$J$8/$J$7 -> 21443.391 | Q32: =P32/$B$2 -> 2.2426929e-07
A33: 0.75 | B33: =A33*$J$2 -> 2.2484434e+08 | C33: =1/SQRT(1-B33^2/$J$2^2) -> 1.5118579 | D33: =$J$2^2/$B$21*(C33-1) -> 4.694234e+15 | E33: =D33/$J$5 -> 0.49618252 | F33: =SQRT((D33/$J$2)^2+2*D33/$B$21) -> 34687010 | G33: =F33/$J$3 -> 1.099165 | H33: =$J$2/$B$21*ASINH($B$21*F33/$J$2) -> 29763734 | I33: =H33/$J$3 -> 0.94315582 | J33: =EXP($B$21*2*H33/$J$2)-1 -> 6 | K33: =EXP($B$21*H33/$J$2)-1 -> 1.6457513 | L33: =(($D$6-2*D33)/B33/C33+2*H33)/$J$3 -> 41.13823 | M33: =(($D$6-2*D33)/B33+F33*2)/$J$3 -> 61.541652 | N33: =$D$6-D33*2 -> 4.2107338e+17 | O33: =N33/$J$5 -> 44.507635 | P33: =D33*$L$12*$J$6*$J$8/$J$7 -> 25591.047 | Q33: =P33/$B$2 -> 2.6764824e-07
A34: =B34/$J$2 -> 0.77454736 | B34: =$B$21*F34/C34 -> 2.3220346e+08 | C34: =COSH($B$21*H34/$J$2) -> 1.5809879 | D34: =$J$2^2/$B$21*(C34-1) -> 5.328223e+15 | E34: =D34/$J$5 -> 0.56319543 | F34: =SQRT((D34/$J$2)^2+2*D34/$B$21) -> 37460290 | G34: =F34/$J$3 -> 1.187045 | H34: =I34*$J$3 -> 31557600 | I34: =1*9.8/$B$21 -> 1 | J34: =EXP($B$21*2*H34/$J$2)-1 -> 6.8710426 | K34: =EXP($B$21*H34/$J$2)-1 -> 1.8055378 | L34: =(($D$6-2*D34)/B34/C34+2*H34)/$J$3 -> 38.23655 | M34: =(($D$6-2*D34)/B34+F34*2)/$J$3 -> 59.663636 | N34: =$D$6-D34*2 -> 4.198054e+17 | O34: =N34/$J$5 -> 44.373609 | P34: =D34*$L$12*$J$6*$J$8/$J$7 -> 29047.296 | Q34: =P34/$B$2 -> 3.03796e-07
A35: 0.8 | B35: =A35*$J$2 -> 2.3983397e+08 | C35: =1/SQRT(1-B35^2/$J$2^2) -> 1.6666667 | D35: =$J$2^2/$B$21*(C35-1) -> 6.1139808e+15 | E35: =D35/$J$5 -> 0.64625036 | F35: =SQRT((D35/$J$2)^2+2*D35/$B$21) -> 40788090 | G35: =F35/$J$3 -> 1.2924966 | H35: =$J$2/$B$21*ASINH($B$21*F35/$J$2) -> 33607722 | I35: =H35/$J$3 -> 1.0649645 | J35: =EXP($B$21*2*H35/$J$2)-1 -> 8 | K35: =EXP($B$21*H35/$J$2)-1 -> 2 | L35: =(($D$6-2*D35)/B35/C35+2*H35)/$J$3 -> 35.285447 | M35: =(($D$6-2*D35)/B35+F35*2)/$J$3 -> 57.844189 | N35: =$D$6-D35*2 -> 4.1823389e+17 | O35: =N35/$J$5 -> 44.207499 | P35: =D35*$L$12*$J$6*$J$8/$J$7 -> 33330.926 | Q35: =P35/$B$2 -> 3.4859706e-07
A36: 0.83334 | B36: =A36*$J$2 -> 2.4982905e+08 | C36: =1/SQRT(1-B36^2/$J$2^2) -> 1.809101 | D36: =$J$2^2/$B$21*(C36-1) -> 7.4202416e+15 | E36: =D36/$J$5 -> 0.78432268 | F36: =SQRT((D36/$J$2)^2+2*D36/$B$21) -> 46118976 | G36: =F36/$J$3 -> 1.4614222 | H36: =$J$2/$B$21*ASINH($B$21*F36/$J$2) -> 36677755 | I36: =H36/$J$3 -> 1.1622479 | J36: =EXP($B$21*2*H36/$J$2)-1 -> 10.00048 | K36: =EXP($B$21*H36/$J$2)-1 -> 2.3166972 | L36: =(($D$6-2*D36)/B36/C36+2*H36)/$J$3 -> 31.464403 | M36: =(($D$6-2*D36)/B36+F36*2)/$J$3 -> 55.639878 | N36: =$D$6-D36*2 -> 4.1562137e+17 | O36: =N36/$J$5 -> 43.931355 | P36: =D36*$L$12*$J$6*$J$8/$J$7 -> 40452.127 | Q36: =P36/$B$2 -> 4.2307533e-07
A37: 0.85 | B37: =A37*$J$2 -> 2.5482359e+08 | C37: =1/SQRT(1-B37^2/$J$2^2) -> 1.898316 | D37: =$J$2^2/$B$21*(C37-1) -> 8.2384301e+15 | E37: =D37/$J$5 -> 0.87080555 | F37: =SQRT((D37/$J$2)^2+2*D37/$B$21) -> 49360785 | G37: =F37/$J$3 -> 1.5641489 | H37: =$J$2/$B$21*ASINH($B$21*F37/$J$2) -> 38427055 | I37: =H37/$J$3 -> 1.2176799 | J37: =EXP($B$21*2*H37/$J$2)-1 -> 11.333333 | K37: =EXP($B$21*H37/$J$2)-1 -> 2.5118846 | L37: =(($D$6-2*D37)/B37/C37+2*H37)/$J$3 -> 29.554286 | M37: =(($D$6-2*D37)/B37+F37*2)/$J$3 -> 54.608589 | N37: =$D$6-D37*2 -> 4.1398499e+17 | O37: =N37/$J$5 -> 43.758389 | P37: =D37*$L$12*$J$6*$J$8/$J$7 -> 44912.556 | Q37: =P37/$B$2 -> 4.6972548e-07
A38: 0.9 | B38: =A38*$J$2 -> 2.6981321e+08 | C38: =1/SQRT(1-B38^2/$J$2^2) -> 2.2941573 | D38: =$J$2^2/$B$21*(C38-1) -> 1.186868e+16 | E38: =D38/$J$5 -> 1.2545245 | F38: =SQRT((D38/$J$2)^2+2*D38/$B$21) -> 63162649 | G38: =F38/$J$3 -> 2.0015036 | H38: =$J$2/$B$21*ASINH($B$21*F38/$J$2) -> 45036765 | I38: =H38/$J$3 -> 1.427129 | J38: =EXP($B$21*2*H38/$J$2)-1 -> 18 | K38: =EXP($B$21*H38/$J$2)-1 -> 3.3588989 | L38: =(($D$6-2*D38)/B38/C38+2*H38)/$J$3 -> 23.675659 | M38: =(($D$6-2*D38)/B38+F38*2)/$J$3 -> 51.770577 | N38: =$D$6-D38*2 -> 4.0672449e+17 | O38: =N38/$J$5 -> 42.990951 | P38: =D38*$L$12*$J$6*$J$8/$J$7 -> 64703.194 | Q38: =P38/$B$2 -> 6.7670917e-07
A39: 0.95 | B39: =A39*$J$2 -> 2.8480284e+08 | C39: =1/SQRT(1-B39^2/$J$2^2) -> 3.2025631 | D39: =$J$2^2/$B$21*(C39-1) -> 2.0199643e+16 | E39: =D39/$J$5 -> 2.1351108 | F39: =SQRT((D39/$J$2)^2+2*D39/$B$21) -> 93071331 | G39: =F39/$J$3 -> 2.9492525 | H39: =$J$2/$B$21*ASINH($B$21*F39/$J$2) -> 56036130 | I39: =H39/$J$3 -> 1.7756778 | J39: =EXP($B$21*2*H39/$J$2)-1 -> 38 | K39: =EXP($B$21*H39/$J$2)-1 -> 5.244998 | L39: =(($D$6-2*D39)/B39/C39+2*H39)/$J$3 -> 17.102885 | M39: =(($D$6-2*D39)/B39+F39*2)/$J$3 -> 49.298132 | N39: =$D$6-D39*2 -> 3.9006256e+17 | O39: =N39/$J$5 -> 41.229778 | P39: =D39*$L$12*$J$6*$J$8/$J$7 -> 110120.2 | Q39: =P39/$B$2 -> 1.1517105e-06
A40: 0.975 | B40: =A40*$J$2 -> 2.9229765e+08 | C40: =1/SQRT(1-B40^2/$J$2^2) -> 4.5003516 | D40: =$J$2^2/$B$21*(C40-1) -> 3.2101624e+16 | E40: =D40/$J$5 -> 3.3931552 | F40: =SQRT((D40/$J$2)^2+2*D40/$B$21) -> 1.3422879e+08 | G40: =F40/$J$3 -> 4.2534538 | H40: =$J$2/$B$21*ASINH($B$21*F40/$J$2) -> 66833036 | I40: =H40/$J$3 -> 2.1178111 | J40: =EXP($B$21*2*H40/$J$2)-1 -> 78 | K40: =EXP($B$21*H40/$J$2)-1 -> 7.8881944 | L40: =(($D$6-2*D40)/B40/C40+2*H40)/$J$3 -> 13.058537 | M40: =(($D$6-2*D40)/B40+F40*2)/$J$3 -> 48.213128 | N40: =$D$6-D40*2 -> 3.662586e+17 | O40: =N40/$J$5 -> 38.71369 | P40: =D40*$L$12*$J$6*$J$8/$J$7 -> 175004.94 | Q40: =P40/$B$2 -> 1.8303184e-06
...

Sheet DateConvert
A1: Mission Year Zero | D1: 65746 | F1: =D1 -> 65746 | G1: =D1+2415018.5 -> 2480764.5 | J1: Constants
A2: Mission Departure Date | D2: 65817 | F2: =D2 -> 65817 | G2: =D2+2415018.5 -> 2480835.5 | J2: Light Year | K2: =Conversion!$B$5 -> 9.4607e+15
A3: Mission Arrival Date | D3: =F3 -> 89454.842 | F3: =F2+(Mission!F18+Mission!B14)/3600/24 -> 89454.842 | G3: =D3+2415018.5 -> 2504473.3 | H3: Proper Time | I3: =D9+(Mission!D18+Mission!B15)/3600/24 -> 16774.452 | J3: Speed of Light | K3: 299792458 | L3: =K3^2 -> 8.9875518e+16
A4: Julian Day
A5: Acceleration | D5: =Mission!B4 -> 7.84
A6: Coast Speed | D6: =Mission!B5 -> 0.7143 | H6: Relativistic Formulas | N6: Nice Info to Know
B7: Date | C7: Day of Year | D7: Mission Day | E7: Earth Date | F7: Julian Date | G7: Earth Day | H7: Proper Time | I7: Velocity | J7: Gamma | K7: Distance | L7: Rel Dist | M7: Earth Time | N7: Dist (ly) | O7: dEarth yr
A8: Calendar Start | B8: =CONCATENATE(TEXT((FLOOR(D8/364,1)),"000"),"-",TEXT(LOOKUP(C8,Calendar!A:A,Calendar!B:B),"00"),"-",TEXT(INT(1+C8-LOOKUP(C8,Calendar!A:A,Calendar!A:A)),"00")," MY") -> 000-01-01 MY | C8: 0 | D8: 0 | E8: =G8 -> 65746 | F8: =G8+2415018.5 -> 2480764.5 | G8: =F1 -> 65746 | H8: 0 | I8: 0 | J8: =COSH($D$5*H8/$K$3) -> 1 | K8: 0 | L8: 0 | M8: 0 | N8: =K8/$K$2 -> 0 | O8: 0
A9: Launch Date | B9: =CONCATENATE(TEXT((FLOOR(D9/364,1)),"000"),"-",TEXT(LOOKUP(C9,Calendar!A:A,Calendar!B:B),"00"),"-",TEXT(INT(1+C9-LOOKUP(C9,Calendar!A:A,Calendar!A:A)),"00")," MY") -> 000-04-09 MY | C9: =MOD(D9,364) -> 71 | D9: =F2-F1 -> 71 | E9: =G9 -> 65817 | F9: =G9+2415018.5 -> 2480835.5 | G9: =F2 -> 65817 | H9: =(D9-$D$9)*86400 -> 0 | I9: 0 | J9: =COSH($D$5*H9/$K$3) -> 1 | K9: 0 | L9: 0 | M9: 0 | N9: =K9/$K$2 -> 0 | O9: =(G9-$F$2)/365.26 -> 0
B10: =CONCATENATE(TEXT((FLOOR(D10/364,1)),"000"),"-",TEXT(LOOKUP(C10,Calendar!A:A,Calendar!B:B),"00"),"-",TEXT(INT(1+C10-LOOKUP(C10,Calendar!A:A,Calendar!A:A)),"00")," MY") -> 000-05-01 MY | C10: =MOD(D10,364) -> 91 | D10: =LOOKUP(C9,Calendar!A:A,Calendar!A:A)+LOOKUP(C9,Calendar!A:A,Calendar!E:E) -> 91 | E10: =G10 -> 65837.007 | F10: =G10+2415018.5 -> 2480855.5 | G10: =$F$2+M10/86400 -> 65837.007 | H10: =(D10-$D$9)*86400 -> 1728000 | I10: =TANH($D$5*H10/$K$3) -> 0.045158927 | J10: =COSH($D$5*H10/$K$3) -> 1.0010212 | K10: =$K$3^2*($J$10-1)/($D$5) -> 1.1707049e+13 | L10: =$K$3^2*(J10-1)/($D$5) -> 1.1707049e+13 | M10: =$K$3/$D$5*SINH($D$5*H10/$K$3) -> 1728588.2 | N10: =K10/$K$2 -> 0.0012374401 | O10: =(G10-$F$2)/365.26 -> 0.054774155
B11: =CONCATENATE(TEXT((FLOOR(D11/364,1)),"000"),"-",TEXT(LOOKUP(C11,Calendar!A:A,Calendar!B:B),"00"),"-",TEXT(INT(1+C11-LOOKUP(C11,Calendar!A:A,Calendar!A:A)),"00")," MY") -> 000-06-01 MY | C11: =MOD(D11,364) -> 98 | D11: =LOOKUP(C10,Calendar!A:A,Calendar!A:A)+LOOKUP(C10,Calendar!A:A,Calendar!E:E) -> 98 | E11: =G11 -> 65844.017 | F11: =G11+2415018.5 -> 2480862.5 | G11: =$F$2+M11/86400 -> 65844.017 | H11: =(D11-$D$9)*86400 -> 2332800 | I11: =TANH($D$5*H11/$K$3) -> 0.060930474 | J11: =COSH($D$5*H11/$K$3) -> 1.0018614 | K11: =$K$3^2*(J11-1)/($D$5) -> 2.1339084e+13 | L11: =$K$3^2*(J11-1)/($D$5) -> 2.1339084e+13 | M11: =$K$3/$D$5*SINH($D$5*H11/$K$3) -> 2334247.3 | N11: =K11/$K$2 -> 0.0022555502 | O11: =(G11-$F$2)/365.26 -> 0.073965808
B12: =CONCATENATE(TEXT((FLOOR(D12/364,1)),"000"),"-",TEXT(LOOKUP(C12,Calendar!A:A,Calendar!B:B),"00"),"-",TEXT(INT(1+C12-LOOKUP(C12,Calendar!A:A,Calendar!A:A)),"00")," MY") -> 000-07-01 MY | C12: =MOD(D12,364) -> 126 | D12: =LOOKUP(C11,Calendar!A:A,Calendar!A:A)+LOOKUP(C11,Calendar!A:A,Calendar!E:E) -> 126 | E12: =G12 -> 65872.142 | F12: =G12+2415018.5 -> 2480890.6 | G12: =$F$2+M12/86400 -> 65872.142 | H12: =(D12-$D$9)*86400 -> 4752000 | I12: =TANH($D$5*H12/$K$3) -> 0.12363577 | J12: =COSH($D$5*H12/$K$3) -> 1.0077317 | K12: =$K$3^2*(J12-1)/($D$5) -> 8.8633475e+13 | L12: =$K$3^2*(J12-1)/($D$5) -> 8.8633475e+13 | M12: =$K$3/$D$5*SINH($D$5*H12/$K$3) -> 4764240.6 | N12: =K12/$K$2 -> 0.0093685958 | O12: =(G12-$F$2)/365.26 -> 0.15096554
B13: =CONCATENATE(TEXT((FLOOR(D13/364,1)),"000"),"-",TEXT(LOOKUP(C13,Calendar!A:A,Calendar!B:B),"00"),"-",TEXT(INT(1+C13-LOOKUP(C13,Calendar!A:A,Calendar!A:A)),"00")," MY") -> 000-08-01 MY | C13: =MOD(D13,364) -> 154 | D13: =LOOKUP(C12,Calendar!A:A,Calendar!A:A)+LOOKUP(C12,Calendar!A:A,Calendar!E:E) -> 154 | E13: =G13 -> 65900.487 | F13: =G13+2415018.5 -> 2480919 | G13: =$F$2+M13/86400 -> 65900.487 | H13: =(D13-$D$9)*86400 -> 7171200 | I13: =TANH($D$5*H13/$K$3) -> 0.18536902 | J13: =COSH($D$5*H13/$K$3) -> 1.0176367 | K13: =$K$3^2*(J13-1)/($D$5) -> 2.0218187e+14 | L13: =$K$3^2*(J13-1)/($D$5) -> 2.0218187e+14 | M13: =$K$3/$D$5*SINH($D$5*H13/$K$3) -> 7213309.4 | N13: =K13/$K$2 -> 0.02137071 | O13: =(G13-$F$2)/365.26 -> 0.22856972
B14: =CONCATENATE(TEXT((FLOOR(D14/364,1)),"000"),"-",TEXT(LOOKUP(C14,Calendar!A:A,Calendar!B:B),"00"),"-",TEXT(INT(1+C14-LOOKUP(C14,Calendar!A:A,Calendar!A:A)),"00")," MY") -> 000-09-01 MY | C14: =MOD(D14,364) -> 182 | D14: =LOOKUP(C13,Calendar!A:A,Calendar!A:A)+LOOKUP(C13,Calendar!A:A,Calendar!E:E) -> 182 | E14: =G14 -> 65929.167 | F14: =G14+2415018.5 -> 2480947.7 | G14: =$F$2+M14/86400 -> 65929.167 | H14: =(D14-$D$9)*86400 -> 9590400 | I14: =TANH($D$5*H14/$K$3) -> 0.245673 | J14: =COSH($D$5*H14/$K$3) -> 1.0316162 | K14: =$K$3^2*(J14-1)/($D$5) -> 3.6243891e+14 | L14: =$K$3^2*(J14-1)/($D$5) -> 3.6243891e+14 | M14: =$K$3/$D$5*SINH($D$5*H14/$K$3) -> 9691259.2 | N14: =K14/$K$2 -> 0.038309946 | O14: =(G14-$F$2)/365.26 -> 0.30708906
B15: =CONCATENATE(TEXT((FLOOR(D15/364,1)),"000"),"-",TEXT(LOOKUP(C15,Calendar!A:A,Calendar!B:B),"00"),"-",TEXT(INT(1+C15-LOOKUP(C15,Calendar!A:A,Calendar!A:A)),"00")," MY") -> 000-10-01 MY | C15: =MOD(D15,364) -> 189 | D15: =LOOKUP(C14,Calendar!A:A,Calendar!A:A)+LOOKUP(C14,Calendar!A:A,Calendar!E:E) -> 189 | E15: =G15 -> 65936.403 | F15: =G15+2415018.5 -> 2480954.9 | G15: =$F$2+M15/86400 -> 65936.403 | H15: =(D15-$D$9)*86400 -> 10195200 | I15: =TANH($D$5*H15/$K$3) -> 0.26047602 | J15: =COSH($D$5*H15/$K$3) -> 1.0357539 | K15: =$K$3^2*(J15-1)/($D$5) -> 4.0987244e+14 | L15: =$K$3^2*(J15-1)/($D$5) -> 4.0987244e+14 | M15: =$K$3/$D$5*SINH($D$5*H15/$K$3) -> 10316419 | N15: =K15/$K$2 -> 0.043323691 | O15: =(G15-$F$2)/365.26 -> 0.32689864
B16: =CONCATENATE(TEXT((FLOOR(D16/364,1)),"000"),"-",TEXT(LOOKUP(C16,Calendar!A:A,Calendar!B:B),"00"),"-",TEXT(INT(1+C16-LOOKUP(C16,Calendar!A:A,Calendar!A:A)),"00")," MY") -> 000-11-01 MY | C16: =MOD(D16,364) -> 217 | D16: =LOOKUP(C15,Calendar!A:A,Calendar!A:A)+LOOKUP(C15,Calendar!A:A,Calendar!E:E) -> 217 | E16: =G16 -> 65965.662 | F16: =G16+2415018.5 -> 2480984.2 | G16: =$F$2+M16/86400 -> 65965.662 | H16: =(D16-$D$9)*86400 -> 12614400 | I16: =TANH($D$5*H16/$K$3) -> 0.31841702 | J16: =COSH($D$5*H16/$K$3) -> 1.0549071 | K16: =$K$3^2*(J16-1)/($D$5) -> 6.2943975e+14 | L16: =$K$3^2*(J16-1)/($D$5) -> 6.2943975e+14 | M16: =$K$3/$D$5*SINH($D$5*H16/$K$3) -> 12844439 | N16: =K16/$K$2 -> 0.066532048 | O16: =(G16-$F$2)/365.26 -> 0.40700458
B17: =CONCATENATE(TEXT((FLOOR(D17/364,1)),"000"),"-",TEXT(LOOKUP(C17,Calendar!A:A,Calendar!B:B),"00"),"-",TEXT(INT(1+C17-LOOKUP(C17,Calendar!A:A,Calendar!A:A)),"00")," MY") -> 000-12-01 MY | C17: =MOD(D17,364) -> 245 | D17: =LOOKUP(C16,Calendar!A:A,Calendar!A:A)+LOOKUP(C16,Calendar!A:A,Calendar!E:E) -> 245 | E17: =G17 -> 65995.517 | F17: =G17+2415018.5 -> 2481014 | G17: =$F$2+M17/86400 -> 65995.517 | H17: =(D17-$D$9)*86400 -> 15033600 | I17: =TANH($D$5*H17/$K$3) -> 0.37407269 | J17: =COSH($D$5*H17/$K$3) -> 1.0782841 | K17: =$K$3^2*(J17-1)/($D$5) -> 8.9742637e+14 | L17: =$K$3^2*(J17-1)/($D$5) -> 8.9742637e+14 | M17: =$K$3/$D$5*SINH($D$5*H17/$K$3) -> 15423887 | N17: =K17/$K$2 -> 0.094858348 | O17: =(G17-$F$2)/365.26 -> 0.48874011
B18: =CONCATENATE(TEXT((FLOOR(D18/364,1)),"000"),"-",TEXT(LOOKUP(C18,Calendar!A:A,Calendar!B:B),"00"),"-",TEXT(INT(1+C18-LOOKUP(C18,Calendar!A:A,Calendar!A:A)),"00")," MY") -> 000-13-01 MY | C18: =MOD(D18,364) -> 273 | D18: =LOOKUP(C17,Calendar!A:A,Calendar!A:A)+LOOKUP(C17,Calendar!A:A,Calendar!E:E) -> 273 | E18: =G18 -> 66026.087 | F18: =G18+2415018.5 -> 2481044.6 | G18: =$F$2+M18/86400 -> 66026.087 | H18: =(D18-$D$9)*86400 -> 17452800 | I18: =TANH($D$5*H18/$K$3) -> 0.42715832 | J18: =COSH($D$5*H18/$K$3) -> 1.1059783 | K18: =$K$3^2*(J18-1)/($D$5) -> 1.2149053e+15 | L18: =$K$3^2*(J18-1)/($D$5) -> 1.2149053e+15 | M18: =$K$3/$D$5*SINH($D$5*H18/$K$3) -> 18065090 | N18: =K18/$K$2 -> 0.128416 | O18: =(G18-$F$2)/365.26 -> 0.57243249
B19: =CONCATENATE(TEXT((FLOOR(D19/364,1)),"000"),"-",TEXT(LOOKUP(C19,Calendar!A:A,Calendar!B:B),"00"),"-",TEXT(INT(1+C19-LOOKUP(C19,Calendar!A:A,Calendar!A:A)),"00")," MY") -> 000-14-01 MY | C19: =MOD(D19,364) -> 280 | D19: =LOOKUP(C18,Calendar!A:A,Calendar!A:A)+LOOKUP(C18,Calendar!A:A,Calendar!E:E) -> 280 | E19: =G19 -> 66033.855 | F19: =G19+2415018.5 -> 2481052.4 | G19: =$F$2+M19/86400 -> 66033.855 | H19: =(D19-$D$9)*86400 -> 18057600 | I19: =TANH($D$5*H19/$K$3) -> 0.44000094 | J19: =COSH($D$5*H19/$K$3) -> 1.1135891 | K19: =$K$3^2*(J19-1)/($D$5) -> 1.3021527e+15 | L19: =$K$3^2*(J19-1)/($D$5) -> 1.3021527e+15 | M19: =$K$3/$D$5*SINH($D$5*H19/$K$3) -> 18736273 | N19: =K19/$K$2 -> 0.1376381 | O19: =(G19-$F$2)/365.26 -> 0.59370042
B20: =CONCATENATE(TEXT((FLOOR(D20/364,1)),"000"),"-",TEXT(LOOKUP(C20,Calendar!A:A,Calendar!B:B),"00"),"-",TEXT(INT(1+C20-LOOKUP(C20,Calendar!A:A,Calendar!A:A)),"00")," MY") -> 000-15-01 MY | C20: =MOD(D20,364) -> 308 | D20: =LOOKUP(C19,Calendar!A:A,Calendar!A:A)+LOOKUP(C19,Calendar!A:A,Calendar!E:E) -> 308 | E20: =G20 -> 66065.49 | F20: =G20+2415018.5 -> 2481084 | G20: =$F$2+M20/86400 -> 66065.49 | H20: =(D20-$D$9)*86400 -> 20476800 | I20: =TANH($D$5*H20/$K$3) -> 0.48957218 | J20: =COSH($D$5*H20/$K$3) -> 1.146838 | K20: =$K$3^2*(J20-1)/($D$5) -> 1.6833083e+15 | L20: =$K$3^2*(J20-1)/($D$5) -> 1.6833083e+15 | M20: =$K$3/$D$5*SINH($D$5*H20/$K$3) -> 21469574 | N20: =K20/$K$2 -> 0.1779264 | O20: =(G20-$F$2)/365.26 -> 0.68031112
B21: =CONCATENATE(TEXT((FLOOR(D21/364,1)),"000"),"-",TEXT(LOOKUP(C21,Calendar!A:A,Calendar!B:B),"00"),"-",TEXT(INT(1+C21-LOOKUP(C21,Calendar!A:A,Calendar!A:A)),"00")," MY") -> 000-16-01 MY | C21: =MOD(D21,364) -> 336 | D21: =LOOKUP(C20,Calendar!A:A,Calendar!A:A)+LOOKUP(C20,Calendar!A:A,Calendar!E:E) -> 336 | E21: =G21 -> 66098.121 | F21: =G21+2415018.5 -> 2481116.6 | G21: =$F$2+M21/86400 -> 66098.121 | H21: =(D21-$D$9)*86400 -> 22896000 | I21: =TANH($D$5*H21/$K$3) -> 0.53616878 | J21: =COSH($D$5*H21/$K$3) -> 1.1846786 | K21: =$K$3^2*(J21-1)/($D$5) -> 2.1171027e+15 | L21: =$K$3^2*(J21-1)/($D$5) -> 2.1171027e+15 | M21: =$K$3/$D$5*SINH($D$5*H21/$K$3) -> 24288836 | N21: =K21/$K$2 -> 0.22377865 | O21: =(G21-$F$2)/365.26 -> 0.76964571
B22: =CONCATENATE(TEXT((FLOOR(D22/364,1)),"000"),"-",TEXT(LOOKUP(C22,Calendar!A:A,Calendar!B:B),"00"),"-",TEXT(INT(1+C22-LOOKUP(C22,Calendar!A:A,Calendar!A:A)),"00")," MY") -> 001-01-01 MY | C22: =MOD(D22,364) -> 0 | D22: =LOOKUP(C21,Calendar!A:A,Calendar!A:A)+LOOKUP(C21,Calendar!A:A,Calendar!E:E) -> 364 | E22: =G22 -> 66131.877 | F22: =G22+2415018.5 -> 2481150.4 | G22: =$F$2+M22/86400 -> 66131.877 | H22: =(D22-$D$9)*86400 -> 25315200 | I22: =TANH($D$5*H22/$K$3) -> 0.57971182 | J22: =COSH($D$5*H22/$K$3) -> 1.2272625 | K22: =$K$3^2*(J22-1)/($D$5) -> 2.6052728e+15 | L22: =$K$3^2*(J22-1)/($D$5) -> 2.6052728e+15 | M22: =$K$3/$D$5*SINH($D$5*H22/$K$3) -> 27205348 | N22: =K22/$K$2 -> 0.27537844 | O22: =(G22-$F$2)/365.26 -> 0.86206184
... B27: =CONCATENATE(TEXT((FLOOR(D27/364,1)),"000"),"-",TEXT(LOOKUP(C27,Calendar!A:A,Calendar!B:B),"00"),"-",TEXT(INT(1+C27-LOOKUP(C27,Calendar!A:A,Calendar!A:A)),"00")," MY") -> 000-06-01 MY | C27: =MOD(D27,364) -> 98 | D27: =LOOKUP(C26,Calendar!A:A,Calendar!A:A)+LOOKUP(C26,Calendar!A:A,Calendar!E:E) -> 98 | E27: =G27 -> 65844.017 | F27: =G27+2415018.5 -> 2480862.5 | G27: =$F$2+M27/86400 -> 65844.017 | H27: =(D27-$D$9)*86400 -> 2332800 | I27: =TANH($D$5*H27/$K$3) -> 0.060930474 | J27: =COSH($D$5*H27/$K$3) -> 1.0018614 | K27: =$K$3^2*(J27-1)/($D$5) -> 2.1339084e+13 | L27: =$K$3^2*(J27-1)/($D$5) -> 2.1339084e+13 | M27: =$K$3/$D$5*SINH($D$5*H27/$K$3) -> 2334247.3 | N27: =K27/$K$2 -> 0.0022555502 | O27: =(G27-$F$2)/365.26 -> 0.073965808
A28: Coast Phase Begin | B28: =CONCATENATE(TEXT((FLOOR(D28/364,1)),"000"),"-",TEXT(LOOKUP(C28,Calendar!A:A,Calendar!B:B),"00"),"-",TEXT(INT(1+C28-LOOKUP(C28,Calendar!A:A,Calendar!A:A)),"00")," MY") -> 001-06-06 MY | C28: =MOD(D28,364) -> 103.51055 | D28: =($K$3/$D$5*ACOSH($D$5*K28/$L$3+1))/3600/24+$D$9 -> 467.51055 | E28: =G28 -> 66268.724 | F28: =G28+2415018.5 -> 2481287.2 | G28: =$F$2+M28/86400 -> 66268.724 | H28: =(D28-$D$9)*86400 -> 34258512 | I28: =$D$6*1 -> 0.7143 | J28: =1/SQRT(1-I28^2/1) -> 1.4288988 | K28: =$K$3^2*(J28-1)/($D$5) -> 4.916773e+15 | L28: =$K$3^2*(J28-1)/($D$5) -> 4.916773e+15 | M28: =$K$3/$D$5*SINH($D$5*H28/$K$3) -> 39028940 | N28: =K28/$K$2 -> 0.51970499 | O28: =(G28-$F$2)/365.26 -> 1.2367186
A29: Coast Phase Ends | B29: =CONCATENATE(TEXT((FLOOR(D29/364,1)),"000"),"-",TEXT(LOOKUP(C29,Calendar!A:A,Calendar!B:B),"00"),"-",TEXT(INT(1+C29-LOOKUP(C29,Calendar!A:A,Calendar!A:A)),"00")," MY") -> 044-16-26 MY | C29: =MOD(D29,364) -> 361.94103 | D29: =$D$48-H29/86400 -> 16377.941 | E29: =G29 -> 89003.119 | F29: =G29+2415018.5 -> 2504021.6 | G29: =$F$3-M29/86400 -> 89003.119 | H29: =H28 -> 34258512 | I29: =$D$6*1 -> 0.7143 | J29: =1/SQRT(1-I29^2/1) -> 1.4288988 | K29: =K48-300000000^2*(J29-1)/($D$5) -> 4.2553827e+17 | L29: =$K$3^2*(J29-1)/($D$5) -> 4.916773e+15 | M29: =$K$3/$D$5*SINH($D$5*H29/$K$3) -> 39028940 | N29: =K29/$K$2 -> 44.979575 | O29: =(G29-$F$2)/365.26 -> 63.478395
B30: =CONCATENATE(TEXT((FLOOR(D30/364,1)),"000"),"-",TEXT(LOOKUP(C30,Calendar!A:A,Calendar!B:B),"00"),"-",TEXT(INT(1+C30-LOOKUP(C30,Calendar!A:A,Calendar!A:A)),"00")," MY") -> 045-01-01 MY | C30: =MOD(D30,364) -> 0 | D30: 16380 | E30: =G30 -> 89006.056 | F30: =G30+2415018.5 -> 2504024.6 | G30: =$F$3-M30/86400 -> 89006.056 | H30: =($I$3-D30)*86400 -> 34080616 | I30: =TANH($D$5*H30/$K$3) -> 0.71201388 | J30: =COSH($D$5*H30/$K$3) -> 1.4241659 | K30: =$K$3^2*(J30-1)/($D$5) -> 4.8625164e+15 | L30: =$K$3^2*(J30-1)/($D$5) -> 4.8625164e+15 | M30: =$K$3/$D$5*SINH($D$5*H30/$K$3) -> 38775167 | N30: =$N$48-K30/$K$2 -> 44.98603 | O30: =(G30-$F$2)/365.26 -> 63.486437
B31: =CONCATENATE(TEXT((FLOOR(D31/364,1)),"000"),"-",TEXT(LOOKUP(C31,Calendar!A:A,Calendar!B:B),"00"),"-",TEXT(INT(1+C31-LOOKUP(C31,Calendar!A:A,Calendar!A:A)),"00")," MY") -> 045-02-01 MY | C31: =MOD(D31,364) -> 7 | D31: =D30+LOOKUP(C30,Calendar!A:A,Calendar!E:E) -> 16387 | E31: =G31 -> 89015.969 | F31: =G31+2415018.5 -> 2504034.5 | G31: =$F$3-M31/86400 -> 89015.969 | H31: =($I$3-D31)*86400 -> 33475816 | I31: =TANH($D$5*H31/$K$3) -> 0.70412768 | J31: =COSH($D$5*H31/$K$3) -> 1.4083051 | K31: =$K$3^2*(J31-1)/($D$5) -> 4.6806933e+15 | L31: =$K$3^2*(J31-1)/($D$5) -> 4.6806933e+15 | M31: =$K$3/$D$5*SINH($D$5*H31/$K$3) -> 37918646 | N31: =$N$48-K31/$K$2 -> 45.005249 | O31: =(G31-$F$2)/365.26 -> 63.513577
B32: =CONCATENATE(TEXT((FLOOR(D32/364,1)),"000"),"-",TEXT(LOOKUP(C32,Calendar!A:A,Calendar!B:B),"00"),"-",TEXT(INT(1+C32-LOOKUP(C32,Calendar!A:A,Calendar!A:A)),"00")," MY") -> 045-03-01 MY | C32: =MOD(D32,364) -> 35 | D32: =D31+LOOKUP(C31,Calendar!A:A,Calendar!E:E) -> 16415 | E32: =G32 -> 89054.55 | F32: =G32+2415018.5 -> 2504073 | G32: =$F$3-M32/86400 -> 89054.55 | H32: =($I$3-D32)*86400 -> 31056616 | I32: =TANH($D$5*H32/$K$3) -> 0.67078823 | J32: =COSH($D$5*H32/$K$3) -> 1.3483468 | K32: =$K$3^2*(J32-1)/($D$5) -> 3.9933484e+15 | L32: =$K$3^2*(J32-1)/($D$5) -> 3.9933484e+15 | M32: =$K$3/$D$5*SINH($D$5*H32/$K$3) -> 34585311 | N32: =$N$48-K32/$K$2 -> 45.077901 | O32: =(G32-$F$2)/365.26 -> 63.619201
B33: =CONCATENATE(TEXT((FLOOR(D33/364,1)),"000"),"-",TEXT(LOOKUP(C33,Calendar!A:A,Calendar!B:B),"00"),"-",TEXT(INT(1+C33-LOOKUP(C33,Calendar!A:A,Calendar!A:A)),"00")," MY") -> 045-04-01 MY | C33: =MOD(D33,364) -> 63 | D33: =D32+LOOKUP(C32,Calendar!A:A,Calendar!E:E) -> 16443 | E33: =G33 -> 89091.527 | F33: =G33+2415018.5 -> 2504110 | G33: =$F$3-M33/86400 -> 89091.527 | H33: =($I$3-D33)*86400 -> 28637416 | I33: =TANH($D$5*H33/$K$3) -> 0.63449777 | J33: =COSH($D$5*H33/$K$3) -> 1.2937871 | K33: =$K$3^2*(J33-1)/($D$5) -> 3.3678914e+15 | L33: =$K$3^2*(J33-1)/($D$5) -> 3.3678914e+15 | M33: =$K$3/$D$5*SINH($D$5*H33/$K$3) -> 31390452 | N33: =$N$48-K33/$K$2 -> 45.144012 | O33: =(G33-$F$2)/365.26 -> 63.720438
B34: =CONCATENATE(TEXT((FLOOR(D34/364,1)),"000"),"-",TEXT(LOOKUP(C34,Calendar!A:A,Calendar!B:B),"00"),"-",TEXT(INT(1+C34-LOOKUP(C34,Calendar!A:A,Calendar!A:A)),"00")," MY") -> 045-05-01 MY | C34: =MOD(D34,364) -> 91 | D34: =D33+LOOKUP(C33,Calendar!A:A,Calendar!E:E) -> 16471 | E34: =G34 -> 89127.05 | F34: =G34+2415018.5 -> 2504145.5 | G34: =$F$3-M34/86400 -> 89127.05 | H34: =($I$3-D34)*86400 -> 26218216 | I34: =TANH($D$5*H34/$K$3) -> 0.59517616 | J34: =COSH($D$5*H34/$K$3) -> 1.2444075 | K34: =$K$3^2*(J34-1)/($D$5) -> 2.8018182e+15 | L34: =$K$3^2*(J34-1)/($D$5) -> 2.8018182e+15 | M34: =$K$3/$D$5*SINH($D$5*H34/$K$3) -> 28321275 | N34: =$N$48-K34/$K$2 -> 45.203847 | O34: =(G34-$F$2)/365.26 -> 63.817691
B35: =CONCATENATE(TEXT((FLOOR(D35/364,1)),"000"),"-",TEXT(LOOKUP(C35,Calendar!A:A,Calendar!B:B),"00"),"-",TEXT(INT(1+C35-LOOKUP(C35,Calendar!A:A,Calendar!A:A)),"00")," MY") -> 045-06-01 MY | C35: =MOD(D35,364) -> 98 | D35: =D34+LOOKUP(C34,Calendar!A:A,Calendar!E:E) -> 16478 | E35: =G35 -> 89135.72 | F35: =G35+2415018.5 -> 2504154.2 | G35: =$F$3-M35/86400 -> 89135.72 | H35: =($I$3-D35)*86400 -> 25613416 | I35: =TANH($D$5*H35/$K$3) -> 0.5848663 | J35: =COSH($D$5*H35/$K$3) -> 1.2328484 | K35: =$K$3^2*(J35-1)/($D$5) -> 2.6693078e+15 | L35: =$K$3^2*(J35-1)/($D$5) -> 2.6693078e+15 | M35: =$K$3/$D$5*SINH($D$5*H35/$K$3) -> 27572168 | N35: =$N$48-K35/$K$2 -> 45.217853 | O35: =(G35-$F$2)/365.26 -> 63.841428
B36: =CONCATENATE(TEXT((FLOOR(D36/364,1)),"000"),"-",TEXT(LOOKUP(C36,Calendar!A:A,Calendar!B:B),"00"),"-",TEXT(INT(1+C36-LOOKUP(C36,Calendar!A:A,Calendar!A:A)),"00")," MY") -> 045-07-01 MY | C36: =MOD(D36,364) -> 126 | D36: =D35+LOOKUP(C35,Calendar!A:A,Calendar!E:E) -> 16506 | E36: =G36 -> 89169.624 | F36: =G36+2415018.5 -> 2504188.1 | G36: =$F$3-M36/86400 -> 89169.624 | H36: =($I$3-D36)*86400 -> 23194216 | I36: =TANH($D$5*H36/$K$3) -> 0.54170234 | J36: =COSH($D$5*H36/$K$3) -> 1.1896684 | K36: =$K$3^2*(J36-1)/($D$5) -> 2.174304e+15 | L36: =$K$3^2*(J36-1)/($D$5) -> 2.174304e+15 | M36: =$K$3/$D$5*SINH($D$5*H36/$K$3) -> 24642869 | N36: =$N$48-K36/$K$2 -> 45.270175 | O36: =(G36-$F$2)/365.26 -> 63.93425
B37: =CONCATENATE(TEXT((FLOOR(D37/364,1)),"000"),"-",TEXT(LOOKUP(C37,Calendar!A:A,Calendar!B:B),"00"),"-",TEXT(INT(1+C37-LOOKUP(C37,Calendar!A:A,Calendar!A:A)),"00")," MY") -> 045-08-01 MY | C37: =MOD(D37,364) -> 154 | D37: =D36+LOOKUP(C36,Calendar!A:A,Calendar!E:E) -> 16534 | E37: =G37 -> 89202.386 | F37: =G37+2415018.5 -> 2504220.9 | G37: =$F$3-M37/86400 -> 89202.386 | H37: =($I$3-D37)*86400 -> 20775016 | I37: =TANH($D$5*H37/$K$3) -> 0.49547907 | J37: =COSH($D$5*H37/$K$3) -> 1.1512516 | K37: =$K$3^2*(J37-1)/($D$5) -> 1.7339048e+15 | L37: =$K$3^2*(J37-1)/($D$5) -> 1.7339048e+15 | M37: =$K$3/$D$5*SINH($D$5*H37/$K$3) -> 21812236 | N37: =$N$48-K37/$K$2 -> 45.316726 | O37: =(G37-$F$2)/365.26 -> 64.023945
B38: =CONCATENATE(TEXT((FLOOR(D38/364,1)),"000"),"-",TEXT(LOOKUP(C38,Calendar!A:A,Calendar!B:B),"00"),"-",TEXT(INT(1+C38-LOOKUP(C38,Calendar!A:A,Calendar!A:A)),"00")," MY") -> 045-09-01 MY | C38: =MOD(D38,364) -> 182 | D38: =D37+LOOKUP(C37,Calendar!A:A,Calendar!E:E) -> 16562 | E38: =G38 -> 89234.137 | F38: =G38+2415018.5 -> 2504252.6 | G38: =$F$3-M38/86400 -> 89234.137 | H38: =($I$3-D38)*86400 -> 18355816 | I38: =TANH($D$5*H38/$K$3) -> 0.44626824 | J38: =COSH($D$5*H38/$K$3) -> 1.1174442 | K38: =$K$3^2*(J38-1)/($D$5) -> 1.3463471e+15 | L38: =$K$3^2*(J38-1)/($D$5) -> 1.3463471e+15 | M38: =$K$3/$D$5*SINH($D$5*H38/$K$3) -> 19068937 | N38: =$N$48-K38/$K$2 -> 45.357691 | O38: =(G38-$F$2)/365.26 -> 64.110872
B39: =CONCATENATE(TEXT((FLOOR(D39/364,1)),"000"),"-",TEXT(LOOKUP(C39,Calendar!A:A,Calendar!B:B),"00"),"-",TEXT(INT(1+C39-LOOKUP(C39,Calendar!A:A,Calendar!A:A)),"00")," MY") -> 045-10-01 MY | C39: =MOD(D39,364) -> 189 | D39: =D38+LOOKUP(C38,Calendar!A:A,Calendar!E:E) -> 16569 | E39: =G39 -> 89241.932 | F39: =G39+2415018.5 -> 2504260.4 | G39: =$F$3-M39/86400 -> 89241.932 | H39: =($I$3-D39)*86400 -> 17751016 | I39: =TANH($D$5*H39/$K$3) -> 0.43351281 | J39: =COSH($D$5*H39/$K$3) -> 1.1096964 | K39: =$K$3^2*(J39-1)/($D$5) -> 1.2575278e+15 | L39: =$K$3^2*(J39-1)/($D$5) -> 1.2575278e+15 | M39: =$K$3/$D$5*SINH($D$5*H39/$K$3) -> 18395464 | N39: =$N$48-K39/$K$2 -> 45.367079 | O39: =(G39-$F$2)/365.26 -> 64.132213
B40: =CONCATENATE(TEXT((FLOOR(D40/364,1)),"000"),"-",TEXT(LOOKUP(C40,Calendar!A:A,Calendar!B:B),"00"),"-",TEXT(INT(1+C40-LOOKUP(C40,Calendar!A:A,Calendar!A:A)),"00")," MY") -> 045-11-01 MY | C40: =MOD(D40,364) -> 217 | D40: =D39+LOOKUP(C39,Calendar!A:A,Calendar!E:E) -> 16597 | E40: =G40 -> 89272.598 | F40: =G40+2415018.5 -> 2504291.1 | G40: =$F$3-M40/86400 -> 89272.598 | H40: =($I$3-D40)*86400 -> 15331816 | I40: =TANH($D$5*H40/$K$3) -> 0.38076054 | J40: =COSH($D$5*H40/$K$3) -> 1.0814626 | K40: =$K$3^2*(J40-1)/($D$5) -> 9.3386394e+14 | L40: =$K$3^2*(J40-1)/($D$5) -> 9.3386394e+14 | M40: =$K$3/$D$5*SINH($D$5*H40/$K$3) -> 15745921 | N40: =$N$48-K40/$K$2 -> 45.40129 | O40: =(G40-$F$2)/365.26 -> 64.216169
B41: =CONCATENATE(TEXT((FLOOR(D41/364,1)),"000"),"-",TEXT(LOOKUP(C41,Calendar!A:A,Calendar!B:B),"00"),"-",TEXT(INT(1+C41-LOOKUP(C41,Calendar!A:A,Calendar!A:A)),"00")," MY") -> 045-12-01 MY | C41: =MOD(D41,364) -> 245 | D41: =D40+LOOKUP(C40,Calendar!A:A,Calendar!E:E) -> 16625 | E41: =G41 -> 89302.534 | F41: =G41+2415018.5 -> 2504321 | G41: =$F$3-M41/86400 -> 89302.534 | H41: =($I$3-D41)*86400 -> 12912616 | I41: =TANH($D$5*H41/$K$3) -> 0.32540759 | J41: =COSH($D$5*H41/$K$3) -> 1.0575589 | K41: =$K$3^2*(J41-1)/($D$5) -> 6.5983832e+14 | L41: =$K$3^2*(J41-1)/($D$5) -> 6.5983832e+14 | M41: =$K$3/$D$5*SINH($D$5*H41/$K$3) -> 13159424 | N41: =$N$48-K41/$K$2 -> 45.430255 | O41: =(G41-$F$2)/365.26 -> 64.298128
B42: =CONCATENATE(TEXT((FLOOR(D42/364,1)),"000"),"-",TEXT(LOOKUP(C42,Calendar!A:A,Calendar!B:B),"00"),"-",TEXT(INT(1+C42-LOOKUP(C42,Calendar!A:A,Calendar!A:A)),"00")," MY") -> 045-13-01 MY | C42: =MOD(D42,364) -> 273 | D42: =D41+LOOKUP(C41,Calendar!A:A,Calendar!E:E) -> 16653 | E42: =G42 -> 89331.861 | F42: =G42+2415018.5 -> 2504350.4 | G42: =$F$3-M42/86400 -> 89331.861 | H42: =($I$3-D42)*86400 -> 10493416 | I42: =TANH($D$5*H42/$K$3) -> 0.26773079 | J42: =COSH($D$5*H42/$K$3) -> 1.0378894 | K42: =$K$3^2*(J42-1)/($D$5) -> 4.3435373e+14 | L42: =$K$3^2*(J42-1)/($D$5) -> 4.3435373e+14 | M42: =$K$3/$D$5*SINH($D$5*H42/$K$3) -> 10625614 | N42: =$N$48-K42/$K$2 -> 45.454089 | O42: =(G42-$F$2)/365.26 -> 64.378418
... B47: =CONCATENATE(TEXT((FLOOR(D47/364,1)),"000"),"-",TEXT(LOOKUP(C47,Calendar!A:A,Calendar!B:B),"00"),"-",TEXT(INT(1+C47-LOOKUP(C47,Calendar!A:A,Calendar!A:A)),"00")," MY") -> 046-02-01 MY | C47: =MOD(D47,364) -> 7 | D47: =D46+LOOKUP(C46,Calendar!A:A,Calendar!E:E) -> 16751 | E47: =G47 -> 89431.38 | F47: =G47+2415018.5 -> 2504449.9 | G47: =$F$3-M47/86400 -> 89431.38 | H47: =($I$3-D47)*86400 -> 2026216.4 | I47: =TANH($D$5*H47/$K$3) -> 0.052938908 | J47: =COSH($D$5*H47/$K$3) -> 1.0014042 | K47: =$K$3^2*(J47-1)/($D$5) -> 1.6097533e+13 | L47: =$K$3^2*(J47-1)/($D$5) -> 1.6097533e+13 | M47: =$K$3/$D$5*SINH($D$5*H47/$K$3) -> 2027164.7 | N47: =$N$48-K47/$K$2 -> 45.498298 | O47: =(G47-$F$2)/365.26 -> 64.650879
A48: Arrival Date | B48: =CONCATENATE(TEXT((FLOOR(D48/364,1)),"000"),"-",TEXT(LOOKUP(C48,Calendar!A:A,Calendar!B:B),"00"),"-",TEXT(INT(1+C48-LOOKUP(C48,Calendar!A:A,Calendar!A:A)),"00")," MY") -> 046-02-24 MY | C48: =MOD(D48,364) -> 30.451578 | D48: =I3 -> 16774.452 | E48: =G48 -> 89454.842 | F48: =G48+2415018.5 -> 2504473.3 | G48: =$F$3-M48/86400 -> 89454.842 | H48: 0 | I48: 0 | J48: 1 | K48: =Mission!D6 -> 4.3046185e+17 | L48: =$K$3^2*(J48-1)/($D$5) -> 0 | M48: =$K$3/$D$5*SINH($D$5*H48/$K$3) -> 0 | N48: =K48/$K$2 -> 45.5 | O48: =(G48-$F$2)/365.26 -> 64.715114
...

Sheet Calendar
A1: Day | B1: Month | C1: Month | D1: Holiday | E1: Length | F1: Total Days: | G1: =SUM(E:E) -> 364
A2: 0 | B2: =1 -> 1 | C2: Retniw | D2: =IF(MOD(B2,4)=1,1,0) -> 1 | E2: =IF(D2,7,28) -> 7
A3: =A2+E2 -> 7 | B3: =B2+1 -> 2 | C3: January | D3: =IF(MOD(B3,4)=1,1,0) -> 0 | E3: =IF(D3,7,28) -> 28
A4: =A3+E3 -> 35 | B4: =B3+1 -> 3 | C4: February | D4: =IF(MOD(B4,4)=1,1,0) -> 0 | E4: =IF(D4,7,28) -> 28
A5: =A4+E4 -> 63 | B5: =B4+1 -> 4 | C5: March | D5: =IF(MOD(B5,4)=1,1,0) -> 0 | E5: =IF(D5,7,28) -> 28
A6: =A5+E5 -> 91 | B6: =B5+1 -> 5 | C6: Gnirps | D6: =IF(MOD(B6,4)=1,1,0) -> 1 | E6: =IF(D6,7,28) -> 7
A7: =A6+E6 -> 98 | B7: =B6+1 -> 6 | C7: April | D7: =IF(MOD(B7,4)=1,1,0) -> 0 | E7: =IF(D7,7,28) -> 28
A8: =A7+E7 -> 126 | B8: =B7+1 -> 7 | C8: May | D8: =IF(MOD(B8,4)=1,1,0) -> 0 | E8: =IF(D8,7,28) -> 28
A9: =A8+E8 -> 154 | B9: =B8+1 -> 8 | C9: June | D9: =IF(MOD(B9,4)=1,1,0) -> 0 | E9: =IF(D9,7,28) -> 28
A10: =A9+E9 -> 182 | B10: =B9+1 -> 9 | C10: Remmus | D10: =IF(MOD(B10,4)=1,1,0) -> 1 | E10: =IF(D10,7,28) -> 7
A11: =A10+E10 -> 189 | B11: =B10+1 -> 10 | C11: July | D11: =IF(MOD(B11,4)=1,1,0) -> 0 | E11: =IF(D11,7,28) -> 28
A12: =A11+E11 -> 217 | B12: =B11+1 -> 11 | C12: August | D12: =IF(MOD(B12,4)=1,1,0) -> 0 | E12: =IF(D12,7,28) -> 28
A13: =A12+E12 -> 245 | B13: =B12+1 -> 12 | C13: September | D13: =IF(MOD(B13,4)=1,1,0) -> 0 | E13: =IF(D13,7,28) -> 28
A14: =A13+E13 -> 273 | B14: =B13+1 -> 13 | C14: Numtua | D14: =IF(MOD(B14,4)=1,1,0) -> 1 | E14: =IF(D14,7,28) -> 7
... A17: =A16+E16 -> 336 | B17: =B16+1 -> 16 | C17: December | D17: =IF(MOD(B17,4)=1,1,0) -> 0 | E17: =IF(D17,7,28) -> 28

Sheet Vehicle
A1: Distance | B1: 1
A2: Accelleration Rate: | B2: =Mission!B4 -> 7.84 | D2: Midpoint:
A4: Distance | B4: =Propulsion!$D$8 -> 4.3046185e+17 | C4: meter | D4: =Propulsion!D9 -> 2.1523092e+17 | E4: meter
A5: Travel time (ship) | B5: =Mission!B15 -> 1.3746612e+09 | C5: sec | D5: =B5/Conversion!$C$3 -> 43.561279 | E5: year
A6: Trave time (map) | B6: =Mission!B14 -> 1.9642517e+09 | C6: sec | D6: =B6/Conversion!$C$3 -> 62.244659 | E6: year
A8: Time in System | B8: 20
A9: Return Trip | B9: 0
A10: Total Mission Length | B10: =D5+B8+IF(B9,D5,0) -> 63.561279 | C10: (Earth) | D10: =D6+B8+IF(B9,D6,0) -> 82.244659 | G10: Frontal Area: | H10: =(4*PI()*700^2)*0.5 -> 3078760.8
A11: Target Population | B11: 3000
A12: Number Domes | B12: 3
A13: Population Profile | B13: island | C13: =LOOKUP(B13,Population!L9:L12,Population!M9:M12) -> Based on Polynsesian colonization. Primarily unmarried people in their 20s
A14: Volume / Dome | B14: =B37/B12*Geometry!C15*0.91 -> 21362664
A15: Dome Radius est | B15: =CEILING(POWER(B14*3/(4*PI()),1/3),2.5)*4 -> 690
A17: Tank Radius | B17: =B18*0.4 -> 260 | C17: 25
A18: 1 G Radius | B18: 650 | C18: =B18*2 -> 1300 | D18: =B18*2*PI() -> 4084.0704 | E18: =D57 -> 1873.6768 | F18: =B82 -> 1307.0015
A19: Population | B19: Seed | C19: Mission Arrival | D19: Mission End | E19: Peak | F19: Final
A20: Year | B20: 0 | C20: =D5+1 -> 44.561279 | D20: =B10 -> 63.561279 | E20: 34 | F20: 100
A21: General | B21: =LOOKUP(B20,'Population Model'!$A$3:$A$100,'Population Model'!$B$3:$B$100) -> 599 | C21: =LOOKUP(C20,'Population Model'!$A$3:$A$100,'Population Model'!$B$3:$B$100) -> 2737 | D21: =LOOKUP(D20,'Population Model'!$A$3:$A$100,'Population Model'!$B$3:$B$100) -> 3034 | E21: =Population!B3 -> 3136 | F21: =LOOKUP(F20,'Population Model'!$A$3:$A$100,'Population Model'!$B$3:$B$100) -> 3115
A22: Workforce | B22: =LOOKUP(B20,'Population Model'!$A$3:$A$100,'Population Model'!$C$3:$C$100) -> 599 | C22: =LOOKUP(C20,'Population Model'!$A$3:$A$100,'Population Model'!$C$3:$C$100) -> 1354 | D22: =LOOKUP(D20,'Population Model'!$A$3:$A$100,'Population Model'!$C$3:$C$100) -> 1400 | E22: =LOOKUP(E20,'Population Model'!$A$3:$A$100,'Population Model'!$C$3:$C$100) -> 1135 | F22: =LOOKUP(F20,'Population Model'!$A$3:$A$100,'Population Model'!$C$3:$C$100) -> 1199
A24: Housing - Single | B24: =Population!C22 -> 1278.7105 | C24: 500
A25: Housing - Family | B25: =Population!C24 -> 462 | C25: 1000
A27: Land Usage | B27: Budget | C27: Implemented | D27: Budget % | E27: Acres | F27: Acres/Capita
A28: Cattle Range: | B28: =Cattle!C11 -> 223000
A29: Crops Range: | B29: =Agriculture!C45*0.75 -> 10235188 | G29: (Assume a magical 25% production increase from technology)
A30: Forest/Orchard:
A31: Agriculture | B31: =B28+B29 -> 10458188 | C31: =Geometry!C21*$B$12 -> 10900212 | D31: =C31/B31 -> 1.0422659 | E31: =C31*Conversion!$F$18 -> 2693.5515 | F31: =E31/$B$11 -> 0.89785049 | G31: =E31*Conversion!D15 -> 1090.0416 | H31: =B31/B37 -> 0.74249095
A32: Settlement Area: | B32: =B24*C24+B25*C25 -> 1101355.2 | C32: =Geometry!C20*$B$12 -> 960327.41 | D32: =C32/B32 -> 0.87195065 | E32: =C32*Conversion!$F$18 -> 237.30651 | F32: =E32/$B$11 -> 0.079102169
A33: Recreation Area: | B33: =B11*40*Conversion!E15/1000 -> 485622.77 | C33: =Geometry!C19*$B$12 -> 576196.38 | D33: =C33/B33 -> 1.1865102 | E33: =C33*Conversion!$F$18 -> 142.38389 | F33: =E33/$B$11 -> 0.047461296
A34: Logistics | B34: =(B60+B62+Agriculture!E40)/1000/2 -> 2040107.4 | C34: =Geometry!C22*$B$12 -> 720245.36 | D34: =C34/B34 -> 0.35304287 | E34: =C34*Conversion!$F$18 -> 177.97983 | F34: =E34/$B$11 -> 0.059326611
A35: Industrial | B35: =E21*250 -> 784000 | C35: =Geometry!C23*$B$12 -> 720495.18 | D35: =C35/B35 -> 0.91899896 | E35: =C35*Conversion!$F$18 -> 178.04156 | F35: =E35/$B$11 -> 0.059347188
A37: Total allocated Area: | B37: =SUM(B31:B34) -> 14085273 | C37: =B52 -> 37922259 | D37: =C37/B37 -> 2.692334 | E37: m^2/person | F37: =B41/B11 -> 3.1235981
A38: Total | B38: =B52 -> 37922259 | C38: m^2 | E38: =19000*6000 -> 114000000 | F38: =E38/B38 -> 3.00615
B39: =B38/1000000 -> 37.922259 | C39: million m^2
B40: =B38/5400 -> 7022.6406 | C40: American football fields | H40: =750/0.26 -> 2884.6154
B41: =B38/4046.85642 -> 9370.7943 | C41: Acres | D41: =B38/Conversion!E17 -> 3792.2259 | G41: 109.728 | H41: =G41/H40 -> 0.03803904
B42: =B38*Conversion!G18 -> 14.641784 | C42: Square Miles
A43: Medievel Estimate | B43: =B11/(180) -> 16.666667 | C43: Square Miles
A45: Dome Radius | B45: =Geometry!E40 -> 260 | C45: =B18/B45 -> 2.5 | D45: =B45*2 -> 520
A46: Dome Land Surface | B46: =Geometry!C18 -> 12640753 | C46: =B46*Conversion!F18 -> 3123.6565
A47: Dome Levels | B47: =Geometry!E38 -> 149.05856
...

Sheet Automation
B1: Man Hrs | C1: Crew
B2: PEAK | D2: START
A3: Labor Hours - Repair | B3: =SUM(H:H) -> 1624720.4 | C3: =CEILING(B3/2000,1) -> 813
A4: Labor Hours - Operation | B4: =SUM(F:F) -> 44114.395 | C4: =CEILING(B4/2000,1) -> 23
A5: Labor Hours - Finished Goods/Capita | B5: 10
A7: Maintenance Schedule Robotics | B7: Work Hours | C7: Utilization | D7: Population | E7: Operation Unit (Hr) | F7: Operation All (hr) | G7: Repair Unit (hr) | H7: Repair all (hr) | I7: Design Life | J7: Manufacture | K7: Recycle | L7: Maintenance | M7: 24 | N7: =24*7 -> 168 | O7: 320 | P7: 960 | Q7: 3840 | R7: 5760 | S7: 11520 | T7: 15360
A8: Manufacturing Units | B8: =SUM(G:G)*SUM(D10:D13)/1000 -> 5810.2727 | C8: 1 | D8: =CEILING(B8*C8,1) -> 5811 | E8: 1 | F8: =E8*B8 -> 5810.2727 | G8: =SUM(J8:L8)*3840/I8 -> 133.8869 | H8: =G8*D8 -> 778016.8 | I8: =I10*3 -> 46080 | J8: 1000 | K8: =J8*0.25 -> 250 | L8: =M8*(I8/$M$7)+N8*(I8/$N$7)+O8*(I8/$O$7)+P8*(I8/$P$7)+Q8*(I8/$Q$7)+R8*(I8/$R$7)+S8*(I8/$S$7)+T8*(I8/$T$7) -> 356.64286 | M8: =1/60 -> 0.016666667 | N8: =2/60 -> 0.033333333 | O8: =5/60 -> 0.083333333 | P8: 1 | Q8: 1 | R8: 2 | S8: 10 | T8: =K8*0.25 -> 62.5
A10: Mobile Units | B10: =Vehicle!E21+Vehicle!B37/240 -> 61824.638 | C10: 0.1 | D10: =CEILING(B10*C10,1) -> 6183 | E10: 0.5 | F10: =E10*B10 -> 30912.319 | G10: =SUM(J10:L10)*3840/I10 -> 41.595238 | H10: =G10*D10 -> 257183.36 | I10: =15360 -> 15360 | J10: 100 | K10: =J10*0.1 -> 10 | L10: =M10*(I10/$M$7)+N10*(I10/$N$7)+O10*(I10/$O$7)+P10*(I10/$P$7)+Q10*(I10/$Q$7)+R10*(I10/$R$7)+S10*(I10/$S$7)+T10*(I10/$T$7) -> 56.380952 | M10: =1/60 -> 0.016666667 | N10: =2/60 -> 0.033333333 | O10: =5/60 -> 0.083333333 | P10: 1 | Q10: 1 | R10: 2 | S10: 10
A11: Food Processing Units | B11: =(Agriculture!E37+Agriculture!E38)/1000 -> 2887.8158 | C11: 0.1 | D11: =CEILING(B11*C11,1) -> 289 | E11: 1 | F11: =E11*B11 -> 2887.8158 | G11: =SUM(J11:L11)*3840/I11 -> 133.8869 | H11: =G11*D11 -> 38693.315 | I11: =I8 -> 46080 | J11: 1000 | K11: =J11*0.25 -> 250 | L11: =M11*(I11/$M$7)+N11*(I11/$N$7)+O11*(I11/$O$7)+P11*(I11/$P$7)+Q11*(I11/$Q$7)+R11*(I11/$R$7)+S11*(I11/$S$7)+T11*(I11/$T$7) -> 356.64286 | M11: =1/60 -> 0.016666667 | N11: =2/60 -> 0.033333333 | O11: =5/60 -> 0.083333333 | P11: 1 | Q11: 1 | R11: 2 | S11: 10 | T11: =K11*0.25 -> 62.5
A12: Tractors | B12: =SUM(Crops!AD:AD)/100 -> 1367.9873 | C12: 0.25 | D12: =CEILING(B12*C12,1) -> 342 | E12: 1 | F12: =E12*B12 -> 1367.9873 | G12: =SUM(J12:L12)*3840/I12 -> 41.595238 | H12: =G12*D12 -> 14225.571 | I12: =15360 -> 15360 | J12: 100 | K12: =J12*0.1 -> 10 | L12: =M12*(I12/$M$7)+N12*(I12/$N$7)+O12*(I12/$O$7)+P12*(I12/$P$7)+Q12*(I12/$Q$7)+R12*(I12/$R$7)+S12*(I12/$S$7)+T12*(I12/$T$7) -> 56.380952 | M12: =1/60 -> 0.016666667 | N12: =2/60 -> 0.033333333 | O12: =5/60 -> 0.083333333 | P12: 1 | Q12: 1 | R12: 2 | S12: 10
A13: Industrial Finished Goods | B13: =(Vehicle!E21*B5) -> 31360 | C13: 0.05 | D13: =CEILING(B13*C13,1) -> 1568 | E13: 0.1 | F13: =E13*B13 -> 3136 | G13: =SUM(J13:L13)*3840/I13 -> 342.22024 | H13: =G13*D13 -> 536601.33 | I13: =I10 -> 15360 | J13: 1000 | K13: =J13*0.25 -> 250 | L13: =M13*(I13/$M$7)+N13*(I13/$N$7)+O13*(I13/$O$7)+P13*(I13/$P$7)+Q13*(I13/$Q$7)+R13*(I13/$R$7)+S13*(I13/$S$7)+T13*(I13/$T$7) -> 118.88095 | M13: =1/60 -> 0.016666667 | N13: =2/60 -> 0.033333333 | O13: =5/60 -> 0.083333333 | P13: 1 | Q13: 1 | R13: 2 | S13: 10 | T13: =K13*0.25 -> 62.5

Sheet Conversion
A1: Constants | B1: Niave | C1: Exact | D1: Ship Calendar
A2: Days in year | B2: 365.25 | C2: 365.2425 | D2: 360
A3: Seconds in year | B3: =B2*3600*24 -> 31557600 | C3: =C2*3600*24 -> 31556952 | D3: =D2*3600*24 -> 31104000 | E3: http://www.projectrho.com/public_html/rocket/enginelist.php
A4: Hours/year | B4: =B3/3600 -> 8766 | C4: =C3/3600 -> 8765.82 | D4: =D3/3600 -> 8640
A5: Light Year | B5: 9.4607e+15
A6: Speed of Light | B6: 299792458 | C6: =B6*B6 -> 8.9875518e+16
A7: Mole | B7: 6.022e+23 | E7: 2130
A8: 3 * square Root of three | B8: =3*SQRT(3) -> 5.1961524 | C8: =1.4422*3 -> 4.3266
A9: Air Density | B9: 1.225 | C9: kg/m^3
A10: Soil Density | B10: 1700 | C10: kg/m^3
A11: G | B11: 9.8 | C11: m/s/s
A13: Area
A14: Agriculture Calculations | C14: km^2 | D14: hectare | E14: m^2 | F14: acre | G14: mile^2 | H14: ft^2
A15: acre | C15: 0.00404686 | D15: =1/F17 -> 0.40468564 | E15: 4046.8564 | F15: 1 | G15: 0.0015625
A16: km^2 | C16: 1 | D16: 100 | E16: =E17*D16 -> 1000000 | F16: 247.10538 | G16: 0.38610216
A17: hectare | C17: =1/D16 -> 0.01 | D17: 1 | E17: 10000 | F17: 2.4710538 | G17: 0.00386102
A18: m^2 | C18: 1e-06 | D18: =1/E17 -> 0.0001 | E18: 1 | F18: 0.00024711 | G18: 3.861e-07 | H18: 10.76
A21: Other
A22: 1 us ton/acre -> kg/hectare | D22: 2241.7023
A23: Beam Capacity | B23: =13790*3 -> 41370 | C23: kg/m
A24: Mass per m | B24: =27.4 -> 27.4
A25: Material | B25: Nickle/Iron Alloy 52/48
A26: Tensile Strength | B26: 640 | C26: N/mm^2
A27: Yield Point | B27: 240 | C27: N/mm^2
A28: Density | B28: 8.45 | C28: g/cm^3 | E28: e = m c^2
A29: Mass of eros | B29: 6.668e+15 | C29: kg | D29: =B29/(Vehicle!B79+Vehicle!B73) -> 1532291.6
A30: Mass of ceres | B30: 9.1e+20 | D30: =B30/(Vehicle!B55+Vehicle!B92) -> 3.520181e+10
A31: Nimitz Carrier | B31: 104600 | C31: Long Ton | D31: =B31*1016.05 -> 106278830 | E31: kg
A32: Musashi Class Battleship | B32: 72000 | C32: Long Ton | D32: =B32*1016.05 -> 73155600 | E32: kg
A33: Horsepower to KW | B33: 0.74569987
A34: KW to Horsepower | B34: =1/B33 -> 1.3410221
A35: Cultivation energy / hectare | B35: 312 | C35: kwh/hectare | D35: http://www.fao.org/docrep/003/X8054E/x8054e05.htm
A37: kwh/yr -> watt | B37: =1000/B3 -> 3.1688088e-05 | C37: =1/B37 -> 31557.6
A38: kwh/day -> watt | B38: =1000/(3600*24) -> 0.011574074 | C38: =1/B38 -> 86.4
A40: kilogram of oil (kgoe) | B40: =41868/1000 -> 41.868 | D40: kJ/kg
A41: Length of a Nimtz Carrier | B41: 333 | C41: m
A42: Length of Football Field | B42: 109.728 | C42: m
A44: Image Scale (carrier) | B44: 3.24 | C44: in | D44: 550 | E44: m | F44: =B44/D44*Conversion!B41 -> 1.9616727 | G44: in
A45: Image Scale (field) | B45: 7.2 | C45: in | D45: =Vehicle!B45*2 -> 520 | E45: m | F45: =B45/D45*Conversion!B42 -> 1.5193108 | G45: in

Sheet Geometry
A1: 1 G Radius | E1: =Vehicle!B18 -> 650 | G1: Max Tile Size: | H1: 847 | J1: Tile Room Area | L1: Housing Units Per Capita | O1: =80*50 -> 4000
A2: Radation Shielding | E2: =Vehicle!B68 -> 10000 | F2: kg/m^2 | G2: Shape | H2: Hexagon | J2: =H4*H4*(3*SQRT(3)/8) -> 889.19158 | K2: m^2 | L2: =Vehicle!B11/F20 -> 8.333329 | M2: =J2/8 -> 111.14895 | O2: =SQRT(O1*8/(3*SQRT(3))) -> 78.475492
A3: Accelleration | E3: 9.8 | G3: Max D | H3: =SQRT(H1*8/(3*SQRT(3))) -> 36.111519 | J3: =J2*Conversion!$H$18 -> 9567.7014 | K3: ft^2
A4: Angular Speed | E4: =SQRT(E3*1.05/E1) -> 0.12582038 | F4: =E3/E1 -> 0.015076923 | G4: Tile D | H4: 37 | I4: =35.3/2 -> 17.65 | J4: =J2*Conversion!F18 -> 0.21972813 | K4: Acres | O4: Hex:
A5: RPM | E5: =E4*30/PI() -> 1.2014962 | G5: Tile Outer Width | H5: 42 | I5: rad | O5: D | P5: =H4 -> 37 | R5: 100
A6: Mass m^3 | E6: =Vehicle!B66 -> 179.54619 | G6: Ring | H6: Perimeter | I6: 0 | J6: 0 | L6: Area | M6: Util | O6: R | P6: =P5/2 -> 18.5 | R6: =R5/2 -> 50
A7: Segment Length | E7: =2*E1*PI()/6 -> 680.67841 | G7: 0 | H7: 1 | I7: =$H$4*0.5+$H$5*G7 -> 18.5 | J7: =J6+H7 -> 1 | K7: =J7*$J$2 -> 889.19158 | L7: =I7*I7*PI() -> 1075.2101 | M7: =K7/L7 -> 0.82699334 | O7: r | P7: =COS(30*PI()/180)*P6 -> 16.02147 | Q7: =P7*2 -> 32.04294 | R7: =COS(30*PI()/180)*R6 -> 43.30127 | S7: =R7*2 -> 86.60254
A8: G at apex | E8: =$F$4*($E$1-E41)/9.8 -> 0.2 | G8: =G7+1 -> 1 | H8: 6 | I8: =$H$4*0.5+$H$5*G8 -> 60.5 | J8: =J7+H8 -> 7 | K8: =J8*$J$2 -> 6224.3411 | L8: =I8*I8*PI() -> 11499.015 | M8: =K8/L8 -> 0.54129344 | O8: t | P8: =P7*2/SQRT(3) -> 18.5 | R8: =R7*2/SQRT(3) -> 50
G9: =G8+1 -> 2 | H9: 12 | I9: =$H$4*0.5+$H$5*G9 -> 102.5 | J9: =J8+H9 -> 19 | K9: =J9*$J$2 -> 16894.64 | L9: =I9*I9*PI() -> 33006.358 | M9: =K9/L9 -> 0.51186017
A10: Diameter | C10: =Geometry!E41 -> 520 | D10: =Geometry!E40 -> 260 | E10: =D10*D10 -> 67600 | G10: =G9+1 -> 3 | H10: 18 | I10: =$H$4*0.5+$H$5*G10 -> 144.5 | J10: =J9+H10 -> 37 | K10: =J10*$J$2 -> 32900.089 | L10: =I10*I10*PI() -> 65597.24 | M10: =K10/L10 -> 0.50154684
A11: Vertical Usage | C11: 0.9 | D11: =C10*C11 -> 468 | G11: =G10+1 -> 4 | H11: 24 | I11: =$H$4*0.5+$H$5*G11 -> 186.5 | J11: =J10+H11 -> 61 | K11: =J11*$J$2 -> 54240.687 | L11: =I11*I11*PI() -> 109271.66 | M11: =K11/L11 -> 0.49638384
A12: Angular Speed | C12: =Geometry!E4 -> 0.12582038 | D12: =C12*C12 -> 0.015830769 | G12: =G11+1 -> 5 | H12: =H11+6 -> 30 | I12: =$H$4*0.5+$H$5*G12 -> 228.5 | J12: =J11+H12 -> 91 | K12: =J12*$J$2 -> 80916.434 | L12: =I12*I12*PI() -> 164029.62 | M12: =K12/L12 -> 0.49330379
A13: 1g Radius | C13: =Geometry!E1 -> 650 | G13: =G12+1 -> 6 | H13: =H12+6 -> 36 | I13: =$H$4*0.5+$H$5*G13 -> 270.5 | J13: =J12+H13 -> 127 | K13: =J13*$J$2 -> 112927.33 | L13: =I13*I13*PI() -> 229871.12 | M13: =K13/L13 -> 0.49126367
A14: Domes | C14: =Vehicle!B12 -> 3 | G14: =G13+1 -> 7 | H14: =H13+6 -> 42 | I14: =$H$4*0.5+$H$5*G14 -> 312.5 | J14: =J13+H14 -> 169 | K14: =J14*$J$2 -> 150273.38 | L14: =I14*I14*PI() -> 306796.16 | M14: =K14/L14 -> 0.48981506
A15: dy Standard | C15: 5 | D15: =C15*3.2808399 -> 16.4042 | E15: (1 meter utility, 1-2 meter soil, 3-4 meter headspace)
A16: Gallery Rate | C16: 5 | D16: =C16*3.2808399 -> 16.4042 | G16: Note: Some decks do not have area that adds up to 100% to represent thru-deck features
A17: Floor Count | C17: =SUM(Gravity!I:I) -> 149.05856 | F17: Tiles
A18: Total Area | C18: =SUM(Gravity!J:J) -> 12640753 | D18: =C18*Conversion!F18 -> 3123.6565 | H18: Height
A19: Park Area | C19: =SUM(Gravity!P:P)*2/3 -> 192065.46 | D19: =Vehicle!B33/$C$14 -> 161874.26 | E19: =C19/D19 -> 1.1865102 | F19: =C19/$J$2 -> 216.00009 | G19: Machinery | H19: 0 | I19: 5
A20: Settlement Area | C20: =SUM(Gravity!O:O) -> 320109.14 | D20: =Vehicle!B32/$C$14 -> 367118.41 | E20: =C20/D20 -> 0.87195065 | F20: =C20/$J$2 -> 360.00019 | G20: Agriculture | H20: 1 | I20: 5 | M20: =15.5*12 -> 186
A21: Agriculture | C21: =SUM(Gravity!M:N)+SUM(Gravity!P:P)*1/3 -> 3633404.1 | D21: =Vehicle!B31/$C$14 -> 3486062.6 | E21: =C21/D21 -> 1.0422659 | F21: =C21/$J$2 -> 4086.1882 | G21: Forest | H21: 2 | I21: 15 | M21: =18*10 -> 180
A22: Cargo Area | C22: =SUM(Gravity!Q:Q) -> 240081.79 | D22: =Vehicle!B34/$C$14 -> 680035.79 | E22: =C22/D22 -> 0.35304287 | F22: =C22/$J$2 -> 270.00007 | G22: Residential | H22: 3 | I22: 5
A23: Industry | C23: =SUM(Gravity!R:R) -> 240165.06 | D23: =Vehicle!B35/$C$14 -> 261333.33 | E23: =C23/D23 -> 0.91899896 | F23: =C23/$J$2 -> 270.09372 | G23: Park/Rec/Orchard | H23: 4 | I23: 15
A24: Machinery | C24: =SUM(Gravity!S:S) -> 189397.81 | G24: Cargo/Commercial | H24: 5 | I24: 5
A25: Height | G25: Industry | H25: 6 | I25: 5
A26: Usage: | C26: =SUM(J19:J23) -> 0 | G26: Future | H26: 7 | I26: 5
A28: Widest Deck | B28: =LOOKUP(C28,Gravity!D:D,Gravity!A:A) -> 46 | C28: =C13-C10+D10 -> 390 | D28: =LOOKUP(B28,Gravity!A:A,Gravity!H:H) -> 260
A30: Design of a spheriod dome | E30: Sphere + Flywheel
A31: Total Area | E31: =Vehicle!B37 -> 14085273
A32: Number of domes | E32: =Vehicle!B12 -> 3
A33: Inner Radius | E33: =E1/IF(E32=3,5,IF(E32=6,2)) -> 130
A34: Design Area per dome | E34: =E31/E32 -> 4695091
E35: =E36/$E$34 -> 3.1747746e-05
A36: Implementation area | E36: =SUM(Gravity!I:I) -> 149.05856
A37: dy | E37: 5
A38: Levels | E38: =Geometry!C17 -> 149.05856
A39: Verticle Usage | E39: 1
A40: Radius | E40: =E41/2 -> 260 | F40: =E40*2 -> 520
A41: Height | E41: =E1-E33 -> 520 | G41: =E41*2+E33*2 -> 1300
A42: Width | E42: =E40*2 -> 520
...

Sheet Gravity
A1: Total Levels | C1: =Geometry!C17 -> 149.05856 | G1: Tile Area | H1: =Geometry!J2 -> 889.19158
A2: Widest | C2: =Geometry!B28 -> 46 | E2: Spheres | F2: =Vehicle!B12 -> 3 | H2: =SQRT(H1*(SQRT(3))/2) -> 27.75 | I2: =H2*2 -> 55.5 | J2: =I2*10 -> 555 | L2: =390*COS(120/180*PI()) -> -195 | N2: =(12.5)*PI() -> 39.269908 | O2: =5/N2 -> 0.12732395 | Q2: 0.06 | R2: =5/Q2 -> 83.333333
A3: Hab Levels | C3: 5 | E3: Start Radius | F3: =Geometry!E33 -> 130 | I3: =364/I2 -> 6.5585586 | L3: =390*SIN(120/180*PI()) -> 337.74991 | N3: =32*4 -> 128 | O3: =5/N3 -> 0.0390625 | P3: =15/N3 -> 0.1171875
A4: Ag Level | C4: 4
A5: Machinery | C5: 5 | E5: Sphere Radius | F5: =Geometry!$D$10 -> 260
A6: Levels | B6: Name | C6: Usage | D6: Rot Radius | E6: h | G6: %g | H6: Floor Radius | J6: Area | K6: Tiles | L6: Floor Area | M6: Agriculture | N6: Forest | O6: Settlement | P6: Park | Q6: Cargo | R6: Industry | S6: Machinery
B7: =2*F5 -> 520 | D7: =F3 -> 130 | E7: =F5 -> 260 | F7: =Geometry!$D$12*D7 -> 2.058 | G7: =IF(H7>0,F7/9.8,0) -> 0 | H7: =IF(ABS(F5*F5)<=Geometry!$E$10,SQRT(Geometry!$E$10-F5*F5),0) -> 0 | I7: =IF(H7>0,1,0) -> 0
A8: 1 | B8: =B7-(D8-D7) -> 515 | C8: 0 | D8: =D7+LOOKUP(C8,Geometry!$H$19:$I$25) -> 135 | E8: =E7-(D8-D7) -> 255 | F8: =Geometry!$D$12*D8 -> 2.1371538 | G8: =IF(H8>0,F8/9.8,0) -> 0.21807692 | H8: =IF(ABS(E8*E8)<=Geometry!$E$10,SQRT(Geometry!$E$10-E8*E8),0) -> 50.744458 | I8: =IF(H8>0,1,0) -> 1 | J8: =PI()*H8*H8 -> 8089.6011 | K8: =LOOKUP(H8,Geometry!$I$6:$J$14) -> 1 | L8: =K8*Geometry!$J$2 -> 889.19158 | M8: =IF($C8=1,$L8-$S8,0) -> 0 | N8: =IF($C8=2,$L8-$S8,0) -> 0 | O8: =IF($C8=3,$L8-$S8,0) -> 0 | P8: =IF($C8=4,$L8-$S8,0) -> 0 | Q8: =IF($C8=5,$L8-$S8,0) -> 0 | R8: =IF($C8=6,$L8-$S8,0) -> 0 | S8: =IF($C8=0,$L8,$H$1) -> 889.19158
A9: =A8+1 -> 2 | B9: =B8-(D9-D8) -> 510 | C9: 0 | D9: =D8+LOOKUP(C9,Geometry!$H$19:$I$25) -> 140 | E9: =E8-(D9-D8) -> 250 | F9: =Geometry!$D$12*D9 -> 2.2163077 | G9: =IF(H9>0,F9/9.8,0) -> 0.22615385 | H9: =IF(ABS(E9*E9)<=Geometry!$E$10,SQRT(Geometry!$E$10-E9*E9),0) -> 71.414284 | I9: =IF(H9>0,1,0) -> 1 | J9: =PI()*H9*H9 -> 16022.123 | K9: =LOOKUP(H9,Geometry!$I$6:$J$14) -> 7 | L9: =K9*Geometry!$J$2 -> 6224.3411 | M9: =IF($C9=1,$L9-$S9,0) -> 0 | N9: =IF($C9=2,$L9-$S9,0) -> 0 | O9: =IF($C9=3,$L9-$S9,0) -> 0 | P9: =IF($C9=4,$L9-$S9,0) -> 0 | Q9: =IF($C9=5,$L9-$S9,0) -> 0 | R9: =IF($C9=6,$L9-$S9,0) -> 0 | S9: =IF($C9=0,$L9,$H$1) -> 6224.3411
