Workbook

Sheet design
A1: Overall
A2: (With Drop Tank) | B2: gvm | C2: 262000 | D2: kg | E2: =D13+B13+C3 -> 261622.71 | F2: actual | G2: =E2/1000 -> 261.62271 | H2: tons | I2: =C2/constants!$C$13 -> 4.1587302 | J2: 737's
B3: reaction mass | C3: =structure!C4 -> 216000 | E3: =C3/3 -> 72000 | F3: actual | G3: =C3/1000 -> 216 | H3: tons
B4: Max Deltav | C4: =performance!$C$6*LN((design!C2+design!C3)/design!C2) -> 25253.182 | D4: m/s | E4: =C4/constants!$C$10*3600*24 -> 0.014584933 | F4: au/day | G4: =C4/constants!$C$37 -> 2.2575477 | H4: EEV
B5: Max Accel | C5: =(performance!$C$4*performance!$C$6)/(E2-C3)/9.8 -> 5.7427536 | D5: g
B6: Max Range | C6: =E4*C10 -> 0.43754798 | D6: au
A8: All
A9: Mission Profile | B9: Crew | C9: =accomodation!C5 -> 12 | D9: souls
B10: Endurance | C10: 30 | D10: days
A11: Mass Budget | H11: =D13-B13 -> 23622.713
B12: Payload | D12: Dry Mass | F12: Volume
A13: Total | B13: =SUM(B14:B23) -> 11000 | D13: =SUM(D14:D22) -> 34622.713 | E13: kg | F13: =SUM(F14:F23) -> 317.37143 | G13: m^3 | H13: =SUM(H14:H22) -> 45.622713 | I13: MT
A14: Bulk Cargo | B14: =structure!C3 -> 11000 | C14: kg | E14: kg | F14: =structure!B3 -> 10 | G14: m^3 | H14: =B14/1000 -> 11 | I14: MT
A15: Internal Reaction Tank | E15: kg | F15: =structure!B4 -> 80 | G15: m^3 | H15: =D15/1000 -> 0 | I15: MT
A16: Fuel Capacity | C16: kg | E16: kg | F16: =structure!B4 -> 80 | G16: m^3 | H16: =D16/1000 -> 0 | I16: MT
A17: Accomdation | C17: kg | D17: =accomodation!C25 -> 13882 | E17: kg | F17: =accomodation!C24 -> 127.37143 | G17: m^3 | H17: =D17/1000 -> 13.882 | I17: MT
A18: Structure | D18: =F13*constants!C4 -> 18762.639 | E18: kg | H18: =D18/1000 -> 18.762639 | I18: MT
A19: Engines | D19: =performance!C10 -> 1097.6257 | E19: kg | H19: =D19/1000 -> 1.0976257 | I19: MT
A20: Reactor | D20: =performance!C16 -> 880.448 | E20: kg | F20: =structure!B11*2 -> 20 | G20: m^3 | H20: =D20/1000 -> 0.880448 | I20: MT
A21: Gyros | D21: =structure!C47 -> 0 | E21: kg | H21: =D21/1000 -> 0 | I21: MT
A22: External Tanks | E22: kg | H22: =D22/1000 -> 0 | I22: MT

Sheet structure
A1: Voyage Stages
B2: Volume | C2: Mass
A3: Cargo Pods | B3: =D3*$B$12 -> 10 | C3: =B3*constants!$C$19 -> 11000 | D3: 0.5 | E3: =C3/1000 -> 11
A4: Fuel Pods | B4: =D4*$B$12 -> 80 | C4: =B4*constants!$C$39 -> 216000 | D4: 4
A6: Hexagon | C6: Shell | D6: Outer
A7: Yield Strength | B7: =constants!E34 -> 2400000000 | G7: =constants!J34 -> 0
A8: Radius | B8: =SQRT(B11*2/(3*SQRT(3))) -> 1.9618873 | D8: =B8+B9 -> 2 | E8: =B8*2*1000 -> 3923.7746 | F8: =B8*1000 -> 1961.8873 | G8: 2
A9: Thickness | B9: =2-B8 -> 0.038112696 | C9: 0.001 | G9: =2-G8 -> 0
A10: Height | B10: 2 | C10: =B10+(B9*2) -> 2.0762254 | D10: =B10+B9 -> 2.0381127 | G10: 2
A11: Area | B11: 10 | C11: =((D11*2)+6*D8*D10) -> 45.241962 | D11: =SQRT(3)*3/2*D8*D8 -> 10.392305 | E11: =1219 * 1016/1000000 -> 1.238504 | G11: 10.1
A12: Volume | B12: =B11*B10 -> 20 | C12: =(D12-B12)*0.1 -> 0.11806884 | D12: =D11*D10 -> 21.180688 | G12: =G11*G10 -> 20.2
A13: Mass | B13: =B12*constants!C19+C13 -> 22193.633 | C13: =C12*constants!C33*0.2 -> 193.6329 | E13: 2086.525 | G13: =G12*constants!H19+H13 -> 0
A14: Scale | B14: =200/10 -> 20
A15: Vertex | B15: Theta | C15: x | D15: y
A16: 1 | B16: =2*PI()*A16/6 -> 1.0471976 | C16: =COS(B16)*($B$8+$B$9)*$B$14 -> 20 | D16: =SIN(B16)*($B$8+$B$9)*$B$14 -> 34.641016
A17: 2 | B17: =2*PI()*A17/6 -> 2.0943951 | C17: =COS(B17)*($B$8+$B$9)*$B$14 -> -20 | D17: =SIN(B17)*($B$8+$B$9)*$B$14 -> 34.641016
A18: 3 | B18: =2*PI()*A18/6 -> 3.1415927 | C18: =COS(B18)*($B$8+$B$9)*$B$14 -> -40 | D18: =SIN(B18)*($B$8+$B$9)*$B$14 -> 4.9005938e-15
A19: 4 | B19: =2*PI()*A19/6 -> 4.1887902 | C19: =COS(B19)*($B$8+$B$9)*$B$14 -> -20 | D19: =SIN(B19)*($B$8+$B$9)*$B$14 -> -34.641016
A20: 5 | B20: =2*PI()*A20/6 -> 5.2359878 | C20: =COS(B20)*($B$8+$B$9)*$B$14 -> 20 | D20: =SIN(B20)*($B$8+$B$9)*$B$14 -> -34.641016
A21: 6 | B21: =2*PI()*A21/6 -> 6.2831853 | C21: =COS(B21)*($B$8+$B$9)*$B$14 -> 40 | D21: =SIN(B21)*($B$8+$B$9)*$B$14 -> -9.8011876e-15
A22: Radiator
B23: Energy Dissapation | C23: 350 | D23: w/m^2
B24: Mass | C24: 1 | D24: kg/m^2
B25: Thermal Heat (peak) | C25: =performance!C22 -> 3521792 | D25: watt
B26: Thermal Heat (coast) | C26: =accomodation!C12/24/3600*1000 -> 4.6296296 | D26: watt
B28: Surface area | C28: =B8*B10*3*6 -> 70.627943 | D28: m^2
B29: radiated watts | C29: =C28*C23 -> 24719.78 | D29: watt
C30: =design!C3 -> 216000
B31: Enthalpy of react mass | C31: =C30*constants!C27 -> 72046800000
B32: Time to melt | C32: =C31/C25 -> 20457.426 | D32: seconds | E32: =C32/24/3600 -> 0.23677577 | F32: days
B33: Temperature rise water | C33: =C25/(C30*constants!C28) -> 0.0038950293 | D33: dec c / second
C34: =C33*(performance!C75+performance!C64) -> 0 | D34: Full engine thrust

Sheet accomodation
A2: Crew | C2: 1
A3: Officers | C3: 1
A4: Passenger | C4: 10
A5: All | C5: =C2+C3+C4 -> 12
A6: Mission Duration | C6: =design!C10 -> 30 | D6: days
A8: Vessel
B9: Area | C9: =SUM(B50:B64) -> 0 | D9: m^2 | E9: =C9/C5 -> 0 | F9: m^2/person
B10: Dry Mass | C10: =SUM(F50:F65) -> 0 | D10: kg | E10: =C10/C5/1000 -> 0 | F10: ton/person
B11: Height | C11: =SUM(C50:C63) -> 0 | D11: m
B12: Power Usage | C12: =C5*constants!C22 -> 400 | D12: kwh/day
B13: Electrical Efficiency | C13: 0.8
B14: Life Support Equipment | C14: =constants!C23*C5 -> 9322 | D14: kg | E14: =C14/2000 -> 4.661 | F14: m^3 | G14: volume
A15: Food
B16: Meals/day | C16: =C5*3 -> 36
B17: Meal Mass | C17: 2 | D17: kg/meal
B18: Mass | C18: =C16*C6*C17 -> 2160 | D18: kg
A19: Occupants
B20: Humans | C20: =E20*C5 -> 1200 | D20: kg | E20: 100 | F20: kg / person
B21: Personal Effects | C21: =C5*E21 -> 1200 | D21: kg | E21: 100 | F21: kg
A23: Total
B24: Volume | C24: =74.3/7*C5 -> 127.37143 | D24: m^3 | E24: =C24/structure!B12 -> 6.3685714 | F24: containers
B25: Mass | C25: =C20+C21+C18+C14 -> 13882

Sheet performance
A1: Voyage
A3: Performance
B4: mdot | C4: =C9/C6 -> 61.133333 | D4: kg/s | E4: 1400 MJ/kg | F4: https://en.wikipedia.org/wiki/Specific_impulse
B5: deltav | C5: =design!C4 -> 25253.182 | D5: m/s | E5: =C5/constants!$C$10*3600*24 -> 0.014584933 | F5: au/day
B6: ve | C6: 42000 | D6: nuclear plasma | E6: =C6/200000000 -> 0.00021
B7: iSP | C7: =C6/9.8 -> 4285.7143 | D7: s
B8: Efficiency | C8: 0.6
B9: Impulse | C9: =design!C2*E9 -> 2567600 | D9: N | E9: =9.8*1 -> 9.8 | F9: m/s/s
B10: Engine mass | C10: =C4/1000*constants!C3*E10 -> 1097.6257 | D10: kg | E10: 100 | F10: w/kg
B11: Empty Mass | C11: =C26+C27 -> 45622.713
A12: Fusion Fuel Usage
B13: Fuel Mass Fac | C13: 5.0520903e-11 | D13: kg/kwh
B14: Peak Output | C14: =(G20)*3.6+(C9*(1-C8)) -> 8804480 | D14: w | E14: =POWER(C14,0.5) -> 2967.2344 | F14: =POWER(C14,0.3333) -> 206.38102
B15: Efficiency | C15: 0.6
B16: Reactor Mass | C16: =C14/E16 -> 880.448 | D16: kg | E16: 10000 | F16: w/kg | G16: =C16/1000 -> 0.880448 | H16: ton
B17: Rector Volume | C17: =C16/7000 -> 0.12577829 | D17: m^2
B18: Reactor Radius | C18: =POWER(C17*3/(4*PI()),1/3) -> 0.31081766 | D18: m
B19: Engines | C19: =E19*C13 -> 7.6548812e-06 | D19: kg/kg | E19: =G19/1000*3600 -> 151519.09 | F19: kwh/kg | G19: =C5/C8 -> 42088.636 | H19: wat/kg | I19: Lithium Deutride is exploded in volumes of propellent to produce thrust
B20: Habitat | C20: =E20/(24*3600) -> 1.2632565e-09 | D20: kg/s | E20: =G20*$C$13 -> 0.00010914536 | F20: kg/day | G20: =accomodation!C12+90*1000*24 -> 2160400 | H20: kwh
A21: Thermal Management
B22: Engines Running | C22: =C14*(1-C15) -> 3521792 | D22: w
B23: Coasting | C23: =G20/3600*1000 -> 600111.11 | D23: w
A25: Propellent
B26: dry mass | C26: =design!D13 -> 34622.713
B27: payload | C27: =design!B13 -> 11000
B28: mf | C28: =C26+C27 -> 45622.713
B29: stages | C29: 2
B30: total Propellent | C30: =SUM(D38:D39) -> 106233.3
B31: total fuel | C31: =SUM(E38:E39) -> 0.81320952
A33: Total Propellant | B33: =SUM(D38:D39) -> 106233.3 | C33: =structure!C4 -> 216000
A35: Ferry Range | B35: =(J44+J46)+H44*(design!$C$10-L41) -> 0 | C35: au
A36: Deploy / Patrol / Return | L36: =SUM(L38:L39)/24 -> 0.020112629
A37: Stage | B37: m0 | C37: mf | D37: propellant | E37: Fuel | F37: deltav | H37: actual | J37: distance | K37: Max G | L37: Time
A38: 1 | B38: =EXP(F38/$C$6)*C38 -> 151856.83 | C38: =B39 -> 83235.331 | D38: =B38-C38-E38 -> 68620.969 | E38: =(B38-C38)*$C$19 -> 0.52528939 | F38: =$C$5 -> 25253.182 | G38: =$C$6*LN(B38/C38) -> 25253.182 | H38: =F38/3600/1000 -> 0.0070147727 | I38: au/day | J38: =$C$5*(B38/$C$4)*(1-(C38/B38)*(LOG(B38/C38)+1))/constants!$C$10 -> 0.0001294675 | K38: =($C$6*$C$4)/C38/9.8 -> 3.1477018 | L38: =D38/$C$4/3600 -> 0.31180011 | M38: hours
A39: =A38+1 -> 2 | B39: =EXP(F39/$C$6)*C39 -> 83235.331 | C39: =$C$28 -> 45622.713 | D39: =B39-C39-E39 -> 37612.33 | E39: =(B39-C39)*$C$19 -> 0.28792013 | F39: =$C$5 -> 25253.182 | G39: =$C$6*LN(B39/C39) -> 25253.182 | H39: =F39*3600*24/constants!$C$10 -> 0.014584933 | I39: au/day | J39: =$C$5*(B39/$C$4)*(1-(C39/B39)*(LOG(B39/C39)+1))/constants!$C$10 -> 7.0963356e-05 | K39: =($C$6*$C$4)/C39/9.8 -> 5.7427536 | L39: =D39/$C$4/3600 -> 0.17090299 | M39: hours

Sheet constants
A2: kg/m^3
B3: steel ship | C3: =E3*1016.04691/0.0283168466 -> 179.54619 | D3: kg/m^3 | E3: =3220/(390*55*30) -> 0.005003885 | F3: long ton/ft^3
B4: steel ship | C4: =C3*C39/C33 -> 59.118867 | D4: kg/m^3
B5: cryogenic fuel tank | C5: =26500/(553358+1497440)*1000 -> 12.921799 | E5: Based on Space Shuttle main tank
B6: ice tank | C6: =C7 -> 0.0027777778
B7: solid propellant | C7: =(500*907.18470008/C32)/(90*907.18470008) -> 0.0027777778 | D7: kg/m^3
A8: Kg/m^2 manned space | C8: 310
A9: Radition Shielding | C9: 2000 | D9: kg/m^2
A10: AU | C10: 149597870700 | D10: m
A12: Mass
A13: Boeing 737-400 | B13: max takeoff | C13: 63000 | D13: kg
A14: Nimitz Carrier | C14: =1046000*1016.4 -> 1063154400 | D14: kg
A15: Saturn v | C15: 2970000 | D15: kg
A17: Cruise Ship | C17: =226963/5479 -> 41.424165 | D17: tons/person
A19: Cargo Density | C19: 1100 | D19: kg/m^3
A21: Meals Per Chef | C21: =17300/114 -> 151.75439 | E21: https://www.stripes.com/news/what-does-it-take-to-feed-an-aircraft-carrier-on-a-combat-mission-about-17-300-meals-1.527749
A22: Power Requirements | C22: =100/3 -> 33.333333 | D22: kwh/person/day | E22: Based on international space station
A23: Life Support Equipment | C23: =4661/6 -> 776.83333 | D23: kg/person
A25: Water
B26: density | C26: 999.8 | D26: kg/m^3
B27: enthalpy of fusion | C27: =333.55*1000 -> 333550 | D27: J/kg
B28: enthalpy | C28: =4186 -> 4186 | D28: J/kg
A29: Ice
B30: density | C30: 916.7 | D30: kg/m^3
A31: Ammonium Percolate
B32: density | C32: 2000 | D32: kg/m^3
A33: Steel (Maraging) | B33: density | C33: 8200 | D33: kg/m^3
B34: yield | C34: 2400 | D34: Mpa | E34: =1000000*C34 -> 2400000000 | F34: Pa
A36: Earth Escape Velocity | C36: 40270 | D36: km/h
C37: =C36*0.2777778 -> 11186.112 | D37: m/2
A39: Aluminum | B39: density | C39: 2700 | D39: kg/m^3
