Workbook

Sheet Vehicle
A1: Distance | B1: 45.7 | C1: ly | D1: 45.7 | E1: 4.5 | F1: 200
A2: Distance | B2: =B1*Conversion!$B$5 -> 4.3235399e+17 | C2: m | E2: =E1*Conversion!$B$5 -> 4.257315e+16 | F2: =F1*Conversion!$B$5 -> 1.89214e+18
A4: Accelleration Rate: | B4: =Conversion!B11 -> 9.8 | C4: m/s/s | E4: 9.8 | F4: 9.8
A5: Turn-Around Distance | B5: =B2/2 -> 2.16177e+17 | E5: =E2/2 -> 2.1286575e+16 | F5: =F2/2 -> 9.4607e+17
A6: Lorentz Factor (ymid) | B6: =1+B4*(B2*0.5)/(Conversion!$B$6*Conversion!$B$6) -> 24.571876 | E6: =1+E4*(E2*0.5)/(Conversion!$B$6*Conversion!$B$6) -> 3.3210819 | F6: =1+F4*(F2*0.5)/(Conversion!$B$6*Conversion!$B$6) -> 104.15919
A8: Travel time (ship) | B8: =4*(Conversion!$B$6/B4)*ACOSH(B6) -> 4.765275e+08 | C8: s | E8: =4*(Conversion!$B$6/E4)*ACOSH(E6) -> 2.2881623e+08 | F8: =4*(Conversion!$B$6/F4)*ACOSH(F6) -> 6.5330828e+08
B9: =B8/Conversion!$C$3 -> 15.100555 | C9: year | E9: =E8/Conversion!$B$3 -> 7.2507488 | F9: =F8/Conversion!$B$3 -> 20.70209
A10: Trave time (map) | B10: =4*(Conversion!$B$6/B4)*SINH(ACOSH(B6)) -> 3.0042287e+09 | C10: s | E10: =4*(Conversion!$B$6/E4)*SINH(ACOSH(E6)) -> 3.8752176e+08 | F10: =4*(Conversion!$B$6/F4)*SINH(ACOSH(F6)) -> 1.2744776e+10
B11: =B10/Conversion!$C$3 -> 95.200216 | C11: year | E11: =E10/Conversion!$B$3 -> 12.279824 | F11: =F10/Conversion!$B$3 -> 403.85759
A13: Time in System | B13: 20
A14: Return Trip | B14: 0
A15: Total Mission Length | B15: =B9+B13+IF(B14,B9,0) -> 35.100555 | C15: (Earth) | D15: =B11+B13+IF(B14,B11,0) -> 115.20022
A16: Target Population | B16: 1000
A17: Number Domes | B17: 6
A18: Population Profile | B18: balanced | C18: =LOOKUP(B18,Population!L9:L12,Population!M9:M12) -> Balanced Population Level based on developed technological cultures
A19: Volume / Dome | B19: =B40/B17*Geometry!C15*0.91 -> 3926154.6
A20: Dome Radius est | B20: =CEILING(POWER(B19*3/(4*PI()),1/3),2.5)*4 -> 400
A22: 1 G Radius | B22: 425 | C22: =B22*2 -> 850
A23: Population | B23: Seed | C23: Mission Arrival | D23: Mission End | E23: Peak | F23: Final
A24: Year | B24: 0 | C24: =B9+1 -> 16.100555 | D24: =B15 -> 35.100555 | E24: 34 | F24: 100
A25: General | B25: =LOOKUP(B24,'Population Model'!$A$3:$A$100,'Population Model'!$B$3:$B$100) -> 829 | C25: =LOOKUP(C24,'Population Model'!$A$3:$A$100,'Population Model'!$B$3:$B$100) -> 938 | D25: =LOOKUP(D24,'Population Model'!$A$3:$A$100,'Population Model'!$B$3:$B$100) -> 985 | E25: =Population!B3 -> 989 | F25: =LOOKUP(F24,'Population Model'!$A$3:$A$100,'Population Model'!$B$3:$B$100) -> 987
A26: Workforce | B26: =LOOKUP(B24,'Population Model'!$A$3:$A$100,'Population Model'!$C$3:$C$100) -> 477 | C26: =LOOKUP(C24,'Population Model'!$A$3:$A$100,'Population Model'!$C$3:$C$100) -> 419 | D26: =LOOKUP(D24,'Population Model'!$A$3:$A$100,'Population Model'!$C$3:$C$100) -> 383 | E26: =LOOKUP(E24,'Population Model'!$A$3:$A$100,'Population Model'!$C$3:$C$100) -> 385 | F26: =LOOKUP(F24,'Population Model'!$A$3:$A$100,'Population Model'!$C$3:$C$100) -> 385
A28: Housing - Single | B28: =Population!C22 -> 396.11065 | C28: 500
A29: Housing - Family | B29: =Population!C23 -> 202 | C29: 1000
A31: Land Usage | B31: Budget | C31: Implemented | D31: Budget % | E31: Acres | F31: Acres/Capita
A32: Cattle Range: | B32: =Cattle!D11 -> 25000
A33: Crops Range: | B33: =Agriculture!C45*0.75 -> 4481635.3 | G33: (Assume a magical 25% production increase from technology)
A34: Agriculture | B34: =B32+B33 -> 4506635.3 | C34: =Geometry!C21*$B$17 -> 4668790 | D34: =C34/B34 -> 1.0359813 | E34: =C34*Conversion!$F$18 -> 1153.7047 | F34: =E34/$B$16 -> 1.1537047
A35: Settlement Area: | B35: =B28*C28+B29*C29 -> 400055.33 | C35: =Geometry!C20*$B$17 -> 579199.73 | D35: =C35/B35 -> 1.4477991 | E35: =C35*Conversion!$F$18 -> 143.12605 | F35: =E35/$B$16 -> 0.14312605
A36: Recreation Area: | B36: =B16*40*Conversion!E15/1000 -> 161874.26 | C36: =Geometry!C19*$B$17 -> 158996 | D36: =C36/B36 -> 0.98221921 | E36: =C36*Conversion!$F$18 -> 39.289503 | F36: =E36/$B$16 -> 0.039289503
A37: Cargo Storage | B37: =(B63+B65+Agriculture!E40)/1000/2 -> 108781.9 | C37: =Geometry!C22*$B$17 -> 117131.14 | D37: =C37/B37 -> 1.0767521 | E37: =C37*Conversion!$F$18 -> 28.944276 | F37: =E37/$B$16 -> 0.028944276
A38: Industrial | B38: =E25*250 -> 247250 | C38: =Geometry!C23*$B$17 -> 253257.92 | D38: =C38/B38 -> 1.024299 | E38: =C38*Conversion!$F$18 -> 62.582565 | F38: =E38/$B$16 -> 0.062582565
A40: Total allocated Area: | B40: =SUM(B34:B37) -> 5177346.7 | C40: =B55 -> 6686880 | D40: =C40/B40 -> 1.291565 | E40: m^2/person | F40: =B44/B16 -> 1.652364
A41: Total | B41: =B55 -> 6686880 | C41: m^2 | E41: =19000*6000 -> 114000000 | F41: =E41/B41 -> 17.04831
B42: =B41/1000000 -> 6.68688 | C42: million m^2
B43: =B41/5400 -> 1238.3111 | C43: American football fields | H43: =750/0.26 -> 2884.6154
B44: =B41/4046.85642 -> 1652.364 | C44: Acres | G44: 109.728 | H44: =G44/H43 -> 0.03803904
B45: =B41/2590000 -> 2.5818069 | C45: Square Miles
A46: Medievel Estimate | B46: =B16/(180) -> 5.5555556 | C46: Square Miles
A48: Dome Radius | B48: =Geometry!E40 -> 110 | C48: =B22/B48 -> 3.8636364 | D48: =B48*2 -> 220
...

Sheet Automation
B1: Man Hrs | C1: Crew
B2: PEAK | D2: START
A3: Labor Hours - Repair | B3: =SUM(H:H) -> 562707.68 | C3: =CEILING(B3/2000,1) -> 282
A4: Labor Hours - Operation | B4: =SUM(F:F) -> 16002.691 | C4: =CEILING(B4/2000,1) -> 9
A5: Labor Hours - Finished Goods/Capita | B5: 10
A7: Maintenance Schedule Robotics | B7: Work Hours | C7: Utilization | D7: Population | E7: Operation Unit (Hr) | F7: Operation All (hr) | G7: Repair Unit (hr) | H7: Repair all (hr) | I7: Design Life | J7: Manufacture | K7: Recycle | L7: Maintenance | M7: 24 | N7: =24*7 -> 168 | O7: 320 | P7: 960 | Q7: 3840 | R7: 5760 | S7: 11520 | T7: 15360
A8: Manufacturing Units | B8: =SUM(G:G)*SUM(D10:D13)/1000 -> 2082.3263 | C8: 1 | D8: =CEILING(B8*C8,1) -> 2083 | E8: 1 | F8: =E8*B8 -> 2082.3263 | G8: =SUM(J8:L8)*3840/I8 -> 133.8869 | H8: =G8*D8 -> 278886.42 | I8: =I10*3 -> 46080 | J8: 1000 | K8: =J8*0.25 -> 250 | L8: =M8*(I8/$M$7)+N8*(I8/$N$7)+O8*(I8/$O$7)+P8*(I8/$P$7)+Q8*(I8/$Q$7)+R8*(I8/$R$7)+S8*(I8/$S$7)+T8*(I8/$T$7) -> 356.64286 | M8: =1/60 -> 0.016666667 | N8: =2/60 -> 0.033333333 | O8: =5/60 -> 0.083333333 | P8: 1 | Q8: 1 | R8: 2 | S8: 10 | T8: =K8*0.25 -> 62.5
A10: Mobile Units | B10: =Vehicle!E25+Vehicle!B40/240 -> 22561.278 | C10: 0.1 | D10: =CEILING(B10*C10,1) -> 2257 | E10: 0.5 | F10: =E10*B10 -> 11280.639 | G10: =SUM(J10:L10)*3840/I10 -> 41.595238 | H10: =G10*D10 -> 93880.452 | I10: =15360 -> 15360 | J10: 100 | K10: =J10*0.1 -> 10 | L10: =M10*(I10/$M$7)+N10*(I10/$N$7)+O10*(I10/$O$7)+P10*(I10/$P$7)+Q10*(I10/$Q$7)+R10*(I10/$R$7)+S10*(I10/$S$7)+T10*(I10/$T$7) -> 56.380952 | M10: =1/60 -> 0.016666667 | N10: =2/60 -> 0.033333333 | O10: =5/60 -> 0.083333333 | P10: 1 | Q10: 1 | R10: 2 | S10: 10
A11: Food Processing Units | B11: =(Agriculture!E37+Agriculture!E38)/1000 -> 1080.5433 | C11: 0.1 | D11: =CEILING(B11*C11,1) -> 109 | E11: 1 | F11: =E11*B11 -> 1080.5433 | G11: =SUM(J11:L11)*3840/I11 -> 133.8869 | H11: =G11*D11 -> 14593.673 | I11: =I8 -> 46080 | J11: 1000 | K11: =J11*0.25 -> 250 | L11: =M11*(I11/$M$7)+N11*(I11/$N$7)+O11*(I11/$O$7)+P11*(I11/$P$7)+Q11*(I11/$Q$7)+R11*(I11/$R$7)+S11*(I11/$S$7)+T11*(I11/$T$7) -> 356.64286 | M11: =1/60 -> 0.016666667 | N11: =2/60 -> 0.033333333 | O11: =5/60 -> 0.083333333 | P11: 1 | Q11: 1 | R11: 2 | S11: 10 | T11: =K11*0.25 -> 62.5
A12: Tractors | B12: =SUM(Crops!AD:AD)/100 -> 570.1826 | C12: 0.25 | D12: =CEILING(B12*C12,1) -> 143 | E12: 1 | F12: =E12*B12 -> 570.1826 | G12: =SUM(J12:L12)*3840/I12 -> 41.595238 | H12: =G12*D12 -> 5948.119 | I12: =15360 -> 15360 | J12: 100 | K12: =J12*0.1 -> 10 | L12: =M12*(I12/$M$7)+N12*(I12/$N$7)+O12*(I12/$O$7)+P12*(I12/$P$7)+Q12*(I12/$Q$7)+R12*(I12/$R$7)+S12*(I12/$S$7)+T12*(I12/$T$7) -> 56.380952 | M12: =1/60 -> 0.016666667 | N12: =2/60 -> 0.033333333 | O12: =5/60 -> 0.083333333 | P12: 1 | Q12: 1 | R12: 2 | S12: 10
A13: Industrial Finished Goods | B13: =(Vehicle!E25*B5) -> 9890 | C13: 0.05 | D13: =CEILING(B13*C13,1) -> 495 | E13: 0.1 | F13: =E13*B13 -> 989 | G13: =SUM(J13:L13)*3840/I13 -> 342.22024 | H13: =G13*D13 -> 169399.02 | I13: =I10 -> 15360 | J13: 1000 | K13: =J13*0.25 -> 250 | L13: =M13*(I13/$M$7)+N13*(I13/$N$7)+O13*(I13/$O$7)+P13*(I13/$P$7)+Q13*(I13/$Q$7)+R13*(I13/$R$7)+S13*(I13/$S$7)+T13*(I13/$T$7) -> 118.88095 | M13: =1/60 -> 0.016666667 | N13: =2/60 -> 0.033333333 | O13: =5/60 -> 0.083333333 | P13: 1 | Q13: 1 | R13: 2 | S13: 10 | T13: =K13*0.25 -> 62.5

Sheet Conversion
A1: Constants | B1: Niave | C1: Exact | D1: Ship Calendar
A2: Days in year | B2: 365.25 | C2: 365.2425 | D2: 360
A3: Seconds in year | B3: =B2*3600*24 -> 31557600 | C3: =C2*3600*24 -> 31556952 | D3: =D2*3600*24 -> 31104000 | E3: http://www.projectrho.com/public_html/rocket/enginelist.php
A4: Hours/year | B4: =B3/3600 -> 8766 | C4: =C3/3600 -> 8765.82 | D4: =D3/3600 -> 8640
A5: Light Year | B5: 9.4607e+15
A6: Speed of Light | B6: 299792458
A7: Mole | B7: 6.022e+23 | E7: 2130
A8: 3 * square Root of three | B8: =3*SQRT(3) -> 5.1961524 | C8: =1.4422*3 -> 4.3266
A9: Air Density | B9: 1.225 | C9: kg/m^3
A10: Soil Density | B10: 1700 | C10: kg/m^3
A11: G | B11: 9.8 | C11: m/s/s
A13: Area
A14: Agriculture Calculations | C14: km^2 | D14: hectare | E14: m^2 | F14: acre | G14: mile^2 | H14: ft^2
A15: acre | C15: 0.00404686 | D15: =1/F17 -> 0.40468564 | E15: 4046.8564 | F15: 1 | G15: 0.0015625
A16: km^2 | C16: 1 | D16: 100 | E16: =E17*D16 -> 1000000 | F16: 247.10538 | G16: 0.38610216
A17: hectare | C17: =1/D16 -> 0.01 | D17: 1 | E17: 10000 | F17: 2.4710538 | G17: 0.00386102
A18: m^2 | C18: 1e-06 | D18: =1/E17 -> 0.0001 | E18: 1 | F18: 0.00024711 | G18: 3.861e-07
A21: Other
A22: 1 us ton/acre -> kg/hectare | D22: 2241.7023
A23: Beam Capacity | B23: =13790*3 -> 41370 | C23: kg/m
A24: Mass per m | B24: =27.4 -> 27.4
A25: Material | B25: Nickle/Iron Alloy 52/48
A26: Tensile Strength | B26: 640 | C26: N/mm^2
A27: Yield Point | B27: 240 | C27: N/mm^2
A28: Density | B28: 8.45 | C28: g/cm^3 | E28: e = m c^2
A29: Mass of eros | B29: 6.668e+15 | C29: kg | D29: =B29/(Vehicle!B82+Vehicle!B76) -> 39399605
A30: Mass of ceres | B30: 9.1e+20 | D30: =B30/(Vehicle!B58+Vehicle!B92) -> 5.182727e+10
A31: Nimitz Carrier | B31: =1046000*1016.4 -> 1063154400 | C31: kg | D31: Nimitz carrier is 1.046 million long tons
A32: Horsepower to KW | B32: 0.74569987
A33: KW to Horsepower | B33: =1/B32 -> 1.3410221
A34: Cultivation energy / hectare | B34: 312 | C34: kwh/hectare | D34: http://www.fao.org/docrep/003/X8054E/x8054e05.htm
A36: kwh/yr -> watt | B36: =1000/B3 -> 3.1688088e-05 | C36: =1/B36 -> 31557.6
A37: kwh/day -> watt | B37: =1000/(3600*24) -> 0.011574074 | C37: =1/B37 -> 86.4
A39: kilogram of oil (kgoe) | B39: =41868/1000 -> 41.868 | D39: kJ/kg
A40: Length of a Nimtz Carrier | B40: 333 | C40: m
A41: Length of Football Field | B41: 109.728 | C41: m
A43: Image Scale (carrier) | B43: 3.24 | C43: in | D43: =Vehicle!C22 -> 850 | E43: m | F43: =B43/D43*Conversion!B40 -> 1.2693176 | G43: in
A44: Image Scale (field) | B44: 7.2 | C44: in | D44: =Vehicle!B48*2 -> 220 | E44: m | F44: =B44/D44*Conversion!B41 -> 3.5910982 | G44: in

Sheet Costs
A1: Dueterium Refining | B1: =1260/1.107 -> 1138.2114 | C1: USD/kg | D1: =Vehicle!B91*B1 -> 2.4390172e+11
A2: Lithium (pure) | B2: =314*10 -> 3140 | C2: USD/kg | D2: =Vehicle!B92*B2 -> 2.0185655e+13
A3: Lithium (li2co3) | B3: =164*2 -> 328 | C3: USD/kg | D3: =Vehicle!B92*Costs!B3 -> 2.1085652e+12
A5: Steel | B5: =0.04*2.2 -> 0.088 | C5: USD/kg | D5: =Vehicle!B82*Costs!B5 -> 14739956

Sheet Geometry
A1: 1 G Radius | E1: =Vehicle!B22 -> 425
A2: Radation Shielding | E2: =Vehicle!B71 -> 10000 | F2: kg/m^2
A3: Accelleration | E3: 9.8
A4: Angular Speed | E4: =SQRT(E3*1.05/E1) -> 0.1556013 | F4: =E3/E1 -> 0.023058824
A5: RPM | E5: =E4*30/PI() -> 1.485883
A6: Mass m^3 | E6: =Vehicle!B69 -> 179.54619
A7: Segment Length | E7: =2*E1*PI()/6 -> 445.05896
A8: G at apex | E8: =$F$4*($E$1-E41)/9.8 -> 0.48235294
A10: Diameter | C10: =Geometry!E41 -> 220 | D10: =Geometry!E40 -> 110 | E10: =D10*D10 -> 12100 | F10: =D10*2 -> 220
A11: Vertical Usage | C11: 0.9 | D11: =C10*C11 -> 198
A12: Angular Speed | C12: =Geometry!E4 -> 0.1556013 | D12: =C12*C12 -> 0.024211765
A13: 1g Radius | C13: =Geometry!E1 -> 425
A14: Domes | C14: =Vehicle!B17 -> 6
A15: dy Standard | C15: 5 | D15: =C15*3.2808399 -> 16.4042 | E15: (1 meter utility, 1-2 meter soil, 3-4 meter headspace)
A16: Gallery Rate | C16: 5 | D16: =C16*3.2808399 -> 16.4042 | G16: Note: Some decks do not have area that adds up to 100% to represent thru-deck features
A17: Floor Count | C17: =SUM(Gravity!I:I) -> 43 | F17: Uniform | G17: Zones
A18: Total Area | C18: =SUM(Gravity!J:J) -> 1114480 | D18: =C18*Conversion!F18 -> 275.39915 | F18: 0 | G18: 1 | H18: 2 | I18: 3 | J18: 4 | K18: 5
A19: Park Area | C19: =SUM(Gravity!M:M) -> 26499.334 | D19: =Vehicle!B36/$C$14 -> 26979.043 | E19: =C19/D19 -> 0.98221921 | F19: =D19/C18 -> 0.024207741 | G19: 0 | H19: 0.14 | I19: 0 | J19: 0 | K19: 0
A20: Settlement Area | C20: =SUM(Gravity!L:L) -> 96533.288 | D20: =Vehicle!B35/$C$14 -> 66675.888 | E20: =C20/D20 -> 1.4477991 | F20: =D20/C18 -> 0.059826904 | G20: 0 | H20: 0.51 | I20: 0 | J20: 0 | K20: 0
A21: Agriculture | C21: =SUM(Gravity!K:K) -> 778131.66 | D21: =Vehicle!B34/$C$14 -> 751105.88 | E21: =C21/D21 -> 1.0359813 | F21: =D21/C18 -> 0.67395187 | G21: 0.89 | H21: 0 | I21: 0 | J21: 0 | K21: 0.35
A22: Cargo Area | C22: =SUM(Gravity!N:N) -> 19521.857 | D22: =Vehicle!B37/$C$14 -> 18130.317 | E22: =C22/D22 -> 1.0767521 | F22: =D22/C18 -> 0.016267961 | G22: 0.02 | H22: 0 | I22: 0.04 | J22: 0.1 | K22: 0.05
A23: Industry | C23: =SUM(Gravity!O:O) -> 42209.653 | D23: =Vehicle!B38/$C$14 -> 41208.333 | E23: =C23/D23 -> 1.024299 | F23: =D23/C18 -> 0.036975391 | G23: 0 | H23: 0.223 | I23: 0 | J23: 0 | K23: 0.2
A24: Machinery | C24: =SUM(Gravity!P:P) -> 53624.238 | D24: =C24 -> 53624.238 | E24: =C24/D24 -> 1 | F24: =D24/$C$18 -> 0.048115927 | G24: 0.01 | H24: 0.0005 | I24: 0.88 | J24: 0.1 | K24: 0.4
A25: Hallway | C25: =C18*0.1 -> 111448 | D25: =C25 -> 111448 | E25: =C25/D25 -> 1 | F25: =D25/$C$18 -> 0.1 | G25: 0.08 | H25: 0.08 | I25: 0.08 | J25: 0.08 | K25: 0.08
A26: Height | G26: 5 | H26: 5 | I26: 5 | J26: 5 | K26: 5
A27: Usage: | C27: =SUM(J19:J23) -> 0.1 | F27: =SUM(F19:F25) -> 0.95934579 | G27: =SUM(G19:G25) -> 1 | H27: =SUM(H19:H25) -> 0.9535 | I27: =SUM(I19:I25) -> 1 | J27: =SUM(J19:J25) -> 0.28 | K27: =SUM(K19:K25) -> 1.08
A29: Widest Deck | B29: =LOOKUP(C29,Gravity!D:D,Gravity!A:A) -> 22 | C29: =C13-C10+D10 -> 315 | D29: =LOOKUP(B29,Gravity!A:A,Gravity!H:H) -> 110
A31: Design of a spheriod dome | E31: Sphere + Flywheel
A32: Total Area | E32: =Vehicle!B40 -> 5177346.7
A33: Number of domes | E33: =Vehicle!B17 -> 6
A34: Design Area per dome | E34: =E32/E33 -> 862891.12
E35: =E36/$E$34 -> 4.9832475e-05
A36: Implementation area | E36: =SUM(Gravity!I:I) -> 43
A37: dy | E37: 4
A38: Levels | E38: =Geometry!C17 -> 43
A39: Verticle Usage | E39: 1
A40: Radius | E40: 110 | F40: =E40*2 -> 220
A41: Height | E41: =E40*2 -> 220 | F41: =CEILING(E1*0.5,10) -> 220
A42: Width | E42: =E41 -> 220
A43: Slice Area
...

Sheet Gravity
A1: Total Levels | C1: =Geometry!C17 -> 43
A2: Widest | C2: =Geometry!B29 -> 22
A3: Hab Levels | C3: 5 | D3: =C2-C3/2 -> 19.5 | E3: =C2+C3/2 -> 24.5
A4: Machinery | C4: 5
A5: Levels | B5: Name | C5: Usage | D5: Rot Radius | E5: h | G5: %g | H5: Floor Radius | J5: Area | K5: Agriculture | L5: Settlement | M5: Park | N5: Cargo | O5: Industry | P5: Machinery
D6: =Geometry!C13-Geometry!C10 -> 205 | E6: =Geometry!$D$10 -> 110 | F6: =Geometry!$D$12*D6 -> 4.9634118 | G6: =IF(H6>0,F6/9.8,0) -> 0 | H6: =IF(ABS(E6*E6)<=Geometry!$E$10,SQRT(Geometry!$E$10-E6*E6),0) -> 0 | I6: =IF(H6>0,1,0) -> 0
A7: 1 | C7: =IF(A7>$C$1-$C$4,3,IF(A7<2,3,IF(A7<=$D$3,1,IF(A7>$E$3,1,2)))) -> 3 | D7: =D6+Geometry!$C$15 -> 210 | E7: =E6-(D7-D6) -> 105 | F7: =Geometry!$D$12*D7 -> 5.0844706 | G7: =IF(H7>0,F7/9.8,0) -> 0.51882353 | H7: =IF(ABS(E7*E7)<=Geometry!$E$10,SQRT(Geometry!$E$10-E7*E7),0) -> 32.787193 | I7: =IF(H7>0,1,0) -> 1 | J7: =PI()*H7*H7 -> 3377.2121 | K7: =IF(C7=1,J7*Geometry!$G$21,0)+IF(C7=2,J7*Geometry!$H$21,0)+IF(C7=3,J7*Geometry!$I$21,0)+IF(C7=4,J7*Geometry!$J$21,0)+IF(C7=5,J7*Geometry!$K$21,0) -> 0 | L7: =IF(C7=1,J7*Geometry!$G$20,0)+IF(C7=2,J7*Geometry!$H$20,0)+IF(C7=3,J7*Geometry!$I$20,0)+IF(C7=4,J7*Geometry!$J$20,0)+IF(C7=5,J7*Geometry!$K$20,0) -> 0 | M7: =IF(C7=1,J7*Geometry!$G$19,0)+IF(C7=2,J7*Geometry!$H$19,0)+IF(C7=3,J7*Geometry!$I$19,0)+IF(C7=4,J7*Geometry!$J$19,0)+IF(C7=5,J7*Geometry!$K$19,0) -> 0 | N7: =IF(C7=1,J7*Geometry!$G$22,0)+IF(C7=2,J7*Geometry!$H$22,0)+IF(C7=3,J7*Geometry!$I$22,0)+IF(C7=4,J7*Geometry!$J$22,0)+IF(C7=5,J7*Geometry!$K$22,0) -> 135.08848 | O7: =IF(C7=1,J7*Geometry!$G$23,0)+IF(C7=2,J7*Geometry!$H$23,0)+IF(C7=3,J7*Geometry!$I$23,0)+IF(C7=4,J7*Geometry!$J$23,0)+IF(C7=5,J7*Geometry!$K$23,0) -> 0 | P7: =IF(C7=1,J7*Geometry!$G$24,0)+IF(C7=2,J7*Geometry!$H$24,0)+IF(C7=3,J7*Geometry!$I$24,0)+IF(C7=4,J7*Geometry!$J$24,0)+IF(C7=5,J7*Geometry!$K$24,0) -> 2971.9467
A8: =A7+1 -> 2 | C8: =IF(A8>$C$1-$C$4,3,IF(A8<2,3,IF(A8<=$D$3,1,IF(A8>$E$3,1,2)))) -> 1 | D8: =D7+Geometry!$C$15 -> 215 | E8: =E7-(D8-D7) -> 100 | F8: =Geometry!$D$12*D8 -> 5.2055294 | G8: =IF(H8>0,F8/9.8,0) -> 0.53117647 | H8: =IF(ABS(E8*E8)<=Geometry!$E$10,SQRT(Geometry!$E$10-E8*E8),0) -> 45.825757 | I8: =IF(H8>0,1,0) -> 1 | J8: =PI()*H8*H8 -> 6597.3446 | K8: =IF(C8=1,J8*Geometry!$G$21,0)+IF(C8=2,J8*Geometry!$H$21,0)+IF(C8=3,J8*Geometry!$I$21,0)+IF(C8=4,J8*Geometry!$J$21,0)+IF(C8=5,J8*Geometry!$K$21,0) -> 5871.6367 | L8: =IF(C8=1,J8*Geometry!$G$20,0)+IF(C8=2,J8*Geometry!$H$20,0)+IF(C8=3,J8*Geometry!$I$20,0)+IF(C8=4,J8*Geometry!$J$20,0)+IF(C8=5,J8*Geometry!$K$20,0) -> 0 | M8: =IF(C8=1,J8*Geometry!$G$19,0)+IF(C8=2,J8*Geometry!$H$19,0)+IF(C8=3,J8*Geometry!$I$19,0)+IF(C8=4,J8*Geometry!$J$19,0)+IF(C8=5,J8*Geometry!$K$19,0) -> 0 | N8: =IF(C8=1,J8*Geometry!$G$22,0)+IF(C8=2,J8*Geometry!$H$22,0)+IF(C8=3,J8*Geometry!$I$22,0)+IF(C8=4,J8*Geometry!$J$22,0)+IF(C8=5,J8*Geometry!$K$22,0) -> 131.94689 | O8: =IF(C8=1,J8*Geometry!$G$23,0)+IF(C8=2,J8*Geometry!$H$23,0)+IF(C8=3,J8*Geometry!$I$23,0)+IF(C8=4,J8*Geometry!$J$23,0)+IF(C8=5,J8*Geometry!$K$23,0) -> 0 | P8: =IF(C8=1,J8*Geometry!$G$24,0)+IF(C8=2,J8*Geometry!$H$24,0)+IF(C8=3,J8*Geometry!$I$24,0)+IF(C8=4,J8*Geometry!$J$24,0)+IF(C8=5,J8*Geometry!$K$24,0) -> 65.973446
A9: =A8+1 -> 3 | C9: =IF(A9>$C$1-$C$4,3,IF(A9<2,3,IF(A9<=$D$3,1,IF(A9>$E$3,1,2)))) -> 1 | D9: =D8+Geometry!$C$15 -> 220 | E9: =E8-(D9-D8) -> 95 | F9: =Geometry!$D$12*D9 -> 5.3265882 | G9: =IF(H9>0,F9/9.8,0) -> 0.54352941 | H9: =IF(ABS(E9*E9)<=Geometry!$E$10,SQRT(Geometry!$E$10-E9*E9),0) -> 55.452683 | I9: =IF(H9>0,1,0) -> 1 | J9: =PI()*H9*H9 -> 9660.3974 | K9: =IF(C9=1,J9*Geometry!$G$21,0)+IF(C9=2,J9*Geometry!$H$21,0)+IF(C9=3,J9*Geometry!$I$21,0)+IF(C9=4,J9*Geometry!$J$21,0)+IF(C9=5,J9*Geometry!$K$21,0) -> 8597.7537 | L9: =IF(C9=1,J9*Geometry!$G$20,0)+IF(C9=2,J9*Geometry!$H$20,0)+IF(C9=3,J9*Geometry!$I$20,0)+IF(C9=4,J9*Geometry!$J$20,0)+IF(C9=5,J9*Geometry!$K$20,0) -> 0 | M9: =IF(C9=1,J9*Geometry!$G$19,0)+IF(C9=2,J9*Geometry!$H$19,0)+IF(C9=3,J9*Geometry!$I$19,0)+IF(C9=4,J9*Geometry!$J$19,0)+IF(C9=5,J9*Geometry!$K$19,0) -> 0 | N9: =IF(C9=1,J9*Geometry!$G$22,0)+IF(C9=2,J9*Geometry!$H$22,0)+IF(C9=3,J9*Geometry!$I$22,0)+IF(C9=4,J9*Geometry!$J$22,0)+IF(C9=5,J9*Geometry!$K$22,0) -> 193.20795 | O9: =IF(C9=1,J9*Geometry!$G$23,0)+IF(C9=2,J9*Geometry!$H$23,0)+IF(C9=3,J9*Geometry!$I$23,0)+IF(C9=4,J9*Geometry!$J$23,0)+IF(C9=5,J9*Geometry!$K$23,0) -> 0 | P9: =IF(C9=1,J9*Geometry!$G$24,0)+IF(C9=2,J9*Geometry!$H$24,0)+IF(C9=3,J9*Geometry!$I$24,0)+IF(C9=4,J9*Geometry!$J$24,0)+IF(C9=5,J9*Geometry!$K$24,0) -> 96.603974
A10: =A9+1 -> 4 | C10: =IF(A10>$C$1-$C$4,3,IF(A10<2,3,IF(A10<=$D$3,1,IF(A10>$E$3,1,2)))) -> 1 | D10: =D9+Geometry!$C$15 -> 225 | E10: =E9-(D10-D9) -> 90 | F10: =Geometry!$D$12*D10 -> 5.4476471 | G10: =IF(H10>0,F10/9.8,0) -> 0.55588235 | H10: =IF(ABS(E10*E10)<=Geometry!$E$10,SQRT(Geometry!$E$10-E10*E10),0) -> 63.245553 | I10: =IF(H10>0,1,0) -> 1 | J10: =PI()*H10*H10 -> 12566.371 | K10: =IF(C10=1,J10*Geometry!$G$21,0)+IF(C10=2,J10*Geometry!$H$21,0)+IF(C10=3,J10*Geometry!$I$21,0)+IF(C10=4,J10*Geometry!$J$21,0)+IF(C10=5,J10*Geometry!$K$21,0) -> 11184.07 | L10: =IF(C10=1,J10*Geometry!$G$20,0)+IF(C10=2,J10*Geometry!$H$20,0)+IF(C10=3,J10*Geometry!$I$20,0)+IF(C10=4,J10*Geometry!$J$20,0)+IF(C10=5,J10*Geometry!$K$20,0) -> 0 | M10: =IF(C10=1,J10*Geometry!$G$19,0)+IF(C10=2,J10*Geometry!$H$19,0)+IF(C10=3,J10*Geometry!$I$19,0)+IF(C10=4,J10*Geometry!$J$19,0)+IF(C10=5,J10*Geometry!$K$19,0) -> 0 | N10: =IF(C10=1,J10*Geometry!$G$22,0)+IF(C10=2,J10*Geometry!$H$22,0)+IF(C10=3,J10*Geometry!$I$22,0)+IF(C10=4,J10*Geometry!$J$22,0)+IF(C10=5,J10*Geometry!$K$22,0) -> 251.32741 | O10: =IF(C10=1,J10*Geometry!$G$23,0)+IF(C10=2,J10*Geometry!$H$23,0)+IF(C10=3,J10*Geometry!$I$23,0)+IF(C10=4,J10*Geometry!$J$23,0)+IF(C10=5,J10*Geometry!$K$23,0) -> 0 | P10: =IF(C10=1,J10*Geometry!$G$24,0)+IF(C10=2,J10*Geometry!$H$24,0)+IF(C10=3,J10*Geometry!$I$24,0)+IF(C10=4,J10*Geometry!$J$24,0)+IF(C10=5,J10*Geometry!$K$24,0) -> 125.66371
A11: =A10+1 -> 5 | C11: =IF(A11>$C$1-$C$4,3,IF(A11<2,3,IF(A11<=$D$3,1,IF(A11>$E$3,1,2)))) -> 1 | D11: =D10+Geometry!$C$15 -> 230 | E11: =E10-(D11-D10) -> 85 | F11: =Geometry!$D$12*D11 -> 5.5687059 | G11: =IF(H11>0,F11/9.8,0) -> 0.56823529 | H11: =IF(ABS(E11*E11)<=Geometry!$E$10,SQRT(Geometry!$E$10-E11*E11),0) -> 69.8212 | I11: =IF(H11>0,1,0) -> 1 | J11: =PI()*H11*H11 -> 15315.264 | K11: =IF(C11=1,J11*Geometry!$G$21,0)+IF(C11=2,J11*Geometry!$H$21,0)+IF(C11=3,J11*Geometry!$I$21,0)+IF(C11=4,J11*Geometry!$J$21,0)+IF(C11=5,J11*Geometry!$K$21,0) -> 13630.585 | L11: =IF(C11=1,J11*Geometry!$G$20,0)+IF(C11=2,J11*Geometry!$H$20,0)+IF(C11=3,J11*Geometry!$I$20,0)+IF(C11=4,J11*Geometry!$J$20,0)+IF(C11=5,J11*Geometry!$K$20,0) -> 0 | M11: =IF(C11=1,J11*Geometry!$G$19,0)+IF(C11=2,J11*Geometry!$H$19,0)+IF(C11=3,J11*Geometry!$I$19,0)+IF(C11=4,J11*Geometry!$J$19,0)+IF(C11=5,J11*Geometry!$K$19,0) -> 0 | N11: =IF(C11=1,J11*Geometry!$G$22,0)+IF(C11=2,J11*Geometry!$H$22,0)+IF(C11=3,J11*Geometry!$I$22,0)+IF(C11=4,J11*Geometry!$J$22,0)+IF(C11=5,J11*Geometry!$K$22,0) -> 306.30528 | O11: =IF(C11=1,J11*Geometry!$G$23,0)+IF(C11=2,J11*Geometry!$H$23,0)+IF(C11=3,J11*Geometry!$I$23,0)+IF(C11=4,J11*Geometry!$J$23,0)+IF(C11=5,J11*Geometry!$K$23,0) -> 0 | P11: =IF(C11=1,J11*Geometry!$G$24,0)+IF(C11=2,J11*Geometry!$H$24,0)+IF(C11=3,J11*Geometry!$I$24,0)+IF(C11=4,J11*Geometry!$J$24,0)+IF(C11=5,J11*Geometry!$K$24,0) -> 153.15264
A12: =A11+1 -> 6 | C12: =IF(A12>$C$1-$C$4,3,IF(A12<2,3,IF(A12<=$D$3,1,IF(A12>$E$3,1,2)))) -> 1 | D12: =D11+Geometry!$C$15 -> 235 | E12: =E11-(D12-D11) -> 80 | F12: =Geometry!$D$12*D12 -> 5.6897647 | G12: =IF(H12>0,F12/9.8,0) -> 0.58058824 | H12: =IF(ABS(E12*E12)<=Geometry!$E$10,SQRT(Geometry!$E$10-E12*E12),0) -> 75.498344 | I12: =IF(H12>0,1,0) -> 1 | J12: =PI()*H12*H12 -> 17907.078 | K12: =IF(C12=1,J12*Geometry!$G$21,0)+IF(C12=2,J12*Geometry!$H$21,0)+IF(C12=3,J12*Geometry!$I$21,0)+IF(C12=4,J12*Geometry!$J$21,0)+IF(C12=5,J12*Geometry!$K$21,0) -> 15937.3 | L12: =IF(C12=1,J12*Geometry!$G$20,0)+IF(C12=2,J12*Geometry!$H$20,0)+IF(C12=3,J12*Geometry!$I$20,0)+IF(C12=4,J12*Geometry!$J$20,0)+IF(C12=5,J12*Geometry!$K$20,0) -> 0 | M12: =IF(C12=1,J12*Geometry!$G$19,0)+IF(C12=2,J12*Geometry!$H$19,0)+IF(C12=3,J12*Geometry!$I$19,0)+IF(C12=4,J12*Geometry!$J$19,0)+IF(C12=5,J12*Geometry!$K$19,0) -> 0 | N12: =IF(C12=1,J12*Geometry!$G$22,0)+IF(C12=2,J12*Geometry!$H$22,0)+IF(C12=3,J12*Geometry!$I$22,0)+IF(C12=4,J12*Geometry!$J$22,0)+IF(C12=5,J12*Geometry!$K$22,0) -> 358.14156 | O12: =IF(C12=1,J12*Geometry!$G$23,0)+IF(C12=2,J12*Geometry!$H$23,0)+IF(C12=3,J12*Geometry!$I$23,0)+IF(C12=4,J12*Geometry!$J$23,0)+IF(C12=5,J12*Geometry!$K$23,0) -> 0 | P12: =IF(C12=1,J12*Geometry!$G$24,0)+IF(C12=2,J12*Geometry!$H$24,0)+IF(C12=3,J12*Geometry!$I$24,0)+IF(C12=4,J12*Geometry!$J$24,0)+IF(C12=5,J12*Geometry!$K$24,0) -> 179.07078
A13: =A12+1 -> 7 | C13: =IF(A13>$C$1-$C$4,3,IF(A13<2,3,IF(A13<=$D$3,1,IF(A13>$E$3,1,2)))) -> 1 | D13: =D12+Geometry!$C$15 -> 240 | E13: =E12-(D13-D12) -> 75 | F13: =Geometry!$D$12*D13 -> 5.8108235 | G13: =IF(H13>0,F13/9.8,0) -> 0.59294118 | H13: =IF(ABS(E13*E13)<=Geometry!$E$10,SQRT(Geometry!$E$10-E13*E13),0) -> 80.467385 | I13: =IF(H13>0,1,0) -> 1 | J13: =PI()*H13*H13 -> 20341.812 | K13: =IF(C13=1,J13*Geometry!$G$21,0)+IF(C13=2,J13*Geometry!$H$21,0)+IF(C13=3,J13*Geometry!$I$21,0)+IF(C13=4,J13*Geometry!$J$21,0)+IF(C13=5,J13*Geometry!$K$21,0) -> 18104.213 | L13: =IF(C13=1,J13*Geometry!$G$20,0)+IF(C13=2,J13*Geometry!$H$20,0)+IF(C13=3,J13*Geometry!$I$20,0)+IF(C13=4,J13*Geometry!$J$20,0)+IF(C13=5,J13*Geometry!$K$20,0) -> 0 | M13: =IF(C13=1,J13*Geometry!$G$19,0)+IF(C13=2,J13*Geometry!$H$19,0)+IF(C13=3,J13*Geometry!$I$19,0)+IF(C13=4,J13*Geometry!$J$19,0)+IF(C13=5,J13*Geometry!$K$19,0) -> 0 | N13: =IF(C13=1,J13*Geometry!$G$22,0)+IF(C13=2,J13*Geometry!$H$22,0)+IF(C13=3,J13*Geometry!$I$22,0)+IF(C13=4,J13*Geometry!$J$22,0)+IF(C13=5,J13*Geometry!$K$22,0) -> 406.83625 | O13: =IF(C13=1,J13*Geometry!$G$23,0)+IF(C13=2,J13*Geometry!$H$23,0)+IF(C13=3,J13*Geometry!$I$23,0)+IF(C13=4,J13*Geometry!$J$23,0)+IF(C13=5,J13*Geometry!$K$23,0) -> 0 | P13: =IF(C13=1,J13*Geometry!$G$24,0)+IF(C13=2,J13*Geometry!$H$24,0)+IF(C13=3,J13*Geometry!$I$24,0)+IF(C13=4,J13*Geometry!$J$24,0)+IF(C13=5,J13*Geometry!$K$24,0) -> 203.41812
A14: =A13+1 -> 8 | C14: =IF(A14>$C$1-$C$4,3,IF(A14<2,3,IF(A14<=$D$3,1,IF(A14>$E$3,1,2)))) -> 1 | D14: =D13+Geometry!$C$15 -> 245 | E14: =E13-(D14-D13) -> 70 | F14: =Geometry!$D$12*D14 -> 5.9318824 | G14: =IF(H14>0,F14/9.8,0) -> 0.60529412 | H14: =IF(ABS(E14*E14)<=Geometry!$E$10,SQRT(Geometry!$E$10-E14*E14),0) -> 84.852814 | I14: =IF(H14>0,1,0) -> 1 | J14: =PI()*H14*H14 -> 22619.467 | K14: =IF(C14=1,J14*Geometry!$G$21,0)+IF(C14=2,J14*Geometry!$H$21,0)+IF(C14=3,J14*Geometry!$I$21,0)+IF(C14=4,J14*Geometry!$J$21,0)+IF(C14=5,J14*Geometry!$K$21,0) -> 20131.326 | L14: =IF(C14=1,J14*Geometry!$G$20,0)+IF(C14=2,J14*Geometry!$H$20,0)+IF(C14=3,J14*Geometry!$I$20,0)+IF(C14=4,J14*Geometry!$J$20,0)+IF(C14=5,J14*Geometry!$K$20,0) -> 0 | M14: =IF(C14=1,J14*Geometry!$G$19,0)+IF(C14=2,J14*Geometry!$H$19,0)+IF(C14=3,J14*Geometry!$I$19,0)+IF(C14=4,J14*Geometry!$J$19,0)+IF(C14=5,J14*Geometry!$K$19,0) -> 0 | N14: =IF(C14=1,J14*Geometry!$G$22,0)+IF(C14=2,J14*Geometry!$H$22,0)+IF(C14=3,J14*Geometry!$I$22,0)+IF(C14=4,J14*Geometry!$J$22,0)+IF(C14=5,J14*Geometry!$K$22,0) -> 452.38934 | O14: =IF(C14=1,J14*Geometry!$G$23,0)+IF(C14=2,J14*Geometry!$H$23,0)+IF(C14=3,J14*Geometry!$I$23,0)+IF(C14=4,J14*Geometry!$J$23,0)+IF(C14=5,J14*Geometry!$K$23,0) -> 0 | P14: =IF(C14=1,J14*Geometry!$G$24,0)+IF(C14=2,J14*Geometry!$H$24,0)+IF(C14=3,J14*Geometry!$I$24,0)+IF(C14=4,J14*Geometry!$J$24,0)+IF(C14=5,J14*Geometry!$K$24,0) -> 226.19467
A15: =A14+1 -> 9 | C15: =IF(A15>$C$1-$C$4,3,IF(A15<2,3,IF(A15<=$D$3,1,IF(A15>$E$3,1,2)))) -> 1 | D15: =D14+Geometry!$C$15 -> 250 | E15: =E14-(D15-D14) -> 65 | F15: =Geometry!$D$12*D15 -> 6.0529412 | G15: =IF(H15>0,F15/9.8,0) -> 0.61764706 | H15: =IF(ABS(E15*E15)<=Geometry!$E$10,SQRT(Geometry!$E$10-E15*E15),0) -> 88.741197 | I15: =IF(H15>0,1,0) -> 1 | J15: =PI()*H15*H15 -> 24740.042 | K15: =IF(C15=1,J15*Geometry!$G$21,0)+IF(C15=2,J15*Geometry!$H$21,0)+IF(C15=3,J15*Geometry!$I$21,0)+IF(C15=4,J15*Geometry!$J$21,0)+IF(C15=5,J15*Geometry!$K$21,0) -> 22018.638 | L15: =IF(C15=1,J15*Geometry!$G$20,0)+IF(C15=2,J15*Geometry!$H$20,0)+IF(C15=3,J15*Geometry!$I$20,0)+IF(C15=4,J15*Geometry!$J$20,0)+IF(C15=5,J15*Geometry!$K$20,0) -> 0 | M15: =IF(C15=1,J15*Geometry!$G$19,0)+IF(C15=2,J15*Geometry!$H$19,0)+IF(C15=3,J15*Geometry!$I$19,0)+IF(C15=4,J15*Geometry!$J$19,0)+IF(C15=5,J15*Geometry!$K$19,0) -> 0 | N15: =IF(C15=1,J15*Geometry!$G$22,0)+IF(C15=2,J15*Geometry!$H$22,0)+IF(C15=3,J15*Geometry!$I$22,0)+IF(C15=4,J15*Geometry!$J$22,0)+IF(C15=5,J15*Geometry!$K$22,0) -> 494.80084 | O15: =IF(C15=1,J15*Geometry!$G$23,0)+IF(C15=2,J15*Geometry!$H$23,0)+IF(C15=3,J15*Geometry!$I$23,0)+IF(C15=4,J15*Geometry!$J$23,0)+IF(C15=5,J15*Geometry!$K$23,0) -> 0 | P15: =IF(C15=1,J15*Geometry!$G$24,0)+IF(C15=2,J15*Geometry!$H$24,0)+IF(C15=3,J15*Geometry!$I$24,0)+IF(C15=4,J15*Geometry!$J$24,0)+IF(C15=5,J15*Geometry!$K$24,0) -> 247.40042
A16: =A15+1 -> 10 | C16: =IF(A16>$C$1-$C$4,3,IF(A16<2,3,IF(A16<=$D$3,1,IF(A16>$E$3,1,2)))) -> 1 | D16: =D15+Geometry!$C$15 -> 255 | E16: =E15-(D16-D15) -> 60 | F16: =Geometry!$D$12*D16 -> 6.174 | G16: =IF(H16>0,F16/9.8,0) -> 0.63 | H16: =IF(ABS(E16*E16)<=Geometry!$E$10,SQRT(Geometry!$E$10-E16*E16),0) -> 92.195445 | I16: =IF(H16>0,1,0) -> 1 | J16: =PI()*H16*H16 -> 26703.538 | K16: =IF(C16=1,J16*Geometry!$G$21,0)+IF(C16=2,J16*Geometry!$H$21,0)+IF(C16=3,J16*Geometry!$I$21,0)+IF(C16=4,J16*Geometry!$J$21,0)+IF(C16=5,J16*Geometry!$K$21,0) -> 23766.148 | L16: =IF(C16=1,J16*Geometry!$G$20,0)+IF(C16=2,J16*Geometry!$H$20,0)+IF(C16=3,J16*Geometry!$I$20,0)+IF(C16=4,J16*Geometry!$J$20,0)+IF(C16=5,J16*Geometry!$K$20,0) -> 0 | M16: =IF(C16=1,J16*Geometry!$G$19,0)+IF(C16=2,J16*Geometry!$H$19,0)+IF(C16=3,J16*Geometry!$I$19,0)+IF(C16=4,J16*Geometry!$J$19,0)+IF(C16=5,J16*Geometry!$K$19,0) -> 0 | N16: =IF(C16=1,J16*Geometry!$G$22,0)+IF(C16=2,J16*Geometry!$H$22,0)+IF(C16=3,J16*Geometry!$I$22,0)+IF(C16=4,J16*Geometry!$J$22,0)+IF(C16=5,J16*Geometry!$K$22,0) -> 534.07075 | O16: =IF(C16=1,J16*Geometry!$G$23,0)+IF(C16=2,J16*Geometry!$H$23,0)+IF(C16=3,J16*Geometry!$I$23,0)+IF(C16=4,J16*Geometry!$J$23,0)+IF(C16=5,J16*Geometry!$K$23,0) -> 0 | P16: =IF(C16=1,J16*Geometry!$G$24,0)+IF(C16=2,J16*Geometry!$H$24,0)+IF(C16=3,J16*Geometry!$I$24,0)+IF(C16=4,J16*Geometry!$J$24,0)+IF(C16=5,J16*Geometry!$K$24,0) -> 267.03538
A17: =A16+1 -> 11 | C17: =IF(A17>$C$1-$C$4,3,IF(A17<2,3,IF(A17<=$D$3,1,IF(A17>$E$3,1,2)))) -> 1 | D17: =D16+Geometry!$C$15 -> 260 | E17: =E16-(D17-D16) -> 55 | F17: =Geometry!$D$12*D17 -> 6.2950588 | G17: =IF(H17>0,F17/9.8,0) -> 0.64235294 | H17: =IF(ABS(E17*E17)<=Geometry!$E$10,SQRT(Geometry!$E$10-E17*E17),0) -> 95.262794 | I17: =IF(H17>0,1,0) -> 1 | J17: =PI()*H17*H17 -> 28509.953 | K17: =IF(C17=1,J17*Geometry!$G$21,0)+IF(C17=2,J17*Geometry!$H$21,0)+IF(C17=3,J17*Geometry!$I$21,0)+IF(C17=4,J17*Geometry!$J$21,0)+IF(C17=5,J17*Geometry!$K$21,0) -> 25373.858 | L17: =IF(C17=1,J17*Geometry!$G$20,0)+IF(C17=2,J17*Geometry!$H$20,0)+IF(C17=3,J17*Geometry!$I$20,0)+IF(C17=4,J17*Geometry!$J$20,0)+IF(C17=5,J17*Geometry!$K$20,0) -> 0 | M17: =IF(C17=1,J17*Geometry!$G$19,0)+IF(C17=2,J17*Geometry!$H$19,0)+IF(C17=3,J17*Geometry!$I$19,0)+IF(C17=4,J17*Geometry!$J$19,0)+IF(C17=5,J17*Geometry!$K$19,0) -> 0 | N17: =IF(C17=1,J17*Geometry!$G$22,0)+IF(C17=2,J17*Geometry!$H$22,0)+IF(C17=3,J17*Geometry!$I$22,0)+IF(C17=4,J17*Geometry!$J$22,0)+IF(C17=5,J17*Geometry!$K$22,0) -> 570.19907 | O17: =IF(C17=1,J17*Geometry!$G$23,0)+IF(C17=2,J17*Geometry!$H$23,0)+IF(C17=3,J17*Geometry!$I$23,0)+IF(C17=4,J17*Geometry!$J$23,0)+IF(C17=5,J17*Geometry!$K$23,0) -> 0 | P17: =IF(C17=1,J17*Geometry!$G$24,0)+IF(C17=2,J17*Geometry!$H$24,0)+IF(C17=3,J17*Geometry!$I$24,0)+IF(C17=4,J17*Geometry!$J$24,0)+IF(C17=5,J17*Geometry!$K$24,0) -> 285.09953
A18: =A17+1 -> 12 | C18: =IF(A18>$C$1-$C$4,3,IF(A18<2,3,IF(A18<=$D$3,1,IF(A18>$E$3,1,2)))) -> 1 | D18: =D17+Geometry!$C$15 -> 265 | E18: =E17-(D18-D17) -> 50 | F18: =Geometry!$D$12*D18 -> 6.4161176 | G18: =IF(H18>0,F18/9.8,0) -> 0.65470588 | H18: =IF(ABS(E18*E18)<=Geometry!$E$10,SQRT(Geometry!$E$10-E18*E18),0) -> 97.97959 | I18: =IF(H18>0,1,0) -> 1 | J18: =PI()*H18*H18 -> 30159.289 | K18: =IF(C18=1,J18*Geometry!$G$21,0)+IF(C18=2,J18*Geometry!$H$21,0)+IF(C18=3,J18*Geometry!$I$21,0)+IF(C18=4,J18*Geometry!$J$21,0)+IF(C18=5,J18*Geometry!$K$21,0) -> 26841.768 | L18: =IF(C18=1,J18*Geometry!$G$20,0)+IF(C18=2,J18*Geometry!$H$20,0)+IF(C18=3,J18*Geometry!$I$20,0)+IF(C18=4,J18*Geometry!$J$20,0)+IF(C18=5,J18*Geometry!$K$20,0) -> 0 | M18: =IF(C18=1,J18*Geometry!$G$19,0)+IF(C18=2,J18*Geometry!$H$19,0)+IF(C18=3,J18*Geometry!$I$19,0)+IF(C18=4,J18*Geometry!$J$19,0)+IF(C18=5,J18*Geometry!$K$19,0) -> 0 | N18: =IF(C18=1,J18*Geometry!$G$22,0)+IF(C18=2,J18*Geometry!$H$22,0)+IF(C18=3,J18*Geometry!$I$22,0)+IF(C18=4,J18*Geometry!$J$22,0)+IF(C18=5,J18*Geometry!$K$22,0) -> 603.18579 | O18: =IF(C18=1,J18*Geometry!$G$23,0)+IF(C18=2,J18*Geometry!$H$23,0)+IF(C18=3,J18*Geometry!$I$23,0)+IF(C18=4,J18*Geometry!$J$23,0)+IF(C18=5,J18*Geometry!$K$23,0) -> 0 | P18: =IF(C18=1,J18*Geometry!$G$24,0)+IF(C18=2,J18*Geometry!$H$24,0)+IF(C18=3,J18*Geometry!$I$24,0)+IF(C18=4,J18*Geometry!$J$24,0)+IF(C18=5,J18*Geometry!$K$24,0) -> 301.59289
A19: =A18+1 -> 13 | C19: =IF(A19>$C$1-$C$4,3,IF(A19<2,3,IF(A19<=$D$3,1,IF(A19>$E$3,1,2)))) -> 1 | D19: =D18+Geometry!$C$15 -> 270 | E19: =E18-(D19-D18) -> 45 | F19: =Geometry!$D$12*D19 -> 6.5371765 | G19: =IF(H19>0,F19/9.8,0) -> 0.66705882 | H19: =IF(ABS(E19*E19)<=Geometry!$E$10,SQRT(Geometry!$E$10-E19*E19),0) -> 100.3743 | I19: =IF(H19>0,1,0) -> 1 | J19: =PI()*H19*H19 -> 31651.546 | K19: =IF(C19=1,J19*Geometry!$G$21,0)+IF(C19=2,J19*Geometry!$H$21,0)+IF(C19=3,J19*Geometry!$I$21,0)+IF(C19=4,J19*Geometry!$J$21,0)+IF(C19=5,J19*Geometry!$K$21,0) -> 28169.876 | L19: =IF(C19=1,J19*Geometry!$G$20,0)+IF(C19=2,J19*Geometry!$H$20,0)+IF(C19=3,J19*Geometry!$I$20,0)+IF(C19=4,J19*Geometry!$J$20,0)+IF(C19=5,J19*Geometry!$K$20,0) -> 0 | M19: =IF(C19=1,J19*Geometry!$G$19,0)+IF(C19=2,J19*Geometry!$H$19,0)+IF(C19=3,J19*Geometry!$I$19,0)+IF(C19=4,J19*Geometry!$J$19,0)+IF(C19=5,J19*Geometry!$K$19,0) -> 0 | N19: =IF(C19=1,J19*Geometry!$G$22,0)+IF(C19=2,J19*Geometry!$H$22,0)+IF(C19=3,J19*Geometry!$I$22,0)+IF(C19=4,J19*Geometry!$J$22,0)+IF(C19=5,J19*Geometry!$K$22,0) -> 633.03092 | O19: =IF(C19=1,J19*Geometry!$G$23,0)+IF(C19=2,J19*Geometry!$H$23,0)+IF(C19=3,J19*Geometry!$I$23,0)+IF(C19=4,J19*Geometry!$J$23,0)+IF(C19=5,J19*Geometry!$K$23,0) -> 0 | P19: =IF(C19=1,J19*Geometry!$G$24,0)+IF(C19=2,J19*Geometry!$H$24,0)+IF(C19=3,J19*Geometry!$I$24,0)+IF(C19=4,J19*Geometry!$J$24,0)+IF(C19=5,J19*Geometry!$K$24,0) -> 316.51546
... A93: =A92+1 -> 87 | C93: =IF(A93>$C$1-$C$4,3,IF(A93<2,3,IF(A93<=$D$3,1,IF(A93>$E$3,1,2)))) -> 3 | D93: =D92+Geometry!$C$15 -> 640 | E93: =E92-(D93-D92) -> -325 | F93: =Geometry!$D$12*D93 -> 15.495529 | G93: =IF(H93>0,F93/9.8,0) -> 0 | H93: =IF(ABS(E93*E93)<=Geometry!$E$10,SQRT(Geometry!$E$10-E93*E93),0) -> 0 | I93: =IF(H93>0,1,0) -> 0 | J93: =PI()*H93*H93 -> 0 | K93: =IF(C93=1,J93*Geometry!$G$21,0)+IF(C93=2,J93*Geometry!$H$21,0)+IF(C93=3,J93*Geometry!$I$21,0)+IF(C93=4,J93*Geometry!$J$21,0)+IF(C93=5,J93*Geometry!$K$21,0) -> 0 | L93: =IF(C93=1,J93*Geometry!$G$20,0)+IF(C93=2,J93*Geometry!$H$20,0)+IF(C93=3,J93*Geometry!$I$20,0)+IF(C93=4,J93*Geometry!$J$20,0)+IF(C93=5,J93*Geometry!$K$20,0) -> 0 | M93: =IF(C93=1,J93*Geometry!$G$19,0)+IF(C93=2,J93*Geometry!$H$19,0)+IF(C93=3,J93*Geometry!$I$19,0)+IF(C93=4,J93*Geometry!$J$19,0)+IF(C93=5,J93*Geometry!$K$19,0) -> 0 | N93: =IF(C93=1,J93*Geometry!$G$22,0)+IF(C93=2,J93*Geometry!$H$22,0)+IF(C93=3,J93*Geometry!$I$22,0)+IF(C93=4,J93*Geometry!$J$22,0)+IF(C93=5,J93*Geometry!$K$22,0) -> 0 | O93: =IF(C93=1,J93*Geometry!$G$23,0)+IF(C93=2,J93*Geometry!$H$23,0)+IF(C93=3,J93*Geometry!$I$23,0)+IF(C93=4,J93*Geometry!$J$23,0)+IF(C93=5,J93*Geometry!$K$23,0) -> 0 | P93: =IF(C93=1,J93*Geometry!$G$24,0)+IF(C93=2,J93*Geometry!$H$24,0)+IF(C93=3,J93*Geometry!$I$24,0)+IF(C93=4,J93*Geometry!$J$24,0)+IF(C93=5,J93*Geometry!$K$24,0) -> 0
A94: =A93+1 -> 88 | C94: =IF(A94>$C$1-$C$4,3,IF(A94<2,3,IF(A94<=$C$2-$C$3/2,1,IF(A94>$C$2+$C$3/2,1,2)))) -> 3 | D94: =D93+Geometry!$C$15 -> 645 | E94: =E93-(D94-D93) -> -330 | F94: =Geometry!$D$12*D94 -> 15.616588 | G94: =IF(H94>0,F94/9.8,0) -> 0 | H94: =IF(ABS(E94*E94)<=Geometry!$E$10,SQRT(Geometry!$E$10-E94*E94),0) -> 0 | I94: =IF(H94>0,1,0) -> 0 | J94: =PI()*H94*H94 -> 0 | K94: =IF(C94=1,J94*Geometry!$G$21,0)+IF(C94=2,J94*Geometry!$H$21,0)+IF(C94=3,J94*Geometry!$I$21,0)+IF(C94=4,J94*Geometry!$J$21,0)+IF(C94=5,J94*Geometry!$K$21,0) -> 0 | L94: =IF(C94=1,J94*Geometry!$G$20,0)+IF(C94=2,J94*Geometry!$H$20,0)+IF(C94=3,J94*Geometry!$I$20,0)+IF(C94=4,J94*Geometry!$J$20,0)+IF(C94=5,J94*Geometry!$K$20,0) -> 0 | M94: =IF(C94=1,J94*Geometry!$G$19,0)+IF(C94=2,J94*Geometry!$H$19,0)+IF(C94=3,J94*Geometry!$I$19,0)+IF(C94=4,J94*Geometry!$J$19,0)+IF(C94=5,J94*Geometry!$K$19,0) -> 0 | N94: =IF(C94=1,J94*Geometry!$G$22,0)+IF(C94=2,J94*Geometry!$H$22,0)+IF(C94=3,J94*Geometry!$I$22,0)+IF(C94=4,J94*Geometry!$J$22,0)+IF(C94=5,J94*Geometry!$K$22,0) -> 0 | O94: =IF(C94=1,J94*Geometry!$G$23,0)+IF(C94=2,J94*Geometry!$H$23,0)+IF(C94=3,J94*Geometry!$I$23,0)+IF(C94=4,J94*Geometry!$J$23,0)+IF(C94=5,J94*Geometry!$K$23,0) -> 0 | P94: =IF(C94=1,J94*Geometry!$G$24,0)+IF(C94=2,J94*Geometry!$H$24,0)+IF(C94=3,J94*Geometry!$I$24,0)+IF(C94=4,J94*Geometry!$J$24,0)+IF(C94=5,J94*Geometry!$K$24,0) -> 0
A95: =A94+1 -> 89 | C95: =IF(A95>$C$1-$C$4,3,IF(A95<2,3,IF(A95<=$C$2-$C$3/2,1,IF(A95>$C$2+$C$3/2,1,2)))) -> 3 | D95: =D94+Geometry!$C$15 -> 650 | E95: =E94-(D95-D94) -> -335 | F95: =Geometry!$D$12*D95 -> 15.737647 | G95: =IF(H95>0,F95/9.8,0) -> 0 | H95: =IF(ABS(E95*E95)<=Geometry!$E$10,SQRT(Geometry!$E$10-E95*E95),0) -> 0 | I95: =IF(H95>0,1,0) -> 0 | J95: =PI()*H95*H95 -> 0 | K95: =IF(C95=1,J95*Geometry!$G$21,0)+IF(C95=2,J95*Geometry!$H$21,0)+IF(C95=3,J95*Geometry!$I$21,0)+IF(C95=4,J95*Geometry!$J$21,0)+IF(C95=5,J95*Geometry!$K$21,0) -> 0 | L95: =IF(C95=1,J95*Geometry!$G$20,0)+IF(C95=2,J95*Geometry!$H$20,0)+IF(C95=3,J95*Geometry!$I$20,0)+IF(C95=4,J95*Geometry!$J$20,0)+IF(C95=5,J95*Geometry!$K$20,0) -> 0 | M95: =IF(C95=1,J95*Geometry!$G$19,0)+IF(C95=2,J95*Geometry!$H$19,0)+IF(C95=3,J95*Geometry!$I$19,0)+IF(C95=4,J95*Geometry!$J$19,0)+IF(C95=5,J95*Geometry!$K$19,0) -> 0 | N95: =IF(C95=1,J95*Geometry!$G$22,0)+IF(C95=2,J95*Geometry!$H$22,0)+IF(C95=3,J95*Geometry!$I$22,0)+IF(C95=4,J95*Geometry!$J$22,0)+IF(C95=5,J95*Geometry!$K$22,0) -> 0 | O95: =IF(C95=1,J95*Geometry!$G$23,0)+IF(C95=2,J95*Geometry!$H$23,0)+IF(C95=3,J95*Geometry!$I$23,0)+IF(C95=4,J95*Geometry!$J$23,0)+IF(C95=5,J95*Geometry!$K$23,0) -> 0 | P95: =IF(C95=1,J95*Geometry!$G$24,0)+IF(C95=2,J95*Geometry!$H$24,0)+IF(C95=3,J95*Geometry!$I$24,0)+IF(C95=4,J95*Geometry!$J$24,0)+IF(C95=5,J95*Geometry!$K$24,0) -> 0
A96: =A95+1 -> 90 | C96: =IF(A96>$C$1-$C$4,3,IF(A96<2,3,IF(A96<=$C$2-$C$3/2,1,IF(A96>$C$2+$C$3/2,1,2)))) -> 3 | D96: =D95+Geometry!$C$15 -> 655 | E96: =E95-(D96-D95) -> -340 | F96: =Geometry!$D$12*D96 -> 15.858706 | G96: =IF(H96>0,F96/9.8,0) -> 0 | H96: =IF(ABS(E96*E96)<=Geometry!$E$10,SQRT(Geometry!$E$10-E96*E96),0) -> 0 | I96: =IF(H96>0,1,0) -> 0 | J96: =PI()*H96*H96 -> 0 | K96: =IF(C96=1,J96*Geometry!$G$21,0)+IF(C96=2,J96*Geometry!$H$21,0)+IF(C96=3,J96*Geometry!$I$21,0)+IF(C96=4,J96*Geometry!$J$21,0)+IF(C96=5,J96*Geometry!$K$21,0) -> 0 | L96: =IF(C96=1,J96*Geometry!$G$20,0)+IF(C96=2,J96*Geometry!$H$20,0)+IF(C96=3,J96*Geometry!$I$20,0)+IF(C96=4,J96*Geometry!$J$20,0)+IF(C96=5,J96*Geometry!$K$20,0) -> 0 | M96: =IF(C96=1,J96*Geometry!$G$19,0)+IF(C96=2,J96*Geometry!$H$19,0)+IF(C96=3,J96*Geometry!$I$19,0)+IF(C96=4,J96*Geometry!$J$19,0)+IF(C96=5,J96*Geometry!$K$19,0) -> 0 | N96: =IF(C96=1,J96*Geometry!$G$22,0)+IF(C96=2,J96*Geometry!$H$22,0)+IF(C96=3,J96*Geometry!$I$22,0)+IF(C96=4,J96*Geometry!$J$22,0)+IF(C96=5,J96*Geometry!$K$22,0) -> 0 | O96: =IF(C96=1,J96*Geometry!$G$23,0)+IF(C96=2,J96*Geometry!$H$23,0)+IF(C96=3,J96*Geometry!$I$23,0)+IF(C96=4,J96*Geometry!$J$23,0)+IF(C96=5,J96*Geometry!$K$23,0) -> 0 | P96: =IF(C96=1,J96*Geometry!$G$24,0)+IF(C96=2,J96*Geometry!$H$24,0)+IF(C96=3,J96*Geometry!$I$24,0)+IF(C96=4,J96*Geometry!$J$24,0)+IF(C96=5,J96*Geometry!$K$24,0) -> 0
A97: =A96+1 -> 91 | C97: =IF(A97>$C$1-$C$4,3,IF(A97<2,3,IF(A97<=$C$2-$C$3/2,1,IF(A97>$C$2+$C$3/2,1,2)))) -> 3 | D97: =D96+Geometry!$C$15 -> 660 | E97: =E96-(D97-D96) -> -345 | F97: =Geometry!$D$12*D97 -> 15.979765 | G97: =IF(H97>0,F97/9.8,0) -> 0 | H97: =IF(ABS(E97*E97)<=Geometry!$E$10,SQRT(Geometry!$E$10-E97*E97),0) -> 0 | I97: =IF(H97>0,1,0) -> 0 | J97: =PI()*H97*H97 -> 0 | K97: =IF(C97=1,J97*Geometry!$G$21,0)+IF(C97=2,J97*Geometry!$H$21,0)+IF(C97=3,J97*Geometry!$I$21,0)+IF(C97=4,J97*Geometry!$J$21,0)+IF(C97=5,J97*Geometry!$K$21,0) -> 0 | L97: =IF(C97=1,J97*Geometry!$G$20,0)+IF(C97=2,J97*Geometry!$H$20,0)+IF(C97=3,J97*Geometry!$I$20,0)+IF(C97=4,J97*Geometry!$J$20,0)+IF(C97=5,J97*Geometry!$K$20,0) -> 0 | M97: =IF(C97=1,J97*Geometry!$G$19,0)+IF(C97=2,J97*Geometry!$H$19,0)+IF(C97=3,J97*Geometry!$I$19,0)+IF(C97=4,J97*Geometry!$J$19,0)+IF(C97=5,J97*Geometry!$K$19,0) -> 0 | N97: =IF(C97=1,J97*Geometry!$G$22,0)+IF(C97=2,J97*Geometry!$H$22,0)+IF(C97=3,J97*Geometry!$I$22,0)+IF(C97=4,J97*Geometry!$J$22,0)+IF(C97=5,J97*Geometry!$K$22,0) -> 0 | O97: =IF(C97=1,J97*Geometry!$G$23,0)+IF(C97=2,J97*Geometry!$H$23,0)+IF(C97=3,J97*Geometry!$I$23,0)+IF(C97=4,J97*Geometry!$J$23,0)+IF(C97=5,J97*Geometry!$K$23,0) -> 0 | P97: =IF(C97=1,J97*Geometry!$G$24,0)+IF(C97=2,J97*Geometry!$H$24,0)+IF(C97=3,J97*Geometry!$I$24,0)+IF(C97=4,J97*Geometry!$J$24,0)+IF(C97=5,J97*Geometry!$K$24,0) -> 0
A98: =A97+1 -> 92 | C98: =IF(A98>$C$1-$C$4,3,IF(A98<2,3,IF(A98<=$C$2-$C$3/2,1,IF(A98>$C$2+$C$3/2,1,2)))) -> 3 | D98: =D97+Geometry!$C$15 -> 665 | E98: =E97-(D98-D97) -> -350 | F98: =Geometry!$D$12*D98 -> 16.100824 | G98: =IF(H98>0,F98/9.8,0) -> 0 | H98: =IF(ABS(E98*E98)<=Geometry!$E$10,SQRT(Geometry!$E$10-E98*E98),0) -> 0 | I98: =IF(H98>0,1,0) -> 0 | J98: =PI()*H98*H98 -> 0 | K98: =IF(C98=1,J98*Geometry!$G$21,0)+IF(C98=2,J98*Geometry!$H$21,0)+IF(C98=3,J98*Geometry!$I$21,0)+IF(C98=4,J98*Geometry!$J$21,0)+IF(C98=5,J98*Geometry!$K$21,0) -> 0 | L98: =IF(C98=1,J98*Geometry!$G$20,0)+IF(C98=2,J98*Geometry!$H$20,0)+IF(C98=3,J98*Geometry!$I$20,0)+IF(C98=4,J98*Geometry!$J$20,0)+IF(C98=5,J98*Geometry!$K$20,0) -> 0 | M98: =IF(C98=1,J98*Geometry!$G$19,0)+IF(C98=2,J98*Geometry!$H$19,0)+IF(C98=3,J98*Geometry!$I$19,0)+IF(C98=4,J98*Geometry!$J$19,0)+IF(C98=5,J98*Geometry!$K$19,0) -> 0 | N98: =IF(C98=1,J98*Geometry!$G$22,0)+IF(C98=2,J98*Geometry!$H$22,0)+IF(C98=3,J98*Geometry!$I$22,0)+IF(C98=4,J98*Geometry!$J$22,0)+IF(C98=5,J98*Geometry!$K$22,0) -> 0 | O98: =IF(C98=1,J98*Geometry!$G$23,0)+IF(C98=2,J98*Geometry!$H$23,0)+IF(C98=3,J98*Geometry!$I$23,0)+IF(C98=4,J98*Geometry!$J$23,0)+IF(C98=5,J98*Geometry!$K$23,0) -> 0 | P98: =IF(C98=1,J98*Geometry!$G$24,0)+IF(C98=2,J98*Geometry!$H$24,0)+IF(C98=3,J98*Geometry!$I$24,0)+IF(C98=4,J98*Geometry!$J$24,0)+IF(C98=5,J98*Geometry!$K$24,0) -> 0
A99: =A98+1 -> 93 | C99: =IF(A99>$C$1-$C$4,3,IF(A99<2,3,IF(A99<=$C$2-$C$3/2,1,IF(A99>$C$2+$C$3/2,1,2)))) -> 3 | D99: =D98+Geometry!$C$15 -> 670 | E99: =E98-(D99-D98) -> -355 | F99: =Geometry!$D$12*D99 -> 16.221882 | G99: =IF(H99>0,F99/9.8,0) -> 0 | H99: =IF(ABS(E99*E99)<=Geometry!$E$10,SQRT(Geometry!$E$10-E99*E99),0) -> 0 | I99: =IF(H99>0,1,0) -> 0 | J99: =PI()*H99*H99 -> 0 | K99: =IF(C99=1,J99*Geometry!$G$21,0)+IF(C99=2,J99*Geometry!$H$21,0)+IF(C99=3,J99*Geometry!$I$21,0)+IF(C99=4,J99*Geometry!$J$21,0)+IF(C99=5,J99*Geometry!$K$21,0) -> 0 | L99: =IF(C99=1,J99*Geometry!$G$20,0)+IF(C99=2,J99*Geometry!$H$20,0)+IF(C99=3,J99*Geometry!$I$20,0)+IF(C99=4,J99*Geometry!$J$20,0)+IF(C99=5,J99*Geometry!$K$20,0) -> 0 | M99: =IF(C99=1,J99*Geometry!$G$19,0)+IF(C99=2,J99*Geometry!$H$19,0)+IF(C99=3,J99*Geometry!$I$19,0)+IF(C99=4,J99*Geometry!$J$19,0)+IF(C99=5,J99*Geometry!$K$19,0) -> 0 | N99: =IF(C99=1,J99*Geometry!$G$22,0)+IF(C99=2,J99*Geometry!$H$22,0)+IF(C99=3,J99*Geometry!$I$22,0)+IF(C99=4,J99*Geometry!$J$22,0)+IF(C99=5,J99*Geometry!$K$22,0) -> 0 | O99: =IF(C99=1,J99*Geometry!$G$23,0)+IF(C99=2,J99*Geometry!$H$23,0)+IF(C99=3,J99*Geometry!$I$23,0)+IF(C99=4,J99*Geometry!$J$23,0)+IF(C99=5,J99*Geometry!$K$23,0) -> 0 | P99: =IF(C99=1,J99*Geometry!$G$24,0)+IF(C99=2,J99*Geometry!$H$24,0)+IF(C99=3,J99*Geometry!$I$24,0)+IF(C99=4,J99*Geometry!$J$24,0)+IF(C99=5,J99*Geometry!$K$24,0) -> 0
A100: =A99+1 -> 94 | C100: =IF(A100>$C$1-$C$4,3,IF(A100<2,3,IF(A100<=$C$2-$C$3/2,1,IF(A100>$C$2+$C$3/2,1,2)))) -> 3 | D100: =D99+Geometry!$C$15 -> 675 | E100: =E99-(D100-D99) -> -360 | F100: =Geometry!$D$12*D100 -> 16.342941 | G100: =IF(H100>0,F100/9.8,0) -> 0 | H100: =IF(ABS(E100*E100)<=Geometry!$E$10,SQRT(Geometry!$E$10-E100*E100),0) -> 0 | I100: =IF(H100>0,1,0) -> 0 | J100: =PI()*H100*H100 -> 0 | K100: =IF(C100=1,J100*Geometry!$G$21,0)+IF(C100=2,J100*Geometry!$H$21,0)+IF(C100=3,J100*Geometry!$I$21,0)+IF(C100=4,J100*Geometry!$J$21,0)+IF(C100=5,J100*Geometry!$K$21,0) -> 0 | L100: =IF(C100=1,J100*Geometry!$G$20,0)+IF(C100=2,J100*Geometry!$H$20,0)+IF(C100=3,J100*Geometry!$I$20,0)+IF(C100=4,J100*Geometry!$J$20,0)+IF(C100=5,J100*Geometry!$K$20,0) -> 0 | M100: =IF(C100=1,J100*Geometry!$G$19,0)+IF(C100=2,J100*Geometry!$H$19,0)+IF(C100=3,J100*Geometry!$I$19,0)+IF(C100=4,J100*Geometry!$J$19,0)+IF(C100=5,J100*Geometry!$K$19,0) -> 0 | N100: =IF(C100=1,J100*Geometry!$G$22,0)+IF(C100=2,J100*Geometry!$H$22,0)+IF(C100=3,J100*Geometry!$I$22,0)+IF(C100=4,J100*Geometry!$J$22,0)+IF(C100=5,J100*Geometry!$K$22,0) -> 0 | O100: =IF(C100=1,J100*Geometry!$G$23,0)+IF(C100=2,J100*Geometry!$H$23,0)+IF(C100=3,J100*Geometry!$I$23,0)+IF(C100=4,J100*Geometry!$J$23,0)+IF(C100=5,J100*Geometry!$K$23,0) -> 0 | P100: =IF(C100=1,J100*Geometry!$G$24,0)+IF(C100=2,J100*Geometry!$H$24,0)+IF(C100=3,J100*Geometry!$I$24,0)+IF(C100=4,J100*Geometry!$J$24,0)+IF(C100=5,J100*Geometry!$K$24,0) -> 0
A101: =A100+1 -> 95 | C101: =IF(A101>$C$1-$C$4,3,IF(A101<2,3,IF(A101<=$C$2-$C$3,1,IF(A101>$C$2,1,2)))) -> 3 | D101: =D100+Geometry!$C$15 -> 680 | E101: =E100-(D101-D100) -> -365 | F101: =Geometry!$D$12*D101 -> 16.464 | G101: =IF(H101>0,F101/9.8,0) -> 0 | H101: =IF(ABS(E101*E101)<=Geometry!$E$10,SQRT(Geometry!$E$10-E101*E101),0) -> 0 | I101: =IF(H101>0,1,0) -> 0 | J101: =PI()*H101*H101 -> 0 | K101: =IF(C101=1,J101*Geometry!$G$21,0)+IF(C101=2,J101*Geometry!$H$21,0)+IF(C101=3,J101*Geometry!$I$21,0)+IF(C101=4,J101*Geometry!$J$21,0)+IF(C101=5,J101*Geometry!$K$21,0) -> 0 | L101: =IF(C101=1,J101*Geometry!$G$20,0)+IF(C101=2,J101*Geometry!$H$20,0)+IF(C101=3,J101*Geometry!$I$20,0)+IF(C101=4,J101*Geometry!$J$20,0)+IF(C101=5,J101*Geometry!$K$20,0) -> 0 | M101: =IF(C101=1,J101*Geometry!$G$19,0)+IF(C101=2,J101*Geometry!$H$19,0)+IF(C101=3,J101*Geometry!$I$19,0)+IF(C101=4,J101*Geometry!$J$19,0)+IF(C101=5,J101*Geometry!$K$19,0) -> 0 | N101: =IF(C101=1,J101*Geometry!$G$22,0)+IF(C101=2,J101*Geometry!$H$22,0)+IF(C101=3,J101*Geometry!$I$22,0)+IF(C101=4,J101*Geometry!$J$22,0)+IF(C101=5,J101*Geometry!$K$22,0) -> 0 | O101: =IF(C101=1,J101*Geometry!$G$23,0)+IF(C101=2,J101*Geometry!$H$23,0)+IF(C101=3,J101*Geometry!$I$23,0)+IF(C101=4,J101*Geometry!$J$23,0)+IF(C101=5,J101*Geometry!$K$23,0) -> 0 | P101: =IF(C101=1,J101*Geometry!$G$24,0)+IF(C101=2,J101*Geometry!$H$24,0)+IF(C101=3,J101*Geometry!$I$24,0)+IF(C101=4,J101*Geometry!$J$24,0)+IF(C101=5,J101*Geometry!$K$24,0) -> 0
A102: =A101+1 -> 96 | C102: =IF(A102>$C$1-$C$4,3,IF(A102<2,3,IF(A102<=$C$2-$C$3,1,IF(A102>$C$2,1,2)))) -> 3 | D102: =D101+Geometry!$C$15 -> 685 | E102: =E101-(D102-D101) -> -370 | F102: =Geometry!$D$12*D102 -> 16.585059 | G102: =IF(H102>0,F102/9.8,0) -> 0 | H102: =IF(ABS(E102*E102)<=Geometry!$E$10,SQRT(Geometry!$E$10-E102*E102),0) -> 0 | I102: =IF(H102>0,1,0) -> 0 | J102: =PI()*H102*H102 -> 0 | K102: =IF(C102=1,J102*Geometry!$G$21,0)+IF(C102=2,J102*Geometry!$H$21,0)+IF(C102=3,J102*Geometry!$I$21,0)+IF(C102=4,J102*Geometry!$J$21,0)+IF(C102=5,J102*Geometry!$K$21,0) -> 0 | L102: =IF(C102=1,J102*Geometry!$G$20,0)+IF(C102=2,J102*Geometry!$H$20,0)+IF(C102=3,J102*Geometry!$I$20,0)+IF(C102=4,J102*Geometry!$J$20,0)+IF(C102=5,J102*Geometry!$K$20,0) -> 0 | M102: =IF(C102=1,J102*Geometry!$G$19,0)+IF(C102=2,J102*Geometry!$H$19,0)+IF(C102=3,J102*Geometry!$I$19,0)+IF(C102=4,J102*Geometry!$J$19,0)+IF(C102=5,J102*Geometry!$K$19,0) -> 0 | N102: =IF(C102=1,J102*Geometry!$G$22,0)+IF(C102=2,J102*Geometry!$H$22,0)+IF(C102=3,J102*Geometry!$I$22,0)+IF(C102=4,J102*Geometry!$J$22,0)+IF(C102=5,J102*Geometry!$K$22,0) -> 0 | O102: =IF(C102=1,J102*Geometry!$G$23,0)+IF(C102=2,J102*Geometry!$H$23,0)+IF(C102=3,J102*Geometry!$I$23,0)+IF(C102=4,J102*Geometry!$J$23,0)+IF(C102=5,J102*Geometry!$K$23,0) -> 0 | P102: =IF(C102=1,J102*Geometry!$G$24,0)+IF(C102=2,J102*Geometry!$H$24,0)+IF(C102=3,J102*Geometry!$I$24,0)+IF(C102=4,J102*Geometry!$J$24,0)+IF(C102=5,J102*Geometry!$K$24,0) -> 0
A103: =A102+1 -> 97 | C103: =IF(A103>$C$1-$C$4,3,IF(A103<2,3,IF(A103<=$C$2-$C$3,1,IF(A103>$C$2,1,2)))) -> 3 | D103: =D102+Geometry!$C$15 -> 690 | E103: =E102-(D103-D102) -> -375 | F103: =Geometry!$D$12*D103 -> 16.706118 | G103: =IF(H103>0,F103/9.8,0) -> 0 | H103: =IF(ABS(E103*E103)<=Geometry!$E$10,SQRT(Geometry!$E$10-E103*E103),0) -> 0 | I103: =IF(H103>0,1,0) -> 0 | J103: =PI()*H103*H103 -> 0 | K103: =IF(C103=1,J103*Geometry!$G$21,0)+IF(C103=2,J103*Geometry!$H$21,0)+IF(C103=3,J103*Geometry!$I$21,0)+IF(C103=4,J103*Geometry!$J$21,0)+IF(C103=5,J103*Geometry!$K$21,0) -> 0 | L103: =IF(C103=1,J103*Geometry!$G$20,0)+IF(C103=2,J103*Geometry!$H$20,0)+IF(C103=3,J103*Geometry!$I$20,0)+IF(C103=4,J103*Geometry!$J$20,0)+IF(C103=5,J103*Geometry!$K$20,0) -> 0 | M103: =IF(C103=1,J103*Geometry!$G$19,0)+IF(C103=2,J103*Geometry!$H$19,0)+IF(C103=3,J103*Geometry!$I$19,0)+IF(C103=4,J103*Geometry!$J$19,0)+IF(C103=5,J103*Geometry!$K$19,0) -> 0 | N103: =IF(C103=1,J103*Geometry!$G$22,0)+IF(C103=2,J103*Geometry!$H$22,0)+IF(C103=3,J103*Geometry!$I$22,0)+IF(C103=4,J103*Geometry!$J$22,0)+IF(C103=5,J103*Geometry!$K$22,0) -> 0 | O103: =IF(C103=1,J103*Geometry!$G$23,0)+IF(C103=2,J103*Geometry!$H$23,0)+IF(C103=3,J103*Geometry!$I$23,0)+IF(C103=4,J103*Geometry!$J$23,0)+IF(C103=5,J103*Geometry!$K$23,0) -> 0 | P103: =IF(C103=1,J103*Geometry!$G$24,0)+IF(C103=2,J103*Geometry!$H$24,0)+IF(C103=3,J103*Geometry!$I$24,0)+IF(C103=4,J103*Geometry!$J$24,0)+IF(C103=5,J103*Geometry!$K$24,0) -> 0
A104: =A103+1 -> 98 | C104: =IF(A104>$C$1-$C$4,3,IF(A104<2,3,IF(A104<=$C$2-$C$3,1,IF(A104>$C$2,1,2)))) -> 3 | D104: =D103+Geometry!$C$15 -> 695 | E104: =E103-(D104-D103) -> -380 | F104: =Geometry!$D$12*D104 -> 16.827176 | G104: =IF(H104>0,F104/9.8,0) -> 0 | H104: =IF(ABS(E104*E104)<=Geometry!$E$10,SQRT(Geometry!$E$10-E104*E104),0) -> 0 | I104: =IF(H104>0,1,0) -> 0 | J104: =PI()*H104*H104 -> 0 | K104: =IF(C104=1,J104*Geometry!$G$21,0)+IF(C104=2,J104*Geometry!$H$21,0)+IF(C104=3,J104*Geometry!$I$21,0)+IF(C104=4,J104*Geometry!$J$21,0)+IF(C104=5,J104*Geometry!$K$21,0) -> 0 | L104: =IF(C104=1,J104*Geometry!$G$20,0)+IF(C104=2,J104*Geometry!$H$20,0)+IF(C104=3,J104*Geometry!$I$20,0)+IF(C104=4,J104*Geometry!$J$20,0)+IF(C104=5,J104*Geometry!$K$20,0) -> 0 | M104: =IF(C104=1,J104*Geometry!$G$19,0)+IF(C104=2,J104*Geometry!$H$19,0)+IF(C104=3,J104*Geometry!$I$19,0)+IF(C104=4,J104*Geometry!$J$19,0)+IF(C104=5,J104*Geometry!$K$19,0) -> 0 | N104: =IF(C104=1,J104*Geometry!$G$22,0)+IF(C104=2,J104*Geometry!$H$22,0)+IF(C104=3,J104*Geometry!$I$22,0)+IF(C104=4,J104*Geometry!$J$22,0)+IF(C104=5,J104*Geometry!$K$22,0) -> 0 | O104: =IF(C104=1,J104*Geometry!$G$23,0)+IF(C104=2,J104*Geometry!$H$23,0)+IF(C104=3,J104*Geometry!$I$23,0)+IF(C104=4,J104*Geometry!$J$23,0)+IF(C104=5,J104*Geometry!$K$23,0) -> 0 | P104: =IF(C104=1,J104*Geometry!$G$24,0)+IF(C104=2,J104*Geometry!$H$24,0)+IF(C104=3,J104*Geometry!$I$24,0)+IF(C104=4,J104*Geometry!$J$24,0)+IF(C104=5,J104*Geometry!$K$24,0) -> 0
A105: =A104+1 -> 99 | C105: =IF(A105>$C$1-$C$4,3,IF(A105<2,3,IF(A105<=$C$2-$C$3,1,IF(A105>$C$2,1,2)))) -> 3 | D105: =D104+Geometry!$C$15 -> 700 | E105: =E104-(D105-D104) -> -385 | F105: =Geometry!$D$12*D105 -> 16.948235 | G105: =IF(H105>0,F105/9.8,0) -> 0 | H105: =IF(ABS(E105*E105)<=Geometry!$E$10,SQRT(Geometry!$E$10-E105*E105),0) -> 0 | I105: =IF(H105>0,1,0) -> 0 | J105: =PI()*H105*H105 -> 0 | K105: =IF(C105=1,J105*Geometry!$G$21,0)+IF(C105=2,J105*Geometry!$H$21,0)+IF(C105=3,J105*Geometry!$I$21,0)+IF(C105=4,J105*Geometry!$J$21,0)+IF(C105=5,J105*Geometry!$K$21,0) -> 0 | L105: =IF(C105=1,J105*Geometry!$G$20,0)+IF(C105=2,J105*Geometry!$H$20,0)+IF(C105=3,J105*Geometry!$I$20,0)+IF(C105=4,J105*Geometry!$J$20,0)+IF(C105=5,J105*Geometry!$K$20,0) -> 0 | M105: =IF(C105=1,J105*Geometry!$G$19,0)+IF(C105=2,J105*Geometry!$H$19,0)+IF(C105=3,J105*Geometry!$I$19,0)+IF(C105=4,J105*Geometry!$J$19,0)+IF(C105=5,J105*Geometry!$K$19,0) -> 0 | N105: =IF(C105=1,J105*Geometry!$G$22,0)+IF(C105=2,J105*Geometry!$H$22,0)+IF(C105=3,J105*Geometry!$I$22,0)+IF(C105=4,J105*Geometry!$J$22,0)+IF(C105=5,J105*Geometry!$K$22,0) -> 0 | O105: =IF(C105=1,J105*Geometry!$G$23,0)+IF(C105=2,J105*Geometry!$H$23,0)+IF(C105=3,J105*Geometry!$I$23,0)+IF(C105=4,J105*Geometry!$J$23,0)+IF(C105=5,J105*Geometry!$K$23,0) -> 0 | P105: =IF(C105=1,J105*Geometry!$G$24,0)+IF(C105=2,J105*Geometry!$H$24,0)+IF(C105=3,J105*Geometry!$I$24,0)+IF(C105=4,J105*Geometry!$J$24,0)+IF(C105=5,J105*Geometry!$K$24,0) -> 0
A106: =A105+1 -> 100 | C106: =IF(A106>$C$1-$C$4,3,IF(A106<2,3,IF(A106<=$C$2-$C$3,1,IF(A106>$C$2,1,2)))) -> 3 | D106: =D105+Geometry!$C$15 -> 705 | E106: =E105-(D106-D105) -> -390 | F106: =Geometry!$D$12*D106 -> 17.069294 | G106: =IF(H106>0,F106/9.8,0) -> 0 | H106: =IF(ABS(E106*E106)<=Geometry!$E$10,SQRT(Geometry!$E$10-E106*E106),0) -> 0 | I106: =IF(H106>0,1,0) -> 0 | J106: =PI()*H106*H106 -> 0 | K106: =IF(C106=1,J106*Geometry!$G$21,0)+IF(C106=2,J106*Geometry!$H$21,0)+IF(C106=3,J106*Geometry!$I$21,0)+IF(C106=4,J106*Geometry!$J$21,0)+IF(C106=5,J106*Geometry!$K$21,0) -> 0 | L106: =IF(C106=1,J106*Geometry!$G$20,0)+IF(C106=2,J106*Geometry!$H$20,0)+IF(C106=3,J106*Geometry!$I$20,0)+IF(C106=4,J106*Geometry!$J$20,0)+IF(C106=5,J106*Geometry!$K$20,0) -> 0 | M106: =IF(C106=1,J106*Geometry!$G$19,0)+IF(C106=2,J106*Geometry!$H$19,0)+IF(C106=3,J106*Geometry!$I$19,0)+IF(C106=4,J106*Geometry!$J$19,0)+IF(C106=5,J106*Geometry!$K$19,0) -> 0 | N106: =IF(C106=1,J106*Geometry!$G$22,0)+IF(C106=2,J106*Geometry!$H$22,0)+IF(C106=3,J106*Geometry!$I$22,0)+IF(C106=4,J106*Geometry!$J$22,0)+IF(C106=5,J106*Geometry!$K$22,0) -> 0 | O106: =IF(C106=1,J106*Geometry!$G$23,0)+IF(C106=2,J106*Geometry!$H$23,0)+IF(C106=3,J106*Geometry!$I$23,0)+IF(C106=4,J106*Geometry!$J$23,0)+IF(C106=5,J106*Geometry!$K$23,0) -> 0 | P106: =IF(C106=1,J106*Geometry!$G$24,0)+IF(C106=2,J106*Geometry!$H$24,0)+IF(C106=3,J106*Geometry!$I$24,0)+IF(C106=4,J106*Geometry!$J$24,0)+IF(C106=5,J106*Geometry!$K$24,0) -> 0
A107: =A106+1 -> 101 | C107: =IF(A107>$C$1-$C$4,3,IF(A107<2,3,IF(A107<=$C$2-$C$3,1,IF(A107>$C$2,1,2)))) -> 3 | D107: =D106+Geometry!$C$15 -> 710 | E107: =E106-(D107-D106) -> -395 | F107: =Geometry!$D$12*D107 -> 17.190353 | G107: =IF(H107>0,F107/9.8,0) -> 0 | H107: =IF(ABS(E107*E107)<=Geometry!$E$10,SQRT(Geometry!$E$10-E107*E107),0) -> 0 | I107: =IF(H107>0,1,0) -> 0 | J107: =PI()*H107*H107 -> 0 | K107: =IF(C107=1,J107*Geometry!$G$21,0)+IF(C107=2,J107*Geometry!$H$21,0)+IF(C107=3,J107*Geometry!$I$21,0)+IF(C107=4,J107*Geometry!$J$21,0)+IF(C107=5,J107*Geometry!$K$21,0) -> 0 | L107: =IF(C107=1,J107*Geometry!$G$20,0)+IF(C107=2,J107*Geometry!$H$20,0)+IF(C107=3,J107*Geometry!$I$20,0)+IF(C107=4,J107*Geometry!$J$20,0)+IF(C107=5,J107*Geometry!$K$20,0) -> 0 | M107: =IF(C107=1,J107*Geometry!$G$19,0)+IF(C107=2,J107*Geometry!$H$19,0)+IF(C107=3,J107*Geometry!$I$19,0)+IF(C107=4,J107*Geometry!$J$19,0)+IF(C107=5,J107*Geometry!$K$19,0) -> 0 | N107: =IF(C107=1,J107*Geometry!$G$22,0)+IF(C107=2,J107*Geometry!$H$22,0)+IF(C107=3,J107*Geometry!$I$22,0)+IF(C107=4,J107*Geometry!$J$22,0)+IF(C107=5,J107*Geometry!$K$22,0) -> 0 | O107: =IF(C107=1,J107*Geometry!$G$23,0)+IF(C107=2,J107*Geometry!$H$23,0)+IF(C107=3,J107*Geometry!$I$23,0)+IF(C107=4,J107*Geometry!$J$23,0)+IF(C107=5,J107*Geometry!$K$23,0) -> 0 | P107: =IF(C107=1,J107*Geometry!$G$24,0)+IF(C107=2,J107*Geometry!$H$24,0)+IF(C107=3,J107*Geometry!$I$24,0)+IF(C107=4,J107*Geometry!$J$24,0)+IF(C107=5,J107*Geometry!$K$24,0) -> 0
A108: =A107+1 -> 102 | C108: =IF(A108>$C$1-$C$4,3,IF(A108<2,3,IF(A108<=$C$2-$C$3,1,IF(A108>$C$2,1,2)))) -> 3 | D108: =D107+Geometry!$C$15 -> 715 | E108: =E107-(D108-D107) -> -400 | F108: =Geometry!$D$12*D108 -> 17.311412 | G108: =IF(H108>0,F108/9.8,0) -> 0 | H108: =IF(ABS(E108*E108)<=Geometry!$E$10,SQRT(Geometry!$E$10-E108*E108),0) -> 0 | I108: =IF(H108>0,1,0) -> 0 | J108: =PI()*H108*H108 -> 0 | K108: =IF(C108=1,J108*Geometry!$G$21,0)+IF(C108=2,J108*Geometry!$H$21,0)+IF(C108=3,J108*Geometry!$I$21,0)+IF(C108=4,J108*Geometry!$J$21,0)+IF(C108=5,J108*Geometry!$K$21,0) -> 0 | L108: =IF(C108=1,J108*Geometry!$G$20,0)+IF(C108=2,J108*Geometry!$H$20,0)+IF(C108=3,J108*Geometry!$I$20,0)+IF(C108=4,J108*Geometry!$J$20,0)+IF(C108=5,J108*Geometry!$K$20,0) -> 0 | M108: =IF(C108=1,J108*Geometry!$G$19,0)+IF(C108=2,J108*Geometry!$H$19,0)+IF(C108=3,J108*Geometry!$I$19,0)+IF(C108=4,J108*Geometry!$J$19,0)+IF(C108=5,J108*Geometry!$K$19,0) -> 0 | N108: =IF(C108=1,J108*Geometry!$G$22,0)+IF(C108=2,J108*Geometry!$H$22,0)+IF(C108=3,J108*Geometry!$I$22,0)+IF(C108=4,J108*Geometry!$J$22,0)+IF(C108=5,J108*Geometry!$K$22,0) -> 0 | O108: =IF(C108=1,J108*Geometry!$G$23,0)+IF(C108=2,J108*Geometry!$H$23,0)+IF(C108=3,J108*Geometry!$I$23,0)+IF(C108=4,J108*Geometry!$J$23,0)+IF(C108=5,J108*Geometry!$K$23,0) -> 0 | P108: =IF(C108=1,J108*Geometry!$G$24,0)+IF(C108=2,J108*Geometry!$H$24,0)+IF(C108=3,J108*Geometry!$I$24,0)+IF(C108=4,J108*Geometry!$J$24,0)+IF(C108=5,J108*Geometry!$K$24,0) -> 0
A109: =A108+1 -> 103 | C109: =IF(A109>$C$1-$C$4,3,IF(A109<2,3,IF(A109<=$C$2-$C$3,1,IF(A109>$C$2,1,2)))) -> 3 | D109: =D108+Geometry!$C$15 -> 720 | E109: =E108-(D109-D108) -> -405 | F109: =Geometry!$D$12*D109 -> 17.432471 | G109: =IF(H109>0,F109/9.8,0) -> 0 | H109: =IF(ABS(E109*E109)<=Geometry!$E$10,SQRT(Geometry!$E$10-E109*E109),0) -> 0 | I109: =IF(H109>0,1,0) -> 0 | J109: =PI()*H109*H109 -> 0 | K109: =IF(C109=1,J109*Geometry!$G$21,0)+IF(C109=2,J109*Geometry!$H$21,0)+IF(C109=3,J109*Geometry!$I$21,0)+IF(C109=4,J109*Geometry!$J$21,0)+IF(C109=5,J109*Geometry!$K$21,0) -> 0 | L109: =IF(C109=1,J109*Geometry!$G$20,0)+IF(C109=2,J109*Geometry!$H$20,0)+IF(C109=3,J109*Geometry!$I$20,0)+IF(C109=4,J109*Geometry!$J$20,0)+IF(C109=5,J109*Geometry!$K$20,0) -> 0 | M109: =IF(C109=1,J109*Geometry!$G$19,0)+IF(C109=2,J109*Geometry!$H$19,0)+IF(C109=3,J109*Geometry!$I$19,0)+IF(C109=4,J109*Geometry!$J$19,0)+IF(C109=5,J109*Geometry!$K$19,0) -> 0 | N109: =IF(C109=1,J109*Geometry!$G$22,0)+IF(C109=2,J109*Geometry!$H$22,0)+IF(C109=3,J109*Geometry!$I$22,0)+IF(C109=4,J109*Geometry!$J$22,0)+IF(C109=5,J109*Geometry!$K$22,0) -> 0 | O109: =IF(C109=1,J109*Geometry!$G$23,0)+IF(C109=2,J109*Geometry!$H$23,0)+IF(C109=3,J109*Geometry!$I$23,0)+IF(C109=4,J109*Geometry!$J$23,0)+IF(C109=5,J109*Geometry!$K$23,0) -> 0 | P109: =IF(C109=1,J109*Geometry!$G$24,0)+IF(C109=2,J109*Geometry!$H$24,0)+IF(C109=3,J109*Geometry!$I$24,0)+IF(C109=4,J109*Geometry!$J$24,0)+IF(C109=5,J109*Geometry!$K$24,0) -> 0
A110: =A109+1 -> 104 | C110: =IF(A110>$C$1-$C$4,3,IF(A110<2,3,IF(A110<=$C$2-$C$3,1,IF(A110>$C$2,1,2)))) -> 3 | D110: =D109+Geometry!$C$15 -> 725 | E110: =E109-(D110-D109) -> -410 | F110: =Geometry!$D$12*D110 -> 17.553529 | G110: =IF(H110>0,F110/9.8,0) -> 0 | H110: =IF(ABS(E110*E110)<=Geometry!$E$10,SQRT(Geometry!$E$10-E110*E110),0) -> 0 | I110: =IF(H110>0,1,0) -> 0 | J110: =PI()*H110*H110 -> 0 | K110: =IF(C110=1,J110*Geometry!$G$21,0)+IF(C110=2,J110*Geometry!$H$21,0)+IF(C110=3,J110*Geometry!$I$21,0)+IF(C110=4,J110*Geometry!$J$21,0)+IF(C110=5,J110*Geometry!$K$21,0) -> 0 | L110: =IF(C110=1,J110*Geometry!$G$20,0)+IF(C110=2,J110*Geometry!$H$20,0)+IF(C110=3,J110*Geometry!$I$20,0)+IF(C110=4,J110*Geometry!$J$20,0)+IF(C110=5,J110*Geometry!$K$20,0) -> 0 | M110: =IF(C110=1,J110*Geometry!$G$19,0)+IF(C110=2,J110*Geometry!$H$19,0)+IF(C110=3,J110*Geometry!$I$19,0)+IF(C110=4,J110*Geometry!$J$19,0)+IF(C110=5,J110*Geometry!$K$19,0) -> 0 | N110: =IF(C110=1,J110*Geometry!$G$22,0)+IF(C110=2,J110*Geometry!$H$22,0)+IF(C110=3,J110*Geometry!$I$22,0)+IF(C110=4,J110*Geometry!$J$22,0)+IF(C110=5,J110*Geometry!$K$22,0) -> 0 | O110: =IF(C110=1,J110*Geometry!$G$23,0)+IF(C110=2,J110*Geometry!$H$23,0)+IF(C110=3,J110*Geometry!$I$23,0)+IF(C110=4,J110*Geometry!$J$23,0)+IF(C110=5,J110*Geometry!$K$23,0) -> 0 | P110: =IF(C110=1,J110*Geometry!$G$24,0)+IF(C110=2,J110*Geometry!$H$24,0)+IF(C110=3,J110*Geometry!$I$24,0)+IF(C110=4,J110*Geometry!$J$24,0)+IF(C110=5,J110*Geometry!$K$24,0) -> 0
