Workbook

Sheet Vehicle
A1: Distance | B1: 45.7 | C1: ly | D1: 45.7 | E1: 4.5 | F1: 200
A2: Distance | B2: =B1*Conversion!$B$5 -> 4.3235399e+17 | C2: m | E2: =E1*Conversion!$B$5 -> 4.257315e+16 | F2: =F1*Conversion!$B$5 -> 1.89214e+18
A4: Accelleration Rate: | B4: =Conversion!B11 -> 9.8 | C4: m/s/s | E4: 9.8 | F4: 9.8
A5: Turn-Around Distance | B5: =B2/2 -> 2.16177e+17 | E5: =E2/2 -> 2.1286575e+16 | F5: =F2/2 -> 9.4607e+17
A6: Lorentz Factor (ymid) | B6: =1+B4*(B2*0.5)/(Conversion!$B$6*Conversion!$B$6) -> 24.571876 | E6: =1+E4*(E2*0.5)/(Conversion!$B$6*Conversion!$B$6) -> 3.3210819 | F6: =1+F4*(F2*0.5)/(Conversion!$B$6*Conversion!$B$6) -> 104.15919
A8: Travel time (ship) | B8: =4*(Conversion!$B$6/B4)*ACOSH(B6) -> 4.765275e+08 | C8: s | E8: =4*(Conversion!$B$6/E4)*ACOSH(E6) -> 2.2881623e+08 | F8: =4*(Conversion!$B$6/F4)*ACOSH(F6) -> 6.5330828e+08
B9: =B8/Conversion!$C$3 -> 15.100555 | C9: year | E9: =E8/Conversion!$B$3 -> 7.2507488 | F9: =F8/Conversion!$B$3 -> 20.70209
A10: Trave time (map) | B10: =4*(Conversion!$B$6/B4)*SINH(ACOSH(B6)) -> 3.0042287e+09 | C10: s | E10: =4*(Conversion!$B$6/E4)*SINH(ACOSH(E6)) -> 3.8752176e+08 | F10: =4*(Conversion!$B$6/F4)*SINH(ACOSH(F6)) -> 1.2744776e+10
B11: =B10/Conversion!$C$3 -> 95.200216 | C11: year | E11: =E10/Conversion!$B$3 -> 12.279824 | F11: =F10/Conversion!$B$3 -> 403.85759
A13: Time in System | B13: 20
A14: Return Trip | B14: 0
A15: Total Mission Length | B15: =B9+B13+IF(B14,B9,0) -> 35.100555 | C15: (Earth) | D15: =B11+B13+IF(B14,B11,0) -> 115.20022
A16: Target Population | B16: 1000
A17: Number Domes | B17: 6
A18: Population Profile | B18: balanced | C18: =LOOKUP(B18,Population!L9:L12,Population!M9:M12) -> Balanced Population Level based on developed technological cultures
A19: Volume / Dome | B19: =B40/B17*Geometry!C15*0.91 -> 3926154.6
A20: Dome Radius est | B20: =CEILING(POWER(B19*3/(4*PI()),1/3),2.5)*4 -> 400
A22: 1 G Radius | B22: 425 | C22: =B22*2 -> 850
A23: Population | B23: Seed | C23: Mission Arrival | D23: Mission End | E23: Peak | F23: Final
A24: Year | B24: 0 | C24: =B9+1 -> 16.100555 | D24: =B15 -> 35.100555 | E24: 34 | F24: 100
A25: General | B25: =LOOKUP(B24,'Population Model'!$A$3:$A$100,'Population Model'!$B$3:$B$100) -> 829 | C25: =LOOKUP(C24,'Population Model'!$A$3:$A$100,'Population Model'!$B$3:$B$100) -> 938 | D25: =LOOKUP(D24,'Population Model'!$A$3:$A$100,'Population Model'!$B$3:$B$100) -> 985 | E25: =Population!B3 -> 989 | F25: =LOOKUP(F24,'Population Model'!$A$3:$A$100,'Population Model'!$B$3:$B$100) -> 987
A26: Workforce | B26: =LOOKUP(B24,'Population Model'!$A$3:$A$100,'Population Model'!$C$3:$C$100) -> 477 | C26: =LOOKUP(C24,'Population Model'!$A$3:$A$100,'Population Model'!$C$3:$C$100) -> 419 | D26: =LOOKUP(D24,'Population Model'!$A$3:$A$100,'Population Model'!$C$3:$C$100) -> 383 | E26: =LOOKUP(E24,'Population Model'!$A$3:$A$100,'Population Model'!$C$3:$C$100) -> 385 | F26: =LOOKUP(F24,'Population Model'!$A$3:$A$100,'Population Model'!$C$3:$C$100) -> 385
A28: Housing - Single | B28: =Population!C22 -> 396.11065 | C28: 500
A29: Housing - Family | B29: =Population!C23 -> 202 | C29: 1000
A31: Land Usage | B31: Budget | C31: Implemented | D31: Budget % | E31: Acres | F31: Acres/Capita
A32: Cattle Range: | B32: =Cattle!D11 -> 25000
A33: Crops Range: | B33: =Agriculture!C45*0.75 -> 4481635.3 | G33: (Assume a magical 25% production increase from technology)
A34: Agriculture | B34: =B32+B33 -> 4506635.3 | C34: =Geometry!C21*$B$17 -> 4668790 | D34: =C34/B34 -> 1.0359813 | E34: =C34*Conversion!$F$18 -> 1153.7047 | F34: =E34/$B$16 -> 1.1537047
A35: Settlement Area: | B35: =B28*C28+B29*C29 -> 400055.33 | C35: =Geometry!C20*$B$17 -> 579199.73 | D35: =C35/B35 -> 1.4477991 | E35: =C35*Conversion!$F$18 -> 143.12605 | F35: =E35/$B$16 -> 0.14312605
A36: Recreation Area: | B36: =B16*40*Conversion!E15/1000 -> 161874.26 | C36: =Geometry!C19*$B$17 -> 158996 | D36: =C36/B36 -> 0.98221921 | E36: =C36*Conversion!$F$18 -> 39.289503 | F36: =E36/$B$16 -> 0.039289503
A37: Cargo Storage | B37: =(B63+B65+Agriculture!E40)/1000/2 -> 108781.9 | C37: =Geometry!C22*$B$17 -> 117131.14 | D37: =C37/B37 -> 1.0767521 | E37: =C37*Conversion!$F$18 -> 28.944276 | F37: =E37/$B$16 -> 0.028944276
A38: Industrial | B38: =E25*250 -> 247250 | C38: =Geometry!C23*$B$17 -> 253257.92 | D38: =C38/B38 -> 1.024299 | E38: =C38*Conversion!$F$18 -> 62.582565 | F38: =E38/$B$16 -> 0.062582565
A40: Total allocated Area: | B40: =SUM(B34:B37) -> 5177346.7 | C40: =B55 -> 6686880 | D40: =C40/B40 -> 1.291565 | E40: m^2/person | F40: =B44/B16 -> 1.652364
A41: Total | B41: =B55 -> 6686880 | C41: m^2 | E41: =19000*6000 -> 114000000 | F41: =E41/B41 -> 17.04831
B42: =B41/1000000 -> 6.68688 | C42: million m^2
B43: =B41/5400 -> 1238.3111 | C43: American football fields | H43: =750/0.26 -> 2884.6154
B44: =B41/4046.85642 -> 1652.364 | C44: Acres | G44: 109.728 | H44: =G44/H43 -> 0.03803904
B45: =B41/2590000 -> 2.5818069 | C45: Square Miles
A46: Medievel Estimate | B46: =B16/(180) -> 5.5555556 | C46: Square Miles
A48: Dome Radius | B48: =Geometry!E40 -> 110 | C48: =B22/B48 -> 3.8636364 | D48: =B48*2 -> 220
A49: Dome Land Surface | B49: =Geometry!C18 -> 1114480 | C49: =B49*Conversion!F18 -> 275.39915
A50: Dome Levels | B50: =Geometry!E38 -> 43
A51: Dome Exterior Surface | B51: =Geometry!E45 -> 152053.08
A52: Dome Volume | B52: =Geometry!E46 -> 5575279.8
A53: Dome Shield Mass | B53: =Geometry!E48 -> 1.5205308e+09
A54: Dome Structure Mass | B54: =B52*B69 -> 1.0010202e+09
A55: Total Land Area | B55: =B49*B17 -> 6686880
A57: Soil Volume | B57: =Agriculture!C47 -> 6546924.3
A58: Soil Mass | B58: =Agriculture!C47*Conversion!B10 -> 1.1129771e+10 | C58: kg
A60: Total Vehicle Mass | B60: =D61+B67+B65+B64*B16+D63+D62 -> 5.1738049e+10 | C60: kg | D60: =B60/(1046000*1016.4) -> 48.664661 | E60: Nimitz Class Carriers
A61: Dry Mass Estimate | B61: 28000000000 | C61: kg | D61: =SUM(B76:B83) -> 2.6970085e+10 | E61: kg
A62: Fuel Mass Estimate | B62: 30000000000 | D62: =B92+B94 -> 2.3571359e+10 | E62: kg | F62: As Lithium and Heavy Water
A63: Spare Parts Estimate | B63: 200000000 | D63: =B82*0.25+(B76+B77+B65)*B66 -> 1.8160397e+08 | E63: kg
A64: Crew + Effects / per | B64: 5000
A65: Mission Cargo | B65: =B16*10000 -> 10000000
A66: Spare Parts Factor | B66: 10
A67: Cargo Capacity | B67: 1000000000 | E67: Bringing along a self-replicating robot factory to mine remote system
B68: =3220/(390*55*30) -> 0.005003885 | C68: long ton/ft^3
A69: kg/m^3 | B69: =B68*1016.04691/0.0283168466 -> 179.54619
A70: Kg/m^2 manned space | B70: 310 | E70: Based on construction formulas | F70: https://cdn.ymaws.com/www.aspenational.org/resource/resmgr/Techical_Papers/2013_October_TP.pdf
A71: Radition Shielding | B71: 10000 | C71: kg/m^2 | F71: Thickness of water surrounding all habitat areas of ship
E72: 4500 kg/m^2 needed | F72: https://settlement.arc.nasa.gov/75SummerStudy/Chapt4.html#Shielding
B73: =SUM(B61:B67) -> 59210005010 | C73: kg
A74: Impulse | B74: =(B73)*B4/1000 -> 5.8025805e+08 | C74: kw | E74: Mass of spacecraft * accelleration * time
A75: Watt per kg | B75: 1000
A76: Propulsion System | B76: =B74/B75*3 -> 1740774.1 | C76: kg | E76: Goal: 1 kW/kg fusion | F76: https://www.space.com/37146-nuclear-fusion-rockets-interstellar-spaceflight.html
A77: Power System | B77: ='Power Consumption'!C41 -> 2232135.6 | C77: kg | D77: =B77/B76 -> 1.282266 | E77: =B77/12 -> 186011.3
A78: Soil | B78: =B58 -> 1.1129771e+10
A79: Atmosphere | B79: =B52*B17*Conversion!B9*0.9 -> 36880476 | C79: kg | E79: Assuming STP 1.225 kg/m^3 and 90% of total interior volume
A80: Water Tank/Rad shield | B80: =B53*B17 -> 9.1231851e+09
A81: Dome Structure | B81: =B54*B17 -> 6.0061214e+09
A82: Steel Structure | B82: =(B61+B62+SUM(B76:B81))*Conversion!B24*3/Conversion!B23 -> 1.674995e+08 | C82: =B82/D61 -> 0.0062105662
A83: Flywheel Mass | B83: =Geometry!E62 -> 5.0265482e+08
A84: Dry Mass | B84: =D61 -> 2.6970085e+10 | C84: =B76/D61 -> 6.4544628e-05
B85: =D61/Conversion!B31 -> 25.367986 | C85: Nimitz Class Carriers
A86: Fuel / mW | B86: ='Power Consumption'!C38 -> 5.0520903e-11 | C86: kg/kwH | E86: 7 billion kwh / 3100kg fuel | F86: https://f4e.europa.eu/understandingfusion/merits.aspx
A88: Fuel Mass (Power): | B88: ='Power Consumption'!C42*'Power Consumption'!C7 -> 6.6428338e+09
A89: Fuel Mass (Propulsion): | B89: =B74*B86*(B8/3600) -> 3880.4112
A90: Fuel Mass (raw) | B90: =B88+B89 -> 6.6428377e+09
A91: Deuterium | B91: =B90*(100/(100+3000)) -> 2.1428509e+08 | C91: kg | E91: Pure Duterium | F91: https://f4e.europa.eu/understandingfusion/merits.aspx
A92: Lithium | B92: =B90*(3000/(100+3000)) -> 6.4285526e+09 | C92: kg | E92: Pure Lithium | F92: https://f4e.europa.eu/understandingfusion/merits.aspx
A93: Heavy Water | B93: =B91/Conversion!B7*4 -> 1.4233483e-15 | C93: Moles
B94: =B93*(4+16)*Conversion!B7 -> 1.7142807e+10 | C94: kg | E94: =B94/B80 -> 1.8790375
A98: Comet Water | B98: =B94/B99 -> 1.710859e+17 | C98: kg | E98: comet 3x deuterium concentration | F98: https://earthsky.org/space/rosettas-comet-fuels-debate-on-origin-of-earths-oceans
B99: =(33.4*3)/1000/1000000 -> 1.002e-07 | E99: Ratio Deuterium Comet Water | F99: https://www.nextbigfuture.com/2012/06/what-is-energy-content-of-earths-water.html
B100: =B98/220000000000000 -> 777.66317 | E100: Number of Equivilent Haley's Comets
A102: Ceres Water | B102: =B94/B103 -> 5.1325769e+17
B103: =(33.4)/1000/1000000 -> 3.34e-08
B104: =200000000*1000000000000 -> 2e+20 | E104: Mass of water on planet
B105: =B102/B104 -> 0.0025662885 | E105: Mass of planet

Sheet Automation
B1: Man Hrs | C1: Crew
B2: PEAK | D2: START
A3: Labor Hours - Repair | B3: =SUM(H:H) -> 562707.68 | C3: =CEILING(B3/2000,1) -> 282
A4: Labor Hours - Operation | B4: =SUM(F:F) -> 16002.691 | C4: =CEILING(B4/2000,1) -> 9
A5: Labor Hours - Finished Goods/Capita | B5: 10
A7: Maintenance Schedule Robotics | B7: Work Hours | C7: Utilization | D7: Population | E7: Operation Unit (Hr) | F7: Operation All (hr) | G7: Repair Unit (hr) | H7: Repair all (hr) | I7: Design Life | J7: Manufacture | K7: Recycle | L7: Maintenance | M7: 24 | N7: =24*7 -> 168 | O7: 320 | P7: 960 | Q7: 3840 | R7: 5760 | S7: 11520 | T7: 15360
A8: Manufacturing Units | B8: =SUM(G:G)*SUM(D10:D13)/1000 -> 2082.3263 | C8: 1 | D8: =CEILING(B8*C8,1) -> 2083 | E8: 1 | F8: =E8*B8 -> 2082.3263 | G8: =SUM(J8:L8)*3840/I8 -> 133.8869 | H8: =G8*D8 -> 278886.42 | I8: =I10*3 -> 46080 | J8: 1000 | K8: =J8*0.25 -> 250 | L8: =M8*(I8/$M$7)+N8*(I8/$N$7)+O8*(I8/$O$7)+P8*(I8/$P$7)+Q8*(I8/$Q$7)+R8*(I8/$R$7)+S8*(I8/$S$7)+T8*(I8/$T$7) -> 356.64286 | M8: =1/60 -> 0.016666667 | N8: =2/60 -> 0.033333333 | O8: =5/60 -> 0.083333333 | P8: 1 | Q8: 1 | R8: 2 | S8: 10 | T8: =K8*0.25 -> 62.5
A10: Mobile Units | B10: =Vehicle!E25+Vehicle!B40/240 -> 22561.278 | C10: 0.1 | D10: =CEILING(B10*C10,1) -> 2257 | E10: 0.5 | F10: =E10*B10 -> 11280.639 | G10: =SUM(J10:L10)*3840/I10 -> 41.595238 | H10: =G10*D10 -> 93880.452 | I10: =15360 -> 15360 | J10: 100 | K10: =J10*0.1 -> 10 | L10: =M10*(I10/$M$7)+N10*(I10/$N$7)+O10*(I10/$O$7)+P10*(I10/$P$7)+Q10*(I10/$Q$7)+R10*(I10/$R$7)+S10*(I10/$S$7)+T10*(I10/$T$7) -> 56.380952 | M10: =1/60 -> 0.016666667 | N10: =2/60 -> 0.033333333 | O10: =5/60 -> 0.083333333 | P10: 1 | Q10: 1 | R10: 2 | S10: 10
A11: Food Processing Units | B11: =(Agriculture!E37+Agriculture!E38)/1000 -> 1080.5433 | C11: 0.1 | D11: =CEILING(B11*C11,1) -> 109 | E11: 1 | F11: =E11*B11 -> 1080.5433 | G11: =SUM(J11:L11)*3840/I11 -> 133.8869 | H11: =G11*D11 -> 14593.673 | I11: =I8 -> 46080 | J11: 1000 | K11: =J11*0.25 -> 250 | L11: =M11*(I11/$M$7)+N11*(I11/$N$7)+O11*(I11/$O$7)+P11*(I11/$P$7)+Q11*(I11/$Q$7)+R11*(I11/$R$7)+S11*(I11/$S$7)+T11*(I11/$T$7) -> 356.64286 | M11: =1/60 -> 0.016666667 | N11: =2/60 -> 0.033333333 | O11: =5/60 -> 0.083333333 | P11: 1 | Q11: 1 | R11: 2 | S11: 10 | T11: =K11*0.25 -> 62.5
A12: Tractors | B12: =SUM(Crops!AD:AD)/100 -> 570.1826 | C12: 0.25 | D12: =CEILING(B12*C12,1) -> 143 | E12: 1 | F12: =E12*B12 -> 570.1826 | G12: =SUM(J12:L12)*3840/I12 -> 41.595238 | H12: =G12*D12 -> 5948.119 | I12: =15360 -> 15360 | J12: 100 | K12: =J12*0.1 -> 10 | L12: =M12*(I12/$M$7)+N12*(I12/$N$7)+O12*(I12/$O$7)+P12*(I12/$P$7)+Q12*(I12/$Q$7)+R12*(I12/$R$7)+S12*(I12/$S$7)+T12*(I12/$T$7) -> 56.380952 | M12: =1/60 -> 0.016666667 | N12: =2/60 -> 0.033333333 | O12: =5/60 -> 0.083333333 | P12: 1 | Q12: 1 | R12: 2 | S12: 10
A13: Industrial Finished Goods | B13: =(Vehicle!E25*B5) -> 9890 | C13: 0.05 | D13: =CEILING(B13*C13,1) -> 495 | E13: 0.1 | F13: =E13*B13 -> 989 | G13: =SUM(J13:L13)*3840/I13 -> 342.22024 | H13: =G13*D13 -> 169399.02 | I13: =I10 -> 15360 | J13: 1000 | K13: =J13*0.25 -> 250 | L13: =M13*(I13/$M$7)+N13*(I13/$N$7)+O13*(I13/$O$7)+P13*(I13/$P$7)+Q13*(I13/$Q$7)+R13*(I13/$R$7)+S13*(I13/$S$7)+T13*(I13/$T$7) -> 118.88095 | M13: =1/60 -> 0.016666667 | N13: =2/60 -> 0.033333333 | O13: =5/60 -> 0.083333333 | P13: 1 | Q13: 1 | R13: 2 | S13: 10 | T13: =K13*0.25 -> 62.5

Sheet Conversion
A1: Constants | B1: Niave | C1: Exact | D1: Ship Calendar
A2: Days in year | B2: 365.25 | C2: 365.2425 | D2: 360
A3: Seconds in year | B3: =B2*3600*24 -> 31557600 | C3: =C2*3600*24 -> 31556952 | D3: =D2*3600*24 -> 31104000 | E3: http://www.projectrho.com/public_html/rocket/enginelist.php
A4: Hours/year | B4: =B3/3600 -> 8766 | C4: =C3/3600 -> 8765.82 | D4: =D3/3600 -> 8640
A5: Light Year | B5: 9.4607e+15
A6: Speed of Light | B6: 299792458
A7: Mole | B7: 6.022e+23 | E7: 2130
A8: 3 * square Root of three | B8: =3*SQRT(3) -> 5.1961524 | C8: =1.4422*3 -> 4.3266
A9: Air Density | B9: 1.225 | C9: kg/m^3
A10: Soil Density | B10: 1700 | C10: kg/m^3
A11: G | B11: 9.8 | C11: m/s/s
A13: Area
A14: Agriculture Calculations | C14: km^2 | D14: hectare | E14: m^2 | F14: acre | G14: mile^2 | H14: ft^2
A15: acre | C15: 0.00404686 | D15: =1/F17 -> 0.40468564 | E15: 4046.8564 | F15: 1 | G15: 0.0015625
A16: km^2 | C16: 1 | D16: 100 | E16: =E17*D16 -> 1000000 | F16: 247.10538 | G16: 0.38610216
A17: hectare | C17: =1/D16 -> 0.01 | D17: 1 | E17: 10000 | F17: 2.4710538 | G17: 0.00386102
A18: m^2 | C18: 1e-06 | D18: =1/E17 -> 0.0001 | E18: 1 | F18: 0.00024711 | G18: 3.861e-07
A21: Other
A22: 1 us ton/acre -> kg/hectare | D22: 2241.7023
A23: Beam Capacity | B23: =13790*3 -> 41370 | C23: kg/m
A24: Mass per m | B24: =27.4 -> 27.4
A25: Material | B25: Nickle/Iron Alloy 52/48
A26: Tensile Strength | B26: 640 | C26: N/mm^2
A27: Yield Point | B27: 240 | C27: N/mm^2
A28: Density | B28: 8.45 | C28: g/cm^3 | E28: e = m c^2
A29: Mass of eros | B29: 6.668e+15 | C29: kg | D29: =B29/(Vehicle!B82+Vehicle!B76) -> 39399605
A30: Mass of ceres | B30: 9.1e+20 | D30: =B30/(Vehicle!B58+Vehicle!B92) -> 5.182727e+10
A31: Nimitz Carrier | B31: =1046000*1016.4 -> 1063154400 | C31: kg | D31: Nimitz carrier is 1.046 million long tons
A32: Horsepower to KW | B32: 0.74569987
A33: KW to Horsepower | B33: =1/B32 -> 1.3410221
A34: Cultivation energy / hectare | B34: 312 | C34: kwh/hectare | D34: http://www.fao.org/docrep/003/X8054E/x8054e05.htm
A36: kwh/yr -> watt | B36: =1000/B3 -> 3.1688088e-05 | C36: =1/B36 -> 31557.6
A37: kwh/day -> watt | B37: =1000/(3600*24) -> 0.011574074 | C37: =1/B37 -> 86.4
A39: kilogram of oil (kgoe) | B39: =41868/1000 -> 41.868 | D39: kJ/kg
A40: Length of a Nimtz Carrier | B40: 333 | C40: m
A41: Length of Football Field | B41: 109.728 | C41: m
A43: Image Scale (carrier) | B43: 3.24 | C43: in | D43: =Vehicle!C22 -> 850 | E43: m | F43: =B43/D43*Conversion!B40 -> 1.2693176 | G43: in
A44: Image Scale (field) | B44: 7.2 | C44: in | D44: =Vehicle!B48*2 -> 220 | E44: m | F44: =B44/D44*Conversion!B41 -> 3.5910982 | G44: in

Sheet Costs
A1: Dueterium Refining | B1: =1260/1.107 -> 1138.2114 | C1: USD/kg | D1: =Vehicle!B91*B1 -> 2.4390172e+11
A2: Lithium (pure) | B2: =314*10 -> 3140 | C2: USD/kg | D2: =Vehicle!B92*B2 -> 2.0185655e+13
A3: Lithium (li2co3) | B3: =164*2 -> 328 | C3: USD/kg | D3: =Vehicle!B92*Costs!B3 -> 2.1085652e+12
A5: Steel | B5: =0.04*2.2 -> 0.088 | C5: USD/kg | D5: =Vehicle!B82*Costs!B5 -> 14739956

Sheet Geometry
A1: 1 G Radius | E1: =Vehicle!B22 -> 425
A2: Radation Shielding | E2: =Vehicle!B71 -> 10000 | F2: kg/m^2
A3: Accelleration | E3: 9.8
A4: Angular Speed | E4: =SQRT(E3*1.05/E1) -> 0.1556013 | F4: =E3/E1 -> 0.023058824
A5: RPM | E5: =E4*30/PI() -> 1.485883
A6: Mass m^3 | E6: =Vehicle!B69 -> 179.54619
A7: Segment Length | E7: =2*E1*PI()/6 -> 445.05896
A8: G at apex | E8: =$F$4*($E$1-E41)/9.8 -> 0.48235294
A10: Diameter | C10: =Geometry!E41 -> 220 | D10: =Geometry!E40 -> 110 | E10: =D10*D10 -> 12100 | F10: =D10*2 -> 220
A11: Vertical Usage | C11: 0.9 | D11: =C10*C11 -> 198
A12: Angular Speed | C12: =Geometry!E4 -> 0.1556013 | D12: =C12*C12 -> 0.024211765
A13: 1g Radius | C13: =Geometry!E1 -> 425
A14: Domes | C14: =Vehicle!B17 -> 6
A15: dy Standard | C15: 5 | D15: =C15*3.2808399 -> 16.4042 | E15: (1 meter utility, 1-2 meter soil, 3-4 meter headspace)
A16: Gallery Rate | C16: 5 | D16: =C16*3.2808399 -> 16.4042 | G16: Note: Some decks do not have area that adds up to 100% to represent thru-deck features
A17: Floor Count | C17: =SUM(Gravity!I:I) -> 43 | F17: Uniform | G17: Zones
A18: Total Area | C18: =SUM(Gravity!J:J) -> 1114480 | D18: =C18*Conversion!F18 -> 275.39915 | F18: 0 | G18: 1 | H18: 2 | I18: 3 | J18: 4 | K18: 5
A19: Park Area | C19: =SUM(Gravity!M:M) -> 26499.334 | D19: =Vehicle!B36/$C$14 -> 26979.043 | E19: =C19/D19 -> 0.98221921 | F19: =D19/C18 -> 0.024207741 | G19: 0 | H19: 0.14 | I19: 0 | J19: 0 | K19: 0
A20: Settlement Area | C20: =SUM(Gravity!L:L) -> 96533.288 | D20: =Vehicle!B35/$C$14 -> 66675.888 | E20: =C20/D20 -> 1.4477991 | F20: =D20/C18 -> 0.059826904 | G20: 0 | H20: 0.51 | I20: 0 | J20: 0 | K20: 0
A21: Agriculture | C21: =SUM(Gravity!K:K) -> 778131.66 | D21: =Vehicle!B34/$C$14 -> 751105.88 | E21: =C21/D21 -> 1.0359813 | F21: =D21/C18 -> 0.67395187 | G21: 0.89 | H21: 0 | I21: 0 | J21: 0 | K21: 0.35
A22: Cargo Area | C22: =SUM(Gravity!N:N) -> 19521.857 | D22: =Vehicle!B37/$C$14 -> 18130.317 | E22: =C22/D22 -> 1.0767521 | F22: =D22/C18 -> 0.016267961 | G22: 0.02 | H22: 0 | I22: 0.04 | J22: 0.1 | K22: 0.05
A23: Industry | C23: =SUM(Gravity!O:O) -> 42209.653 | D23: =Vehicle!B38/$C$14 -> 41208.333 | E23: =C23/D23 -> 1.024299 | F23: =D23/C18 -> 0.036975391 | G23: 0 | H23: 0.223 | I23: 0 | J23: 0 | K23: 0.2
A24: Machinery | C24: =SUM(Gravity!P:P) -> 53624.238 | D24: =C24 -> 53624.238 | E24: =C24/D24 -> 1 | F24: =D24/$C$18 -> 0.048115927 | G24: 0.01 | H24: 0.0005 | I24: 0.88 | J24: 0.1 | K24: 0.4
A25: Hallway | C25: =C18*0.1 -> 111448 | D25: =C25 -> 111448 | E25: =C25/D25 -> 1 | F25: =D25/$C$18 -> 0.1 | G25: 0.08 | H25: 0.08 | I25: 0.08 | J25: 0.08 | K25: 0.08
A26: Height | G26: 5 | H26: 5 | I26: 5 | J26: 5 | K26: 5
A27: Usage: | C27: =SUM(J19:J23) -> 0.1 | F27: =SUM(F19:F25) -> 0.95934579 | G27: =SUM(G19:G25) -> 1 | H27: =SUM(H19:H25) -> 0.9535 | I27: =SUM(I19:I25) -> 1 | J27: =SUM(J19:J25) -> 0.28 | K27: =SUM(K19:K25) -> 1.08
A29: Widest Deck | B29: =LOOKUP(C29,Gravity!D:D,Gravity!A:A) -> 22 | C29: =C13-C10+D10 -> 315 | D29: =LOOKUP(B29,Gravity!A:A,Gravity!H:H) -> 110
A31: Design of a spheriod dome | E31: Sphere + Flywheel
A32: Total Area | E32: =Vehicle!B40 -> 5177346.7
A33: Number of domes | E33: =Vehicle!B17 -> 6
A34: Design Area per dome | E34: =E32/E33 -> 862891.12
E35: =E36/$E$34 -> 4.9832475e-05
A36: Implementation area | E36: =SUM(Gravity!I:I) -> 43
A37: dy | E37: 4
A38: Levels | E38: =Geometry!C17 -> 43
A39: Verticle Usage | E39: 1
A40: Radius | E40: 110 | F40: =E40*2 -> 220
A41: Height | E41: =E40*2 -> 220 | F41: =CEILING(E1*0.5,10) -> 220
A42: Width | E42: =E41 -> 220
A43: Slice Area
A45: Surface area | E45: =IF(E41<E40,2*PI()*E40*E40+PI()*E41*E41/E43*LN((1+E43)/(1-E43)),4*PI()*E40*E40) -> 152053.08
A46: Volume | E46: =4*PI()/3*E40*E40*E40 -> 5575279.8
A47: area / volume | E47: =E45/E46 -> 0.027272727
A48: Radiation Mass | E48: =E45*E2 -> 1.5205308e+09
A49: Structure Mass | E49: =E46*$E$6 -> 1.0010202e+09
A51: Soil Mass | E51: =E36*Conversion!B10 -> 73100
A52: Atmosphere | E52: =(E46-E51/Conversion!B10-E49/8000)*Conversion!B9 -> 6676383.8
A54: Total Mass | E54: =(E52+E51+E49+E48)*Vehicle!B17 -> 1.5169803e+10
A55: Moment of Inertia | E55: =0.25*E54*(4*(E1-E40)*(E1-E40)+4*(E40*E40))+0.5*E1*E1*E62 -> 1.7341744e+15
A56: Angular Momentum | E56: =E55*E4 -> 2.6983979e+14
A57: Flywheel Inner Radius | E57: =E58-10 -> 195
A58: Flywheel Max Radius | E58: =FLOOR(E1-E41,1) -> 205
B59: 2d Slice Area | E59: =(PI()*E58*E58-PI()*E57*E57) -> 12566.371
A60: Flywheel Thickness | E60: 5
A61: Flywheel Density | E61: 8000
A62: Flywheel Mass | E62: =E59*E60*E61 -> 5.0265482e+08 | F62: =E62/E54 -> 0.033135223
A63: Flywheel Moment of Inertia | E63: =0.5*E62*(E58*E58+E57*E57) -> 2.0118759e+13
A64: Flywheel Angular Speed | E64: =E56/E63 -> 13.412347 | F64: =E64*30/PI() -> 128.07848

Sheet Gravity
A1: Total Levels | C1: =Geometry!C17 -> 43
A2: Widest | C2: =Geometry!B29 -> 22
A3: Hab Levels | C3: 5 | D3: =C2-C3/2 -> 19.5 | E3: =C2+C3/2 -> 24.5
A4: Machinery | C4: 5
A5: Levels | B5: Name | C5: Usage | D5: Rot Radius | E5: h | G5: %g | H5: Floor Radius | J5: Area | K5: Agriculture | L5: Settlement | M5: Park | N5: Cargo | O5: Industry | P5: Machinery
D6: =Geometry!C13-Geometry!C10 -> 205 | E6: =Geometry!$D$10 -> 110 | F6: =Geometry!$D$12*D6 -> 4.9634118 | G6: =IF(H6>0,F6/9.8,0) -> 0 | H6: =IF(ABS(E6*E6)<=Geometry!$E$10,SQRT(Geometry!$E$10-E6*E6),0) -> 0 | I6: =IF(H6>0,1,0) -> 0
A7: 1 | C7: =IF(A7>$C$1-$C$4,3,IF(A7<2,3,IF(A7<=$D$3,1,IF(A7>$E$3,1,2)))) -> 3 | D7: =D6+Geometry!$C$15 -> 210 | E7: =E6-(D7-D6) -> 105 | F7: =Geometry!$D$12*D7 -> 5.0844706 | G7: =IF(H7>0,F7/9.8,0) -> 0.51882353 | H7: =IF(ABS(E7*E7)<=Geometry!$E$10,SQRT(Geometry!$E$10-E7*E7),0) -> 32.787193 | I7: =IF(H7>0,1,0) -> 1 | J7: =PI()*H7*H7 -> 3377.2121 | K7: =IF(C7=1,J7*Geometry!$G$21,0)+IF(C7=2,J7*Geometry!$H$21,0)+IF(C7=3,J7*Geometry!$I$21,0)+IF(C7=4,J7*Geometry!$J$21,0)+IF(C7=5,J7*Geometry!$K$21,0) -> 0 | L7: =IF(C7=1,J7*Geometry!$G$20,0)+IF(C7=2,J7*Geometry!$H$20,0)+IF(C7=3,J7*Geometry!$I$20,0)+IF(C7=4,J7*Geometry!$J$20,0)+IF(C7=5,J7*Geometry!$K$20,0) -> 0 | M7: =IF(C7=1,J7*Geometry!$G$19,0)+IF(C7=2,J7*Geometry!$H$19,0)+IF(C7=3,J7*Geometry!$I$19,0)+IF(C7=4,J7*Geometry!$J$19,0)+IF(C7=5,J7*Geometry!$K$19,0) -> 0 | N7: =IF(C7=1,J7*Geometry!$G$22,0)+IF(C7=2,J7*Geometry!$H$22,0)+IF(C7=3,J7*Geometry!$I$22,0)+IF(C7=4,J7*Geometry!$J$22,0)+IF(C7=5,J7*Geometry!$K$22,0) -> 135.08848 | O7: =IF(C7=1,J7*Geometry!$G$23,0)+IF(C7=2,J7*Geometry!$H$23,0)+IF(C7=3,J7*Geometry!$I$23,0)+IF(C7=4,J7*Geometry!$J$23,0)+IF(C7=5,J7*Geometry!$K$23,0) -> 0 | P7: =IF(C7=1,J7*Geometry!$G$24,0)+IF(C7=2,J7*Geometry!$H$24,0)+IF(C7=3,J7*Geometry!$I$24,0)+IF(C7=4,J7*Geometry!$J$24,0)+IF(C7=5,J7*Geometry!$K$24,0) -> 2971.9467
A8: =A7+1 -> 2 | C8: =IF(A8>$C$1-$C$4,3,IF(A8<2,3,IF(A8<=$D$3,1,IF(A8>$E$3,1,2)))) -> 1 | D8: =D7+Geometry!$C$15 -> 215 | E8: =E7-(D8-D7) -> 100 | F8: =Geometry!$D$12*D8 -> 5.2055294 | G8: =IF(H8>0,F8/9.8,0) -> 0.53117647 | H8: =IF(ABS(E8*E8)<=Geometry!$E$10,SQRT(Geometry!$E$10-E8*E8),0) -> 45.825757 | I8: =IF(H8>0,1,0) -> 1 | J8: =PI()*H8*H8 -> 6597.3446 | K8: =IF(C8=1,J8*Geometry!$G$21,0)+IF(C8=2,J8*Geometry!$H$21,0)+IF(C8=3,J8*Geometry!$I$21,0)+IF(C8=4,J8*Geometry!$J$21,0)+IF(C8=5,J8*Geometry!$K$21,0) -> 5871.6367 | L8: =IF(C8=1,J8*Geometry!$G$20,0)+IF(C8=2,J8*Geometry!$H$20,0)+IF(C8=3,J8*Geometry!$I$20,0)+IF(C8=4,J8*Geometry!$J$20,0)+IF(C8=5,J8*Geometry!$K$20,0) -> 0 | M8: =IF(C8=1,J8*Geometry!$G$19,0)+IF(C8=2,J8*Geometry!$H$19,0)+IF(C8=3,J8*Geometry!$I$19,0)+IF(C8=4,J8*Geometry!$J$19,0)+IF(C8=5,J8*Geometry!$K$19,0) -> 0 | N8: =IF(C8=1,J8*Geometry!$G$22,0)+IF(C8=2,J8*Geometry!$H$22,0)+IF(C8=3,J8*Geometry!$I$22,0)+IF(C8=4,J8*Geometry!$J$22,0)+IF(C8=5,J8*Geometry!$K$22,0) -> 131.94689 | O8: =IF(C8=1,J8*Geometry!$G$23,0)+IF(C8=2,J8*Geometry!$H$23,0)+IF(C8=3,J8*Geometry!$I$23,0)+IF(C8=4,J8*Geometry!$J$23,0)+IF(C8=5,J8*Geometry!$K$23,0) -> 0 | P8: =IF(C8=1,J8*Geometry!$G$24,0)+IF(C8=2,J8*Geometry!$H$24,0)+IF(C8=3,J8*Geometry!$I$24,0)+IF(C8=4,J8*Geometry!$J$24,0)+IF(C8=5,J8*Geometry!$K$24,0) -> 65.973446
A9: =A8+1 -> 3 | C9: =IF(A9>$C$1-$C$4,3,IF(A9<2,3,IF(A9<=$D$3,1,IF(A9>$E$3,1,2)))) -> 1 | D9: =D8+Geometry!$C$15 -> 220 | E9: =E8-(D9-D8) -> 95 | F9: =Geometry!$D$12*D9 -> 5.3265882 | G9: =IF(H9>0,F9/9.8,0) -> 0.54352941 | H9: =IF(ABS(E9*E9)<=Geometry!$E$10,SQRT(Geometry!$E$10-E9*E9),0) -> 55.452683 | I9: =IF(H9>0,1,0) -> 1 | J9: =PI()*H9*H9 -> 9660.3974 | K9: =IF(C9=1,J9*Geometry!$G$21,0)+IF(C9=2,J9*Geometry!$H$21,0)+IF(C9=3,J9*Geometry!$I$21,0)+IF(C9=4,J9*Geometry!$J$21,0)+IF(C9=5,J9*Geometry!$K$21,0) -> 8597.7537 | L9: =IF(C9=1,J9*Geometry!$G$20,0)+IF(C9=2,J9*Geometry!$H$20,0)+IF(C9=3,J9*Geometry!$I$20,0)+IF(C9=4,J9*Geometry!$J$20,0)+IF(C9=5,J9*Geometry!$K$20,0) -> 0 | M9: =IF(C9=1,J9*Geometry!$G$19,0)+IF(C9=2,J9*Geometry!$H$19,0)+IF(C9=3,J9*Geometry!$I$19,0)+IF(C9=4,J9*Geometry!$J$19,0)+IF(C9=5,J9*Geometry!$K$19,0) -> 0 | N9: =IF(C9=1,J9*Geometry!$G$22,0)+IF(C9=2,J9*Geometry!$H$22,0)+IF(C9=3,J9*Geometry!$I$22,0)+IF(C9=4,J9*Geometry!$J$22,0)+IF(C9=5,J9*Geometry!$K$22,0) -> 193.20795 | O9: =IF(C9=1,J9*Geometry!$G$23,0)+IF(C9=2,J9*Geometry!$H$23,0)+IF(C9=3,J9*Geometry!$I$23,0)+IF(C9=4,J9*Geometry!$J$23,0)+IF(C9=5,J9*Geometry!$K$23,0) -> 0 | P9: =IF(C9=1,J9*Geometry!$G$24,0)+IF(C9=2,J9*Geometry!$H$24,0)+IF(C9=3,J9*Geometry!$I$24,0)+IF(C9=4,J9*Geometry!$J$24,0)+IF(C9=5,J9*Geometry!$K$24,0) -> 96.603974
A10: =A9+1 -> 4 | C10: =IF(A10>$C$1-$C$4,3,IF(A10<2,3,IF(A10<=$D$3,1,IF(A10>$E$3,1,2)))) -> 1 | D10: =D9+Geometry!$C$15 -> 225 | E10: =E9-(D10-D9) -> 90 | F10: =Geometry!$D$12*D10 -> 5.4476471 | G10: =IF(H10>0,F10/9.8,0) -> 0.55588235 | H10: =IF(ABS(E10*E10)<=Geometry!$E$10,SQRT(Geometry!$E$10-E10*E10),0) -> 63.245553 | I10: =IF(H10>0,1,0) -> 1 | J10: =PI()*H10*H10 -> 12566.371 | K10: =IF(C10=1,J10*Geometry!$G$21,0)+IF(C10=2,J10*Geometry!$H$21,0)+IF(C10=3,J10*Geometry!$I$21,0)+IF(C10=4,J10*Geometry!$J$21,0)+IF(C10=5,J10*Geometry!$K$21,0) -> 11184.07 | L10: =IF(C10=1,J10*Geometry!$G$20,0)+IF(C10=2,J10*Geometry!$H$20,0)+IF(C10=3,J10*Geometry!$I$20,0)+IF(C10=4,J10*Geometry!$J$20,0)+IF(C10=5,J10*Geometry!$K$20,0) -> 0 | M10: =IF(C10=1,J10*Geometry!$G$19,0)+IF(C10=2,J10*Geometry!$H$19,0)+IF(C10=3,J10*Geometry!$I$19,0)+IF(C10=4,J10*Geometry!$J$19,0)+IF(C10=5,J10*Geometry!$K$19,0) -> 0 | N10: =IF(C10=1,J10*Geometry!$G$22,0)+IF(C10=2,J10*Geometry!$H$22,0)+IF(C10=3,J10*Geometry!$I$22,0)+IF(C10=4,J10*Geometry!$J$22,0)+IF(C10=5,J10*Geometry!$K$22,0) -> 251.32741 | O10: =IF(C10=1,J10*Geometry!$G$23,0)+IF(C10=2,J10*Geometry!$H$23,0)+IF(C10=3,J10*Geometry!$I$23,0)+IF(C10=4,J10*Geometry!$J$23,0)+IF(C10=5,J10*Geometry!$K$23,0) -> 0 | P10: =IF(C10=1,J10*Geometry!$G$24,0)+IF(C10=2,J10*Geometry!$H$24,0)+IF(C10=3,J10*Geometry!$I$24,0)+IF(C10=4,J10*Geometry!$J$24,0)+IF(C10=5,J10*Geometry!$K$24,0) -> 125.66371
A11: =A10+1 -> 5 | C11: =IF(A11>$C$1-$C$4,3,IF(A11<2,3,IF(A11<=$D$3,1,IF(A11>$E$3,1,2)))) -> 1 | D11: =D10+Geometry!$C$15 -> 230 | E11: =E10-(D11-D10) -> 85 | F11: =Geometry!$D$12*D11 -> 5.5687059 | G11: =IF(H11>0,F11/9.8,0) -> 0.56823529 | H11: =IF(ABS(E11*E11)<=Geometry!$E$10,SQRT(Geometry!$E$10-E11*E11),0) -> 69.8212 | I11: =IF(H11>0,1,0) -> 1 | J11: =PI()*H11*H11 -> 15315.264 | K11: =IF(C11=1,J11*Geometry!$G$21,0)+IF(C11=2,J11*Geometry!$H$21,0)+IF(C11=3,J11*Geometry!$I$21,0)+IF(C11=4,J11*Geometry!$J$21,0)+IF(C11=5,J11*Geometry!$K$21,0) -> 13630.585 | L11: =IF(C11=1,J11*Geometry!$G$20,0)+IF(C11=2,J11*Geometry!$H$20,0)+IF(C11=3,J11*Geometry!$I$20,0)+IF(C11=4,J11*Geometry!$J$20,0)+IF(C11=5,J11*Geometry!$K$20,0) -> 0 | M11: =IF(C11=1,J11*Geometry!$G$19,0)+IF(C11=2,J11*Geometry!$H$19,0)+IF(C11=3,J11*Geometry!$I$19,0)+IF(C11=4,J11*Geometry!$J$19,0)+IF(C11=5,J11*Geometry!$K$19,0) -> 0 | N11: =IF(C11=1,J11*Geometry!$G$22,0)+IF(C11=2,J11*Geometry!$H$22,0)+IF(C11=3,J11*Geometry!$I$22,0)+IF(C11=4,J11*Geometry!$J$22,0)+IF(C11=5,J11*Geometry!$K$22,0) -> 306.30528 | O11: =IF(C11=1,J11*Geometry!$G$23,0)+IF(C11=2,J11*Geometry!$H$23,0)+IF(C11=3,J11*Geometry!$I$23,0)+IF(C11=4,J11*Geometry!$J$23,0)+IF(C11=5,J11*Geometry!$K$23,0) -> 0 | P11: =IF(C11=1,J11*Geometry!$G$24,0)+IF(C11=2,J11*Geometry!$H$24,0)+IF(C11=3,J11*Geometry!$I$24,0)+IF(C11=4,J11*Geometry!$J$24,0)+IF(C11=5,J11*Geometry!$K$24,0) -> 153.15264
A12: =A11+1 -> 6 | C12: =IF(A12>$C$1-$C$4,3,IF(A12<2,3,IF(A12<=$D$3,1,IF(A12>$E$3,1,2)))) -> 1 | D12: =D11+Geometry!$C$15 -> 235 | E12: =E11-(D12-D11) -> 80 | F12: =Geometry!$D$12*D12 -> 5.6897647 | G12: =IF(H12>0,F12/9.8,0) -> 0.58058824 | H12: =IF(ABS(E12*E12)<=Geometry!$E$10,SQRT(Geometry!$E$10-E12*E12),0) -> 75.498344 | I12: =IF(H12>0,1,0) -> 1 | J12: =PI()*H12*H12 -> 17907.078 | K12: =IF(C12=1,J12*Geometry!$G$21,0)+IF(C12=2,J12*Geometry!$H$21,0)+IF(C12=3,J12*Geometry!$I$21,0)+IF(C12=4,J12*Geometry!$J$21,0)+IF(C12=5,J12*Geometry!$K$21,0) -> 15937.3 | L12: =IF(C12=1,J12*Geometry!$G$20,0)+IF(C12=2,J12*Geometry!$H$20,0)+IF(C12=3,J12*Geometry!$I$20,0)+IF(C12=4,J12*Geometry!$J$20,0)+IF(C12=5,J12*Geometry!$K$20,0) -> 0 | M12: =IF(C12=1,J12*Geometry!$G$19,0)+IF(C12=2,J12*Geometry!$H$19,0)+IF(C12=3,J12*Geometry!$I$19,0)+IF(C12=4,J12*Geometry!$J$19,0)+IF(C12=5,J12*Geometry!$K$19,0) -> 0 | N12: =IF(C12=1,J12*Geometry!$G$22,0)+IF(C12=2,J12*Geometry!$H$22,0)+IF(C12=3,J12*Geometry!$I$22,0)+IF(C12=4,J12*Geometry!$J$22,0)+IF(C12=5,J12*Geometry!$K$22,0) -> 358.14156 | O12: =IF(C12=1,J12*Geometry!$G$23,0)+IF(C12=2,J12*Geometry!$H$23,0)+IF(C12=3,J12*Geometry!$I$23,0)+IF(C12=4,J12*Geometry!$J$23,0)+IF(C12=5,J12*Geometry!$K$23,0) -> 0 | P12: =IF(C12=1,J12*Geometry!$G$24,0)+IF(C12=2,J12*Geometry!$H$24,0)+IF(C12=3,J12*Geometry!$I$24,0)+IF(C12=4,J12*Geometry!$J$24,0)+IF(C12=5,J12*Geometry!$K$24,0) -> 179.07078
A13: =A12+1 -> 7 | C13: =IF(A13>$C$1-$C$4,3,IF(A13<2,3,IF(A13<=$D$3,1,IF(A13>$E$3,1,2)))) -> 1 | D13: =D12+Geometry!$C$15 -> 240 | E13: =E12-(D13-D12) -> 75 | F13: =Geometry!$D$12*D13 -> 5.8108235 | G13: =IF(H13>0,F13/9.8,0) -> 0.59294118 | H13: =IF(ABS(E13*E13)<=Geometry!$E$10,SQRT(Geometry!$E$10-E13*E13),0) -> 80.467385 | I13: =IF(H13>0,1,0) -> 1 | J13: =PI()*H13*H13 -> 20341.812 | K13: =IF(C13=1,J13*Geometry!$G$21,0)+IF(C13=2,J13*Geometry!$H$21,0)+IF(C13=3,J13*Geometry!$I$21,0)+IF(C13=4,J13*Geometry!$J$21,0)+IF(C13=5,J13*Geometry!$K$21,0) -> 18104.213 | L13: =IF(C13=1,J13*Geometry!$G$20,0)+IF(C13=2,J13*Geometry!$H$20,0)+IF(C13=3,J13*Geometry!$I$20,0)+IF(C13=4,J13*Geometry!$J$20,0)+IF(C13=5,J13*Geometry!$K$20,0) -> 0 | M13: =IF(C13=1,J13*Geometry!$G$19,0)+IF(C13=2,J13*Geometry!$H$19,0)+IF(C13=3,J13*Geometry!$I$19,0)+IF(C13=4,J13*Geometry!$J$19,0)+IF(C13=5,J13*Geometry!$K$19,0) -> 0 | N13: =IF(C13=1,J13*Geometry!$G$22,0)+IF(C13=2,J13*Geometry!$H$22,0)+IF(C13=3,J13*Geometry!$I$22,0)+IF(C13=4,J13*Geometry!$J$22,0)+IF(C13=5,J13*Geometry!$K$22,0) -> 406.83625 | O13: =IF(C13=1,J13*Geometry!$G$23,0)+IF(C13=2,J13*Geometry!$H$23,0)+IF(C13=3,J13*Geometry!$I$23,0)+IF(C13=4,J13*Geometry!$J$23,0)+IF(C13=5,J13*Geometry!$K$23,0) -> 0 | P13: =IF(C13=1,J13*Geometry!$G$24,0)+IF(C13=2,J13*Geometry!$H$24,0)+IF(C13=3,J13*Geometry!$I$24,0)+IF(C13=4,J13*Geometry!$J$24,0)+IF(C13=5,J13*Geometry!$K$24,0) -> 203.41812
A14: =A13+1 -> 8 | C14: =IF(A14>$C$1-$C$4,3,IF(A14<2,3,IF(A14<=$D$3,1,IF(A14>$E$3,1,2)))) -> 1 | D14: =D13+Geometry!$C$15 -> 245 | E14: =E13-(D14-D13) -> 70 | F14: =Geometry!$D$12*D14 -> 5.9318824 | G14: =IF(H14>0,F14/9.8,0) -> 0.60529412 | H14: =IF(ABS(E14*E14)<=Geometry!$E$10,SQRT(Geometry!$E$10-E14*E14),0) -> 84.852814 | I14: =IF(H14>0,1,0) -> 1 | J14: =PI()*H14*H14 -> 22619.467 | K14: =IF(C14=1,J14*Geometry!$G$21,0)+IF(C14=2,J14*Geometry!$H$21,0)+IF(C14=3,J14*Geometry!$I$21,0)+IF(C14=4,J14*Geometry!$J$21,0)+IF(C14=5,J14*Geometry!$K$21,0) -> 20131.326 | L14: =IF(C14=1,J14*Geometry!$G$20,0)+IF(C14=2,J14*Geometry!$H$20,0)+IF(C14=3,J14*Geometry!$I$20,0)+IF(C14=4,J14*Geometry!$J$20,0)+IF(C14=5,J14*Geometry!$K$20,0) -> 0 | M14: =IF(C14=1,J14*Geometry!$G$19,0)+IF(C14=2,J14*Geometry!$H$19,0)+IF(C14=3,J14*Geometry!$I$19,0)+IF(C14=4,J14*Geometry!$J$19,0)+IF(C14=5,J14*Geometry!$K$19,0) -> 0 | N14: =IF(C14=1,J14*Geometry!$G$22,0)+IF(C14=2,J14*Geometry!$H$22,0)+IF(C14=3,J14*Geometry!$I$22,0)+IF(C14=4,J14*Geometry!$J$22,0)+IF(C14=5,J14*Geometry!$K$22,0) -> 452.38934 | O14: =IF(C14=1,J14*Geometry!$G$23,0)+IF(C14=2,J14*Geometry!$H$23,0)+IF(C14=3,J14*Geometry!$I$23,0)+IF(C14=4,J14*Geometry!$J$23,0)+IF(C14=5,J14*Geometry!$K$23,0) -> 0 | P14: =IF(C14=1,J14*Geometry!$G$24,0)+IF(C14=2,J14*Geometry!$H$24,0)+IF(C14=3,J14*Geometry!$I$24,0)+IF(C14=4,J14*Geometry!$J$24,0)+IF(C14=5,J14*Geometry!$K$24,0) -> 226.19467
A15: =A14+1 -> 9 | C15: =IF(A15>$C$1-$C$4,3,IF(A15<2,3,IF(A15<=$D$3,1,IF(A15>$E$3,1,2)))) -> 1 | D15: =D14+Geometry!$C$15 -> 250 | E15: =E14-(D15-D14) -> 65 | F15: =Geometry!$D$12*D15 -> 6.0529412 | G15: =IF(H15>0,F15/9.8,0) -> 0.61764706 | H15: =IF(ABS(E15*E15)<=Geometry!$E$10,SQRT(Geometry!$E$10-E15*E15),0) -> 88.741197 | I15: =IF(H15>0,1,0) -> 1 | J15: =PI()*H15*H15 -> 24740.042 | K15: =IF(C15=1,J15*Geometry!$G$21,0)+IF(C15=2,J15*Geometry!$H$21,0)+IF(C15=3,J15*Geometry!$I$21,0)+IF(C15=4,J15*Geometry!$J$21,0)+IF(C15=5,J15*Geometry!$K$21,0) -> 22018.638 | L15: =IF(C15=1,J15*Geometry!$G$20,0)+IF(C15=2,J15*Geometry!$H$20,0)+IF(C15=3,J15*Geometry!$I$20,0)+IF(C15=4,J15*Geometry!$J$20,0)+IF(C15=5,J15*Geometry!$K$20,0) -> 0 | M15: =IF(C15=1,J15*Geometry!$G$19,0)+IF(C15=2,J15*Geometry!$H$19,0)+IF(C15=3,J15*Geometry!$I$19,0)+IF(C15=4,J15*Geometry!$J$19,0)+IF(C15=5,J15*Geometry!$K$19,0) -> 0 | N15: =IF(C15=1,J15*Geometry!$G$22,0)+IF(C15=2,J15*Geometry!$H$22,0)+IF(C15=3,J15*Geometry!$I$22,0)+IF(C15=4,J15*Geometry!$J$22,0)+IF(C15=5,J15*Geometry!$K$22,0) -> 494.80084 | O15: =IF(C15=1,J15*Geometry!$G$23,0)+IF(C15=2,J15*Geometry!$H$23,0)+IF(C15=3,J15*Geometry!$I$23,0)+IF(C15=4,J15*Geometry!$J$23,0)+IF(C15=5,J15*Geometry!$K$23,0) -> 0 | P15: =IF(C15=1,J15*Geometry!$G$24,0)+IF(C15=2,J15*Geometry!$H$24,0)+IF(C15=3,J15*Geometry!$I$24,0)+IF(C15=4,J15*Geometry!$J$24,0)+IF(C15=5,J15*Geometry!$K$24,0) -> 247.40042
A16: =A15+1 -> 10 | C16: =IF(A16>$C$1-$C$4,3,IF(A16<2,3,IF(A16<=$D$3,1,IF(A16>$E$3,1,2)))) -> 1 | D16: =D15+Geometry!$C$15 -> 255 | E16: =E15-(D16-D15) -> 60 | F16: =Geometry!$D$12*D16 -> 6.174 | G16: =IF(H16>0,F16/9.8,0) -> 0.63 | H16: =IF(ABS(E16*E16)<=Geometry!$E$10,SQRT(Geometry!$E$10-E16*E16),0) -> 92.195445 | I16: =IF(H16>0,1,0) -> 1 | J16: =PI()*H16*H16 -> 26703.538 | K16: =IF(C16=1,J16*Geometry!$G$21,0)+IF(C16=2,J16*Geometry!$H$21,0)+IF(C16=3,J16*Geometry!$I$21,0)+IF(C16=4,J16*Geometry!$J$21,0)+IF(C16=5,J16*Geometry!$K$21,0) -> 23766.148 | L16: =IF(C16=1,J16*Geometry!$G$20,0)+IF(C16=2,J16*Geometry!$H$20,0)+IF(C16=3,J16*Geometry!$I$20,0)+IF(C16=4,J16*Geometry!$J$20,0)+IF(C16=5,J16*Geometry!$K$20,0) -> 0 | M16: =IF(C16=1,J16*Geometry!$G$19,0)+IF(C16=2,J16*Geometry!$H$19,0)+IF(C16=3,J16*Geometry!$I$19,0)+IF(C16=4,J16*Geometry!$J$19,0)+IF(C16=5,J16*Geometry!$K$19,0) -> 0 | N16: =IF(C16=1,J16*Geometry!$G$22,0)+IF(C16=2,J16*Geometry!$H$22,0)+IF(C16=3,J16*Geometry!$I$22,0)+IF(C16=4,J16*Geometry!$J$22,0)+IF(C16=5,J16*Geometry!$K$22,0) -> 534.07075 | O16: =IF(C16=1,J16*Geometry!$G$23,0)+IF(C16=2,J16*Geometry!$H$23,0)+IF(C16=3,J16*Geometry!$I$23,0)+IF(C16=4,J16*Geometry!$J$23,0)+IF(C16=5,J16*Geometry!$K$23,0) -> 0 | P16: =IF(C16=1,J16*Geometry!$G$24,0)+IF(C16=2,J16*Geometry!$H$24,0)+IF(C16=3,J16*Geometry!$I$24,0)+IF(C16=4,J16*Geometry!$J$24,0)+IF(C16=5,J16*Geometry!$K$24,0) -> 267.03538
A17: =A16+1 -> 11 | C17: =IF(A17>$C$1-$C$4,3,IF(A17<2,3,IF(A17<=$D$3,1,IF(A17>$E$3,1,2)))) -> 1 | D17: =D16+Geometry!$C$15 -> 260 | E17: =E16-(D17-D16) -> 55 | F17: =Geometry!$D$12*D17 -> 6.2950588 | G17: =IF(H17>0,F17/9.8,0) -> 0.64235294 | H17: =IF(ABS(E17*E17)<=Geometry!$E$10,SQRT(Geometry!$E$10-E17*E17),0) -> 95.262794 | I17: =IF(H17>0,1,0) -> 1 | J17: =PI()*H17*H17 -> 28509.953 | K17: =IF(C17=1,J17*Geometry!$G$21,0)+IF(C17=2,J17*Geometry!$H$21,0)+IF(C17=3,J17*Geometry!$I$21,0)+IF(C17=4,J17*Geometry!$J$21,0)+IF(C17=5,J17*Geometry!$K$21,0) -> 25373.858 | L17: =IF(C17=1,J17*Geometry!$G$20,0)+IF(C17=2,J17*Geometry!$H$20,0)+IF(C17=3,J17*Geometry!$I$20,0)+IF(C17=4,J17*Geometry!$J$20,0)+IF(C17=5,J17*Geometry!$K$20,0) -> 0 | M17: =IF(C17=1,J17*Geometry!$G$19,0)+IF(C17=2,J17*Geometry!$H$19,0)+IF(C17=3,J17*Geometry!$I$19,0)+IF(C17=4,J17*Geometry!$J$19,0)+IF(C17=5,J17*Geometry!$K$19,0) -> 0 | N17: =IF(C17=1,J17*Geometry!$G$22,0)+IF(C17=2,J17*Geometry!$H$22,0)+IF(C17=3,J17*Geometry!$I$22,0)+IF(C17=4,J17*Geometry!$J$22,0)+IF(C17=5,J17*Geometry!$K$22,0) -> 570.19907 | O17: =IF(C17=1,J17*Geometry!$G$23,0)+IF(C17=2,J17*Geometry!$H$23,0)+IF(C17=3,J17*Geometry!$I$23,0)+IF(C17=4,J17*Geometry!$J$23,0)+IF(C17=5,J17*Geometry!$K$23,0) -> 0 | P17: =IF(C17=1,J17*Geometry!$G$24,0)+IF(C17=2,J17*Geometry!$H$24,0)+IF(C17=3,J17*Geometry!$I$24,0)+IF(C17=4,J17*Geometry!$J$24,0)+IF(C17=5,J17*Geometry!$K$24,0) -> 285.09953
A18: =A17+1 -> 12 | C18: =IF(A18>$C$1-$C$4,3,IF(A18<2,3,IF(A18<=$D$3,1,IF(A18>$E$3,1,2)))) -> 1 | D18: =D17+Geometry!$C$15 -> 265 | E18: =E17-(D18-D17) -> 50 | F18: =Geometry!$D$12*D18 -> 6.4161176 | G18: =IF(H18>0,F18/9.8,0) -> 0.65470588 | H18: =IF(ABS(E18*E18)<=Geometry!$E$10,SQRT(Geometry!$E$10-E18*E18),0) -> 97.97959 | I18: =IF(H18>0,1,0) -> 1 | J18: =PI()*H18*H18 -> 30159.289 | K18: =IF(C18=1,J18*Geometry!$G$21,0)+IF(C18=2,J18*Geometry!$H$21,0)+IF(C18=3,J18*Geometry!$I$21,0)+IF(C18=4,J18*Geometry!$J$21,0)+IF(C18=5,J18*Geometry!$K$21,0) -> 26841.768 | L18: =IF(C18=1,J18*Geometry!$G$20,0)+IF(C18=2,J18*Geometry!$H$20,0)+IF(C18=3,J18*Geometry!$I$20,0)+IF(C18=4,J18*Geometry!$J$20,0)+IF(C18=5,J18*Geometry!$K$20,0) -> 0 | M18: =IF(C18=1,J18*Geometry!$G$19,0)+IF(C18=2,J18*Geometry!$H$19,0)+IF(C18=3,J18*Geometry!$I$19,0)+IF(C18=4,J18*Geometry!$J$19,0)+IF(C18=5,J18*Geometry!$K$19,0) -> 0 | N18: =IF(C18=1,J18*Geometry!$G$22,0)+IF(C18=2,J18*Geometry!$H$22,0)+IF(C18=3,J18*Geometry!$I$22,0)+IF(C18=4,J18*Geometry!$J$22,0)+IF(C18=5,J18*Geometry!$K$22,0) -> 603.18579 | O18: =IF(C18=1,J18*Geometry!$G$23,0)+IF(C18=2,J18*Geometry!$H$23,0)+IF(C18=3,J18*Geometry!$I$23,0)+IF(C18=4,J18*Geometry!$J$23,0)+IF(C18=5,J18*Geometry!$K$23,0) -> 0 | P18: =IF(C18=1,J18*Geometry!$G$24,0)+IF(C18=2,J18*Geometry!$H$24,0)+IF(C18=3,J18*Geometry!$I$24,0)+IF(C18=4,J18*Geometry!$J$24,0)+IF(C18=5,J18*Geometry!$K$24,0) -> 301.59289
A19: =A18+1 -> 13 | C19: =IF(A19>$C$1-$C$4,3,IF(A19<2,3,IF(A19<=$D$3,1,IF(A19>$E$3,1,2)))) -> 1 | D19: =D18+Geometry!$C$15 -> 270 | E19: =E18-(D19-D18) -> 45 | F19: =Geometry!$D$12*D19 -> 6.5371765 | G19: =IF(H19>0,F19/9.8,0) -> 0.66705882 | H19: =IF(ABS(E19*E19)<=Geometry!$E$10,SQRT(Geometry!$E$10-E19*E19),0) -> 100.3743 | I19: =IF(H19>0,1,0) -> 1 | J19: =PI()*H19*H19 -> 31651.546 | K19: =IF(C19=1,J19*Geometry!$G$21,0)+IF(C19=2,J19*Geometry!$H$21,0)+IF(C19=3,J19*Geometry!$I$21,0)+IF(C19=4,J19*Geometry!$J$21,0)+IF(C19=5,J19*Geometry!$K$21,0) -> 28169.876 | L19: =IF(C19=1,J19*Geometry!$G$20,0)+IF(C19=2,J19*Geometry!$H$20,0)+IF(C19=3,J19*Geometry!$I$20,0)+IF(C19=4,J19*Geometry!$J$20,0)+IF(C19=5,J19*Geometry!$K$20,0) -> 0 | M19: =IF(C19=1,J19*Geometry!$G$19,0)+IF(C19=2,J19*Geometry!$H$19,0)+IF(C19=3,J19*Geometry!$I$19,0)+IF(C19=4,J19*Geometry!$J$19,0)+IF(C19=5,J19*Geometry!$K$19,0) -> 0 | N19: =IF(C19=1,J19*Geometry!$G$22,0)+IF(C19=2,J19*Geometry!$H$22,0)+IF(C19=3,J19*Geometry!$I$22,0)+IF(C19=4,J19*Geometry!$J$22,0)+IF(C19=5,J19*Geometry!$K$22,0) -> 633.03092 | O19: =IF(C19=1,J19*Geometry!$G$23,0)+IF(C19=2,J19*Geometry!$H$23,0)+IF(C19=3,J19*Geometry!$I$23,0)+IF(C19=4,J19*Geometry!$J$23,0)+IF(C19=5,J19*Geometry!$K$23,0) -> 0 | P19: =IF(C19=1,J19*Geometry!$G$24,0)+IF(C19=2,J19*Geometry!$H$24,0)+IF(C19=3,J19*Geometry!$I$24,0)+IF(C19=4,J19*Geometry!$J$24,0)+IF(C19=5,J19*Geometry!$K$24,0) -> 316.51546
... A93: =A92+1 -> 87 | C93: =IF(A93>$C$1-$C$4,3,IF(A93<2,3,IF(A93<=$D$3,1,IF(A93>$E$3,1,2)))) -> 3 | D93: =D92+Geometry!$C$15 -> 640 | E93: =E92-(D93-D92) -> -325 | F93: =Geometry!$D$12*D93 -> 15.495529 | G93: =IF(H93>0,F93/9.8,0) -> 0 | H93: =IF(ABS(E93*E93)<=Geometry!$E$10,SQRT(Geometry!$E$10-E93*E93),0) -> 0 | I93: =IF(H93>0,1,0) -> 0 | J93: =PI()*H93*H93 -> 0 | K93: =IF(C93=1,J93*Geometry!$G$21,0)+IF(C93=2,J93*Geometry!$H$21,0)+IF(C93=3,J93*Geometry!$I$21,0)+IF(C93=4,J93*Geometry!$J$21,0)+IF(C93=5,J93*Geometry!$K$21,0) -> 0 | L93: =IF(C93=1,J93*Geometry!$G$20,0)+IF(C93=2,J93*Geometry!$H$20,0)+IF(C93=3,J93*Geometry!$I$20,0)+IF(C93=4,J93*Geometry!$J$20,0)+IF(C93=5,J93*Geometry!$K$20,0) -> 0 | M93: =IF(C93=1,J93*Geometry!$G$19,0)+IF(C93=2,J93*Geometry!$H$19,0)+IF(C93=3,J93*Geometry!$I$19,0)+IF(C93=4,J93*Geometry!$J$19,0)+IF(C93=5,J93*Geometry!$K$19,0) -> 0 | N93: =IF(C93=1,J93*Geometry!$G$22,0)+IF(C93=2,J93*Geometry!$H$22,0)+IF(C93=3,J93*Geometry!$I$22,0)+IF(C93=4,J93*Geometry!$J$22,0)+IF(C93=5,J93*Geometry!$K$22,0) -> 0 | O93: =IF(C93=1,J93*Geometry!$G$23,0)+IF(C93=2,J93*Geometry!$H$23,0)+IF(C93=3,J93*Geometry!$I$23,0)+IF(C93=4,J93*Geometry!$J$23,0)+IF(C93=5,J93*Geometry!$K$23,0) -> 0 | P93: =IF(C93=1,J93*Geometry!$G$24,0)+IF(C93=2,J93*Geometry!$H$24,0)+IF(C93=3,J93*Geometry!$I$24,0)+IF(C93=4,J93*Geometry!$J$24,0)+IF(C93=5,J93*Geometry!$K$24,0) -> 0
A94: =A93+1 -> 88 | C94: =IF(A94>$C$1-$C$4,3,IF(A94<2,3,IF(A94<=$C$2-$C$3/2,1,IF(A94>$C$2+$C$3/2,1,2)))) -> 3 | D94: =D93+Geometry!$C$15 -> 645 | E94: =E93-(D94-D93) -> -330 | F94: =Geometry!$D$12*D94 -> 15.616588 | G94: =IF(H94>0,F94/9.8,0) -> 0 | H94: =IF(ABS(E94*E94)<=Geometry!$E$10,SQRT(Geometry!$E$10-E94*E94),0) -> 0 | I94: =IF(H94>0,1,0) -> 0 | J94: =PI()*H94*H94 -> 0 | K94: =IF(C94=1,J94*Geometry!$G$21,0)+IF(C94=2,J94*Geometry!$H$21,0)+IF(C94=3,J94*Geometry!$I$21,0)+IF(C94=4,J94*Geometry!$J$21,0)+IF(C94=5,J94*Geometry!$K$21,0) -> 0 | L94: =IF(C94=1,J94*Geometry!$G$20,0)+IF(C94=2,J94*Geometry!$H$20,0)+IF(C94=3,J94*Geometry!$I$20,0)+IF(C94=4,J94*Geometry!$J$20,0)+IF(C94=5,J94*Geometry!$K$20,0) -> 0 | M94: =IF(C94=1,J94*Geometry!$G$19,0)+IF(C94=2,J94*Geometry!$H$19,0)+IF(C94=3,J94*Geometry!$I$19,0)+IF(C94=4,J94*Geometry!$J$19,0)+IF(C94=5,J94*Geometry!$K$19,0) -> 0 | N94: =IF(C94=1,J94*Geometry!$G$22,0)+IF(C94=2,J94*Geometry!$H$22,0)+IF(C94=3,J94*Geometry!$I$22,0)+IF(C94=4,J94*Geometry!$J$22,0)+IF(C94=5,J94*Geometry!$K$22,0) -> 0 | O94: =IF(C94=1,J94*Geometry!$G$23,0)+IF(C94=2,J94*Geometry!$H$23,0)+IF(C94=3,J94*Geometry!$I$23,0)+IF(C94=4,J94*Geometry!$J$23,0)+IF(C94=5,J94*Geometry!$K$23,0) -> 0 | P94: =IF(C94=1,J94*Geometry!$G$24,0)+IF(C94=2,J94*Geometry!$H$24,0)+IF(C94=3,J94*Geometry!$I$24,0)+IF(C94=4,J94*Geometry!$J$24,0)+IF(C94=5,J94*Geometry!$K$24,0) -> 0
A95: =A94+1 -> 89 | C95: =IF(A95>$C$1-$C$4,3,IF(A95<2,3,IF(A95<=$C$2-$C$3/2,1,IF(A95>$C$2+$C$3/2,1,2)))) -> 3 | D95: =D94+Geometry!$C$15 -> 650 | E95: =E94-(D95-D94) -> -335 | F95: =Geometry!$D$12*D95 -> 15.737647 | G95: =IF(H95>0,F95/9.8,0) -> 0 | H95: =IF(ABS(E95*E95)<=Geometry!$E$10,SQRT(Geometry!$E$10-E95*E95),0) -> 0 | I95: =IF(H95>0,1,0) -> 0 | J95: =PI()*H95*H95 -> 0 | K95: =IF(C95=1,J95*Geometry!$G$21,0)+IF(C95=2,J95*Geometry!$H$21,0)+IF(C95=3,J95*Geometry!$I$21,0)+IF(C95=4,J95*Geometry!$J$21,0)+IF(C95=5,J95*Geometry!$K$21,0) -> 0 | L95: =IF(C95=1,J95*Geometry!$G$20,0)+IF(C95=2,J95*Geometry!$H$20,0)+IF(C95=3,J95*Geometry!$I$20,0)+IF(C95=4,J95*Geometry!$J$20,0)+IF(C95=5,J95*Geometry!$K$20,0) -> 0 | M95: =IF(C95=1,J95*Geometry!$G$19,0)+IF(C95=2,J95*Geometry!$H$19,0)+IF(C95=3,J95*Geometry!$I$19,0)+IF(C95=4,J95*Geometry!$J$19,0)+IF(C95=5,J95*Geometry!$K$19,0) -> 0 | N95: =IF(C95=1,J95*Geometry!$G$22,0)+IF(C95=2,J95*Geometry!$H$22,0)+IF(C95=3,J95*Geometry!$I$22,0)+IF(C95=4,J95*Geometry!$J$22,0)+IF(C95=5,J95*Geometry!$K$22,0) -> 0 | O95: =IF(C95=1,J95*Geometry!$G$23,0)+IF(C95=2,J95*Geometry!$H$23,0)+IF(C95=3,J95*Geometry!$I$23,0)+IF(C95=4,J95*Geometry!$J$23,0)+IF(C95=5,J95*Geometry!$K$23,0) -> 0 | P95: =IF(C95=1,J95*Geometry!$G$24,0)+IF(C95=2,J95*Geometry!$H$24,0)+IF(C95=3,J95*Geometry!$I$24,0)+IF(C95=4,J95*Geometry!$J$24,0)+IF(C95=5,J95*Geometry!$K$24,0) -> 0
A96: =A95+1 -> 90 | C96: =IF(A96>$C$1-$C$4,3,IF(A96<2,3,IF(A96<=$C$2-$C$3/2,1,IF(A96>$C$2+$C$3/2,1,2)))) -> 3 | D96: =D95+Geometry!$C$15 -> 655 | E96: =E95-(D96-D95) -> -340 | F96: =Geometry!$D$12*D96 -> 15.858706 | G96: =IF(H96>0,F96/9.8,0) -> 0 | H96: =IF(ABS(E96*E96)<=Geometry!$E$10,SQRT(Geometry!$E$10-E96*E96),0) -> 0 | I96: =IF(H96>0,1,0) -> 0 | J96: =PI()*H96*H96 -> 0 | K96: =IF(C96=1,J96*Geometry!$G$21,0)+IF(C96=2,J96*Geometry!$H$21,0)+IF(C96=3,J96*Geometry!$I$21,0)+IF(C96=4,J96*Geometry!$J$21,0)+IF(C96=5,J96*Geometry!$K$21,0) -> 0 | L96: =IF(C96=1,J96*Geometry!$G$20,0)+IF(C96=2,J96*Geometry!$H$20,0)+IF(C96=3,J96*Geometry!$I$20,0)+IF(C96=4,J96*Geometry!$J$20,0)+IF(C96=5,J96*Geometry!$K$20,0) -> 0 | M96: =IF(C96=1,J96*Geometry!$G$19,0)+IF(C96=2,J96*Geometry!$H$19,0)+IF(C96=3,J96*Geometry!$I$19,0)+IF(C96=4,J96*Geometry!$J$19,0)+IF(C96=5,J96*Geometry!$K$19,0) -> 0 | N96: =IF(C96=1,J96*Geometry!$G$22,0)+IF(C96=2,J96*Geometry!$H$22,0)+IF(C96=3,J96*Geometry!$I$22,0)+IF(C96=4,J96*Geometry!$J$22,0)+IF(C96=5,J96*Geometry!$K$22,0) -> 0 | O96: =IF(C96=1,J96*Geometry!$G$23,0)+IF(C96=2,J96*Geometry!$H$23,0)+IF(C96=3,J96*Geometry!$I$23,0)+IF(C96=4,J96*Geometry!$J$23,0)+IF(C96=5,J96*Geometry!$K$23,0) -> 0 | P96: =IF(C96=1,J96*Geometry!$G$24,0)+IF(C96=2,J96*Geometry!$H$24,0)+IF(C96=3,J96*Geometry!$I$24,0)+IF(C96=4,J96*Geometry!$J$24,0)+IF(C96=5,J96*Geometry!$K$24,0) -> 0
A97: =A96+1 -> 91 | C97: =IF(A97>$C$1-$C$4,3,IF(A97<2,3,IF(A97<=$C$2-$C$3/2,1,IF(A97>$C$2+$C$3/2,1,2)))) -> 3 | D97: =D96+Geometry!$C$15 -> 660 | E97: =E96-(D97-D96) -> -345 | F97: =Geometry!$D$12*D97 -> 15.979765 | G97: =IF(H97>0,F97/9.8,0) -> 0 | H97: =IF(ABS(E97*E97)<=Geometry!$E$10,SQRT(Geometry!$E$10-E97*E97),0) -> 0 | I97: =IF(H97>0,1,0) -> 0 | J97: =PI()*H97*H97 -> 0 | K97: =IF(C97=1,J97*Geometry!$G$21,0)+IF(C97=2,J97*Geometry!$H$21,0)+IF(C97=3,J97*Geometry!$I$21,0)+IF(C97=4,J97*Geometry!$J$21,0)+IF(C97=5,J97*Geometry!$K$21,0) -> 0 | L97: =IF(C97=1,J97*Geometry!$G$20,0)+IF(C97=2,J97*Geometry!$H$20,0)+IF(C97=3,J97*Geometry!$I$20,0)+IF(C97=4,J97*Geometry!$J$20,0)+IF(C97=5,J97*Geometry!$K$20,0) -> 0 | M97: =IF(C97=1,J97*Geometry!$G$19,0)+IF(C97=2,J97*Geometry!$H$19,0)+IF(C97=3,J97*Geometry!$I$19,0)+IF(C97=4,J97*Geometry!$J$19,0)+IF(C97=5,J97*Geometry!$K$19,0) -> 0 | N97: =IF(C97=1,J97*Geometry!$G$22,0)+IF(C97=2,J97*Geometry!$H$22,0)+IF(C97=3,J97*Geometry!$I$22,0)+IF(C97=4,J97*Geometry!$J$22,0)+IF(C97=5,J97*Geometry!$K$22,0) -> 0 | O97: =IF(C97=1,J97*Geometry!$G$23,0)+IF(C97=2,J97*Geometry!$H$23,0)+IF(C97=3,J97*Geometry!$I$23,0)+IF(C97=4,J97*Geometry!$J$23,0)+IF(C97=5,J97*Geometry!$K$23,0) -> 0 | P97: =IF(C97=1,J97*Geometry!$G$24,0)+IF(C97=2,J97*Geometry!$H$24,0)+IF(C97=3,J97*Geometry!$I$24,0)+IF(C97=4,J97*Geometry!$J$24,0)+IF(C97=5,J97*Geometry!$K$24,0) -> 0
A98: =A97+1 -> 92 | C98: =IF(A98>$C$1-$C$4,3,IF(A98<2,3,IF(A98<=$C$2-$C$3/2,1,IF(A98>$C$2+$C$3/2,1,2)))) -> 3 | D98: =D97+Geometry!$C$15 -> 665 | E98: =E97-(D98-D97) -> -350 | F98: =Geometry!$D$12*D98 -> 16.100824 | G98: =IF(H98>0,F98/9.8,0) -> 0 | H98: =IF(ABS(E98*E98)<=Geometry!$E$10,SQRT(Geometry!$E$10-E98*E98),0) -> 0 | I98: =IF(H98>0,1,0) -> 0 | J98: =PI()*H98*H98 -> 0 | K98: =IF(C98=1,J98*Geometry!$G$21,0)+IF(C98=2,J98*Geometry!$H$21,0)+IF(C98=3,J98*Geometry!$I$21,0)+IF(C98=4,J98*Geometry!$J$21,0)+IF(C98=5,J98*Geometry!$K$21,0) -> 0 | L98: =IF(C98=1,J98*Geometry!$G$20,0)+IF(C98=2,J98*Geometry!$H$20,0)+IF(C98=3,J98*Geometry!$I$20,0)+IF(C98=4,J98*Geometry!$J$20,0)+IF(C98=5,J98*Geometry!$K$20,0) -> 0 | M98: =IF(C98=1,J98*Geometry!$G$19,0)+IF(C98=2,J98*Geometry!$H$19,0)+IF(C98=3,J98*Geometry!$I$19,0)+IF(C98=4,J98*Geometry!$J$19,0)+IF(C98=5,J98*Geometry!$K$19,0) -> 0 | N98: =IF(C98=1,J98*Geometry!$G$22,0)+IF(C98=2,J98*Geometry!$H$22,0)+IF(C98=3,J98*Geometry!$I$22,0)+IF(C98=4,J98*Geometry!$J$22,0)+IF(C98=5,J98*Geometry!$K$22,0) -> 0 | O98: =IF(C98=1,J98*Geometry!$G$23,0)+IF(C98=2,J98*Geometry!$H$23,0)+IF(C98=3,J98*Geometry!$I$23,0)+IF(C98=4,J98*Geometry!$J$23,0)+IF(C98=5,J98*Geometry!$K$23,0) -> 0 | P98: =IF(C98=1,J98*Geometry!$G$24,0)+IF(C98=2,J98*Geometry!$H$24,0)+IF(C98=3,J98*Geometry!$I$24,0)+IF(C98=4,J98*Geometry!$J$24,0)+IF(C98=5,J98*Geometry!$K$24,0) -> 0
A99: =A98+1 -> 93 | C99: =IF(A99>$C$1-$C$4,3,IF(A99<2,3,IF(A99<=$C$2-$C$3/2,1,IF(A99>$C$2+$C$3/2,1,2)))) -> 3 | D99: =D98+Geometry!$C$15 -> 670 | E99: =E98-(D99-D98) -> -355 | F99: =Geometry!$D$12*D99 -> 16.221882 | G99: =IF(H99>0,F99/9.8,0) -> 0 | H99: =IF(ABS(E99*E99)<=Geometry!$E$10,SQRT(Geometry!$E$10-E99*E99),0) -> 0 | I99: =IF(H99>0,1,0) -> 0 | J99: =PI()*H99*H99 -> 0 | K99: =IF(C99=1,J99*Geometry!$G$21,0)+IF(C99=2,J99*Geometry!$H$21,0)+IF(C99=3,J99*Geometry!$I$21,0)+IF(C99=4,J99*Geometry!$J$21,0)+IF(C99=5,J99*Geometry!$K$21,0) -> 0 | L99: =IF(C99=1,J99*Geometry!$G$20,0)+IF(C99=2,J99*Geometry!$H$20,0)+IF(C99=3,J99*Geometry!$I$20,0)+IF(C99=4,J99*Geometry!$J$20,0)+IF(C99=5,J99*Geometry!$K$20,0) -> 0 | M99: =IF(C99=1,J99*Geometry!$G$19,0)+IF(C99=2,J99*Geometry!$H$19,0)+IF(C99=3,J99*Geometry!$I$19,0)+IF(C99=4,J99*Geometry!$J$19,0)+IF(C99=5,J99*Geometry!$K$19,0) -> 0 | N99: =IF(C99=1,J99*Geometry!$G$22,0)+IF(C99=2,J99*Geometry!$H$22,0)+IF(C99=3,J99*Geometry!$I$22,0)+IF(C99=4,J99*Geometry!$J$22,0)+IF(C99=5,J99*Geometry!$K$22,0) -> 0 | O99: =IF(C99=1,J99*Geometry!$G$23,0)+IF(C99=2,J99*Geometry!$H$23,0)+IF(C99=3,J99*Geometry!$I$23,0)+IF(C99=4,J99*Geometry!$J$23,0)+IF(C99=5,J99*Geometry!$K$23,0) -> 0 | P99: =IF(C99=1,J99*Geometry!$G$24,0)+IF(C99=2,J99*Geometry!$H$24,0)+IF(C99=3,J99*Geometry!$I$24,0)+IF(C99=4,J99*Geometry!$J$24,0)+IF(C99=5,J99*Geometry!$K$24,0) -> 0
A100: =A99+1 -> 94 | C100: =IF(A100>$C$1-$C$4,3,IF(A100<2,3,IF(A100<=$C$2-$C$3/2,1,IF(A100>$C$2+$C$3/2,1,2)))) -> 3 | D100: =D99+Geometry!$C$15 -> 675 | E100: =E99-(D100-D99) -> -360 | F100: =Geometry!$D$12*D100 -> 16.342941 | G100: =IF(H100>0,F100/9.8,0) -> 0 | H100: =IF(ABS(E100*E100)<=Geometry!$E$10,SQRT(Geometry!$E$10-E100*E100),0) -> 0 | I100: =IF(H100>0,1,0) -> 0 | J100: =PI()*H100*H100 -> 0 | K100: =IF(C100=1,J100*Geometry!$G$21,0)+IF(C100=2,J100*Geometry!$H$21,0)+IF(C100=3,J100*Geometry!$I$21,0)+IF(C100=4,J100*Geometry!$J$21,0)+IF(C100=5,J100*Geometry!$K$21,0) -> 0 | L100: =IF(C100=1,J100*Geometry!$G$20,0)+IF(C100=2,J100*Geometry!$H$20,0)+IF(C100=3,J100*Geometry!$I$20,0)+IF(C100=4,J100*Geometry!$J$20,0)+IF(C100=5,J100*Geometry!$K$20,0) -> 0 | M100: =IF(C100=1,J100*Geometry!$G$19,0)+IF(C100=2,J100*Geometry!$H$19,0)+IF(C100=3,J100*Geometry!$I$19,0)+IF(C100=4,J100*Geometry!$J$19,0)+IF(C100=5,J100*Geometry!$K$19,0) -> 0 | N100: =IF(C100=1,J100*Geometry!$G$22,0)+IF(C100=2,J100*Geometry!$H$22,0)+IF(C100=3,J100*Geometry!$I$22,0)+IF(C100=4,J100*Geometry!$J$22,0)+IF(C100=5,J100*Geometry!$K$22,0) -> 0 | O100: =IF(C100=1,J100*Geometry!$G$23,0)+IF(C100=2,J100*Geometry!$H$23,0)+IF(C100=3,J100*Geometry!$I$23,0)+IF(C100=4,J100*Geometry!$J$23,0)+IF(C100=5,J100*Geometry!$K$23,0) -> 0 | P100: =IF(C100=1,J100*Geometry!$G$24,0)+IF(C100=2,J100*Geometry!$H$24,0)+IF(C100=3,J100*Geometry!$I$24,0)+IF(C100=4,J100*Geometry!$J$24,0)+IF(C100=5,J100*Geometry!$K$24,0) -> 0
A101: =A100+1 -> 95 | C101: =IF(A101>$C$1-$C$4,3,IF(A101<2,3,IF(A101<=$C$2-$C$3,1,IF(A101>$C$2,1,2)))) -> 3 | D101: =D100+Geometry!$C$15 -> 680 | E101: =E100-(D101-D100) -> -365 | F101: =Geometry!$D$12*D101 -> 16.464 | G101: =IF(H101>0,F101/9.8,0) -> 0 | H101: =IF(ABS(E101*E101)<=Geometry!$E$10,SQRT(Geometry!$E$10-E101*E101),0) -> 0 | I101: =IF(H101>0,1,0) -> 0 | J101: =PI()*H101*H101 -> 0 | K101: =IF(C101=1,J101*Geometry!$G$21,0)+IF(C101=2,J101*Geometry!$H$21,0)+IF(C101=3,J101*Geometry!$I$21,0)+IF(C101=4,J101*Geometry!$J$21,0)+IF(C101=5,J101*Geometry!$K$21,0) -> 0 | L101: =IF(C101=1,J101*Geometry!$G$20,0)+IF(C101=2,J101*Geometry!$H$20,0)+IF(C101=3,J101*Geometry!$I$20,0)+IF(C101=4,J101*Geometry!$J$20,0)+IF(C101=5,J101*Geometry!$K$20,0) -> 0 | M101: =IF(C101=1,J101*Geometry!$G$19,0)+IF(C101=2,J101*Geometry!$H$19,0)+IF(C101=3,J101*Geometry!$I$19,0)+IF(C101=4,J101*Geometry!$J$19,0)+IF(C101=5,J101*Geometry!$K$19,0) -> 0 | N101: =IF(C101=1,J101*Geometry!$G$22,0)+IF(C101=2,J101*Geometry!$H$22,0)+IF(C101=3,J101*Geometry!$I$22,0)+IF(C101=4,J101*Geometry!$J$22,0)+IF(C101=5,J101*Geometry!$K$22,0) -> 0 | O101: =IF(C101=1,J101*Geometry!$G$23,0)+IF(C101=2,J101*Geometry!$H$23,0)+IF(C101=3,J101*Geometry!$I$23,0)+IF(C101=4,J101*Geometry!$J$23,0)+IF(C101=5,J101*Geometry!$K$23,0) -> 0 | P101: =IF(C101=1,J101*Geometry!$G$24,0)+IF(C101=2,J101*Geometry!$H$24,0)+IF(C101=3,J101*Geometry!$I$24,0)+IF(C101=4,J101*Geometry!$J$24,0)+IF(C101=5,J101*Geometry!$K$24,0) -> 0
A102: =A101+1 -> 96 | C102: =IF(A102>$C$1-$C$4,3,IF(A102<2,3,IF(A102<=$C$2-$C$3,1,IF(A102>$C$2,1,2)))) -> 3 | D102: =D101+Geometry!$C$15 -> 685 | E102: =E101-(D102-D101) -> -370 | F102: =Geometry!$D$12*D102 -> 16.585059 | G102: =IF(H102>0,F102/9.8,0) -> 0 | H102: =IF(ABS(E102*E102)<=Geometry!$E$10,SQRT(Geometry!$E$10-E102*E102),0) -> 0 | I102: =IF(H102>0,1,0) -> 0 | J102: =PI()*H102*H102 -> 0 | K102: =IF(C102=1,J102*Geometry!$G$21,0)+IF(C102=2,J102*Geometry!$H$21,0)+IF(C102=3,J102*Geometry!$I$21,0)+IF(C102=4,J102*Geometry!$J$21,0)+IF(C102=5,J102*Geometry!$K$21,0) -> 0 | L102: =IF(C102=1,J102*Geometry!$G$20,0)+IF(C102=2,J102*Geometry!$H$20,0)+IF(C102=3,J102*Geometry!$I$20,0)+IF(C102=4,J102*Geometry!$J$20,0)+IF(C102=5,J102*Geometry!$K$20,0) -> 0 | M102: =IF(C102=1,J102*Geometry!$G$19,0)+IF(C102=2,J102*Geometry!$H$19,0)+IF(C102=3,J102*Geometry!$I$19,0)+IF(C102=4,J102*Geometry!$J$19,0)+IF(C102=5,J102*Geometry!$K$19,0) -> 0 | N102: =IF(C102=1,J102*Geometry!$G$22,0)+IF(C102=2,J102*Geometry!$H$22,0)+IF(C102=3,J102*Geometry!$I$22,0)+IF(C102=4,J102*Geometry!$J$22,0)+IF(C102=5,J102*Geometry!$K$22,0) -> 0 | O102: =IF(C102=1,J102*Geometry!$G$23,0)+IF(C102=2,J102*Geometry!$H$23,0)+IF(C102=3,J102*Geometry!$I$23,0)+IF(C102=4,J102*Geometry!$J$23,0)+IF(C102=5,J102*Geometry!$K$23,0) -> 0 | P102: =IF(C102=1,J102*Geometry!$G$24,0)+IF(C102=2,J102*Geometry!$H$24,0)+IF(C102=3,J102*Geometry!$I$24,0)+IF(C102=4,J102*Geometry!$J$24,0)+IF(C102=5,J102*Geometry!$K$24,0) -> 0
A103: =A102+1 -> 97 | C103: =IF(A103>$C$1-$C$4,3,IF(A103<2,3,IF(A103<=$C$2-$C$3,1,IF(A103>$C$2,1,2)))) -> 3 | D103: =D102+Geometry!$C$15 -> 690 | E103: =E102-(D103-D102) -> -375 | F103: =Geometry!$D$12*D103 -> 16.706118 | G103: =IF(H103>0,F103/9.8,0) -> 0 | H103: =IF(ABS(E103*E103)<=Geometry!$E$10,SQRT(Geometry!$E$10-E103*E103),0) -> 0 | I103: =IF(H103>0,1,0) -> 0 | J103: =PI()*H103*H103 -> 0 | K103: =IF(C103=1,J103*Geometry!$G$21,0)+IF(C103=2,J103*Geometry!$H$21,0)+IF(C103=3,J103*Geometry!$I$21,0)+IF(C103=4,J103*Geometry!$J$21,0)+IF(C103=5,J103*Geometry!$K$21,0) -> 0 | L103: =IF(C103=1,J103*Geometry!$G$20,0)+IF(C103=2,J103*Geometry!$H$20,0)+IF(C103=3,J103*Geometry!$I$20,0)+IF(C103=4,J103*Geometry!$J$20,0)+IF(C103=5,J103*Geometry!$K$20,0) -> 0 | M103: =IF(C103=1,J103*Geometry!$G$19,0)+IF(C103=2,J103*Geometry!$H$19,0)+IF(C103=3,J103*Geometry!$I$19,0)+IF(C103=4,J103*Geometry!$J$19,0)+IF(C103=5,J103*Geometry!$K$19,0) -> 0 | N103: =IF(C103=1,J103*Geometry!$G$22,0)+IF(C103=2,J103*Geometry!$H$22,0)+IF(C103=3,J103*Geometry!$I$22,0)+IF(C103=4,J103*Geometry!$J$22,0)+IF(C103=5,J103*Geometry!$K$22,0) -> 0 | O103: =IF(C103=1,J103*Geometry!$G$23,0)+IF(C103=2,J103*Geometry!$H$23,0)+IF(C103=3,J103*Geometry!$I$23,0)+IF(C103=4,J103*Geometry!$J$23,0)+IF(C103=5,J103*Geometry!$K$23,0) -> 0 | P103: =IF(C103=1,J103*Geometry!$G$24,0)+IF(C103=2,J103*Geometry!$H$24,0)+IF(C103=3,J103*Geometry!$I$24,0)+IF(C103=4,J103*Geometry!$J$24,0)+IF(C103=5,J103*Geometry!$K$24,0) -> 0
A104: =A103+1 -> 98 | C104: =IF(A104>$C$1-$C$4,3,IF(A104<2,3,IF(A104<=$C$2-$C$3,1,IF(A104>$C$2,1,2)))) -> 3 | D104: =D103+Geometry!$C$15 -> 695 | E104: =E103-(D104-D103) -> -380 | F104: =Geometry!$D$12*D104 -> 16.827176 | G104: =IF(H104>0,F104/9.8,0) -> 0 | H104: =IF(ABS(E104*E104)<=Geometry!$E$10,SQRT(Geometry!$E$10-E104*E104),0) -> 0 | I104: =IF(H104>0,1,0) -> 0 | J104: =PI()*H104*H104 -> 0 | K104: =IF(C104=1,J104*Geometry!$G$21,0)+IF(C104=2,J104*Geometry!$H$21,0)+IF(C104=3,J104*Geometry!$I$21,0)+IF(C104=4,J104*Geometry!$J$21,0)+IF(C104=5,J104*Geometry!$K$21,0) -> 0 | L104: =IF(C104=1,J104*Geometry!$G$20,0)+IF(C104=2,J104*Geometry!$H$20,0)+IF(C104=3,J104*Geometry!$I$20,0)+IF(C104=4,J104*Geometry!$J$20,0)+IF(C104=5,J104*Geometry!$K$20,0) -> 0 | M104: =IF(C104=1,J104*Geometry!$G$19,0)+IF(C104=2,J104*Geometry!$H$19,0)+IF(C104=3,J104*Geometry!$I$19,0)+IF(C104=4,J104*Geometry!$J$19,0)+IF(C104=5,J104*Geometry!$K$19,0) -> 0 | N104: =IF(C104=1,J104*Geometry!$G$22,0)+IF(C104=2,J104*Geometry!$H$22,0)+IF(C104=3,J104*Geometry!$I$22,0)+IF(C104=4,J104*Geometry!$J$22,0)+IF(C104=5,J104*Geometry!$K$22,0) -> 0 | O104: =IF(C104=1,J104*Geometry!$G$23,0)+IF(C104=2,J104*Geometry!$H$23,0)+IF(C104=3,J104*Geometry!$I$23,0)+IF(C104=4,J104*Geometry!$J$23,0)+IF(C104=5,J104*Geometry!$K$23,0) -> 0 | P104: =IF(C104=1,J104*Geometry!$G$24,0)+IF(C104=2,J104*Geometry!$H$24,0)+IF(C104=3,J104*Geometry!$I$24,0)+IF(C104=4,J104*Geometry!$J$24,0)+IF(C104=5,J104*Geometry!$K$24,0) -> 0
A105: =A104+1 -> 99 | C105: =IF(A105>$C$1-$C$4,3,IF(A105<2,3,IF(A105<=$C$2-$C$3,1,IF(A105>$C$2,1,2)))) -> 3 | D105: =D104+Geometry!$C$15 -> 700 | E105: =E104-(D105-D104) -> -385 | F105: =Geometry!$D$12*D105 -> 16.948235 | G105: =IF(H105>0,F105/9.8,0) -> 0 | H105: =IF(ABS(E105*E105)<=Geometry!$E$10,SQRT(Geometry!$E$10-E105*E105),0) -> 0 | I105: =IF(H105>0,1,0) -> 0 | J105: =PI()*H105*H105 -> 0 | K105: =IF(C105=1,J105*Geometry!$G$21,0)+IF(C105=2,J105*Geometry!$H$21,0)+IF(C105=3,J105*Geometry!$I$21,0)+IF(C105=4,J105*Geometry!$J$21,0)+IF(C105=5,J105*Geometry!$K$21,0) -> 0 | L105: =IF(C105=1,J105*Geometry!$G$20,0)+IF(C105=2,J105*Geometry!$H$20,0)+IF(C105=3,J105*Geometry!$I$20,0)+IF(C105=4,J105*Geometry!$J$20,0)+IF(C105=5,J105*Geometry!$K$20,0) -> 0 | M105: =IF(C105=1,J105*Geometry!$G$19,0)+IF(C105=2,J105*Geometry!$H$19,0)+IF(C105=3,J105*Geometry!$I$19,0)+IF(C105=4,J105*Geometry!$J$19,0)+IF(C105=5,J105*Geometry!$K$19,0) -> 0 | N105: =IF(C105=1,J105*Geometry!$G$22,0)+IF(C105=2,J105*Geometry!$H$22,0)+IF(C105=3,J105*Geometry!$I$22,0)+IF(C105=4,J105*Geometry!$J$22,0)+IF(C105=5,J105*Geometry!$K$22,0) -> 0 | O105: =IF(C105=1,J105*Geometry!$G$23,0)+IF(C105=2,J105*Geometry!$H$23,0)+IF(C105=3,J105*Geometry!$I$23,0)+IF(C105=4,J105*Geometry!$J$23,0)+IF(C105=5,J105*Geometry!$K$23,0) -> 0 | P105: =IF(C105=1,J105*Geometry!$G$24,0)+IF(C105=2,J105*Geometry!$H$24,0)+IF(C105=3,J105*Geometry!$I$24,0)+IF(C105=4,J105*Geometry!$J$24,0)+IF(C105=5,J105*Geometry!$K$24,0) -> 0
A106: =A105+1 -> 100 | C106: =IF(A106>$C$1-$C$4,3,IF(A106<2,3,IF(A106<=$C$2-$C$3,1,IF(A106>$C$2,1,2)))) -> 3 | D106: =D105+Geometry!$C$15 -> 705 | E106: =E105-(D106-D105) -> -390 | F106: =Geometry!$D$12*D106 -> 17.069294 | G106: =IF(H106>0,F106/9.8,0) -> 0 | H106: =IF(ABS(E106*E106)<=Geometry!$E$10,SQRT(Geometry!$E$10-E106*E106),0) -> 0 | I106: =IF(H106>0,1,0) -> 0 | J106: =PI()*H106*H106 -> 0 | K106: =IF(C106=1,J106*Geometry!$G$21,0)+IF(C106=2,J106*Geometry!$H$21,0)+IF(C106=3,J106*Geometry!$I$21,0)+IF(C106=4,J106*Geometry!$J$21,0)+IF(C106=5,J106*Geometry!$K$21,0) -> 0 | L106: =IF(C106=1,J106*Geometry!$G$20,0)+IF(C106=2,J106*Geometry!$H$20,0)+IF(C106=3,J106*Geometry!$I$20,0)+IF(C106=4,J106*Geometry!$J$20,0)+IF(C106=5,J106*Geometry!$K$20,0) -> 0 | M106: =IF(C106=1,J106*Geometry!$G$19,0)+IF(C106=2,J106*Geometry!$H$19,0)+IF(C106=3,J106*Geometry!$I$19,0)+IF(C106=4,J106*Geometry!$J$19,0)+IF(C106=5,J106*Geometry!$K$19,0) -> 0 | N106: =IF(C106=1,J106*Geometry!$G$22,0)+IF(C106=2,J106*Geometry!$H$22,0)+IF(C106=3,J106*Geometry!$I$22,0)+IF(C106=4,J106*Geometry!$J$22,0)+IF(C106=5,J106*Geometry!$K$22,0) -> 0 | O106: =IF(C106=1,J106*Geometry!$G$23,0)+IF(C106=2,J106*Geometry!$H$23,0)+IF(C106=3,J106*Geometry!$I$23,0)+IF(C106=4,J106*Geometry!$J$23,0)+IF(C106=5,J106*Geometry!$K$23,0) -> 0 | P106: =IF(C106=1,J106*Geometry!$G$24,0)+IF(C106=2,J106*Geometry!$H$24,0)+IF(C106=3,J106*Geometry!$I$24,0)+IF(C106=4,J106*Geometry!$J$24,0)+IF(C106=5,J106*Geometry!$K$24,0) -> 0
A107: =A106+1 -> 101 | C107: =IF(A107>$C$1-$C$4,3,IF(A107<2,3,IF(A107<=$C$2-$C$3,1,IF(A107>$C$2,1,2)))) -> 3 | D107: =D106+Geometry!$C$15 -> 710 | E107: =E106-(D107-D106) -> -395 | F107: =Geometry!$D$12*D107 -> 17.190353 | G107: =IF(H107>0,F107/9.8,0) -> 0 | H107: =IF(ABS(E107*E107)<=Geometry!$E$10,SQRT(Geometry!$E$10-E107*E107),0) -> 0 | I107: =IF(H107>0,1,0) -> 0 | J107: =PI()*H107*H107 -> 0 | K107: =IF(C107=1,J107*Geometry!$G$21,0)+IF(C107=2,J107*Geometry!$H$21,0)+IF(C107=3,J107*Geometry!$I$21,0)+IF(C107=4,J107*Geometry!$J$21,0)+IF(C107=5,J107*Geometry!$K$21,0) -> 0 | L107: =IF(C107=1,J107*Geometry!$G$20,0)+IF(C107=2,J107*Geometry!$H$20,0)+IF(C107=3,J107*Geometry!$I$20,0)+IF(C107=4,J107*Geometry!$J$20,0)+IF(C107=5,J107*Geometry!$K$20,0) -> 0 | M107: =IF(C107=1,J107*Geometry!$G$19,0)+IF(C107=2,J107*Geometry!$H$19,0)+IF(C107=3,J107*Geometry!$I$19,0)+IF(C107=4,J107*Geometry!$J$19,0)+IF(C107=5,J107*Geometry!$K$19,0) -> 0 | N107: =IF(C107=1,J107*Geometry!$G$22,0)+IF(C107=2,J107*Geometry!$H$22,0)+IF(C107=3,J107*Geometry!$I$22,0)+IF(C107=4,J107*Geometry!$J$22,0)+IF(C107=5,J107*Geometry!$K$22,0) -> 0 | O107: =IF(C107=1,J107*Geometry!$G$23,0)+IF(C107=2,J107*Geometry!$H$23,0)+IF(C107=3,J107*Geometry!$I$23,0)+IF(C107=4,J107*Geometry!$J$23,0)+IF(C107=5,J107*Geometry!$K$23,0) -> 0 | P107: =IF(C107=1,J107*Geometry!$G$24,0)+IF(C107=2,J107*Geometry!$H$24,0)+IF(C107=3,J107*Geometry!$I$24,0)+IF(C107=4,J107*Geometry!$J$24,0)+IF(C107=5,J107*Geometry!$K$24,0) -> 0
A108: =A107+1 -> 102 | C108: =IF(A108>$C$1-$C$4,3,IF(A108<2,3,IF(A108<=$C$2-$C$3,1,IF(A108>$C$2,1,2)))) -> 3 | D108: =D107+Geometry!$C$15 -> 715 | E108: =E107-(D108-D107) -> -400 | F108: =Geometry!$D$12*D108 -> 17.311412 | G108: =IF(H108>0,F108/9.8,0) -> 0 | H108: =IF(ABS(E108*E108)<=Geometry!$E$10,SQRT(Geometry!$E$10-E108*E108),0) -> 0 | I108: =IF(H108>0,1,0) -> 0 | J108: =PI()*H108*H108 -> 0 | K108: =IF(C108=1,J108*Geometry!$G$21,0)+IF(C108=2,J108*Geometry!$H$21,0)+IF(C108=3,J108*Geometry!$I$21,0)+IF(C108=4,J108*Geometry!$J$21,0)+IF(C108=5,J108*Geometry!$K$21,0) -> 0 | L108: =IF(C108=1,J108*Geometry!$G$20,0)+IF(C108=2,J108*Geometry!$H$20,0)+IF(C108=3,J108*Geometry!$I$20,0)+IF(C108=4,J108*Geometry!$J$20,0)+IF(C108=5,J108*Geometry!$K$20,0) -> 0 | M108: =IF(C108=1,J108*Geometry!$G$19,0)+IF(C108=2,J108*Geometry!$H$19,0)+IF(C108=3,J108*Geometry!$I$19,0)+IF(C108=4,J108*Geometry!$J$19,0)+IF(C108=5,J108*Geometry!$K$19,0) -> 0 | N108: =IF(C108=1,J108*Geometry!$G$22,0)+IF(C108=2,J108*Geometry!$H$22,0)+IF(C108=3,J108*Geometry!$I$22,0)+IF(C108=4,J108*Geometry!$J$22,0)+IF(C108=5,J108*Geometry!$K$22,0) -> 0 | O108: =IF(C108=1,J108*Geometry!$G$23,0)+IF(C108=2,J108*Geometry!$H$23,0)+IF(C108=3,J108*Geometry!$I$23,0)+IF(C108=4,J108*Geometry!$J$23,0)+IF(C108=5,J108*Geometry!$K$23,0) -> 0 | P108: =IF(C108=1,J108*Geometry!$G$24,0)+IF(C108=2,J108*Geometry!$H$24,0)+IF(C108=3,J108*Geometry!$I$24,0)+IF(C108=4,J108*Geometry!$J$24,0)+IF(C108=5,J108*Geometry!$K$24,0) -> 0
A109: =A108+1 -> 103 | C109: =IF(A109>$C$1-$C$4,3,IF(A109<2,3,IF(A109<=$C$2-$C$3,1,IF(A109>$C$2,1,2)))) -> 3 | D109: =D108+Geometry!$C$15 -> 720 | E109: =E108-(D109-D108) -> -405 | F109: =Geometry!$D$12*D109 -> 17.432471 | G109: =IF(H109>0,F109/9.8,0) -> 0 | H109: =IF(ABS(E109*E109)<=Geometry!$E$10,SQRT(Geometry!$E$10-E109*E109),0) -> 0 | I109: =IF(H109>0,1,0) -> 0 | J109: =PI()*H109*H109 -> 0 | K109: =IF(C109=1,J109*Geometry!$G$21,0)+IF(C109=2,J109*Geometry!$H$21,0)+IF(C109=3,J109*Geometry!$I$21,0)+IF(C109=4,J109*Geometry!$J$21,0)+IF(C109=5,J109*Geometry!$K$21,0) -> 0 | L109: =IF(C109=1,J109*Geometry!$G$20,0)+IF(C109=2,J109*Geometry!$H$20,0)+IF(C109=3,J109*Geometry!$I$20,0)+IF(C109=4,J109*Geometry!$J$20,0)+IF(C109=5,J109*Geometry!$K$20,0) -> 0 | M109: =IF(C109=1,J109*Geometry!$G$19,0)+IF(C109=2,J109*Geometry!$H$19,0)+IF(C109=3,J109*Geometry!$I$19,0)+IF(C109=4,J109*Geometry!$J$19,0)+IF(C109=5,J109*Geometry!$K$19,0) -> 0 | N109: =IF(C109=1,J109*Geometry!$G$22,0)+IF(C109=2,J109*Geometry!$H$22,0)+IF(C109=3,J109*Geometry!$I$22,0)+IF(C109=4,J109*Geometry!$J$22,0)+IF(C109=5,J109*Geometry!$K$22,0) -> 0 | O109: =IF(C109=1,J109*Geometry!$G$23,0)+IF(C109=2,J109*Geometry!$H$23,0)+IF(C109=3,J109*Geometry!$I$23,0)+IF(C109=4,J109*Geometry!$J$23,0)+IF(C109=5,J109*Geometry!$K$23,0) -> 0 | P109: =IF(C109=1,J109*Geometry!$G$24,0)+IF(C109=2,J109*Geometry!$H$24,0)+IF(C109=3,J109*Geometry!$I$24,0)+IF(C109=4,J109*Geometry!$J$24,0)+IF(C109=5,J109*Geometry!$K$24,0) -> 0
A110: =A109+1 -> 104 | C110: =IF(A110>$C$1-$C$4,3,IF(A110<2,3,IF(A110<=$C$2-$C$3,1,IF(A110>$C$2,1,2)))) -> 3 | D110: =D109+Geometry!$C$15 -> 725 | E110: =E109-(D110-D109) -> -410 | F110: =Geometry!$D$12*D110 -> 17.553529 | G110: =IF(H110>0,F110/9.8,0) -> 0 | H110: =IF(ABS(E110*E110)<=Geometry!$E$10,SQRT(Geometry!$E$10-E110*E110),0) -> 0 | I110: =IF(H110>0,1,0) -> 0 | J110: =PI()*H110*H110 -> 0 | K110: =IF(C110=1,J110*Geometry!$G$21,0)+IF(C110=2,J110*Geometry!$H$21,0)+IF(C110=3,J110*Geometry!$I$21,0)+IF(C110=4,J110*Geometry!$J$21,0)+IF(C110=5,J110*Geometry!$K$21,0) -> 0 | L110: =IF(C110=1,J110*Geometry!$G$20,0)+IF(C110=2,J110*Geometry!$H$20,0)+IF(C110=3,J110*Geometry!$I$20,0)+IF(C110=4,J110*Geometry!$J$20,0)+IF(C110=5,J110*Geometry!$K$20,0) -> 0 | M110: =IF(C110=1,J110*Geometry!$G$19,0)+IF(C110=2,J110*Geometry!$H$19,0)+IF(C110=3,J110*Geometry!$I$19,0)+IF(C110=4,J110*Geometry!$J$19,0)+IF(C110=5,J110*Geometry!$K$19,0) -> 0 | N110: =IF(C110=1,J110*Geometry!$G$22,0)+IF(C110=2,J110*Geometry!$H$22,0)+IF(C110=3,J110*Geometry!$I$22,0)+IF(C110=4,J110*Geometry!$J$22,0)+IF(C110=5,J110*Geometry!$K$22,0) -> 0 | O110: =IF(C110=1,J110*Geometry!$G$23,0)+IF(C110=2,J110*Geometry!$H$23,0)+IF(C110=3,J110*Geometry!$I$23,0)+IF(C110=4,J110*Geometry!$J$23,0)+IF(C110=5,J110*Geometry!$K$23,0) -> 0 | P110: =IF(C110=1,J110*Geometry!$G$24,0)+IF(C110=2,J110*Geometry!$H$24,0)+IF(C110=3,J110*Geometry!$I$24,0)+IF(C110=4,J110*Geometry!$J$24,0)+IF(C110=5,J110*Geometry!$K$24,0) -> 0
A111: =A110+1 -> 105 | C111: =IF(A111>$C$1-$C$4,3,IF(A111<2,3,IF(A111<=$C$2-$C$3,1,IF(A111>$C$2,1,2)))) -> 3 | D111: =D110+Geometry!$C$15 -> 730 | E111: =E110-(D111-D110) -> -415 | F111: =Geometry!$D$12*D111 -> 17.674588 | G111: =IF(H111>0,F111/9.8,0) -> 0 | H111: =IF(ABS(E111*E111)<=Geometry!$E$10,SQRT(Geometry!$E$10-E111*E111),0) -> 0 | I111: =IF(H111>0,1,0) -> 0 | J111: =PI()*H111*H111 -> 0 | K111: =IF(C111=1,J111*Geometry!$G$21,0)+IF(C111=2,J111*Geometry!$H$21,0)+IF(C111=3,J111*Geometry!$I$21,0)+IF(C111=4,J111*Geometry!$J$21,0)+IF(C111=5,J111*Geometry!$K$21,0) -> 0 | L111: =IF(C111=1,J111*Geometry!$G$20,0)+IF(C111=2,J111*Geometry!$H$20,0)+IF(C111=3,J111*Geometry!$I$20,0)+IF(C111=4,J111*Geometry!$J$20,0)+IF(C111=5,J111*Geometry!$K$20,0) -> 0 | M111: =IF(C111=1,J111*Geometry!$G$19,0)+IF(C111=2,J111*Geometry!$H$19,0)+IF(C111=3,J111*Geometry!$I$19,0)+IF(C111=4,J111*Geometry!$J$19,0)+IF(C111=5,J111*Geometry!$K$19,0) -> 0 | N111: =IF(C111=1,J111*Geometry!$G$22,0)+IF(C111=2,J111*Geometry!$H$22,0)+IF(C111=3,J111*Geometry!$I$22,0)+IF(C111=4,J111*Geometry!$J$22,0)+IF(C111=5,J111*Geometry!$K$22,0) -> 0 | O111: =IF(C111=1,J111*Geometry!$G$23,0)+IF(C111=2,J111*Geometry!$H$23,0)+IF(C111=3,J111*Geometry!$I$23,0)+IF(C111=4,J111*Geometry!$J$23,0)+IF(C111=5,J111*Geometry!$K$23,0) -> 0 | P111: =IF(C111=1,J111*Geometry!$G$24,0)+IF(C111=2,J111*Geometry!$H$24,0)+IF(C111=3,J111*Geometry!$I$24,0)+IF(C111=4,J111*Geometry!$J$24,0)+IF(C111=5,J111*Geometry!$K$24,0) -> 0
A112: =A111+1 -> 106 | C112: =IF(A112>$C$1-$C$4,3,IF(A112<2,3,IF(A112<=$C$2-$C$3,1,IF(A112>$C$2,1,2)))) -> 3 | D112: =D111+Geometry!$C$15 -> 735 | E112: =E111-(D112-D111) -> -420 | F112: =Geometry!$D$12*D112 -> 17.795647 | G112: =IF(H112>0,F112/9.8,0) -> 0 | H112: =IF(ABS(E112*E112)<=Geometry!$E$10,SQRT(Geometry!$E$10-E112*E112),0) -> 0 | I112: =IF(H112>0,1,0) -> 0 | J112: =PI()*H112*H112 -> 0 | K112: =IF(C112=1,J112*Geometry!$G$21,0)+IF(C112=2,J112*Geometry!$H$21,0)+IF(C112=3,J112*Geometry!$I$21,0)+IF(C112=4,J112*Geometry!$J$21,0)+IF(C112=5,J112*Geometry!$K$21,0) -> 0 | L112: =IF(C112=1,J112*Geometry!$G$20,0)+IF(C112=2,J112*Geometry!$H$20,0)+IF(C112=3,J112*Geometry!$I$20,0)+IF(C112=4,J112*Geometry!$J$20,0)+IF(C112=5,J112*Geometry!$K$20,0) -> 0 | M112: =IF(C112=1,J112*Geometry!$G$19,0)+IF(C112=2,J112*Geometry!$H$19,0)+IF(C112=3,J112*Geometry!$I$19,0)+IF(C112=4,J112*Geometry!$J$19,0)+IF(C112=5,J112*Geometry!$K$19,0) -> 0 | N112: =IF(C112=1,J112*Geometry!$G$22,0)+IF(C112=2,J112*Geometry!$H$22,0)+IF(C112=3,J112*Geometry!$I$22,0)+IF(C112=4,J112*Geometry!$J$22,0)+IF(C112=5,J112*Geometry!$K$22,0) -> 0 | O112: =IF(C112=1,J112*Geometry!$G$23,0)+IF(C112=2,J112*Geometry!$H$23,0)+IF(C112=3,J112*Geometry!$I$23,0)+IF(C112=4,J112*Geometry!$J$23,0)+IF(C112=5,J112*Geometry!$K$23,0) -> 0 | P112: =IF(C112=1,J112*Geometry!$G$24,0)+IF(C112=2,J112*Geometry!$H$24,0)+IF(C112=3,J112*Geometry!$I$24,0)+IF(C112=4,J112*Geometry!$J$24,0)+IF(C112=5,J112*Geometry!$K$24,0) -> 0
... A206: =A205+1 -> 200 | C206: =IF(A206>$C$1-$C$4,3,IF(A206<2,3,IF(A206<=$C$2-$C$3,1,IF(A206>$C$2,1,2)))) -> 3 | D206: =D205+Geometry!$C$15 -> 1205 | E206: =E205-(D206-D205) -> -890 | F206: =Geometry!$D$12*D206 -> 29.175176 | G206: =IF(H206>0,F206/9.8,0) -> 0 | H206: =IF(ABS(E206*E206)<=Geometry!$E$10,SQRT(Geometry!$E$10-E206*E206),0) -> 0 | I206: =IF(H206>0,1,0) -> 0 | J206: =PI()*H206*H206 -> 0 | K206: =IF(C206=1,J206*Geometry!$G$21,0)+IF(C206=2,J206*Geometry!$H$21,0)+IF(C206=3,J206*Geometry!$I$21,0)+IF(C206=4,J206*Geometry!$J$21,0)+IF(C206=5,J206*Geometry!$K$21,0) -> 0 | L206: =IF(C206=1,J206*Geometry!$G$20,0)+IF(C206=2,J206*Geometry!$H$20,0)+IF(C206=3,J206*Geometry!$I$20,0)+IF(C206=4,J206*Geometry!$J$20,0)+IF(C206=5,J206*Geometry!$K$20,0) -> 0 | M206: =IF(C206=1,J206*Geometry!$G$19,0)+IF(C206=2,J206*Geometry!$H$19,0)+IF(C206=3,J206*Geometry!$I$19,0)+IF(C206=4,J206*Geometry!$J$19,0)+IF(C206=5,J206*Geometry!$K$19,0) -> 0 | N206: =IF(C206=1,J206*Geometry!$G$22,0)+IF(C206=2,J206*Geometry!$H$22,0)+IF(C206=3,J206*Geometry!$I$22,0)+IF(C206=4,J206*Geometry!$J$22,0)+IF(C206=5,J206*Geometry!$K$22,0) -> 0 | O206: =IF(C206=1,J206*Geometry!$G$23,0)+IF(C206=2,J206*Geometry!$H$23,0)+IF(C206=3,J206*Geometry!$I$23,0)+IF(C206=4,J206*Geometry!$J$23,0)+IF(C206=5,J206*Geometry!$K$23,0) -> 0 | P206: =IF(C206=1,J206*Geometry!$G$24,0)+IF(C206=2,J206*Geometry!$H$24,0)+IF(C206=3,J206*Geometry!$I$24,0)+IF(C206=4,J206*Geometry!$J$24,0)+IF(C206=5,J206*Geometry!$K$24,0) -> 0
A207: =A206+1 -> 201 | C207: =IF(A207>$C$1-$C$4,3,IF(A207<2,3,IF(A207<=$C$2-$C$3,1,IF(A207>$C$2,1,2)))) -> 3 | D207: =D206+Geometry!$C$15 -> 1210 | E207: =E206-(D207-D206) -> -895 | F207: =Geometry!$D$12*D207 -> 29.296235 | G207: =IF(H207>0,F207/9.8,0) -> 0 | H207: =IF(ABS(E207*E207)<=Geometry!$E$10,SQRT(Geometry!$E$10-E207*E207),0) -> 0 | I207: =IF(H207>0,1,0) -> 0 | J207: =PI()*H207*H207 -> 0
A208: =A207+1 -> 202 | C208: =IF(A208>$C$1-$C$4,3,IF(A208<2,3,IF(A208<=$C$2-$C$3,1,IF(A208>$C$2,1,2)))) -> 3 | D208: =D207+Geometry!$C$15 -> 1215 | E208: =E207-(D208-D207) -> -900 | F208: =Geometry!$D$12*D208 -> 29.417294 | G208: =IF(H208>0,F208/9.8,0) -> 0 | H208: =IF(ABS(E208*E208)<=Geometry!$E$10,SQRT(Geometry!$E$10-E208*E208),0) -> 0 | I208: =IF(H208>0,1,0) -> 0 | J208: =PI()*H208*H208 -> 0

Sheet Sheet2
A1: Steel Constuction
B2: Floor Area | C2: Mass | D2: Levels | E2: kg/m^2
A3: World Trade Center | B3: 1240000 | C3: 930000000 | D3: 110 | E3: =C3/B3 -> 750 | G3: https://en.wikipedia.org/wiki/World_Trade_Center_(1973–2001) | H3: https://hypertextbook.com/facts/2004/EricChen.shtml
A4: U.S. Steel Building | B4: 217045 | C4: 40000000 | D4: 64 | E4: =C4/B4 -> 184.29358 | G4: https://en.wikipedia.org/wiki/U.S._Steel_Tower
A5: PSFS Building | B5: 52000 | D5: 36
B7: =222.97 -> 222.97 | C7: =74.4*2000/2.2 -> 67636.364 | D7: 1 | E7: =C7/B7 -> 303.34289 | G7: https://cdn.ymaws.com/www.aspenational.org/resource/resmgr/Techical_Papers/2013_October_TP.pdf
G8: Includes concrete flooring

Sheet Power Consumption
A1: Population | C1: =Vehicle!B16 -> 1000
A2: Travel Time | C2: =Vehicle!B8 -> 4.765275e+08 | D2: s
A3: Travel Time | C3: =Vehicle!B9 -> 15.100555 | D3: year
A4: Mission Length | C4: =C7*3600*24*365.26 -> 1.4769226e+09 | D4: s
A5: Mission Length | C5: =C4/3600/24 -> 17094.011 | D5: days
A6: Mission Length | C6: =Vehicle!B15 -> 35.100555 | D6: year
A7: Survival Duration | C7: =C6*1.3333 -> 46.799571 | D7: year
A8: Computer Center | C8: =5*10000000 -> 50000000 | D8: w | E8: 5 mw data center
C9: =C8*Conversion!C37 -> 4320000000 | D9: khw/day
A11: Per Capita Usage | C11: =1*18775 -> 18775 | D11: kwH/yr | E11: (Assuming equivilent to early 21st century Iceland)
A12: Average Power Usage | C12: =(C11*C1)/Conversion!B2 -> 51403.149 | D12: kwH/day
C13: =C12*Conversion!B37 -> 594.94385 | D13: w
E14: https://www1.eere.energy.gov/buildings/publications/pdfs/ssl/led_energy_efficiency.pdf
A15: Agriculture Work | C15: =SUM(Crops!AD:AD)*Conversion!B32 -> 42518.509 | D15: kwH/yr | E15: https://en.wikipedia.org/wiki/Daylight
C16: =C15/Conversion!B2 -> 116.40933 | D16: kwh/day | E16: https://en.wikipedia.org/wiki/Moonlight
C17: =C15*Conversion!B36 -> 1.3473302 | D17: w | E17: https://homeguides.sfgate.com/problem-using-grow-lights-greenhouses-51087.html
E18: https://www1.eere.energy.gov/buildings/publications/pdfs/ssl/led_energy_efficiency.pdf
A19: Lighting | E19: http://www.no1ledlight.com/lux-standard-for-indoor-lighting/
C21: Outdoor | D21: Manned | E21: Unmanned
A22: Illumination (Peak) | C22: 120000 | D22: 1000 | E22: 100 | G22: lux
A23: Illumination (Night) | C23: 0.1 | D23: 100 | E23: 100
A24: Illumination Hours | C24: =24-8 -> 16 | D24: 12 | E24: 24
A25: Efficiency | C25: 266 | D25: 266 | E25: 266 | G25: lumen/W
A26: Floor Area | C26: =Vehicle!C34+Vehicle!B36 -> 4830664.2 | D26: =Vehicle!B35+Vehicle!B38 -> 647305.33 | E26: =Vehicle!C40-C26-D26 -> 1208910.4
A27: Peak Wattage | C27: =C22/C25*C26 -> 2.179247e+09 | D27: =D22/D25*D26 -> 2433478.7 | E27: =E22/E25*E26 -> 454477.6 | G27: watt
A28: Lighting Power Usage | C28: =C22/C25*C26*C24*3.6+C23*C25*C26*(24-C24)*3.6 -> 1.292253e+11 | D28: =D22/D25*D26*D24*3.6+D23*D25*D26*(24-D24)*3.6 -> 7.4393662e+11 | E28: =E22/E25*E26*E24*3.6+E23*E25*E26*(24-E24)*3.6 -> 39266865 | G28: kwh /day
A30: Lighting Mass / w | C30: 0.04 | D30: kg/watt
A31: Lighting System Mass | C31: =SUM(C27:E27)*C30 -> 87285399 | D31: kg
A33: Peak Power Load | C33: =C13+C8+C17+SUM(C27:E27) -> 2.2321356e+09 | E33: =C33/10000000 -> 223.21356
A34: Daily Power Consumption | C34: =C12+C9+C16+SUM(C28:E28) -> 8.7752125e+11 | D34: kwh | E34: =C34/10000000 -> 87752.125 | F34: MW
A35: Yearly Power Consuption | C35: =C34*Conversion!B2 -> 3.2051464e+14 | D35: kwh
A37: Fusion Reactor | B37: (Similar to propulsion System)
A38: Fusion Fuel Usage | C38: =(100+3000)/7000000000/Conversion!C4 -> 5.0520903e-11 | D38: kg/kwh | E38: 7 billion kwh / 3100kg fuel | F38: https://f4e.europa.eu/understandingfusion/merits.aspx
A39: Fusion Power Mass | C39: 0.001 | D39: kg/w
A40: Safety Factor | C40: 1.1
A41: System Mass | C41: =C33*C39 -> 2232135.6
A42: Power System Fuel / yr | C42: =C35*C38*Conversion!C4 -> 1.419422e+08 | D42: kg
A43: Fuel Collected / yr | C43: =C56 -> 126227.81
A45: Total Power System Fuel Mass: | C45: =C7*(C42-C43) -> 6.6369264e+09 | D45: kg | E45: Some fuel stores are offset by tritium and he3 production in the cosmic ray shield
C46: =C45/Conversion!$B$31 -> 6.242674 | D46: Nimitz Carriers
A48: Cosmic Ray interactions with water in insulation | E48: https://ntrs.nasa.gov/archive/nasa/casi.ntrs.nasa.gov/19680012956.pdf
A49: Insulation Surface area | C49: =Geometry!E45 -> 152053.08
E50: =Geometry!E49 -> 1.0010202e+09
A51: Tritium Production | C51: =0.02*10000/6.022E+23*18.0152/1000 -> 5.9831285e-24 | D51: kg/s
A52: Tritium Production/yr | C52: =C51*Conversion!$C$3 -> 1.888093e-16 | D52: kg/yr
A53: He3 Production | C53: =4/1000 -> 0.004 | D53: kg/s
C54: =C53*Conversion!$C$3 -> 126227.81 | D54: kg/yr
A55: H2 production | C55: =4/1000 -> 0.004 | D55: kg/s | E55: =C56/E50 -> 0.00012609916
C56: =C55*Conversion!$C$3 -> 126227.81 | D56: kg/yr
A57: Insulation loss/yr | C57: =C56+C54+C52 -> 252455.62

Sheet Propulsion
A1: Fuel Consumption
A2: Vehicle Dry Mass | D2: =Vehicle!B61+Vehicle!B73 -> 87210005010
A3: Fuel Mass | D3: =Vehicle!B62 -> 30000000000
A4: Accelleration | D4: =Vehicle!B4 -> 9.8
A5: kG / kwh | D5: ='Power Consumption'!C38 -> 5.0520903e-11 | E5: kg/kwh
A6: W/kwh | D6: =Conversion!C36 -> 31557.6
A7: dt | D7: =Conversion!B3*0.25 -> 7889400
A8: Power Fuel/dt | D8: ='Power Consumption'!C42*0.25 -> 35485549
A9: Mass Consume | D9: =SUM(D12:D76) -> 2.2711919e+09 | E9: =D9/D3 -> 0.075706396
A11: Year | B11: Vehicle Mass | C11: Impulse | D11: Fuel Consumed | E11: Fuel Remaining
A12: 0 | B12: =D2+D3 -> 117210005010 | C12: =IF(B12>$D$2,B12*$D$4/1000,0) -> 1.148658e+09 | D12: =C12*$D$6*$D$5 -> 1831.3267 | E12: =1-(($B$12-B12)/$D$3) -> 1 | F12: =D12 -> 1831.3267
A13: =A12+0.25 -> 0.25 | B13: =B12-D12-$D$8 -> 1.1717452e+11 | C13: =IF(B13>$D$2,B13*$D$4/1000,0) -> 1.1483103e+09 | D13: =C13*$D$6*$D$5+$D$8 -> 35487380 | E13: =1-(($B$12-B13)/$D$3) -> 0.99881709 | F13: =F12+D13 -> 35489211
A14: =A13+0.25 -> 0.5 | B14: =B13-D13-$D$8 -> 1.1710354e+11 | C14: =IF(B14>$D$2,B14*$D$4/1000,0) -> 1.1476147e+09 | D14: =C14*$D$6*$D$5+$D$8 -> 35487379 | E14: =1-(($B$12-B14)/$D$3) -> 0.99645132 | F14: =F13+D14 -> 70976590
A15: =A14+0.25 -> 0.75 | B15: =B14-D14-$D$8 -> 1.1703257e+11 | C15: =IF(B15>$D$2,B15*$D$4/1000,0) -> 1.1469192e+09 | D15: =C15*$D$6*$D$5+$D$8 -> 35487377 | E15: =1-(($B$12-B15)/$D$3) -> 0.99408556 | F15: =F14+D15 -> 1.0646397e+08
A16: =A15+0.25 -> 1 | B16: =B15-D15-$D$8 -> 1.169616e+11 | C16: =IF(B16>$D$2,B16*$D$4/1000,0) -> 1.1462237e+09 | D16: =C16*$D$6*$D$5+$D$8 -> 35487376 | E16: =1-(($B$12-B16)/$D$3) -> 0.99171979 | F16: =F15+D16 -> 1.4195134e+08
A17: =A16+0.25 -> 1.25 | B17: =B16-D16-$D$8 -> 1.1689063e+11 | C17: =IF(B17>$D$2,B17*$D$4/1000,0) -> 1.1455281e+09 | D17: =C17*$D$6*$D$5+$D$8 -> 35487375 | E17: =1-(($B$12-B17)/$D$3) -> 0.98935403 | F17: =F16+D17 -> 1.7743872e+08
A18: =A17+0.25 -> 1.5 | B18: =B17-D17-$D$8 -> 1.1681965e+11 | C18: =IF(B18>$D$2,B18*$D$4/1000,0) -> 1.1448326e+09 | D18: =C18*$D$6*$D$5+$D$8 -> 35487374 | E18: =1-(($B$12-B18)/$D$3) -> 0.98698827 | F18: =F17+D18 -> 2.1292609e+08
A19: =A18+0.25 -> 1.75 | B19: =B18-D18-$D$8 -> 1.1674868e+11 | C19: =IF(B19>$D$2,B19*$D$4/1000,0) -> 1.1441371e+09 | D19: =C19*$D$6*$D$5+$D$8 -> 35487373 | E19: =1-(($B$12-B19)/$D$3) -> 0.9846225 | F19: =F18+D19 -> 2.4841347e+08
A20: =A19+0.25 -> 2 | B20: =B19-D19-$D$8 -> 1.1667771e+11 | C20: =IF(B20>$D$2,B20*$D$4/1000,0) -> 1.1434415e+09 | D20: =C20*$D$6*$D$5+$D$8 -> 35487372 | E20: =1-(($B$12-B20)/$D$3) -> 0.98225674 | F20: =F19+D20 -> 2.8390084e+08
A21: =A20+0.25 -> 2.25 | B21: =B20-D20-$D$8 -> 1.1660673e+11 | C21: =IF(B21>$D$2,B21*$D$4/1000,0) -> 1.142746e+09 | D21: =C21*$D$6*$D$5+$D$8 -> 35487371 | E21: =1-(($B$12-B21)/$D$3) -> 0.97989097 | F21: =F20+D21 -> 3.1938821e+08
A22: =A21+0.25 -> 2.5 | B22: =B21-D21-$D$8 -> 1.1653576e+11 | C22: =IF(B22>$D$2,B22*$D$4/1000,0) -> 1.1420505e+09 | D22: =C22*$D$6*$D$5+$D$8 -> 35487370 | E22: =1-(($B$12-B22)/$D$3) -> 0.97752521 | F22: =F21+D22 -> 3.5487558e+08
A23: =A22+0.25 -> 2.75 | B23: =B22-D22-$D$8 -> 1.1646479e+11 | C23: =IF(B23>$D$2,B23*$D$4/1000,0) -> 1.1413549e+09 | D23: =C23*$D$6*$D$5+$D$8 -> 35487369 | E23: =1-(($B$12-B23)/$D$3) -> 0.97515945 | F23: =F22+D23 -> 3.9036295e+08
A24: =A23+0.25 -> 3 | B24: =B23-D23-$D$8 -> 1.1639382e+11 | C24: =IF(B24>$D$2,B24*$D$4/1000,0) -> 1.1406594e+09 | D24: =C24*$D$6*$D$5+$D$8 -> 35487367 | E24: =1-(($B$12-B24)/$D$3) -> 0.97279368 | F24: =F23+D24 -> 4.2585031e+08
... A77: =A76+0.25 -> 16.25 | B77: =B76-D76-$D$8 -> 1.1263225e+11 | C77: =IF(B77>$D$2,B77*$D$4/1000,0) -> 1.1037961e+09 | D77: =C77*$D$6*$D$5+$D$8 -> 35487309 | E77: =1-(($B$12-B77)/$D$3) -> 0.84740825 | F77: =F76+D77 -> 2.3066792e+09
A78: =A77+0.25 -> 16.5 | B78: =B77-D77-$D$8 -> 1.1256128e+11 | C78: =IF(B78>$D$2,B78*$D$4/1000,0) -> 1.1031005e+09 | D78: =C78*$D$6*$D$5+$D$8 -> 35487308 | E78: =1-(($B$12-B78)/$D$3) -> 0.84504249
A79: =A78+0.25 -> 16.75 | B79: =B78-D78-$D$8 -> 1.1249031e+11 | C79: =IF(B79>$D$2,B79*$D$4/1000,0) -> 1.102405e+09 | D79: =C79*$D$6*$D$5+$D$8 -> 35487306 | E79: =1-(($B$12-B79)/$D$3) -> 0.84267672
A80: =A79+0.25 -> 17 | B80: =B79-D79-$D$8 -> 1.1241933e+11 | C80: =IF(B80>$D$2,B80*$D$4/1000,0) -> 1.1017095e+09 | D80: =C80*$D$6*$D$5+$D$8 -> 35487305 | E80: =1-(($B$12-B80)/$D$3) -> 0.84031096
A81: =A80+0.25 -> 17.25 | B81: =B80-D80-$D$8 -> 1.1234836e+11 | C81: =IF(B81>$D$2,B81*$D$4/1000,0) -> 1.1010139e+09 | D81: =C81*$D$6*$D$5+$D$8 -> 35487304 | E81: =1-(($B$12-B81)/$D$3) -> 0.8379452
A82: =A81+0.25 -> 17.5 | B82: =B81-D81-$D$8 -> 1.1227739e+11 | C82: =IF(B82>$D$2,B82*$D$4/1000,0) -> 1.1003184e+09 | D82: =C82*$D$6*$D$5+$D$8 -> 35487303 | E82: =1-(($B$12-B82)/$D$3) -> 0.83557944
A83: =A82+0.25 -> 17.75 | B83: =B82-D82-$D$8 -> 1.1220642e+11 | C83: =IF(B83>$D$2,B83*$D$4/1000,0) -> 1.0996229e+09 | D83: =C83*$D$6*$D$5+$D$8 -> 35487302 | E83: =1-(($B$12-B83)/$D$3) -> 0.83321368
A84: =A83+0.25 -> 18 | B84: =B83-D83-$D$8 -> 1.1213544e+11 | C84: =IF(B84>$D$2,B84*$D$4/1000,0) -> 1.0989273e+09 | D84: =C84*$D$6*$D$5+$D$8 -> 35487301 | E84: =1-(($B$12-B84)/$D$3) -> 0.83084792
A85: =A84+0.25 -> 18.25 | B85: =B84-D84-$D$8 -> 1.1206447e+11 | C85: =IF(B85>$D$2,B85*$D$4/1000,0) -> 1.0982318e+09 | D85: =C85*$D$6*$D$5+$D$8 -> 35487300 | E85: =1-(($B$12-B85)/$D$3) -> 0.82848215
A86: =A85+0.25 -> 18.5 | B86: =B85-D85-$D$8 -> 1.119935e+11 | C86: =IF(B86>$D$2,B86*$D$4/1000,0) -> 1.0975363e+09 | D86: =C86*$D$6*$D$5+$D$8 -> 35487299 | E86: =1-(($B$12-B86)/$D$3) -> 0.82611639
A87: =A86+0.25 -> 18.75 | B87: =B86-D86-$D$8 -> 1.1192252e+11 | C87: =IF(B87>$D$2,B87*$D$4/1000,0) -> 1.0968407e+09 | D87: =C87*$D$6*$D$5+$D$8 -> 35487298 | E87: =1-(($B$12-B87)/$D$3) -> 0.82375063
A88: =A87+0.25 -> 19 | B88: =B87-D87-$D$8 -> 1.1185155e+11 | C88: =IF(B88>$D$2,B88*$D$4/1000,0) -> 1.0961452e+09 | D88: =C88*$D$6*$D$5+$D$8 -> 35487296 | E88: =1-(($B$12-B88)/$D$3) -> 0.82138487
A89: =A88+0.25 -> 19.25 | B89: =B88-D88-$D$8 -> 1.1178058e+11 | C89: =IF(B89>$D$2,B89*$D$4/1000,0) -> 1.0954497e+09 | D89: =C89*$D$6*$D$5+$D$8 -> 35487295 | E89: =1-(($B$12-B89)/$D$3) -> 0.81901911
... A412: =A411+0.25 -> 100 | B412: =B411-D411-$D$8 -> 8.8856407e+10 | C412: =IF(B412>$D$2,B412*$D$4/1000,0) -> 8.7079279e+08 | D412: =C412*$D$6*$D$5+$D$8 -> 35486937 | E412: =1-(($B$12-B412)/$D$3) -> 0.054880073

Sheet Population
A1: Death Rate Info https://www.allcountries.org/uscensus/129_death_and_death_rates_by_age.html
A2: DT | B2: 1 | C2: =(1/1000)*$B$2 -> 0.001 | G2: Travel Time | J2: =Vehicle!B9 -> 15.100555 | N2: Natural | O2: Marriage % | P2: F:M Ratio | Q2: Trip Growth | R2: Knee | S2: Children | T2: 21-27 | U2: 28-34 | V2: 35-41 | W2: 42-48 | X2: 49-55 | Y2: 56-62 | Z2: Elderly
A3: Peak | B3: =MAX('Population Model'!B3:B103) -> 989 | C3: =B6/B3 -> 1.0111223 | G3: Pop Start | J3: =B6*(1-LOOKUP($J$5,$M$3:$M$6,$Q$3:$Q$6)) -> 900 | L3: balanced | M3: 0 | N3: 0 | O3: 0.5 | P3: 0.5 | Q3: 0.1 | R3: 0.9 | S3: 0.25 | T3: 0.1118 | U3: =T3*0.99 -> 0.110682 | V3: =U3*0.99 -> 0.10957518 | W3: =V3*0.99 -> 0.10847943 | X3: =W3*0.99 -> 0.10739463 | Y3: =X3*0.95 -> 0.1020249 | Z3: 0.1 | AB3: =SUM(S3:Z3) -> 0.99995614
A4: Min | B4: =MIN('Population Model'!B3:B103) -> 829 | G4: Select Profile: | J4: =Vehicle!B18 -> balanced | L4: growth | M4: 1 | N4: 1 | O4: 0 | P4: 0.9 | Q4: 0.7 | R4: 1 | S4: 0 | T4: 1 | U4: 0 | V4: 0 | W4: 0 | X4: 0 | Y4: 0 | Z4: 0 | AB4: =SUM(S4:Z4) -> 1
A5: Final | B5: ='Population Model'!B103 -> 987 | J5: =LOOKUP(J4,Population!L3:L6,Population!M3:M6) -> 0 | L5: island | M5: 2 | N5: 0 | O5: 0 | P5: 0.5 | Q5: 0.3 | R5: 0.75 | S5: 0 | T5: 0.75 | U5: 0.2 | V5: 0.05 | W5: 0 | X5: 0 | Y5: 0 | Z5: 0 | AB5: =SUM(S5:Z5) -> 1 | AN5: =SUM(A24:Y24) -> 0
A6: Target Population: | B6: =Vehicle!B16 -> 1000 | C6: Life Exp | D6: 73 | G6: Reproduction Model | J6: =LOOKUP(J4,Population!L3:L5,Population!N3:N5) -> 0 | L6: professional | M6: 3 | N6: 0 | O6: 0.9 | P6: 0.4 | Q6: 0.25 | R6: 0.5 | S6: 0.165 | T6: 0.16 | U6: 0.225 | V6: 0.25 | W6: 0.05 | X6: 0.05 | Y6: 0.05 | Z6: 0.05 | AB6: =SUM(S6:Z6) -> 1
A7: Average | B7: =AVERAGE('Population Model'!B3:B103) -> 967.27723 | G7: F:M Ratio | J7: =LOOKUP($J$5,$M$3:$M$6,$P$3:$P$6) -> 0.5
A8: Replacement | B8: =B6*B10*B9 -> 11.880918 | G8: M:F Ratio | J8: =1-J7 -> 0.5
A9: Magic Factor | B9: 1.1158 | G9: Seed Females | J9: =J33+J35+J37+J39+J41 -> 246.56906 | L9: balanced | M9: Balanced Population Level based on developed technological cultures
A10: Mortality | B10: =1-GEOMEAN(N28:N45) -> 0.010647892 | C10: =1/B10 -> 93.915299 | D10: =POWER(M28*M29*M30*M32*M34*M36*M38*M40*M42*M43,7)*POWER(M44,3.38) -> 0.70562633 | G10: Seed Male | J10: =J32+J34+J36+J38+J40 -> 246.56906 | L10: growth | M10: Minimizes starting population - Young crew, predominately female
A11: Carry | B11: =1-B12 -> 0.85714286 | G11: Seed Child | J11: =SUM(J28:J31) -> 225 | L11: island | M11: Based on Polynsesian colonization. Primarily unmarried people in their 20s
A12: Promote | B12: =$B$2/7 -> 0.14285714 | G12: Seed Marriages | J12: =MIN(J9,J10)*LOOKUP($J$5,$M$3:$M$6,$O$3:$O$6) -> 123.28453 | L12: professional | M12: Crew composed of existing professionals. Middle aged crew, most married, some children, skews male
A13: Marriage Rate | B13: 0.25
A14: Divorce Rate | B14: =0.3/50 -> 0.006 | G14: Population | H14: Seed | I14: Mission Arrival | J14: Return | K14: Peak | L14: Final
A15: Growth Knee | B15: =LOOKUP($J$5,$M$3:$M$6,$Q$3:$Q$6) -> 0.1 | G15: Year | H15: 0 | I15: =Vehicle!B9+1 -> 16.100555 | J15: =I15+5+Vehicle!B9 -> 36.201111 | K15: 34 | L15: 100
A16: M/F Ratio | B16: =J8 -> 0.5 | G16: General | H16: =LOOKUP(H15,'Population Model'!$A$3:$A$100,'Population Model'!$B$3:$B$100) -> 829 | I16: =LOOKUP(I15,'Population Model'!$A$3:$A$100,'Population Model'!$B$3:$B$100) -> 938 | J16: =LOOKUP(J15,'Population Model'!$A$3:$A$100,'Population Model'!$B$3:$B$100) -> 986 | K16: =MAX('Population Model'!B:B) -> 989 | L16: =LOOKUP(L15,'Population Model'!$A$3:$A$100,'Population Model'!$B$3:$B$100) -> 987
A17: Grade Level Size | C17: =(MAX('Population Model'!AB:AB)+MAX('Population Model'!AC:AC))/7 -> 11.756568 | D17: =(MIN('Population Model'!AB:AB)+MIN('Population Model'!AC:AC))/7 -> 7.3465055 | G17: Workforce | H17: =LOOKUP(H15,'Population Model'!$A$3:$A$100,'Population Model'!$C$3:$C$100) -> 477 | I17: =LOOKUP(I15,'Population Model'!$A$3:$A$100,'Population Model'!$C$3:$C$100) -> 419 | J17: =LOOKUP(J15,'Population Model'!$A$3:$A$100,'Population Model'!$C$3:$C$100) -> 383 | K17: =LOOKUP(K15,'Population Model'!$A$3:$A$100,'Population Model'!$C$3:$C$100) -> 385 | L17: =LOOKUP(L15,'Population Model'!$A$3:$A$100,'Population Model'!$C$3:$C$100) -> 385
A18: Potential Mate Rate | H18: =H17/H16 -> 0.57539204 | I18: =I17/I16 -> 0.4466951 | J18: =J17/J16 -> 0.38843813 | K18: =K17/K16 -> 0.3892821 | L18: =L17/L16 -> 0.39007092
B19: Female | C19: =(C32+C34+C36+C38+C40+C42) -> 331.29283
B20: Male | C20: =(C33+C35+C37+C39) -> 194.36173
A21: HOUSING
A22: Single | C22: =MAX('Population Model'!O:O) -> 396.11065 | D22: =CEILING(AVERAGE('Population Model'!O:O),1) -> 368 | E22: =LOOKUP(C22,'Population Model'!A:A,'Population Model'!O:O) -> 389.20385
A23: Family | C23: =CEILING(MAX('Population Model'!P:P),1) -> 202 | D23: =CEILING(AVERAGE('Population Model'!P:P),1) -> 179 | J23: =SUM(J28:J45) -> 821.35306 | K23: =SUM(K32:K42) -> 0.59894369
C26: Max | D26: Min | E26: avg | H26: Marriage | I26: Housing | J26: Seed | K26: Seed % | L26: Death/100000 | M26: Mortality | Q26: Fertility Rate
A27: Age | F27: Family | G27: Single
A28: 0 | C28: =MAX('Population Model'!Z4:Z103) -> 82.930642 | D28: =MIN('Population Model'!Z4:Z103) -> 77.112911 | E28: =AVERAGE('Population Model'!Z2:Z103) -> 82.388037 | F28: =C28*H28 -> 0 | G28: =C28*I28 -> 0 | J28: =$J$3*1/3*K28 -> 75 | K28: =LOOKUP($J$5,$M$3:$M$6,$S$3:$S$6) -> 0.25 | L28: 40.6 | M28: =((100000-L28)/100000) -> 0.999594 | N28: =M28 -> 0.999594 | O28: =1-M28 -> 0.000406 | P28: Natural | Q28: High | R28: Low
A29: =A28+7 -> 7 | C29: =MAX('Population Model'!AA4:AA103) -> 82.78519 | D29: =MIN('Population Model'!AA4:AA103) -> 75.12793 | E29: =AVERAGE('Population Model'!AA2:AA103) -> 81.710001 | F29: =C29*H29 -> 0 | G29: =C29*I29 -> 0 | J29: =$J$3*1/3*K29 -> 75 | K29: =LOOKUP($J$5,$M$3:$M$6,$S$3:$S$6) -> 0.25 | L29: 22.5 | M29: =((100000-L29)/100000) -> 0.999775 | N29: =M29 -> 0.999775 | O29: =1-M29 -> 0.000225
A30: =A29+7 -> 14 | B30: male | C30: =MAX('Population Model'!AB4:AB103) -> 41.147907 | D30: =MIN('Population Model'!AB2:AB103) -> 37.425538 | E30: =AVERAGE('Population Model'!AB2:AB103) -> 40.364655 | F30: =C30*H30 -> 4.1147907 | G30: =C30*I30 -> 16.459163 | H30: 0.1 | I30: 0.4 | J30: =$J$3*1/3*K30 -> 37.5 | K30: =LOOKUP($J$5,$M$3:$M$6,$S$3:$S$6)*0.5 -> 0.125 | L30: 95.3 | M30: =((100000-L30)/100000) -> 0.999047 | N30: =M30 -> 0.999047 | O30: =1-M30 -> 0.000953
B31: femal | C31: =MAX('Population Model'!AC4:AC103) -> 41.147907 | D31: =MIN('Population Model'!AC2:AC103) -> 37.425538 | E31: =AVERAGE('Population Model'!AC2:AC103) -> 40.364655 | F31: =C31*H31 -> 4.1147907 | G31: =C31*I31 -> 16.459163 | H31: 0.1 | I31: 0.4 | J31: =$J$3*1/3*K31 -> 37.5 | K31: =LOOKUP($J$5,$M$3:$M$6,$S$3:$S$6)*0.5 -> 0.125 | L31: 95.3 | M31: =((100000-L31)/100000) -> 0.999047 | O31: =1-M31 -> 0.000953 | P31: 12 | Q31: 12 | R31: 12
A32: =A30+7 -> 21 | B32: male | C32: =MAX('Population Model'!AD4:AD103) -> 46.822615 | D32: =MIN('Population Model'!AD2:AD103) -> 38.840225 | E32: =AVERAGE('Population Model'!AD2:AD103) -> 40.740763 | F32: =C32*H32 -> 4.6822615 | G32: =C32*I32 -> 42.140353 | H32: 0.1 | I32: =1-H32 -> 0.9 | J32: =$J$3*K32 -> 50.31 | K32: =LOOKUP($J$5,$M$3:$M$6,$T$3:$T$6)*$J$8 -> 0.0559 | L32: 95.3 | M32: =((100000-L32)/100000) -> 0.999047 | N32: =M32 -> 0.999047 | O32: =1-M32 -> 0.000953
B33: female | C33: =MAX('Population Model'!AE4:AE103) -> 46.822615 | D33: =MIN('Population Model'!AE2:AE103) -> 38.840225 | E33: =AVERAGE('Population Model'!AE2:AE103) -> 40.740763 | F33: =C33*H33 -> 4.6822615 | G33: =C33*I33 -> 42.140353 | H33: 0.1 | I33: =1-H33 -> 0.9 | J33: =$J$3*K33 -> 50.31 | K33: =LOOKUP($J$5,$M$3:$M$6,$T$3:$T$6)*$J$7 -> 0.0559 | L33: 95.3 | M33: =((100000-L33)/100000) -> 0.999047 | O33: =1-M33 -> 0.000953 | P33: 88 | Q33: 100 | R33: 12
A34: =A32+7 -> 28 | B34: male | C34: =MAX('Population Model'!AF4:AF103) -> 49.507684 | D34: =MIN('Population Model'!AF2:AF103) -> 38.976884 | E34: =AVERAGE('Population Model'!AF2:AF103) -> 40.878726 | F34: =C34*H34 -> 9.9015367 | G34: =C34*I34 -> 39.606147 | H34: 0.2 | I34: =1-H34 -> 0.8 | J34: =$J$3*K34 -> 49.8069 | K34: =LOOKUP($J$5,$M$3:$M$6,$U$3:$U$6)*$J$8 -> 0.055341 | L34: 192 | M34: =((100000-L34)/100000) -> 0.99808 | N34: =M34 -> 0.99808 | O34: =1-M34 -> 0.00192
B35: female | C35: =MAX('Population Model'!AG4:AG103) -> 49.507684 | D35: =MIN('Population Model'!AG2:AG103) -> 38.976884 | E35: =AVERAGE('Population Model'!AG2:AG103) -> 40.878726 | F35: =C35*H35 -> 9.9015367 | G35: =C35*I35 -> 39.606147 | H35: 0.2 | I35: =1-H35 -> 0.8 | J35: =$J$3*K35 -> 49.8069 | K35: =LOOKUP($J$5,$M$3:$M$6,$U$3:$U$6)*$J$7 -> 0.055341 | L35: 192 | M35: =((100000-L35)/100000) -> 0.99808 | O35: =1-M35 -> 0.00192 | P35: 88 | Q35: 100 | R35: 29
A36: =A34+7 -> 35 | B36: male | C36: =MAX('Population Model'!AH4:AH103) -> 49.26252 | D36: =MIN('Population Model'!AH2:AH103) -> 38.816831 | E36: =AVERAGE('Population Model'!AH2:AH103) -> 40.978868 | F36: =C36*H36 -> 24.63126 | G36: =C36*I36 -> 24.63126 | H36: 0.5 | I36: =1-H36 -> 0.5 | J36: =$J$3*K36 -> 49.308831 | K36: =LOOKUP($J$5,$M$3:$M$6,$V$3:$V$6)*$J$8 -> 0.05478759 | L36: 192 | M36: =((100000-L36)/100000) -> 0.99808 | N36: =M36 -> 0.99808 | O36: =1-M36 -> 0.00192
B37: female | C37: =MAX('Population Model'!AI4:AI103) -> 49.26252 | D37: =MIN('Population Model'!AI2:AI103) -> 38.816831 | E37: =AVERAGE('Population Model'!AI2:AI103) -> 40.978868 | F37: =C37*H37 -> 24.63126 | G37: =C37*I37 -> 24.63126 | H37: 0.5 | I37: =1-H37 -> 0.5 | J37: =$J$3*K37 -> 49.308831 | K37: =LOOKUP($J$5,$M$3:$M$6,$V$3:$V$6)*$J$7 -> 0.05478759 | L37: 192 | M37: =((100000-L37)/100000) -> 0.99808 | O37: =1-M37 -> 0.00192 | P37: 88 | Q37: 88 | R37: 29
A38: =A36+7 -> 42 | B38: male | C38: =MAX('Population Model'!AJ4:AJ103) -> 48.768913 | D38: =MIN('Population Model'!AJ2:AJ103) -> 38.534815 | E38: =AVERAGE('Population Model'!AJ2:AJ103) -> 41.08104 | F38: =C38*H38 -> 24.384457 | G38: =C38*I38 -> 24.384457 | H38: 0.5 | I38: =1-H38 -> 0.5 | J38: =$J$3*K38 -> 48.815743 | K38: =LOOKUP($J$5,$M$3:$M$6,$W$3:$W$6)*$J$8 -> 0.054239714 | L38: 192 | M38: =((100000-L38)/100000) -> 0.99808 | N38: =M38 -> 0.99808 | O38: =1-M38 -> 0.00192
B39: female | C39: =MAX('Population Model'!AK4:AK103) -> 48.768913 | D39: =MIN('Population Model'!AK2:AK103) -> 38.534815 | E39: =AVERAGE('Population Model'!AK2:AK103) -> 41.08104 | F39: =C39*H39 -> 24.384457 | G39: =C39*I39 -> 24.384457 | H39: 0.5 | I39: =1-H39 -> 0.5 | J39: =$J$3*K39 -> 48.815743 | K39: =LOOKUP($J$5,$M$3:$M$6,$W$3:$W$6)*$J$7 -> 0.054239714 | L39: 192 | M39: =((100000-L39)/100000) -> 0.99808 | O39: =1-M39 -> 0.00192 | P39: 29 | Q39: 29 | R39: 29
A40: =A38+7 -> 49 | B40: male | C40: =MAX('Population Model'!AL4:AL103) -> 48.281224 | D40: =MIN('Population Model'!AL2:AL103) -> 38.185129 | E40: =AVERAGE('Population Model'!AL2:AL103) -> 41.186044 | F40: =C40*H40 -> 24.140612 | G40: =C40*I40 -> 24.140612 | H40: 0.5 | I40: =1-H40 -> 0.5 | J40: =$J$3*K40 -> 48.327585 | K40: =LOOKUP($J$5,$M$3:$M$6,$X$3:$X$6)*$J$8 -> 0.053697317 | L40: 192 | M40: =((100000-L40)/100000) -> 0.99808 | N40: =M40 -> 0.99808 | O40: =1-M40 -> 0.00192
B41: female | C41: =MAX('Population Model'!AM4:AM103) -> 48.281224 | D41: =MIN('Population Model'!AM2:AM103) -> 38.185129 | E41: =AVERAGE('Population Model'!AM2:AM103) -> 41.186044 | F41: =C41*H41 -> 24.140612 | G41: =C41*I41 -> 24.140612 | H41: 0.5 | I41: =1-H41 -> 0.5 | J41: =$J$3*K41 -> 48.327585 | K41: =LOOKUP($J$5,$M$3:$M$6,$X$3:$X$6)*$J$7 -> 0.053697317 | L41: 192 | M41: =((100000-L41)/100000) -> 0.99808 | O41: =1-M41 -> 0.00192 | P41: 29 | Q41: 29 | R41: 29
A42: =A40+7 -> 56 | C42: =MAX('Population Model'!AN4:AN103) -> 88.649873 | D42: =MIN('Population Model'!AN2:AN103) -> 45.911206 | E42: =AVERAGE('Population Model'!AN2:AN103) -> 76.93884 | F42: =C42*H42 -> 35.459949 | G42: =C42*I42 -> 53.189924 | H42: 0.4 | I42: =1-H42 -> 0.6 | J42: =$J$3*K42 -> 45.911206 | K42: =LOOKUP($J$5,$M$3:$M$6,$Y$3:$Y$6)*$J$8 -> 0.051012451 | L42: 725 | M42: =((100000-L42)/100000) -> 0.99275 | N42: =M42 -> 0.99275 | O42: =1-M42 -> 0.00725
A43: =A42+7 -> 63 | C43: =MAX('Population Model'!AO4:AO103) -> 81.941342 | D43: =MIN('Population Model'!AP2:AP103) -> 18.432104 | E43: =AVERAGE('Population Model'!AO2:AO103) -> 69.580636 | F43: =C43*H43 -> 24.582403 | G43: =C43*I43 -> 57.35894 | H43: 0.3 | I43: =1-H43 -> 0.7 | J43: =$J$3*1/3*K43 -> 15.303735 | K43: =LOOKUP($J$5,$M$3:$M$6,$Y$3:$Y$6)*$J$7 -> 0.051012451 | L43: 725 | M43: =((100000-L43)/100000) -> 0.99275 | N43: =M43 -> 0.99275 | O43: =1-M43 -> 0.00725
A44: =A43+7 -> 70 | C44: =MAX('Population Model'!AP4:AP103) -> 61.537412 | D44: =MIN('Population Model'!AQ2:AQ103) -> 21 | E44: =AVERAGE('Population Model'!AP2:AP103) -> 51.298397 | F44: =C44*H44 -> 6.1537412 | G44: =C44*I44 -> 55.383671 | H44: 0.1 | I44: =1-H44 -> 0.9 | J44: =$J$3*1/3*K44 -> 21 | K44: =LOOKUP($J$5,$M$3:$M$6,$Z$3:$Z$6)*0.7 -> 0.07 | L44: 5052 | M44: =((100000-L44)/100000) -> 0.94948 | N44: =M44 -> 0.94948 | O44: =1-M44 -> 0.05052
A45: 77 | C45: =MAX('Population Model'!AQ4:AQ103) -> 146.00369 | D45: =MIN('Population Model'!AR3:AR103) -> 0 | E45: =AVERAGE('Population Model'!AQ2:AQ103) -> 113.89936 | F45: =C45*H45 -> 14.600369 | G45: =C45*I45 -> 131.40332 | H45: 0.1 | I45: =1-H45 -> 0.9 | J45: =$J$3*1/3*K45 -> 21 | K45: =LOOKUP($J$5,$M$3:$M$6,$Z$3:$Z$6)*0.7 -> 0.07 | L45: 5052 | M45: =((100000-L45)/100000) -> 0.94948 | N45: =M45 -> 0.94948 | O45: =1-M45 -> 0.05052
A46: 84 | L46: 5052 | M46: =((100000-L46)/100000) -> 0.94948 | N46: =M46 -> 0.94948 | O46: =1-M46 -> 0.05052
A47: 91 | L47: 5052 | N47: =POWER(M47,7) -> 0
A48: 100 | L48: 5052 | N48: =POWER(M48,7) -> 0
A49: 107 | L49: 5052 | N49: =POWER(M49,7) -> 0

Sheet Population Model
A1: Year | B1: Population | C1: Workforce | D1: Natural | E1: Target | F1: Ideal | G1: Selected | H1: Fertile Female | I1: Children | J1: Child/Female | K1: Death | L1: Births per F | M1: MPP | N1: Child % | O1: housing | R1: Elderly % | T1: weddings | U1: divorce | V1: age out | W1: Marriages | X1: Singles | Z1: 0 | AA1: =Z1+7 -> 7 | AB1: =AA1+7 -> 14 | AD1: =AB1+7 -> 21 | AF1: =AD1+7 -> 28 | AH1: =AF1+7 -> 35 | AJ1: =AH1+7 -> 42 | AL1: =AJ1+7 -> 49 | AN1: =AL1+7 -> 56 | AO1: =AN1+7 -> 63 | AP1: =AO1+7 -> 70 | AQ1: Over 70
B2: =FLOOR(SUM(Z2:AQ2),1) -> 821 | D2: 0 | H2: =FLOOR(AE2+AG2+AI2+AK2+AM2,1) -> 246 | L2: =SUM(G1:G2)/H2 -> 0 | M2: =(AD2+AE2+AF2+AG2+AH2+AI2)/21*0.5 -> 7.115511 | N2: =I2/B2 -> 0 | O2: single | P2: family | R2: =SUM(AQ2:AQ2)/B2 -> 0.025578563 | S2: =W2/H2 -> 0.50115662 | W2: =Population!J12 -> 123.28453 | X2: =(AD2+AF2+AH2+AJ2+AL2)-W2 -> 123.28453 | Y2: =(AE2+AG2+AI2+AK2+AM2)-W2 -> 123.28453 | Z2: =Population!J28 -> 75 | AA2: =Population!J29 -> 75 | AB2: =Population!J30 -> 37.5 | AC2: =Population!J31 -> 37.5 | AD2: =Population!J32 -> 50.31 | AE2: =Population!J33 -> 50.31 | AF2: =Population!J34 -> 49.8069 | AG2: =Population!J35 -> 49.8069 | AH2: =Population!J36 -> 49.308831 | AI2: =Population!J37 -> 49.308831 | AJ2: =Population!J38 -> 48.815743 | AK2: =Population!J39 -> 48.815743 | AL2: =Population!J40 -> 48.327585 | AM2: =Population!J41 -> 48.327585 | AN2: =Population!J42 -> 45.911206 | AO2: =Population!J43 -> 15.303735 | AP2: =Population!J44 -> 21 | AQ2: =Population!J45 -> 21
A3: 0 | B3: =FLOOR(SUM(Z3:AQ3),1) -> 829 | C3: =FLOOR(B3-I3-G3-SUM(AN3:AQ3),1) -> 477 | D3: =AC2*Population!$P$31*Population!$C$2+AE2*Population!$P$33*Population!$C$2+AG2*Population!$P$35*Population!$C$2+AI2*Population!$P$37*Population!$C$2+AK2*Population!$P$39*Population!$C$2+AM1*Population!$P$41*Population!$C$2 -> 15.015121 | E3: =IF(B2>Population!$B$6*Population!$B$15,Population!$B$8,IF(Population!$J$6=1,D3,Population!$B$8*Population!$B$6*0.9/B2)) -> 11.880918 | F3: =IF(B2>Population!$B$6*0.75,Population!$B$8,E3) -> 11.880918 | G3: =IF(Population!$J$6=1,IF(E3>H2,H2,E3),IF(E3>W2,W2,E3)) -> 11.880918 | H3: =FLOOR(AE2+AG2+AI2+AK2+AM2,1) -> 246 | I3: =FLOOR(SUM(Z2:AC2),1) -> 225 | J3: =I3/H3 -> 0.91463415 | K3: =Z3*Population!$O$28+AA3*Population!$O$29+AB3*Population!$O$30+AC3*Population!$O$31+AD3*Population!$O$32+AE3*Population!$O$33+AF3*Population!$O$34+AG3*Population!$O$35+AH3*Population!$O$36+AI3*Population!$O$37+AJ3*Population!$O$38+AK3*Population!$O$39+AL3*Population!$O$40+AM3*Population!$O$41+AN3*Population!$O$42+AO3*Population!$O$43+AP3*Population!$O$44+AQ3*Population!$O$45 -> 3.6138763 | L3: =G3/H3 -> 0.048296416 | M3: =(AD2+AE2+AF2+AG2+AH2+AI2)/21*0.5 -> 7.115511 | N3: =I3/B3 -> 0.27141134 | O3: =B3-I3-P3*2 -> 304.188 | P3: =MAX(W3,I3/2) -> 149.906 | Q3: =SUM(AQ2:AQ2) -> 21 | R3: =SUM(AQ2:AQ2)/B3 -> 0.025331725 | S3: =W3/H3 -> 0.60937398 | T3: =Population!$B$13*MIN(X2:Y2) -> 30.821132 | U3: =W2*Population!$B$14 -> 0.73970718 | V3: =AM2*S2*Population!$B$12 -> 3.4599556 | W3: =W2+T3-V3-U3 -> 149.906 | X3: =(AD2+AF2+AH2+AJ2+AL2)-W3 -> 96.66306 | Y3: =(AE2+AG2+AI2+AK2+AM2)-W3 -> 96.66306 | Z3: =G3+Population!$B$11*Z2*Population!M$28 -> 76.140533 | AA3: =Z2*Population!$B$12*Population!$M$28+AA2*Population!$B$11*Population!$M$29 -> 74.981186 | AB3: =(AA2*Population!$B$12*0.5*Population!$M$29)+(AB2*Population!$B$11*Population!M$30) -> 37.468163 | AC3: =(AA2*Population!$B$12*0.5*Population!$M$29)+(AC2*Population!$B$11*Population!M$30) -> 37.468163 | AD3: =(AB2*Population!$B$12*Population!M$30)+(AD2*Population!$B$11*Population!M$32) -> 48.433799 | AE3: =(AC2*Population!$B$12*Population!M$30)+(AE2*Population!$B$11*Population!M$32) -> 48.433799 | AF3: =(AD2*Population!$B$12*Population!M$32)+(AF2*Population!$B$11*Population!M$34) -> 49.789954 | AG3: =(AE2*Population!$B$12*Population!M$32)+(AG2*Population!$B$11*Population!M$34) -> 49.789954 | AH3: =(AF2*Population!$B$12*Population!M$34)+(AH2*Population!$B$11*Population!M$36) -> 49.285174 | AI3: =(AG2*Population!$B$12*Population!M$34)+(AI2*Population!$B$11*Population!M$36) -> 49.285174 | AJ3: =(AH2*Population!$B$12*Population!M$36)+(AJ2*Population!$B$11*Population!M$38) -> 48.792322 | AK3: =(AI2*Population!$B$12*Population!M$36)+(AK2*Population!$B$11*Population!M$38) -> 48.792322 | AL3: =(AJ2*Population!$B$12*Population!M$38)+(AL2*Population!$B$11*Population!M$40) -> 48.304399 | AM3: =(AK2*Population!$B$12*Population!M$38)+(AM2*Population!$B$11*Population!M$40) -> 48.304399 | AN3: =(AL2+AM2)*Population!$B$12*Population!$M$40+AN2*Population!$B$11*Population!$M$42 -> 52.848527 | AO3: =AN2*Population!M$42*Population!$B$12+AO2*Population!$B$11*Population!M$43 -> 19.533578 | AP3: =AO2*Population!M$43*Population!$B$12+AP2*Population!$B$11*Population!M$44 -> 19.261038 | AQ3: =(AP2*Population!$B$12+AQ2)*Population!M$45 -> 22.78752
A4: =A3+Population!$B$2 -> 1 | B4: =FLOOR(SUM(Z4:AQ4),1) -> 837 | C4: =FLOOR(B4-I4-G4-SUM(AN4:AQ4),1) -> 472 | D4: =AC3*Population!$P$31*Population!$C$2+AE3*Population!$P$33*Population!$C$2+AG3*Population!$P$35*Population!$C$2+AI3*Population!$P$37*Population!$C$2+AK3*Population!$P$39*Population!$C$2+AM2*Population!$P$41*Population!$C$2 -> 16.246881 | E4: =IF(B3>Population!$B$6*Population!$B$15,Population!$B$8,IF(Population!$J$6=1,D4,Population!$B$8*Population!$B$6*0.9/B3)) -> 11.880918 | F4: =IF(B3>Population!$B$6*0.75,Population!$B$8,E4) -> 11.880918 | G4: =IF(Population!$J$6=1,IF(E4>H3,H3,E4),IF(E4>W3,W3,E4)) -> 11.880918 | H4: =FLOOR(AE4+AG4+AI4+AK4+AM4,1) -> 242 | I4: =FLOOR(SUM(Z4:AC4),1) -> 227 | J4: =I4/H4 -> 0.93801653 | K4: =Z4*Population!$O$28+AA4*Population!$O$29+AB4*Population!$O$30+AC4*Population!$O$31+AD4*Population!$O$32+AE4*Population!$O$33+AF4*Population!$O$34+AG4*Population!$O$35+AH4*Population!$O$36+AI4*Population!$O$37+AJ4*Population!$O$38+AK4*Population!$O$39+AL4*Population!$O$40+AM4*Population!$O$41+AN4*Population!$O$42+AO4*Population!$O$43+AP4*Population!$O$44+AQ4*Population!$O$45 -> 3.718442 | L4: =G4/H4 -> 0.049094704 | M4: =(AD4+AE4+AF4+AG4+AH4+AI4)/21*0.5 -> 6.9329913 | N4: =I4/B4 -> 0.27120669 | O4: =B4-I4-P4*2 -> 272.06547 | P4: =MAX(W4,I4/2) -> 168.96726 | Q4: =SUM(AQ3:AQ3) -> 22.78752 | R4: =SUM(AQ4:AQ4)/B4 -> 0.028971161 | S4: =W4/H4 -> 0.69821184 | T4: =Population!$B$13*MIN(X3:Y3) -> 24.165765 | U4: =W3*Population!$B$14 -> 0.89943599 | V4: =AM3*S3*Population!$B$12 -> 4.2050634 | W4: =W3+T4-V4-U4 -> 168.96726 | X4: =(AD4+AF4+AH4+AJ4+AL4)-W4 -> 73.675691 | Y4: =(AE4+AG4+AI4+AK4+AM4)-W4 -> 73.675691 | Z4: =(G4+Population!$B$11*Z3)*Population!M$28 -> 77.112911 | AA4: =Z3*Population!$B$12*Population!$M$28+AA3*Population!$B$11*Population!$M$29 -> 75.12793 | AB4: =(AA3*Population!$B$12*0.5*Population!$M$29)+(AB3*Population!$B$11*Population!M$30) -> 37.439556 | AC4: =(AA3*Population!$B$12*0.5*Population!$M$29)+(AC3*Population!$B$11*Population!M$30) -> 37.439556 | AD4: =(AB3*Population!$B$12*Population!M$30)+(AD3*Population!$B$11*Population!M$32) -> 46.822615 | AE4: =(AC3*Population!$B$12*Population!M$30)+(AE3*Population!$B$11*Population!M$32) -> 46.822615 | AF4: =(AD3*Population!$B$12*Population!M$32)+(AF3*Population!$B$11*Population!M$34) -> 49.507684 | AG4: =(AE3*Population!$B$12*Population!M$32)+(AG3*Population!$B$11*Population!M$34) -> 49.507684 | AH4: =(AF3*Population!$B$12*Population!M$34)+(AH3*Population!$B$11*Population!M$36) -> 49.26252 | AI4: =(AG3*Population!$B$12*Population!M$34)+(AI3*Population!$B$11*Population!M$36) -> 49.26252 | AJ4: =(AH3*Population!$B$12*Population!M$36)+(AJ3*Population!$B$11*Population!M$38) -> 48.768913 | AK4: =(AI3*Population!$B$12*Population!M$36)+(AK3*Population!$B$11*Population!M$38) -> 48.768913 | AL4: =(AJ3*Population!$B$12*Population!M$38)+(AL3*Population!$B$11*Population!M$40) -> 48.281224 | AM4: =(AK3*Population!$B$12*Population!M$38)+(AM3*Population!$B$11*Population!M$40) -> 48.281224 | AN4: =(AL3+AM3)*Population!$B$12*Population!$M$40+AN3*Population!$B$11*Population!$M$42 -> 58.74508 | AO4: =AN3*Population!M$42*Population!$B$12+AO3*Population!$B$11*Population!M$43 -> 24.116734 | AP4: =AO3*Population!M$43*Population!$B$12+AP3*Population!$B$11*Population!M$44 -> 18.445683 | AQ4: =(AP3*Population!$B$12+AQ3)*Population!M$45 -> 24.248862
A5: =A4+Population!$B$2 -> 2 | B5: =FLOOR(SUM(Z5:AQ5),1) -> 846 | C5: =FLOOR(B5-I5-G5-SUM(AN5:AQ5),1) -> 469 | D5: =AC4*Population!$P$31*Population!$C$2+AE4*Population!$P$33*Population!$C$2+AG4*Population!$P$35*Population!$C$2+AI4*Population!$P$37*Population!$C$2+AK4*Population!$P$39*Population!$C$2+AM3*Population!$P$41*Population!$C$2 -> 16.076569 | E5: =IF(B4>Population!$B$6*Population!$B$15,Population!$B$8,IF(Population!$J$6=1,D5,Population!$B$8*Population!$B$6*0.9/B4)) -> 11.880918 | F5: =IF(B4>Population!$B$6*0.75,Population!$B$8,E5) -> 11.880918 | G5: =IF(Population!$J$6=1,IF(E5>H4,H4,E5),IF(E5>W4,W4,E5)) -> 11.880918 | H5: =FLOOR(AE5+AG5+AI5+AK5+AM5,1) -> 240 | I5: =FLOOR(SUM(Z5:AC5),1) -> 228 | J5: =I5/H5 -> 0.95 | K5: =Z5*Population!$O$28+AA5*Population!$O$29+AB5*Population!$O$30+AC5*Population!$O$31+AD5*Population!$O$32+AE5*Population!$O$33+AF5*Population!$O$34+AG5*Population!$O$35+AH5*Population!$O$36+AI5*Population!$O$37+AJ5*Population!$O$38+AK5*Population!$O$39+AL5*Population!$O$40+AM5*Population!$O$41+AN5*Population!$O$42+AO5*Population!$O$43+AP5*Population!$O$44+AQ5*Population!$O$45 -> 3.8484487 | L5: =G5/H5 -> 0.049503826 | M5: =(AD5+AE5+AF5+AG5+AH5+AI5)/21*0.5 -> 6.8418084 | N5: =I5/B5 -> 0.26950355 | O5: =B5-I5-P5*2 -> 254.88681 | P5: =MAX(W5,I5/2) -> 181.55659 | Q5: =SUM(AQ4:AQ4) -> 24.248862 | R5: =SUM(AQ5:AQ5)/B5 -> 0.030172319 | S5: =W5/H5 -> 0.75648581 | T5: =Population!$B$13*MIN(X4:Y4) -> 18.418923 | U5: =W4*Population!$B$14 -> 1.0138036 | V5: =AM4*S4*Population!$B$12 -> 4.8157889 | W5: =W4+T5-V5-U5 -> 181.55659 | X5: =(AD5+AF5+AH5+AJ5+AL5)-W5 -> 59.1251 | Y5: =(AE5+AG5+AI5+AK5+AM5)-W5 -> 59.1251 | Z5: =(G5+Population!$B$11*Z4)*Population!M$28 -> 77.946041 | AA5: =Z4*Population!$B$12*Population!$M$28+AA4*Population!$B$11*Population!$M$29 -> 75.392537 | AB5: =(AA4*Population!$B$12*0.5*Population!$M$29)+(AB4*Population!$B$11*Population!M$30) -> 37.425538 | AC5: =(AA4*Population!$B$12*0.5*Population!$M$29)+(AC4*Population!$B$11*Population!M$30) -> 37.425538 | AD5: =(AB4*Population!$B$12*Population!M$30)+(AD4*Population!$B$11*Population!M$32) -> 45.438833 | AE5: =(AC4*Population!$B$12*Population!M$30)+(AE4*Population!$B$11*Population!M$32) -> 45.438833 | AF5: =(AD4*Population!$B$12*Population!M$32)+(AF4*Population!$B$11*Population!M$34) -> 49.036252 | AG5: =(AE4*Population!$B$12*Population!M$32)+(AG4*Population!$B$11*Population!M$34) -> 49.036252 | AH5: =(AF4*Population!$B$12*Population!M$34)+(AH4*Population!$B$11*Population!M$36) -> 49.202892 | AI5: =(AG4*Population!$B$12*Population!M$34)+(AI4*Population!$B$11*Population!M$36) -> 49.202892 | AJ5: =(AH4*Population!$B$12*Population!M$36)+(AJ4*Population!$B$11*Population!M$38) -> 48.745657 | AK5: =(AI4*Population!$B$12*Population!M$36)+(AK4*Population!$B$11*Population!M$38) -> 48.745657 | AL5: =(AJ4*Population!$B$12*Population!M$38)+(AL4*Population!$B$11*Population!M$40) -> 48.25806 | AM5: =(AK4*Population!$B$12*Population!M$38)+(AM4*Population!$B$11*Population!M$40) -> 48.25806 | AN5: =(AL4+AM4)*Population!$B$12*Population!$M$40+AN4*Population!$B$11*Population!$M$42 -> 63.756017 | AO5: =AN4*Population!M$42*Population!$B$12+AO4*Population!$B$11*Population!M$43 -> 28.852929 | AP5: =AO4*Population!M$43*Population!$B$12+AP4*Population!$B$11*Population!M$44 -> 18.432104 | AQ5: =(AP4*Population!$B$12+AQ4)*Population!M$45 -> 25.525782
A6: =A5+Population!$B$2 -> 3 | B6: =FLOOR(SUM(Z6:AQ6),1) -> 854 | C6: =FLOOR(B6-I6-G6-SUM(AN6:AQ6),1) -> 465 | D6: =AC5*Population!$P$31*Population!$C$2+AE5*Population!$P$33*Population!$C$2+AG5*Population!$P$35*Population!$C$2+AI5*Population!$P$37*Population!$C$2+AK5*Population!$P$39*Population!$C$2+AM4*Population!$P$41*Population!$C$2 -> 15.906548 | E6: =IF(B5>Population!$B$6*Population!$B$15,Population!$B$8,IF(Population!$J$6=1,D6,Population!$B$8*Population!$B$6*0.9/B5)) -> 11.880918 | F6: =IF(B5>Population!$B$6*0.75,Population!$B$8,E6) -> 11.880918 | G6: =IF(Population!$J$6=1,IF(E6>H5,H5,E6),IF(E6>W5,W5,E6)) -> 11.880918 | H6: =FLOOR(AE6+AG6+AI6+AK6+AM6,1) -> 238 | I6: =FLOOR(SUM(Z6:AC6),1) -> 229 | J6: =I6/H6 -> 0.96218487 | K6: =Z6*Population!$O$28+AA6*Population!$O$29+AB6*Population!$O$30+AC6*Population!$O$31+AD6*Population!$O$32+AE6*Population!$O$33+AF6*Population!$O$34+AG6*Population!$O$35+AH6*Population!$O$36+AI6*Population!$O$37+AJ6*Population!$O$38+AK6*Population!$O$39+AL6*Population!$O$40+AM6*Population!$O$41+AN6*Population!$O$42+AO6*Population!$O$43+AP6*Population!$O$44+AQ6*Population!$O$45 -> 4.0033784 | L6: =G6/H6 -> 0.049919825 | M6: =(AD6+AE6+AF6+AG6+AH6+AI6)/21*0.5 -> 6.7510465 | N6: =I6/B6 -> 0.26814988 | O6: =B6-I6-P6*2 -> 244.93338 | P6: =MAX(W6,I6/2) -> 190.03331 | Q6: =SUM(AQ5:AQ5) -> 25.525782 | R6: =SUM(AQ6:AQ6)/B6 -> 0.031307201 | S6: =W6/H6 -> 0.79845929 | T6: =Population!$B$13*MIN(X5:Y5) -> 14.781275 | U6: =W5*Population!$B$14 -> 1.0893396 | V6: =AM5*S5*Population!$B$12 -> 5.2152197 | W6: =W5+T6-V6-U6 -> 190.03331 | X6: =(AD6+AF6+AH6+AJ6+AL6)-W6 -> 48.690853 | Y6: =(AE6+AG6+AI6+AK6+AM6)-W6 -> 48.690853 | Z6: =(G6+Population!$B$11*Z5)*Population!M$28 -> 78.659861 | AA6: =Z5*Population!$B$12*Population!$M$28+AA5*Population!$B$11*Population!$M$29 -> 75.738263 | AB6: =(AA5*Population!$B$12*0.5*Population!$M$29)+(AB5*Population!$B$11*Population!M$30) -> 37.432431 | AC6: =(AA5*Population!$B$12*0.5*Population!$M$29)+(AC5*Population!$B$11*Population!M$30) -> 37.432431 | AD6: =(AB5*Population!$B$12*Population!M$30)+(AD5*Population!$B$11*Population!M$32) -> 44.251864 | AE6: =(AC5*Population!$B$12*Population!M$30)+(AE5*Population!$B$11*Population!M$32) -> 44.251864 | AF6: =(AD5*Population!$B$12*Population!M$32)+(AF5*Population!$B$11*Population!M$34) -> 48.435449 | AG6: =(AE5*Population!$B$12*Population!M$32)+(AG5*Population!$B$11*Population!M$34) -> 48.435449 | AH6: =(AF5*Population!$B$12*Population!M$34)+(AH5*Population!$B$11*Population!M$36) -> 49.084662 | AI6: =(AG5*Population!$B$12*Population!M$34)+(AI5*Population!$B$11*Population!M$36) -> 49.084662 | AJ6: =(AH5*Population!$B$12*Population!M$36)+(AJ5*Population!$B$11*Population!M$38) -> 48.717259 | AK6: =(AI5*Population!$B$12*Population!M$36)+(AK5*Population!$B$11*Population!M$38) -> 48.717259 | AL6: =(AJ5*Population!$B$12*Population!M$38)+(AL5*Population!$B$11*Population!M$40) -> 48.234928 | AM6: =(AK5*Population!$B$12*Population!M$38)+(AM5*Population!$B$11*Population!M$40) -> 48.234928 | AN6: =(AL5+AM5)*Population!$B$12*Population!$M$40+AN5*Population!$B$11*Population!$M$42 -> 68.013361 | AO6: =AN5*Population!M$42*Population!$B$12+AO5*Population!$B$11*Population!M$43 -> 33.593751 | AP6: =AO5*Population!M$43*Population!$B$12+AP5*Population!$B$11*Population!M$44 -> 19.092747 | AQ6: =(AP5*Population!$B$12+AQ5)*Population!M$45 -> 26.73635
A7: =A6+Population!$B$2 -> 4 | B7: =FLOOR(SUM(Z7:AQ7),1) -> 862 | C7: =FLOOR(B7-I7-G7-SUM(AN7:AQ7),1) -> 461 | D7: =AC6*Population!$P$31*Population!$C$2+AE6*Population!$P$33*Population!$C$2+AG6*Population!$P$35*Population!$C$2+AI6*Population!$P$37*Population!$C$2+AK6*Population!$P$39*Population!$C$2+AM5*Population!$P$41*Population!$C$2 -> 15.737407 | E7: =IF(B6>Population!$B$6*Population!$B$15,Population!$B$8,IF(Population!$J$6=1,D7,Population!$B$8*Population!$B$6*0.9/B6)) -> 11.880918 | F7: =IF(B6>Population!$B$6*0.75,Population!$B$8,E7) -> 11.880918 | G7: =IF(Population!$J$6=1,IF(E7>H6,H6,E7),IF(E7>W6,W6,E7)) -> 11.880918 | H7: =FLOOR(AE7+AG7+AI7+AK7+AM7,1) -> 236 | I7: =FLOOR(SUM(Z7:AC7),1) -> 230 | J7: =I7/H7 -> 0.97457627 | K7: =Z7*Population!$O$28+AA7*Population!$O$29+AB7*Population!$O$30+AC7*Population!$O$31+AD7*Population!$O$32+AE7*Population!$O$33+AF7*Population!$O$34+AG7*Population!$O$35+AH7*Population!$O$36+AI7*Population!$O$37+AJ7*Population!$O$38+AK7*Population!$O$39+AL7*Population!$O$40+AM7*Population!$O$41+AN7*Population!$O$42+AO7*Population!$O$43+AP7*Population!$O$44+AQ7*Population!$O$45 -> 4.1818143 | L7: =G7/H7 -> 0.050342874 | M7: =(AD7+AE7+AF7+AG7+AH7+AI7)/21*0.5 -> 6.6612537 | N7: =I7/B7 -> 0.26682135 | O7: =B7-I7-P7*2 -> 240.87225 | P7: =MAX(W7,I7/2) -> 195.56388 | Q7: =SUM(AQ6:AQ6) -> 26.73635 | R7: =SUM(AQ7:AQ7)/B7 -> 0.032454025 | S7: =W7/H7 -> 0.8286605 | T7: =Population!$B$13*MIN(X6:Y6) -> 12.172713 | U7: =W6*Population!$B$14 -> 1.1401999 | V7: =AM6*S6*Population!$B$12 -> 5.5019466 | W7: =W6+T7-V7-U7 -> 195.56388 | X7: =(AD7+AF7+AH7+AJ7+AL7)-W7 -> 41.209647 | Y7: =(AE7+AG7+AI7+AK7+AM7)-W7 -> 41.209647 | Z7: =(G7+Population!$B$11*Z6)*Population!M$28 -> 79.271459 | AA7: =Z6*Population!$B$12*Population!$M$28+AA6*Population!$B$11*Population!$M$29 -> 76.136465 | AB7: =(AA6*Population!$B$12*0.5*Population!$M$29)+(AB6*Population!$B$11*Population!M$30) -> 37.463023 | AC7: =(AA6*Population!$B$12*0.5*Population!$M$29)+(AC6*Population!$B$11*Population!M$30) -> 37.463023 | AD7: =(AB6*Population!$B$12*Population!M$30)+(AD6*Population!$B$11*Population!M$32) -> 43.236416 | AE7: =(AC6*Population!$B$12*Population!M$30)+(AE6*Population!$B$11*Population!M$32) -> 43.236416 | AF7: =(AD6*Population!$B$12*Population!M$32)+(AF6*Population!$B$11*Population!M$34) -> 47.752059 | AG7: =(AE6*Population!$B$12*Population!M$32)+(AG6*Population!$B$11*Population!M$34) -> 47.752059 | AH7: =(AF6*Population!$B$12*Population!M$34)+(AH6*Population!$B$11*Population!M$36) -> 48.897853 | AI7: =(AG6*Population!$B$12*Population!M$34)+(AI6*Population!$B$11*Population!M$36) -> 48.897853 | AJ7: =(AH6*Population!$B$12*Population!M$36)+(AJ6*Population!$B$11*Population!M$38) -> 48.676107 | AK7: =(AI6*Population!$B$12*Population!M$36)+(AK6*Population!$B$11*Population!M$38) -> 48.676107 | AL7: =(AJ6*Population!$B$12*Population!M$38)+(AL6*Population!$B$11*Population!M$40) -> 48.211089 | AM7: =(AK6*Population!$B$12*Population!M$38)+(AM6*Population!$B$11*Population!M$40) -> 48.211089 | AN7: =(AL6+AM6)*Population!$B$12*Population!$M$40+AN6*Population!$B$11*Population!$M$42 -> 71.62946 | AO7: =AN6*Population!M$42*Population!$B$12+AO6*Population!$B$11*Population!M$43 -> 38.231635 | AP7: =AO6*Population!M$43*Population!$B$12+AP6*Population!$B$11*Population!M$44 -> 20.302755 | AQ7: =(AP6*Population!$B$12+AQ6)*Population!M$45 -> 27.97537
A8: =A7+Population!$B$2 -> 5 | B8: =FLOOR(SUM(Z8:AQ8),1) -> 869 | C8: =FLOOR(B8-I8-G8-SUM(AN8:AQ8),1) -> 457 | D8: =AC7*Population!$P$31*Population!$C$2+AE7*Population!$P$33*Population!$C$2+AG7*Population!$P$35*Population!$C$2+AI7*Population!$P$37*Population!$C$2+AK7*Population!$P$39*Population!$C$2+AM6*Population!$P$41*Population!$C$2 -> 15.569973 | E8: =IF(B7>Population!$B$6*Population!$B$15,Population!$B$8,IF(Population!$J$6=1,D8,Population!$B$8*Population!$B$6*0.9/B7)) -> 11.880918 | F8: =IF(B7>Population!$B$6*0.75,Population!$B$8,E8) -> 11.880918 | G8: =IF(Population!$J$6=1,IF(E8>H7,H7,E8),IF(E8>W7,W7,E8)) -> 11.880918 | H8: =FLOOR(AE8+AG8+AI8+AK8+AM8,1) -> 234 | I8: =FLOOR(SUM(Z8:AC8),1) -> 231 | J8: =I8/H8 -> 0.98717949 | K8: =Z8*Population!$O$28+AA8*Population!$O$29+AB8*Population!$O$30+AC8*Population!$O$31+AD8*Population!$O$32+AE8*Population!$O$33+AF8*Population!$O$34+AG8*Population!$O$35+AH8*Population!$O$36+AI8*Population!$O$37+AJ8*Population!$O$38+AK8*Population!$O$39+AL8*Population!$O$40+AM8*Population!$O$41+AN8*Population!$O$42+AO8*Population!$O$43+AP8*Population!$O$44+AQ8*Population!$O$45 -> 4.3817443 | L8: =G8/H8 -> 0.050773155 | M8: =(AD8+AE8+AF8+AG8+AH8+AI8)/21*0.5 -> 6.5730629 | N8: =I8/B8 -> 0.26582278 | O8: =B8-I8-P8*2 -> 240.02865 | P8: =MAX(W8,I8/2) -> 198.98567 | Q8: =SUM(AQ7:AQ7) -> 27.97537 | R8: =SUM(AQ8:AQ8)/B8 -> 0.033735235 | S8: =W8/H8 -> 0.85036613 | T8: =Population!$B$13*MIN(X7:Y7) -> 10.302412 | U8: =W7*Population!$B$14 -> 1.1733833 | V8: =AM7*S7*Population!$B$12 -> 5.7072321 | W8: =W7+T8-V8-U8 -> 198.98567 | X8: =(AD8+AF8+AH8+AJ8+AL8)-W8 -> 35.84774 | Y8: =(AE8+AG8+AI8+AK8+AM8)-W8 -> 35.84774 | Z8: =(G8+Population!$B$11*Z7)*Population!M$28 -> 79.795473 | AA8: =Z7*Population!$B$12*Population!$M$28+AA7*Population!$B$11*Population!$M$29 -> 76.56504 | AB8: =(AA7*Population!$B$12*0.5*Population!$M$29)+(AB7*Population!$B$11*Population!M$30) -> 37.517656 | AC8: =(AA7*Population!$B$12*0.5*Population!$M$29)+(AC7*Population!$B$11*Population!M$30) -> 37.517656 | AD8: =(AB7*Population!$B$12*Population!M$30)+(AD7*Population!$B$11*Population!M$32) -> 42.371227 | AE8: =(AC7*Population!$B$12*Population!M$30)+(AE7*Population!$B$11*Population!M$32) -> 42.371227 | AF8: =(AD7*Population!$B$12*Population!M$32)+(AF7*Population!$B$11*Population!M$34) -> 47.022495 | AG8: =(AE7*Population!$B$12*Population!M$32)+(AG7*Population!$B$11*Population!M$34) -> 47.022495 | AH8: =(AF7*Population!$B$12*Population!M$34)+(AH7*Population!$B$11*Population!M$36) -> 48.640599 | AI8: =(AG7*Population!$B$12*Population!M$34)+(AI7*Population!$B$11*Population!M$36) -> 48.640599 | AJ8: =(AH7*Population!$B$12*Population!M$36)+(AJ7*Population!$B$11*Population!M$38) -> 48.614266 | AK8: =(AI7*Population!$B$12*Population!M$36)+(AK7*Population!$B$11*Population!M$38) -> 48.614266 | AL8: =(AJ7*Population!$B$12*Population!M$38)+(AL7*Population!$B$11*Population!M$40) -> 48.184827 | AM8: =(AK7*Population!$B$12*Population!M$38)+(AM7*Population!$B$11*Population!M$40) -> 48.184827 | AN8: =(AL7+AM7)*Population!$B$12*Population!$M$40+AN7*Population!$B$11*Population!$M$42 -> 74.699703 | AO8: =AN7*Population!M$42*Population!$B$12+AO7*Population!$B$11*Population!M$43 -> 42.690982 | AP8: =AO7*Population!M$43*Population!$B$12+AP7*Population!$B$11*Population!M$44 -> 21.945259 | AQ8: =(AP7*Population!$B$12+AQ7)*Population!M$45 -> 29.31592
A9: =A8+Population!$B$2 -> 6 | B9: =FLOOR(SUM(Z9:AQ9),1) -> 877 | C9: =FLOOR(B9-I9-G9-SUM(AN9:AQ9),1) -> 454 | D9: =AC8*Population!$P$31*Population!$C$2+AE8*Population!$P$33*Population!$C$2+AG8*Population!$P$35*Population!$C$2+AI8*Population!$P$37*Population!$C$2+AK8*Population!$P$39*Population!$C$2+AM7*Population!$P$41*Population!$C$2 -> 15.405167 | E9: =IF(B8>Population!$B$6*Population!$B$15,Population!$B$8,IF(Population!$J$6=1,D9,Population!$B$8*Population!$B$6*0.9/B8)) -> 11.880918 | F9: =IF(B8>Population!$B$6*0.75,Population!$B$8,E9) -> 11.880918 | G9: =IF(Population!$J$6=1,IF(E9>H8,H8,E9),IF(E9>W8,W8,E9)) -> 11.880918 | H9: =FLOOR(AE9+AG9+AI9+AK9+AM9,1) -> 232 | I9: =FLOOR(SUM(Z9:AC9),1) -> 232 | J9: =I9/H9 -> 1 | K9: =Z9*Population!$O$28+AA9*Population!$O$29+AB9*Population!$O$30+AC9*Population!$O$31+AD9*Population!$O$32+AE9*Population!$O$33+AF9*Population!$O$34+AG9*Population!$O$35+AH9*Population!$O$36+AI9*Population!$O$37+AJ9*Population!$O$38+AK9*Population!$O$39+AL9*Population!$O$40+AM9*Population!$O$41+AN9*Population!$O$42+AO9*Population!$O$43+AP9*Population!$O$44+AQ9*Population!$O$45 -> 4.6007919 | L9: =G9/H9 -> 0.051210855 | M9: =(AD9+AE9+AF9+AG9+AH9+AI9)/21*0.5 -> 6.4871195 | N9: =I9/B9 -> 0.2645382 | O9: =B9-I9-P9*2 -> 243.19968 | P9: =MAX(W9,I9/2) -> 200.90016 | Q9: =SUM(AQ8:AQ8) -> 29.31592 | R9: =SUM(AQ9:AQ9)/B9 -> 0.035132878 | S9: =W9/H9 -> 0.86594896 | T9: =Population!$B$13*MIN(X8:Y8) -> 8.9619351 | U9: =W8*Population!$B$14 -> 1.193914 | V9: =AM8*S8*Population!$B$12 -> 5.853535 | W9: =W8+T9-V9-U9 -> 200.90016 | X9: =(AD9+AF9+AH9+AJ9+AL9)-W9 -> 32.007574 | Y9: =(AE9+AG9+AI9+AK9+AM9)-W9 -> 32.007574 | Z9: =(G9+Population!$B$11*Z8)*Population!M$28 -> 80.244446 | AA9: =Z8*Population!$B$12*Population!$M$28+AA8*Population!$B$11*Population!$M$29 -> 77.007136 | AB9: =(AA8*Population!$B$12*0.5*Population!$M$29)+(AB8*Population!$B$11*Population!M$30) -> 37.595045 | AC9: =(AA8*Population!$B$12*0.5*Population!$M$29)+(AC8*Population!$B$11*Population!M$30) -> 37.595045 | AD9: =(AB8*Population!$B$12*Population!M$30)+(AD8*Population!$B$11*Population!M$32) -> 41.638141 | AE9: =(AC8*Population!$B$12*Population!M$30)+(AE8*Population!$B$11*Population!M$32) -> 41.638141 | AF9: =(AD8*Population!$B$12*Population!M$32)+(AF8*Population!$B$11*Population!M$34) -> 46.274874 | AG9: =(AE8*Population!$B$12*Population!M$32)+(AG8*Population!$B$11*Population!M$34) -> 46.274874 | AH9: =(AF8*Population!$B$12*Population!M$34)+(AH8*Population!$B$11*Population!M$36) -> 48.316495 | AI9: =(AG8*Population!$B$12*Population!M$34)+(AI8*Population!$B$11*Population!M$36) -> 48.316495 | AJ9: =(AH8*Population!$B$12*Population!M$36)+(AJ8*Population!$B$11*Population!M$38) -> 48.524681 | AK9: =(AI8*Population!$B$12*Population!M$36)+(AK8*Population!$B$11*Population!M$38) -> 48.524681 | AL9: =(AJ8*Population!$B$12*Population!M$38)+(AL8*Population!$B$11*Population!M$40) -> 48.153543 | AM9: =(AK8*Population!$B$12*Population!M$38)+(AM8*Population!$B$11*Population!M$40) -> 48.153543 | AN9: =(AL8+AM8)*Population!$B$12*Population!$M$40+AN8*Population!$B$11*Population!$M$42 -> 77.304773 | AO9: =AN8*Population!M$42*Population!$B$12+AO8*Population!$B$11*Population!M$43 -> 46.920995 | AP9: =AO8*Population!M$43*Population!$B$12+AP8*Population!$B$11*Population!M$44 -> 23.914426 | AQ9: =(AP8*Population!$B$12+AQ8)*Population!M$45 -> 30.811534
A10: =A9+Population!$B$2 -> 7 | B10: =FLOOR(SUM(Z10:AQ10),1) -> 884 | C10: =FLOOR(B10-I10-G10-SUM(AN10:AQ10),1) -> 450 | D10: =AC9*Population!$P$31*Population!$C$2+AE9*Population!$P$33*Population!$C$2+AG9*Population!$P$35*Population!$C$2+AI9*Population!$P$37*Population!$C$2+AK9*Population!$P$39*Population!$C$2+AM8*Population!$P$41*Population!$C$2 -> 15.243913 | E10: =IF(B9>Population!$B$6*Population!$B$15,Population!$B$8,IF(Population!$J$6=1,D10,Population!$B$8*Population!$B$6*0.9/B9)) -> 11.880918 | F10: =IF(B9>Population!$B$6*0.75,Population!$B$8,E10) -> 11.880918 | G10: =IF(Population!$J$6=1,IF(E10>H9,H9,E10),IF(E10>W9,W9,E10)) -> 11.880918 | H10: =FLOOR(AE10+AG10+AI10+AK10+AM10,1) -> 231 | I10: =FLOOR(SUM(Z10:AC10),1) -> 233 | J10: =I10/H10 -> 1.008658 | K10: =Z10*Population!$O$28+AA10*Population!$O$29+AB10*Population!$O$30+AC10*Population!$O$31+AD10*Population!$O$32+AE10*Population!$O$33+AF10*Population!$O$34+AG10*Population!$O$35+AH10*Population!$O$36+AI10*Population!$O$37+AJ10*Population!$O$38+AK10*Population!$O$39+AL10*Population!$O$40+AM10*Population!$O$41+AN10*Population!$O$42+AO10*Population!$O$43+AP10*Population!$O$44+AQ10*Population!$O$45 -> 4.8363894 | L10: =G10/H10 -> 0.051432547 | M10: =(AD10+AE10+AF10+AG10+AH10+AI10)/21*0.5 -> 6.4040339 | N10: =I10/B10 -> 0.26357466 | O10: =B10-I10-P10*2 -> 247.52056 | P10: =MAX(W10,I10/2) -> 201.73972 | Q10: =SUM(AQ9:AQ9) -> 30.811534 | R10: =SUM(AQ10:AQ10)/B10 -> 0.036763222 | S10: =W10/H10 -> 0.87333213 | T10: =Population!$B$13*MIN(X9:Y9) -> 8.0018935 | U10: =W9*Population!$B$14 -> 1.205401 | V10: =AM9*S9*Population!$B$12 -> 5.9569301 | W10: =W9+T10-V10-U10 -> 201.73972 | X10: =(AD10+AF10+AH10+AJ10+AL10)-W10 -> 29.260826 | Y10: =(AE10+AG10+AI10+AK10+AM10)-W10 -> 29.260826 | Z10: =(G10+Population!$B$11*Z9)*Population!M$28 -> 80.629123 | AA10: =Z9*Population!$B$12*Population!$M$28+AA9*Population!$B$11*Population!$M$29 -> 77.450103 | AB10: =(AA9*Population!$B$12*0.5*Population!$M$29)+(AB9*Population!$B$11*Population!M$30) -> 37.692886 | AC10: =(AA9*Population!$B$12*0.5*Population!$M$29)+(AC9*Population!$B$11*Population!M$30) -> 37.692886 | AD10: =(AB9*Population!$B$12*Population!M$30)+(AD9*Population!$B$11*Population!M$32) -> 41.021425 | AE10: =(AC9*Population!$B$12*Population!M$30)+(AE9*Population!$B$11*Population!M$32) -> 41.021425 | AF10: =(AD9*Population!$B$12*Population!M$32)+(AF9*Population!$B$11*Population!M$34) -> 45.530659 | AG10: =(AE9*Population!$B$12*Population!M$32)+(AG9*Population!$B$11*Population!M$34) -> 45.530659 | AH10: =(AF9*Population!$B$12*Population!M$34)+(AH9*Population!$B$11*Population!M$36) -> 47.932627 | AI10: =(AG9*Population!$B$12*Population!M$34)+(AI9*Population!$B$11*Population!M$36) -> 47.932627 | AJ10: =(AH9*Population!$B$12*Population!M$36)+(AJ9*Population!$B$11*Population!M$38) -> 48.40183 | AK10: =(AI9*Population!$B$12*Population!M$36)+(AK9*Population!$B$11*Population!M$38) -> 48.40183 | AL10: =(AJ9*Population!$B$12*Population!M$38)+(AL9*Population!$B$11*Population!M$40) -> 48.114006 | AM10: =(AK9*Population!$B$12*Population!M$38)+(AM9*Population!$B$11*Population!M$40) -> 48.114006 | AN10: =(AL9+AM9)*Population!$B$12*Population!$M$40+AN9*Population!$B$11*Population!$M$42 -> 79.512579 | AO10: =AN9*Population!M$42*Population!$B$12+AO9*Population!$B$11*Population!M$43 -> 50.889889 | AP10: =AO9*Population!M$43*Population!$B$12+AP9*Population!$B$11*Population!M$44 -> 26.116919 | AQ10: =(AP9*Population!$B$12+AQ9)*Population!M$45 -> 32.498688
A11: =A10+Population!$B$2 -> 8 | B11: =FLOOR(SUM(Z11:AQ11),1) -> 891 | C11: =FLOOR(B11-I11-G11-SUM(AN11:AQ11),1) -> 446 | D11: =AC10*Population!$P$31*Population!$C$2+AE10*Population!$P$33*Population!$C$2+AG10*Population!$P$35*Population!$C$2+AI10*Population!$P$37*Population!$C$2+AK10*Population!$P$39*Population!$C$2+AM9*Population!$P$41*Population!$C$2 -> 15.087075 | E11: =IF(B10>Population!$B$6*Population!$B$15,Population!$B$8,IF(Population!$J$6=1,D11,Population!$B$8*Population!$B$6*0.9/B10)) -> 11.880918 | F11: =IF(B10>Population!$B$6*0.75,Population!$B$8,E11) -> 11.880918 | G11: =IF(Population!$J$6=1,IF(E11>H10,H10,E11),IF(E11>W10,W10,E11)) -> 11.880918 | H11: =FLOOR(AE11+AG11+AI11+AK11+AM11,1) -> 229 | I11: =FLOOR(SUM(Z11:AC11),1) -> 234 | J11: =I11/H11 -> 1.0218341 | K11: =Z11*Population!$O$28+AA11*Population!$O$29+AB11*Population!$O$30+AC11*Population!$O$31+AD11*Population!$O$32+AE11*Population!$O$33+AF11*Population!$O$34+AG11*Population!$O$35+AH11*Population!$O$36+AI11*Population!$O$37+AJ11*Population!$O$38+AK11*Population!$O$39+AL11*Population!$O$40+AM11*Population!$O$41+AN11*Population!$O$42+AO11*Population!$O$43+AP11*Population!$O$44+AQ11*Population!$O$45 -> 5.0859065 | L11: =G11/H11 -> 0.051881739 | M11: =(AD11+AE11+AF11+AG11+AH11+AI11)/21*0.5 -> 6.3243507 | N11: =I11/B11 -> 0.26262626 | O11: =B11-I11-P11*2 -> 253.31659 | P11: =MAX(W11,I11/2) -> 201.8417 | Q11: =SUM(AQ10:AQ10) -> 32.498688 | R11: =SUM(AQ11:AQ11)/B11 -> 0.03860758 | S11: =W11/H11 -> 0.88140482 | T11: =Population!$B$13*MIN(X10:Y10) -> 7.3152064 | U11: =W10*Population!$B$14 -> 1.2104383 | V11: =AM10*S10*Population!$B$12 -> 6.0027868 | W11: =W10+T11-V11-U11 -> 201.8417 | X11: =(AD11+AF11+AH11+AJ11+AL11)-W11 -> 27.274325 | Y11: =(AE11+AG11+AI11+AK11+AM11)-W11 -> 27.274325 | Z11: =(G11+Population!$B$11*Z10)*Population!M$28 -> 80.958713 | AA11: =Z10*Population!$B$12*Population!$M$28+AA10*Population!$B$11*Population!$M$29 -> 77.884636 | AB11: =(AA10*Population!$B$12*0.5*Population!$M$29)+(AB10*Population!$B$11*Population!M$30) -> 37.808304 | AC11: =(AA10*Population!$B$12*0.5*Population!$M$29)+(AC10*Population!$B$11*Population!M$30) -> 37.808304 | AD11: =(AB10*Population!$B$12*Population!M$30)+(AD10*Population!$B$11*Population!M$32) -> 40.507279 | AE11: =(AC10*Population!$B$12*Population!M$30)+(AE10*Population!$B$11*Population!M$32) -> 40.507279 | AF11: =(AD10*Population!$B$12*Population!M$32)+(AF10*Population!$B$11*Population!M$34) -> 44.805968 | AG11: =(AE10*Population!$B$12*Population!M$32)+(AG10*Population!$B$11*Population!M$34) -> 44.805968 | AH11: =(AF10*Population!$B$12*Population!M$34)+(AH10*Population!$B$11*Population!M$36) -> 47.498117 | AI11: =(AG10*Population!$B$12*Population!M$34)+(AI10*Population!$B$11*Population!M$36) -> 47.498117 | AJ11: =(AH10*Population!$B$12*Population!M$36)+(AJ10*Population!$B$11*Population!M$38) -> 48.241998 | AK11: =(AI10*Population!$B$12*Population!M$36)+(AK10*Population!$B$11*Population!M$38) -> 48.241998 | AL11: =(AJ10*Population!$B$12*Population!M$38)+(AL10*Population!$B$11*Population!M$40) -> 48.062666 | AM11: =(AK10*Population!$B$12*Population!M$38)+(AM10*Population!$B$11*Population!M$40) -> 48.062666 | AN11: =(AL10+AM10)*Population!$B$12*Population!$M$40+AN10*Population!$B$11*Population!$M$42 -> 81.37999 | AO11: =AN10*Population!M$42*Population!$B$12+AO10*Population!$B$11*Population!M$43 -> 54.580248 | AP11: =AO10*Population!M$43*Population!$B$12+AP10*Population!$B$11*Population!M$44 -> 28.47227 | AQ11: =(AP10*Population!$B$12+AQ10)*Population!M$45 -> 34.399353
A12: =A11+Population!$B$2 -> 9 | B12: =FLOOR(SUM(Z12:AQ12),1) -> 898 | C12: =FLOOR(B12-I12-G12-SUM(AN12:AQ12),1) -> 442 | D12: =AC11*Population!$P$31*Population!$C$2+AE11*Population!$P$33*Population!$C$2+AG11*Population!$P$35*Population!$C$2+AI11*Population!$P$37*Population!$C$2+AK11*Population!$P$39*Population!$C$2+AM10*Population!$P$41*Population!$C$2 -> 14.935424 | E12: =IF(B11>Population!$B$6*Population!$B$15,Population!$B$8,IF(Population!$J$6=1,D12,Population!$B$8*Population!$B$6*0.9/B11)) -> 11.880918 | F12: =IF(B11>Population!$B$6*0.75,Population!$B$8,E12) -> 11.880918 | G12: =IF(Population!$J$6=1,IF(E12>H11,H11,E12),IF(E12>W11,W11,E12)) -> 11.880918 | H12: =FLOOR(AE12+AG12+AI12+AK12+AM12,1) -> 227 | I12: =FLOOR(SUM(Z12:AC12),1) -> 235 | J12: =I12/H12 -> 1.0352423 | K12: =Z12*Population!$O$28+AA12*Population!$O$29+AB12*Population!$O$30+AC12*Population!$O$31+AD12*Population!$O$32+AE12*Population!$O$33+AF12*Population!$O$34+AG12*Population!$O$35+AH12*Population!$O$36+AI12*Population!$O$37+AJ12*Population!$O$38+AK12*Population!$O$39+AL12*Population!$O$40+AM12*Population!$O$41+AN12*Population!$O$42+AO12*Population!$O$43+AP12*Population!$O$44+AQ12*Population!$O$45 -> 5.3467428 | L12: =G12/H12 -> 0.052338847 | M12: =(AD12+AE12+AF12+AG12+AH12+AI12)/21*0.5 -> 6.2485314 | N12: =I12/B12 -> 0.26169265 | O12: =B12-I12-P12*2 -> 260.20515 | P12: =MAX(W12,I12/2) -> 201.39743 | Q12: =SUM(AQ11:AQ11) -> 34.399353 | R12: =SUM(AQ12:AQ12)/B12 -> 0.040672023 | S12: =W12/H12 -> 0.88721333 | T12: =Population!$B$13*MIN(X11:Y11) -> 6.8185812 | U12: =W11*Population!$B$14 -> 1.2110502 | V12: =AM11*S11*Population!$B$12 -> 6.0518094 | W12: =W11+T12-V12-U12 -> 201.39743 | X12: =(AD12+AF12+AH12+AJ12+AL12)-W12 -> 25.860998 | Y12: =(AE12+AG12+AI12+AK12+AM12)-W12 -> 25.860998 | Z12: =(G12+Population!$B$11*Z11)*Population!M$28 -> 81.241103 | AA12: =Z11*Population!$B$12*Population!$M$28+AA11*Population!$B$11*Population!$M$29 -> 78.304073 | AB12: =(AA11*Population!$B$12*0.5*Population!$M$29)+(AB11*Population!$B$11*Population!M$30) -> 37.93817 | AC12: =(AA11*Population!$B$12*0.5*Population!$M$29)+(AC11*Population!$B$11*Population!M$30) -> 37.93817 | AD12: =(AB11*Population!$B$12*Population!M$30)+(AD11*Population!$B$11*Population!M$32) -> 40.083475 | AE12: =(AC11*Population!$B$12*Population!M$30)+(AE11*Population!$B$11*Population!M$32) -> 40.083475 | AF12: =(AD11*Population!$B$12*Population!M$32)+(AF11*Population!$B$11*Population!M$34) -> 44.112617 | AG12: =(AE11*Population!$B$12*Population!M$32)+(AG11*Population!$B$11*Population!M$34) -> 44.112617 | AH12: =(AF11*Population!$B$12*Population!M$34)+(AH11*Population!$B$11*Population!M$36) -> 47.023066 | AI12: =(AG11*Population!$B$12*Population!M$34)+(AI11*Population!$B$11*Population!M$36) -> 47.023066 | AJ12: =(AH11*Population!$B$12*Population!M$36)+(AJ11*Population!$B$11*Population!M$38) -> 48.043309 | AK12: =(AI11*Population!$B$12*Population!M$36)+(AK11*Population!$B$11*Population!M$38) -> 48.043309 | AL12: =(AJ11*Population!$B$12*Population!M$38)+(AL11*Population!$B$11*Population!M$40) -> 47.995955 | AM12: =(AK11*Population!$B$12*Population!M$38)+(AM11*Population!$B$11*Population!M$40) -> 47.995955 | AN12: =(AL11+AM11)*Population!$B$12*Population!$M$40+AN11*Population!$B$11*Population!$M$42 -> 82.954383 | AO12: =AN11*Population!M$42*Population!$B$12+AO11*Population!$B$11*Population!M$43 -> 57.985319 | AP12: =AO11*Population!M$43*Population!$B$12+AP11*Population!$B$11*Population!M$44 -> 30.912521 | AQ12: =(AP11*Population!$B$12+AQ11)*Population!M$45 -> 36.523477
A13: =A12+Population!$B$2 -> 10 | B13: =FLOOR(SUM(Z13:AQ13),1) -> 904 | C13: =FLOOR(B13-I13-G13-SUM(AN13:AQ13),1) -> 438 | D13: =AC12*Population!$P$31*Population!$C$2+AE12*Population!$P$33*Population!$C$2+AG12*Population!$P$35*Population!$C$2+AI12*Population!$P$37*Population!$C$2+AK12*Population!$P$39*Population!$C$2+AM11*Population!$P$41*Population!$C$2 -> 14.789617 | E13: =IF(B12>Population!$B$6*Population!$B$15,Population!$B$8,IF(Population!$J$6=1,D13,Population!$B$8*Population!$B$6*0.9/B12)) -> 11.880918 | F13: =IF(B12>Population!$B$6*0.75,Population!$B$8,E13) -> 11.880918 | G13: =IF(Population!$J$6=1,IF(E13>H12,H12,E13),IF(E13>W12,W12,E13)) -> 11.880918 | H13: =FLOOR(AE13+AG13+AI13+AK13+AM13,1) -> 225 | I13: =FLOOR(SUM(Z13:AC13),1) -> 236 | J13: =I13/H13 -> 1.0488889 | K13: =Z13*Population!$O$28+AA13*Population!$O$29+AB13*Population!$O$30+AC13*Population!$O$31+AD13*Population!$O$32+AE13*Population!$O$33+AF13*Population!$O$34+AG13*Population!$O$35+AH13*Population!$O$36+AI13*Population!$O$37+AJ13*Population!$O$38+AK13*Population!$O$39+AL13*Population!$O$40+AM13*Population!$O$41+AN13*Population!$O$42+AO13*Population!$O$43+AP13*Population!$O$44+AQ13*Population!$O$45 -> 5.6163924 | L13: =G13/H13 -> 0.052804081 | M13: =(AD13+AE13+AF13+AG13+AH13+AI13)/21*0.5 -> 6.1769461 | N13: =I13/B13 -> 0.26106195 | O13: =B13-I13-P13*2 -> 266.85789 | P13: =MAX(W13,I13/2) -> 200.57105 | Q13: =SUM(AQ12:AQ12) -> 36.523477 | R13: =SUM(AQ13:AQ13)/B13 -> 0.042999209 | S13: =W13/H13 -> 0.89142691 | T13: =Population!$B$13*MIN(X12:Y12) -> 6.4652494 | U13: =W12*Population!$B$14 -> 1.2083846 | V13: =AM12*S12*Population!$B$12 -> 6.0832359 | W13: =W12+T13-V13-U13 -> 200.57105 | X13: =(AD13+AF13+AH13+AJ13+AL13)-W13 -> 24.860967 | Y13: =(AE13+AG13+AI13+AK13+AM13)-W13 -> 24.860967 | Z13: =(G13+Population!$B$11*Z12)*Population!M$28 -> 81.483054 | AA13: =Z12*Population!$B$12*Population!$M$28+AA12*Population!$B$11*Population!$M$29 -> 78.703836 | AB13: =(AA12*Population!$B$12*0.5*Population!$M$29)+(AB12*Population!$B$11*Population!M$30) -> 38.079331 | AC13: =(AA12*Population!$B$12*0.5*Population!$M$29)+(AC12*Population!$B$11*Population!M$30) -> 38.079331 | AD13: =(AB12*Population!$B$12*Population!M$30)+(AD12*Population!$B$11*Population!M$32) -> 39.739096 | AE13: =(AC12*Population!$B$12*Population!M$30)+(AE12*Population!$B$11*Population!M$32) -> 39.739096 | AF13: =(AD12*Population!$B$12*Population!M$32)+(AF12*Population!$B$11*Population!M$34) -> 43.458971 | AG13: =(AE12*Population!$B$12*Population!M$32)+(AG12*Population!$B$11*Population!M$34) -> 43.458971 | AH13: =(AF12*Population!$B$12*Population!M$34)+(AH12*Population!$B$11*Population!M$36) -> 46.517802 | AI13: =(AG12*Population!$B$12*Population!M$34)+(AI12*Population!$B$11*Population!M$36) -> 46.517802 | AJ13: =(AH12*Population!$B$12*Population!M$36)+(AJ12*Population!$B$11*Population!M$38) -> 47.805597 | AK13: =(AI12*Population!$B$12*Population!M$36)+(AK12*Population!$B$11*Population!M$38) -> 47.805597 | AL13: =(AJ12*Population!$B$12*Population!M$38)+(AL12*Population!$B$11*Population!M$40) -> 47.910555 | AM13: =(AK12*Population!$B$12*Population!M$38)+(AM12*Population!$B$11*Population!M$40) -> 47.910555 | AN13: =(AL12+AM12)*Population!$B$12*Population!$M$40+AN12*Population!$B$11*Population!$M$42 -> 84.275056 | AO13: =AN12*Population!M$42*Population!$B$12+AO12*Population!$B$11*Population!M$43 -> 61.106074 | AP13: =AO12*Population!M$43*Population!$B$12+AP12*Population!$B$11*Population!M$44 -> 33.381407 | AQ13: =(AP12*Population!$B$12+AQ12)*Population!M$45 -> 38.871285
A14: =A13+Population!$B$2 -> 11 | B14: =FLOOR(SUM(Z14:AQ14),1) -> 911 | C14: =FLOOR(B14-I14-G14-SUM(AN14:AQ14),1) -> 435 | D14: =AC13*Population!$P$31*Population!$C$2+AE13*Population!$P$33*Population!$C$2+AG13*Population!$P$35*Population!$C$2+AI13*Population!$P$37*Population!$C$2+AK13*Population!$P$39*Population!$C$2+AM12*Population!$P$41*Population!$C$2 -> 14.650193 | E14: =IF(B13>Population!$B$6*Population!$B$15,Population!$B$8,IF(Population!$J$6=1,D14,Population!$B$8*Population!$B$6*0.9/B13)) -> 11.880918 | F14: =IF(B13>Population!$B$6*0.75,Population!$B$8,E14) -> 11.880918 | G14: =IF(Population!$J$6=1,IF(E14>H13,H13,E14),IF(E14>W13,W13,E14)) -> 11.880918 | H14: =FLOOR(AE14+AG14+AI14+AK14+AM14,1) -> 223 | I14: =FLOOR(SUM(Z14:AC14),1) -> 237 | J14: =I14/H14 -> 1.0627803 | K14: =Z14*Population!$O$28+AA14*Population!$O$29+AB14*Population!$O$30+AC14*Population!$O$31+AD14*Population!$O$32+AE14*Population!$O$33+AF14*Population!$O$34+AG14*Population!$O$35+AH14*Population!$O$36+AI14*Population!$O$37+AJ14*Population!$O$38+AK14*Population!$O$39+AL14*Population!$O$40+AM14*Population!$O$41+AN14*Population!$O$42+AO14*Population!$O$43+AP14*Population!$O$44+AQ14*Population!$O$45 -> 5.8924876 | L14: =G14/H14 -> 0.053277661 | M14: =(AD14+AE14+AF14+AG14+AH14+AI14)/21*0.5 -> 6.1098724 | N14: =I14/B14 -> 0.26015368 | O14: =B14-I14-P14*2 -> 275.03676 | P14: =MAX(W14,I14/2) -> 199.48162 | Q14: =SUM(AQ13:AQ13) -> 38.871285 | R14: =SUM(AQ14:AQ14)/B14 -> 0.045483383 | S14: =W14/H14 -> 0.8945364 | T14: =Population!$B$13*MIN(X13:Y13) -> 6.2152416 | U14: =W13*Population!$B$14 -> 1.2034263 | V14: =AM13*S13*Population!$B$12 -> 6.1012511 | W14: =W13+T14-V14-U14 -> 199.48162 | X14: =(AD14+AF14+AH14+AJ14+AL14)-W14 -> 24.159497 | Y14: =(AE14+AG14+AI14+AK14+AM14)-W14 -> 24.159497 | Z14: =(G14+Population!$B$11*Z13)*Population!M$28 -> 81.690356 | AA14: =Z13*Population!$B$12*Population!$M$28+AA13*Population!$B$11*Population!$M$29 -> 79.080962 | AB14: =(AA13*Population!$B$12*0.5*Population!$M$29)+(AB13*Population!$B$11*Population!M$30) -> 38.228759 | AC14: =(AA13*Population!$B$12*0.5*Population!$M$29)+(AC13*Population!$B$11*Population!M$30) -> 38.228759 | AD14: =(AB13*Population!$B$12*Population!M$30)+(AD13*Population!$B$11*Population!M$32) -> 39.464341 | AE14: =(AC13*Population!$B$12*Population!M$30)+(AE13*Population!$B$11*Population!M$32) -> 39.464341 | AF14: =(AD13*Population!$B$12*Population!M$32)+(AF13*Population!$B$11*Population!M$34) -> 42.850629 | AG14: =(AE13*Population!$B$12*Population!M$32)+(AG13*Population!$B$11*Population!M$34) -> 42.850629 | AH14: =(AF13*Population!$B$12*Population!M$34)+(AH13*Population!$B$11*Population!M$36) -> 45.992351 | AI14: =(AG13*Population!$B$12*Population!M$34)+(AI13*Population!$B$11*Population!M$36) -> 45.992351 | AJ14: =(AH13*Population!$B$12*Population!M$36)+(AJ13*Population!$B$11*Population!M$38) -> 47.530192 | AK14: =(AI13*Population!$B$12*Population!M$36)+(AK13*Population!$B$11*Population!M$38) -> 47.530192 | AL14: =(AJ13*Population!$B$12*Population!M$38)+(AL13*Population!$B$11*Population!M$40) -> 47.803602 | AM14: =(AK13*Population!$B$12*Population!M$38)+(AM13*Population!$B$11*Population!M$40) -> 47.803602 | AN14: =(AL13+AM13)*Population!$B$12*Population!$M$40+AN13*Population!$B$11*Population!$M$42 -> 85.374501 | AO14: =AN13*Population!M$42*Population!$B$12+AO13*Population!$B$11*Population!M$43 -> 63.948913 | AP14: =AO13*Population!M$43*Population!$B$12+AP13*Population!$B$11*Population!M$44 -> 35.833275 | AQ14: =(AP13*Population!$B$12+AQ13)*Population!M$45 -> 41.435362
A15: =A14+Population!$B$2 -> 12 | B15: =FLOOR(SUM(Z15:AQ15),1) -> 917 | C15: =FLOOR(B15-I15-G15-SUM(AN15:AQ15),1) -> 431 | D15: =AC14*Population!$P$31*Population!$C$2+AE14*Population!$P$33*Population!$C$2+AG14*Population!$P$35*Population!$C$2+AI14*Population!$P$37*Population!$C$2+AK14*Population!$P$39*Population!$C$2+AM13*Population!$P$41*Population!$C$2 -> 14.517571 | E15: =IF(B14>Population!$B$6*Population!$B$15,Population!$B$8,IF(Population!$J$6=1,D15,Population!$B$8*Population!$B$6*0.9/B14)) -> 11.880918 | F15: =IF(B14>Population!$B$6*0.75,Population!$B$8,E15) -> 11.880918 | G15: =IF(Population!$J$6=1,IF(E15>H14,H14,E15),IF(E15>W14,W14,E15)) -> 11.880918 | H15: =FLOOR(AE15+AG15+AI15+AK15+AM15,1) -> 221 | I15: =FLOOR(SUM(Z15:AC15),1) -> 238 | J15: =I15/H15 -> 1.0769231 | K15: =Z15*Population!$O$28+AA15*Population!$O$29+AB15*Population!$O$30+AC15*Population!$O$31+AD15*Population!$O$32+AE15*Population!$O$33+AF15*Population!$O$34+AG15*Population!$O$35+AH15*Population!$O$36+AI15*Population!$O$37+AJ15*Population!$O$38+AK15*Population!$O$39+AL15*Population!$O$40+AM15*Population!$O$41+AN15*Population!$O$42+AO15*Population!$O$43+AP15*Population!$O$44+AQ15*Population!$O$45 -> 6.1728258 | L15: =G15/H15 -> 0.053759811 | M15: =(AD15+AE15+AF15+AG15+AH15+AI15)/21*0.5 -> 6.0474981 | N15: =I15/B15 -> 0.25954198 | O15: =B15-I15-P15*2 -> 282.56853 | P15: =MAX(W15,I15/2) -> 198.21574 | Q15: =SUM(AQ14:AQ14) -> 41.435362 | R15: =SUM(AQ15:AQ15)/B15 -> 0.048203351 | S15: =W15/H15 -> 0.89690379 | T15: =Population!$B$13*MIN(X14:Y14) -> 6.0398742 | U15: =W14*Population!$B$14 -> 1.1968897 | V15: =AM14*S14*Population!$B$12 -> 6.108866 | W15: =W14+T15-V15-U15 -> 198.21574 | X15: =(AD15+AF15+AH15+AJ15+AL15)-W15 -> 23.674222 | Y15: =(AE15+AG15+AI15+AK15+AM15)-W15 -> 23.674222 | Z15: =(G15+Population!$B$11*Z14)*Population!M$28 -> 81.867972 | AA15: =Z14*Population!$B$12*Population!$M$28+AA14*Population!$B$11*Population!$M$29 -> 79.433744 | AB15: =(AA14*Population!$B$12*0.5*Population!$M$29)+(AB14*Population!$B$11*Population!M$30) -> 38.38365 | AC15: =(AA14*Population!$B$12*0.5*Population!$M$29)+(AC14*Population!$B$11*Population!M$30) -> 38.38365 | AD15: =(AB14*Population!$B$12*Population!M$30)+(AD14*Population!$B$11*Population!M$32) -> 39.250388 | AE15: =(AC14*Population!$B$12*Population!M$30)+(AE14*Population!$B$11*Population!M$32) -> 39.250388 | AF15: =(AD14*Population!$B$12*Population!M$32)+(AF14*Population!$B$11*Population!M$34) -> 42.290981 | AG15: =(AE14*Population!$B$12*Population!M$32)+(AG14*Population!$B$11*Population!M$34) -> 42.290981 | AH15: =(AF14*Population!$B$12*Population!M$34)+(AH14*Population!$B$11*Population!M$36) -> 45.45609 | AI15: =(AG14*Population!$B$12*Population!M$34)+(AI14*Population!$B$11*Population!M$36) -> 45.45609 | AJ15: =(AH14*Population!$B$12*Population!M$36)+(AJ14*Population!$B$11*Population!M$38) -> 47.219665 | AK15: =(AI14*Population!$B$12*Population!M$36)+(AK14*Population!$B$11*Population!M$38) -> 47.219665 | AL15: =(AJ14*Population!$B$12*Population!M$38)+(AL14*Population!$B$11*Population!M$40) -> 47.672835 | AM15: =(AK14*Population!$B$12*Population!M$38)+(AM14*Population!$B$11*Population!M$40) -> 47.672835 | AN15: =(AL14+AM14)*Population!$B$12*Population!$M$40+AN14*Population!$B$11*Population!$M$42 -> 86.27955 | AO15: =AN14*Population!M$42*Population!$B$12+AO14*Population!$B$11*Population!M$43 -> 66.523891 | AP15: =AO14*Population!M$43*Population!$B$12+AP14*Population!$B$11*Population!M$44 -> 38.231879 | AQ15: =(AP14*Population!$B$12+AQ14)*Population!M$45 -> 44.202473
... A47: =A46+Population!$B$2 -> 44 | B47: =FLOOR(SUM(Z47:AQ47),1) -> 989 | C47: =FLOOR(B47-I47-G47-SUM(AN47:AQ47),1) -> 381 | D47: =AC46*Population!$P$31*Population!$C$2+AE46*Population!$P$33*Population!$C$2+AG46*Population!$P$35*Population!$C$2+AI46*Population!$P$37*Population!$C$2+AK46*Population!$P$39*Population!$C$2+AM45*Population!$P$41*Population!$C$2 -> 13.221415 | E47: =IF(B46>Population!$B$6*Population!$B$15,Population!$B$8,IF(Population!$J$6=1,D47,Population!$B$8*Population!$B$6*0.9/B46)) -> 11.880918 | F47: =IF(B46>Population!$B$6*0.75,Population!$B$8,E47) -> 11.880918 | G47: =IF(Population!$J$6=1,IF(E47>H46,H46,E47),IF(E47>W46,W46,E47)) -> 11.880918 | H47: =FLOOR(AE47+AG47+AI47+AK47+AM47,1) -> 196 | I47: =FLOOR(SUM(Z47:AC47),1) -> 247 | J47: =I47/H47 -> 1.2602041 | K47: =Z47*Population!$O$28+AA47*Population!$O$29+AB47*Population!$O$30+AC47*Population!$O$31+AD47*Population!$O$32+AE47*Population!$O$33+AF47*Population!$O$34+AG47*Population!$O$35+AH47*Population!$O$36+AI47*Population!$O$37+AJ47*Population!$O$38+AK47*Population!$O$39+AL47*Population!$O$40+AM47*Population!$O$41+AN47*Population!$O$42+AO47*Population!$O$43+AP47*Population!$O$44+AQ47*Population!$O$45 -> 11.782684 | L47: =G47/H47 -> 0.06061693 | M47: =(AD47+AE47+AF47+AG47+AH47+AI47)/21*0.5 -> 5.6730261 | N47: =I47/B47 -> 0.24974722 | O47: =B47-I47-P47*2 -> 395.95211 | P47: =MAX(W47,I47/2) -> 173.02395 | Q47: =SUM(AQ46:AQ46) -> 134.14316 | R47: =SUM(AQ47:AQ47)/B47 -> 0.13701591 | S47: =W47/H47 -> 0.88277524 | T47: =Population!$B$13*MIN(X46:Y46) -> 5.8913687 | U47: =W46*Population!$B$14 -> 1.0385622 | V47: =AM46*S46*Population!$B$12 -> 4.9225581 | W47: =W46+T47-V47-U47 -> 173.02395 | X47: =(AD47+AF47+AH47+AJ47+AL47)-W47 -> 23.584656 | Y47: =(AE47+AG47+AI47+AK47+AM47)-W47 -> 23.584656 | Z47: =(G47+Population!$B$11*Z46)*Population!M$28 -> 82.923085 | AA47: =Z46*Population!$B$12*Population!$M$28+AA46*Population!$B$11*Population!$M$29 -> 82.720808 | AB47: =(AA46*Population!$B$12*0.5*Population!$M$29)+(AB46*Population!$B$11*Population!M$30) -> 41.013571 | AC47: =(AA46*Population!$B$12*0.5*Population!$M$29)+(AC46*Population!$B$11*Population!M$30) -> 41.013571 | AD47: =(AB46*Population!$B$12*Population!M$30)+(AD46*Population!$B$11*Population!M$32) -> 40.511807 | AE47: =(AC46*Population!$B$12*Population!M$30)+(AE46*Population!$B$11*Population!M$32) -> 40.511807 | AF47: =(AD46*Population!$B$12*Population!M$32)+(AF46*Population!$B$11*Population!M$34) -> 39.688681 | AG47: =(AE46*Population!$B$12*Population!M$32)+(AG46*Population!$B$11*Population!M$34) -> 39.688681 | AH47: =(AF46*Population!$B$12*Population!M$34)+(AH46*Population!$B$11*Population!M$36) -> 38.933061 | AI47: =(AG46*Population!$B$12*Population!M$34)+(AI46*Population!$B$11*Population!M$36) -> 38.933061 | AJ47: =(AH46*Population!$B$12*Population!M$36)+(AJ46*Population!$B$11*Population!M$38) -> 38.588435 | AK47: =(AI46*Population!$B$12*Population!M$36)+(AK46*Population!$B$11*Population!M$38) -> 38.588435 | AL47: =(AJ46*Population!$B$12*Population!M$38)+(AL46*Population!$B$11*Population!M$40) -> 38.886619 | AM47: =(AK46*Population!$B$12*Population!M$38)+(AM46*Population!$B$11*Population!M$40) -> 38.886619 | AN47: =(AL46+AM46)*Population!$B$12*Population!$M$40+AN46*Population!$B$11*Population!$M$42 -> 77.039826 | AO47: =AN46*Population!M$42*Population!$B$12+AO46*Population!$B$11*Population!M$43 -> 76.293152 | AP47: =AO46*Population!M$43*Population!$B$12+AP46*Population!$B$11*Population!M$44 -> 59.739524 | AQ47: =(AP46*Population!$B$12+AQ46)*Population!M$45 -> 135.50873
A48: =A47+Population!$B$2 -> 45 | B48: =FLOOR(SUM(Z48:AQ48),1) -> 989 | C48: =FLOOR(B48-I48-G48-SUM(AN48:AQ48),1) -> 381 | D48: =AC47*Population!$P$31*Population!$C$2+AE47*Population!$P$33*Population!$C$2+AG47*Population!$P$35*Population!$C$2+AI47*Population!$P$37*Population!$C$2+AK47*Population!$P$39*Population!$C$2+AM46*Population!$P$41*Population!$C$2 -> 13.226498 | E48: =IF(B47>Population!$B$6*Population!$B$15,Population!$B$8,IF(Population!$J$6=1,D48,Population!$B$8*Population!$B$6*0.9/B47)) -> 11.880918 | F48: =IF(B47>Population!$B$6*0.75,Population!$B$8,E48) -> 11.880918 | G48: =IF(Population!$J$6=1,IF(E48>H47,H47,E48),IF(E48>W47,W47,E48)) -> 11.880918 | H48: =FLOOR(AE48+AG48+AI48+AK48+AM48,1) -> 196 | I48: =FLOOR(SUM(Z48:AC48),1) -> 247 | J48: =I48/H48 -> 1.2602041 | K48: =Z48*Population!$O$28+AA48*Population!$O$29+AB48*Population!$O$30+AC48*Population!$O$31+AD48*Population!$O$32+AE48*Population!$O$33+AF48*Population!$O$34+AG48*Population!$O$35+AH48*Population!$O$36+AI48*Population!$O$37+AJ48*Population!$O$36+AK48*Population!$O$37+AL48*Population!$O$38+AM48*Population!$O$39+AN48*Population!$O$40+AO48*Population!$O$41+AP48*Population!$O$42+AQ48*Population!$O$43 -> 2.5221946 | L48: =G48/H48 -> 0.06061693 | M48: =(AD48+AE48+AF48+AG48+AH48+AI48)/21*0.5 -> 5.6783952 | N48: =I48/B48 -> 0.24974722 | O48: =B48-I48-P48*2 -> 396.04411 | P48: =MAX(W48,I48/2) -> 172.97795 | Q48: =SUM(AQ47:AQ47) -> 135.50873 | R48: =SUM(AQ48:AQ48)/B48 -> 0.13828706 | S48: =W48/H48 -> 0.88254054 | T48: =Population!$B$13*MIN(X47:Y47) -> 5.8961639 | U48: =W47*Population!$B$14 -> 1.0381437 | V48: =AM47*S47*Population!$B$12 -> 4.9040206 | W48: =W47+T48-V48-U48 -> 172.97795 | X48: =(AD48+AF48+AH48+AJ48+AL48)-W48 -> 23.601275 | Y48: =(AE48+AG48+AI48+AK48+AM48)-W48 -> 23.601275 | Z48: =(G48+Population!$B$11*Z47)*Population!M$28 -> 82.924167 | AA48: =Z47*Population!$B$12*Population!$M$28+AA47*Population!$B$11*Population!$M$29 -> 82.728942 | AB48: =(AA47*Population!$B$12*0.5*Population!$M$29)+(AB47*Population!$B$11*Population!M$30) -> 41.028287 | AC48: =(AA47*Population!$B$12*0.5*Population!$M$29)+(AC47*Population!$B$11*Population!M$30) -> 41.028287 | AD48: =(AB47*Population!$B$12*Population!M$30)+(AD47*Population!$B$11*Population!M$32) -> 40.544811 | AE48: =(AC47*Population!$B$12*Population!M$30)+(AE47*Population!$B$11*Population!M$32) -> 40.544811 | AF48: =(AD47*Population!$B$12*Population!M$32)+(AF47*Population!$B$11*Population!M$34) -> 39.735439 | AG48: =(AE47*Population!$B$12*Population!M$32)+(AG47*Population!$B$11*Population!M$34) -> 39.735439 | AH48: =(AF47*Population!$B$12*Population!M$34)+(AH47*Population!$B$11*Population!M$36) -> 38.966048 | AI48: =(AG47*Population!$B$12*Population!M$34)+(AI47*Population!$B$11*Population!M$36) -> 38.966048 | AJ48: =(AH47*Population!$B$12*Population!M$36)+(AJ47*Population!$B$11*Population!M$38) -> 38.563483 | AK48: =(AI47*Population!$B$12*Population!M$36)+(AK47*Population!$B$11*Population!M$38) -> 38.563483 | AL48: =(AJ47*Population!$B$12*Population!M$38)+(AL47*Population!$B$11*Population!M$40) -> 38.769441 | AM48: =(AK47*Population!$B$12*Population!M$38)+(AM47*Population!$B$11*Population!M$40) -> 38.769441 | AN48: =(AL47+AM47)*Population!$B$12*Population!$M$40+AN47*Population!$B$11*Population!$M$42 -> 76.644519 | AO48: =AN47*Population!M$42*Population!$B$12+AO47*Population!$B$11*Population!M$43 -> 75.845921 | AP48: =AO47*Population!M$43*Population!$B$12+AP47*Population!$B$11*Population!M$44 -> 59.438418 | AQ48: =(AP47*Population!$B$12+AQ47)*Population!M$45 -> 136.7659
A49: =A48+Population!$B$2 -> 46 | B49: =FLOOR(SUM(Z49:AQ49),1) -> 989 | C49: =FLOOR(B49-I49-G49-SUM(AN49:AQ49),1) -> 381 | D49: =AC48*Population!$P$31*Population!$C$2+AE48*Population!$P$33*Population!$C$2+AG48*Population!$P$35*Population!$C$2+AI48*Population!$P$37*Population!$C$2+AK48*Population!$P$39*Population!$C$2+AM47*Population!$P$41*Population!$C$2 -> 13.232067 | E49: =IF(B48>Population!$B$6*Population!$B$15,Population!$B$8,IF(Population!$J$6=1,D49,Population!$B$8*Population!$B$6*0.9/B48)) -> 11.880918 | F49: =IF(B48>Population!$B$6*0.75,Population!$B$8,E49) -> 11.880918 | G49: =IF(Population!$J$6=1,IF(E49>H48,H48,E49),IF(E49>W48,W48,E49)) -> 11.880918 | H49: =FLOOR(AE49+AG49+AI49+AK49+AM49,1) -> 196 | I49: =FLOOR(SUM(Z49:AC49),1) -> 247 | J49: =I49/H49 -> 1.2602041 | K49: =Z49*Population!$O$28+AA49*Population!$O$29+AB49*Population!$O$30+AC49*Population!$O$31+AD49*Population!$O$32+AE49*Population!$O$33+AF49*Population!$O$34+AG49*Population!$O$35+AH49*Population!$O$36+AI49*Population!$O$37+AJ49*Population!$O$36+AK49*Population!$O$37+AL49*Population!$O$38+AM49*Population!$O$39+AN49*Population!$O$40+AO49*Population!$O$41+AP49*Population!$O$42+AQ49*Population!$O$43 -> 2.5266959 | L49: =G49/H49 -> 0.06061693 | M49: =(AD49+AE49+AF49+AG49+AH49+AI49)/21*0.5 -> 5.6836314 | N49: =I49/B49 -> 0.24974722 | O49: =B49-I49-P49*2 -> 396.09509 | P49: =MAX(W49,I49/2) -> 172.95245 | Q49: =SUM(AQ48:AQ48) -> 136.7659 | R49: =SUM(AQ49:AQ49)/B49 -> 0.13945269 | S49: =W49/H49 -> 0.88241048 | T49: =Population!$B$13*MIN(X48:Y48) -> 5.9003187 | U49: =W48*Population!$B$14 -> 1.0378677 | V49: =AM48*S48*Population!$B$12 -> 4.8879433 | W49: =W48+T49-V49-U49 -> 172.95245 | X49: =(AD49+AF49+AH49+AJ49+AL49)-W49 -> 23.616282 | Y49: =(AE49+AG49+AI49+AK49+AM49)-W49 -> 23.616282 | Z49: =(G49+Population!$B$11*Z48)*Population!M$28 -> 82.925095 | AA49: =Z48*Population!$B$12*Population!$M$28+AA48*Population!$B$11*Population!$M$29 -> 82.736067 | AB49: =(AA48*Population!$B$12*0.5*Population!$M$29)+(AB48*Population!$B$11*Population!M$30) -> 41.041469 | AC49: =(AA48*Population!$B$12*0.5*Population!$M$29)+(AC48*Population!$B$11*Population!M$30) -> 41.041469 | AD49: =(AB48*Population!$B$12*Population!M$30)+(AD48*Population!$B$11*Population!M$32) -> 40.575174 | AE49: =(AC48*Population!$B$12*Population!M$30)+(AE48*Population!$B$11*Population!M$32) -> 40.575174 | AF49: =(AD48*Population!$B$12*Population!M$32)+(AF48*Population!$B$11*Population!M$34) -> 39.78015 | AG49: =(AE48*Population!$B$12*Population!M$32)+(AG48*Population!$B$11*Population!M$34) -> 39.78015 | AH49: =(AF48*Population!$B$12*Population!M$34)+(AH48*Population!$B$11*Population!M$36) -> 39.000935 | AI49: =(AG48*Population!$B$12*Population!M$34)+(AI48*Population!$B$11*Population!M$36) -> 39.000935 | AJ49: =(AH48*Population!$B$12*Population!M$36)+(AJ48*Population!$B$11*Population!M$38) -> 38.54684 | AK49: =(AI48*Population!$B$12*Population!M$36)+(AK48*Population!$B$11*Population!M$38) -> 38.54684 | AL49: =(AJ48*Population!$B$12*Population!M$38)+(AL48*Population!$B$11*Population!M$40) -> 38.665637 | AM49: =(AK48*Population!$B$12*Population!M$38)+(AM48*Population!$B$11*Population!M$40) -> 38.665637 | AN49: =(AL48+AM48)*Population!$B$12*Population!$M$40+AN48*Population!$B$11*Population!$M$42 -> 76.274727 | AO49: =AN48*Population!M$42*Population!$B$12+AO48*Population!$B$11*Population!M$43 -> 75.409296 | AP49: =AO48*Population!M$43*Population!$B$12+AP48*Population!$B$11*Population!M$44 -> 59.129939 | AQ49: =(AP48*Population!$B$12+AQ48)*Population!M$45 -> 137.91871
A50: =A49+Population!$B$2 -> 47 | B50: =FLOOR(SUM(Z50:AQ50),1) -> 989 | C50: =FLOOR(B50-I50-G50-SUM(AN50:AQ50),1) -> 381 | D50: =AC49*Population!$P$31*Population!$C$2+AE49*Population!$P$33*Population!$C$2+AG49*Population!$P$35*Population!$C$2+AI49*Population!$P$37*Population!$C$2+AK49*Population!$P$39*Population!$C$2+AM48*Population!$P$41*Population!$C$2 -> 13.238021 | E50: =IF(B49>Population!$B$6*Population!$B$15,Population!$B$8,IF(Population!$J$6=1,D50,Population!$B$8*Population!$B$6*0.9/B49)) -> 11.880918 | F50: =IF(B49>Population!$B$6*0.75,Population!$B$8,E50) -> 11.880918 | G50: =IF(Population!$J$6=1,IF(E50>H49,H49,E50),IF(E50>W49,W49,E50)) -> 11.880918 | H50: =FLOOR(AE50+AG50+AI50+AK50+AM50,1) -> 196 | I50: =FLOOR(SUM(Z50:AC50),1) -> 247 | J50: =I50/H50 -> 1.2602041 | K50: =Z50*Population!$O$28+AA50*Population!$O$29+AB50*Population!$O$30+AC50*Population!$O$31+AD50*Population!$O$32+AE50*Population!$O$33+AF50*Population!$O$34+AG50*Population!$O$35+AH50*Population!$O$36+AI50*Population!$O$37+AJ50*Population!$O$36+AK50*Population!$O$37+AL50*Population!$O$38+AM50*Population!$O$39+AN50*Population!$O$40+AO50*Population!$O$41+AP50*Population!$O$42+AQ50*Population!$O$43 -> 2.5305783 | L50: =G50/H50 -> 0.06061693 | M50: =(AD50+AE50+AF50+AG50+AH50+AI50)/21*0.5 -> 5.6887117 | N50: =I50/B50 -> 0.24974722 | O50: =B50-I50-P50*2 -> 396.11065 | P50: =MAX(W50,I50/2) -> 172.94467 | Q50: =SUM(AQ49:AQ49) -> 137.91871 | R50: =SUM(AQ50:AQ50)/B50 -> 0.14051713 | S50: =W50/H50 -> 0.88237078 | T50: =Population!$B$13*MIN(X49:Y49) -> 5.9040706 | U50: =W49*Population!$B$14 -> 1.0377147 | V50: =AM49*S49*Population!$B$12 -> 4.8741377 | W50: =W49+T50-V50-U50 -> 172.94467 | X50: =(AD50+AF50+AH50+AJ50+AL50)-W50 -> 23.630311 | Y50: =(AE50+AG50+AI50+AK50+AM50)-W50 -> 23.630311 | Z50: =(G50+Population!$B$11*Z49)*Population!M$28 -> 82.925889 | AA50: =Z49*Population!$B$12*Population!$M$28+AA49*Population!$B$11*Population!$M$29 -> 82.742305 | AB50: =(AA49*Population!$B$12*0.5*Population!$M$29)+(AB49*Population!$B$11*Population!M$30) -> 41.053267 | AC50: =(AA49*Population!$B$12*0.5*Population!$M$29)+(AC49*Population!$B$11*Population!M$30) -> 41.053267 | AD50: =(AB49*Population!$B$12*Population!M$30)+(AD49*Population!$B$11*Population!M$32) -> 40.603056 | AE50: =(AC49*Population!$B$12*Population!M$30)+(AE49*Population!$B$11*Population!M$32) -> 40.603056 | AF50: =(AD49*Population!$B$12*Population!M$32)+(AF49*Population!$B$11*Population!M$34) -> 39.822734 | AG50: =(AE49*Population!$B$12*Population!M$32)+(AG49*Population!$B$11*Population!M$34) -> 39.822734 | AH50: =(AF49*Population!$B$12*Population!M$34)+(AH49*Population!$B$11*Population!M$36) -> 39.037156 | AI50: =(AG49*Population!$B$12*Population!M$34)+(AI49*Population!$B$11*Population!M$36) -> 39.037156 | AJ50: =(AH49*Population!$B$12*Population!M$36)+(AJ49*Population!$B$11*Population!M$38) -> 38.537576 | AK50: =(AI49*Population!$B$12*Population!M$36)+(AK49*Population!$B$11*Population!M$38) -> 38.537576 | AL50: =(AJ49*Population!$B$12*Population!M$38)+(AL49*Population!$B$11*Population!M$40) -> 38.574461 | AM50: =(AK49*Population!$B$12*Population!M$38)+(AM49*Population!$B$11*Population!M$40) -> 38.574461 | AN50: =(AL49+AM49)*Population!$B$12*Population!$M$40+AN49*Population!$B$11*Population!$M$42 -> 75.930458 | AO50: =AN49*Population!M$42*Population!$B$12+AO49*Population!$B$11*Population!M$43 -> 74.985316 | AP50: =AO49*Population!M$43*Population!$B$12+AP49*Population!$B$11*Population!M$44 -> 58.816964 | AQ50: =(AP49*Population!$B$12+AQ49)*Population!M$45 -> 138.97145
A51: =A50+Population!$B$2 -> 48 | B51: =FLOOR(SUM(Z51:AQ51),1) -> 989 | C51: =FLOOR(B51-I51-G51-SUM(AN51:AQ51),1) -> 381 | D51: =AC50*Population!$P$31*Population!$C$2+AE50*Population!$P$33*Population!$C$2+AG50*Population!$P$35*Population!$C$2+AI50*Population!$P$37*Population!$C$2+AK50*Population!$P$39*Population!$C$2+AM49*Population!$P$41*Population!$C$2 -> 13.244272 | E51: =IF(B50>Population!$B$6*Population!$B$15,Population!$B$8,IF(Population!$J$6=1,D51,Population!$B$8*Population!$B$6*0.9/B50)) -> 11.880918 | F51: =IF(B50>Population!$B$6*0.75,Population!$B$8,E51) -> 11.880918 | G51: =IF(Population!$J$6=1,IF(E51>H50,H50,E51),IF(E51>W50,W50,E51)) -> 11.880918 | H51: =FLOOR(AE51+AG51+AI51+AK51+AM51,1) -> 196 | I51: =FLOOR(SUM(Z51:AC51),1) -> 247 | J51: =I51/H51 -> 1.2602041 | K51: =Z51*Population!$O$28+AA51*Population!$O$29+AB51*Population!$O$30+AC51*Population!$O$31+AD51*Population!$O$32+AE51*Population!$O$33+AF51*Population!$O$34+AG51*Population!$O$35+AH51*Population!$O$36+AI51*Population!$O$37+AJ51*Population!$O$36+AK51*Population!$O$37+AL51*Population!$O$38+AM51*Population!$O$39+AN51*Population!$O$40+AO51*Population!$O$41+AP51*Population!$O$42+AQ51*Population!$O$43 -> 2.5338885 | L51: =G51/H51 -> 0.06061693 | M51: =(AD51+AE51+AF51+AG51+AH51+AI51)/21*0.5 -> 5.6936179 | N51: =I51/B51 -> 0.24974722 | O51: =B51-I51-P51*2 -> 396.09569 | P51: =MAX(W51,I51/2) -> 172.95216 | Q51: =SUM(AQ50:AQ50) -> 138.97145 | R51: =SUM(AQ51:AQ51)/B51 -> 0.14148487 | S51: =W51/H51 -> 0.88240896 | T51: =Population!$B$13*MIN(X50:Y50) -> 5.9075777 | U51: =W50*Population!$B$14 -> 1.037668 | V51: =AM50*S50*Population!$B$12 -> 4.8624253 | W51: =W50+T51-V51-U51 -> 172.95216 | X51: =(AD51+AF51+AH51+AJ51+AL51)-W51 -> 23.643772 | Y51: =(AE51+AG51+AI51+AK51+AM51)-W51 -> 23.643772 | Z51: =(G51+Population!$B$11*Z50)*Population!M$28 -> 82.92657 | AA51: =Z50*Population!$B$12*Population!$M$28+AA50*Population!$B$11*Population!$M$29 -> 82.747764 | AB51: =(AA50*Population!$B$12*0.5*Population!$M$29)+(AB50*Population!$B$11*Population!M$30) -> 41.063814 | AC51: =(AA50*Population!$B$12*0.5*Population!$M$29)+(AC50*Population!$B$11*Population!M$30) -> 41.063814 | AD51: =(AB50*Population!$B$12*Population!M$30)+(AD50*Population!$B$11*Population!M$32) -> 40.628616 | AE51: =(AC50*Population!$B$12*Population!M$30)+(AE50*Population!$B$11*Population!M$32) -> 40.628616 | AF51: =(AD50*Population!$B$12*Population!M$32)+(AF50*Population!$B$11*Population!M$34) -> 39.863144 | AG51: =(AE50*Population!$B$12*Population!M$32)+(AG50*Population!$B$11*Population!M$34) -> 39.863144 | AH51: =(AF50*Population!$B$12*Population!M$34)+(AH50*Population!$B$11*Population!M$36) -> 39.074215 | AI51: =(AG50*Population!$B$12*Population!M$34)+(AI50*Population!$B$11*Population!M$36) -> 39.074215 | AJ51: =(AH50*Population!$B$12*Population!M$36)+(AJ50*Population!$B$11*Population!M$38) -> 38.534815 | AK51: =(AI50*Population!$B$12*Population!M$36)+(AK50*Population!$B$11*Population!M$38) -> 38.534815 | AL51: =(AJ50*Population!$B$12*Population!M$38)+(AL50*Population!$B$11*Population!M$40) -> 38.495139 | AM51: =(AK50*Population!$B$12*Population!M$38)+(AM50*Population!$B$11*Population!M$40) -> 38.495139 | AN51: =(AL50+AM50)*Population!$B$12*Population!$M$40+AN50*Population!$B$11*Population!$M$42 -> 75.61151 | AO51: =AN50*Population!M$42*Population!$B$12+AO50*Population!$B$11*Population!M$43 -> 74.575713 | AP51: =AO50*Population!M$43*Population!$B$12+AP50*Population!$B$11*Population!M$44 -> 58.502122 | AQ51: =(AP50*Population!$B$12+AQ50)*Population!M$45 -> 139.92854
A52: =A51+Population!$B$2 -> 49 | B52: =FLOOR(SUM(Z52:AQ52),1) -> 989 | C52: =FLOOR(B52-I52-G52-SUM(AN52:AQ52),1) -> 381 | D52: =AC51*Population!$P$31*Population!$C$2+AE51*Population!$P$33*Population!$C$2+AG51*Population!$P$35*Population!$C$2+AI51*Population!$P$37*Population!$C$2+AK51*Population!$P$39*Population!$C$2+AM50*Population!$P$41*Population!$C$2 -> 13.250741 | E52: =IF(B51>Population!$B$6*Population!$B$15,Population!$B$8,IF(Population!$J$6=1,D52,Population!$B$8*Population!$B$6*0.9/B51)) -> 11.880918 | F52: =IF(B51>Population!$B$6*0.75,Population!$B$8,E52) -> 11.880918 | G52: =IF(Population!$J$6=1,IF(E52>H51,H51,E52),IF(E52>W51,W51,E52)) -> 11.880918 | H52: =FLOOR(AE52+AG52+AI52+AK52+AM52,1) -> 196 | I52: =FLOOR(SUM(Z52:AC52),1) -> 247 | J52: =I52/H52 -> 1.2602041 | K52: =Z52*Population!$O$28+AA52*Population!$O$29+AB52*Population!$O$30+AC52*Population!$O$31+AD52*Population!$O$32+AE52*Population!$O$33+AF52*Population!$O$34+AG52*Population!$O$35+AH52*Population!$O$36+AI52*Population!$O$37+AJ52*Population!$O$36+AK52*Population!$O$37+AL52*Population!$O$38+AM52*Population!$O$39+AN52*Population!$O$40+AO52*Population!$O$41+AP52*Population!$O$42+AQ52*Population!$O$43 -> 2.5366715 | L52: =G52/H52 -> 0.06061693 | M52: =(AD52+AE52+AF52+AG52+AH52+AI52)/21*0.5 -> 5.6983358 | N52: =I52/B52 -> 0.24974722 | O52: =B52-I52-P52*2 -> 396.0545 | P52: =MAX(W52,I52/2) -> 172.97275 | Q52: =SUM(AQ51:AQ51) -> 139.92854 | R52: =SUM(AQ52:AQ52)/B52 -> 0.14236055 | S52: =W52/H52 -> 0.88251403 | T52: =Population!$B$13*MIN(X51:Y51) -> 5.910943 | U52: =W51*Population!$B$14 -> 1.0377129 | V52: =AM51*S51*Population!$B$12 -> 4.8526365 | W52: =W51+T52-V52-U52 -> 172.97275 | X52: =(AD52+AF52+AH52+AJ52+AL52)-W52 -> 23.656924 | Y52: =(AE52+AG52+AI52+AK52+AM52)-W52 -> 23.656924 | Z52: =(G52+Population!$B$11*Z51)*Population!M$28 -> 82.927153 | AA52: =Z51*Population!$B$12*Population!$M$28+AA51*Population!$B$11*Population!$M$29 -> 82.75254 | AB52: =(AA51*Population!$B$12*0.5*Population!$M$29)+(AB51*Population!$B$11*Population!M$30) -> 41.073237 | AC52: =(AA51*Population!$B$12*0.5*Population!$M$29)+(AC51*Population!$B$11*Population!M$30) -> 41.073237 | AD52: =(AB51*Population!$B$12*Population!M$30)+(AD51*Population!$B$11*Population!M$32) -> 40.652009 | AE52: =(AC51*Population!$B$12*Population!M$30)+(AE51*Population!$B$11*Population!M$32) -> 40.652009 | AF52: =(AD51*Population!$B$12*Population!M$32)+(AF51*Population!$B$11*Population!M$34) -> 39.901363 | AG52: =(AE51*Population!$B$12*Population!M$32)+(AG51*Population!$B$11*Population!M$34) -> 39.901363 | AH52: =(AF51*Population!$B$12*Population!M$34)+(AH51*Population!$B$11*Population!M$36) -> 39.11168 | AI52: =(AG51*Population!$B$12*Population!M$34)+(AI51*Population!$B$11*Population!M$36) -> 39.11168 | AJ52: =(AH51*Population!$B$12*Population!M$36)+(AJ51*Population!$B$11*Population!M$38) -> 38.537738 | AK52: =(AI51*Population!$B$12*Population!M$36)+(AK51*Population!$B$11*Population!M$38) -> 38.537738 | AL52: =(AJ51*Population!$B$12*Population!M$38)+(AL51*Population!$B$11*Population!M$40) -> 38.426885 | AM52: =(AK51*Population!$B$12*Population!M$38)+(AM51*Population!$B$11*Population!M$40) -> 38.426885 | AN52: =(AL51+AM51)*Population!$B$12*Population!$M$40+AN51*Population!$B$11*Population!$M$42 -> 75.317488 | AO52: =AN51*Population!M$42*Population!$B$12+AO51*Population!$B$11*Population!M$43 -> 74.181938 | AP52: =AO51*Population!M$43*Population!$B$12+AP51*Population!$B$11*Population!M$44 -> 58.187801 | AQ52: =(AP51*Population!$B$12+AQ51)*Population!M$45 -> 140.79458
A53: =A52+Population!$B$2 -> 50 | B53: =FLOOR(SUM(Z53:AQ53),1) -> 989 | C53: =FLOOR(B53-I53-G53-SUM(AN53:AQ53),1) -> 381 | D53: =AC52*Population!$P$31*Population!$C$2+AE52*Population!$P$33*Population!$C$2+AG52*Population!$P$35*Population!$C$2+AI52*Population!$P$37*Population!$C$2+AK52*Population!$P$39*Population!$C$2+AM51*Population!$P$41*Population!$C$2 -> 13.257357 | E53: =IF(B52>Population!$B$6*Population!$B$15,Population!$B$8,IF(Population!$J$6=1,D53,Population!$B$8*Population!$B$6*0.9/B52)) -> 11.880918 | F53: =IF(B52>Population!$B$6*0.75,Population!$B$8,E53) -> 11.880918 | G53: =IF(Population!$J$6=1,IF(E53>H52,H52,E53),IF(E53>W52,W52,E53)) -> 11.880918 | H53: =FLOOR(AE53+AG53+AI53+AK53+AM53,1) -> 196 | I53: =FLOOR(SUM(Z53:AC53),1) -> 247 | J53: =I53/H53 -> 1.2602041 | K53: =Z53*Population!$O$28+AA53*Population!$O$29+AB53*Population!$O$30+AC53*Population!$O$31+AD53*Population!$O$32+AE53*Population!$O$33+AF53*Population!$O$34+AG53*Population!$O$35+AH53*Population!$O$36+AI53*Population!$O$37+AJ53*Population!$O$36+AK53*Population!$O$37+AL53*Population!$O$38+AM53*Population!$O$39+AN53*Population!$O$40+AO53*Population!$O$41+AP53*Population!$O$42+AQ53*Population!$O$43 -> 2.5389711 | L53: =G53/H53 -> 0.06061693 | M53: =(AD53+AE53+AF53+AG53+AH53+AI53)/21*0.5 -> 5.7028554 | N53: =I53/B53 -> 0.24974722 | O53: =B53-I53-P53*2 -> 395.99093 | P53: =MAX(W53,I53/2) -> 173.00454 | Q53: =SUM(AQ52:AQ52) -> 140.79458 | R53: =SUM(AQ53:AQ53)/B53 -> 0.14314887 | S53: =W53/H53 -> 0.8826762 | T53: =Population!$B$13*MIN(X52:Y52) -> 5.914231 | U53: =W52*Population!$B$14 -> 1.0378365 | V53: =AM52*S52*Population!$B$12 -> 4.8446094 | W53: =W52+T53-V53-U53 -> 173.00454 | X53: =(AD53+AF53+AH53+AJ53+AL53)-W53 -> 23.669919 | Y53: =(AE53+AG53+AI53+AK53+AM53)-W53 -> 23.669919 | Z53: =(G53+Population!$B$11*Z52)*Population!M$28 -> 82.927653 | AA53: =Z52*Population!$B$12*Population!$M$28+AA52*Population!$B$11*Population!$M$29 -> 82.756715 | AB53: =(AA52*Population!$B$12*0.5*Population!$M$29)+(AB52*Population!$B$11*Population!M$30) -> 41.081646 | AC53: =(AA52*Population!$B$12*0.5*Population!$M$29)+(AC52*Population!$B$11*Population!M$30) -> 41.081646 | AD53: =(AB52*Population!$B$12*Population!M$30)+(AD52*Population!$B$11*Population!M$32) -> 40.673386 | AE53: =(AC52*Population!$B$12*Population!M$30)+(AE52*Population!$B$11*Population!M$32) -> 40.673386 | AF53: =(AD52*Population!$B$12*Population!M$32)+(AF52*Population!$B$11*Population!M$34) -> 39.937397 | AG53: =(AE52*Population!$B$12*Population!M$32)+(AG52*Population!$B$11*Population!M$34) -> 39.937397 | AH53: =(AF52*Population!$B$12*Population!M$34)+(AH52*Population!$B$11*Population!M$36) -> 39.149181 | AI53: =(AG52*Population!$B$12*Population!M$34)+(AI52*Population!$B$11*Population!M$36) -> 39.149181 | AJ53: =(AH52*Population!$B$12*Population!M$36)+(AJ52*Population!$B$11*Population!M$38) -> 38.54558 | AK53: =(AI52*Population!$B$12*Population!M$36)+(AK52*Population!$B$11*Population!M$38) -> 38.54558 | AL53: =(AJ52*Population!$B$12*Population!M$38)+(AL52*Population!$B$11*Population!M$40) -> 38.368911 | AM53: =(AK52*Population!$B$12*Population!M$38)+(AM52*Population!$B$11*Population!M$40) -> 38.368911 | AN53: =(AL52+AM52)*Population!$B$12*Population!$M$40+AN52*Population!$B$11*Population!$M$42 -> 75.047832 | AO53: =AN52*Population!M$42*Population!$B$12+AO52*Population!$B$11*Population!M$43 -> 73.805164 | AP53: =AO52*Population!M$43*Population!$B$12+AP52*Population!$B$11*Population!M$44 -> 57.876149 | AQ53: =(AP52*Population!$B$12+AQ52)*Population!M$45 -> 141.57423
A54: =A53+Population!$B$2 -> 51 | B54: =FLOOR(SUM(Z54:AQ54),1) -> 989 | C54: =FLOOR(B54-I54-G54-SUM(AN54:AQ54),1) -> 382 | D54: =AC53*Population!$P$31*Population!$C$2+AE53*Population!$P$33*Population!$C$2+AG53*Population!$P$35*Population!$C$2+AI53*Population!$P$37*Population!$C$2+AK53*Population!$P$39*Population!$C$2+AM52*Population!$P$41*Population!$C$2 -> 13.264058 | E54: =IF(B53>Population!$B$6*Population!$B$15,Population!$B$8,IF(Population!$J$6=1,D54,Population!$B$8*Population!$B$6*0.9/B53)) -> 11.880918 | F54: =IF(B53>Population!$B$6*0.75,Population!$B$8,E54) -> 11.880918 | G54: =IF(Population!$J$6=1,IF(E54>H53,H53,E54),IF(E54>W53,W53,E54)) -> 11.880918 | H54: =FLOOR(AE54+AG54+AI54+AK54+AM54,1) -> 196 | I54: =FLOOR(SUM(Z54:AC54),1) -> 247 | J54: =I54/H54 -> 1.2602041 | K54: =Z54*Population!$O$28+AA54*Population!$O$29+AB54*Population!$O$30+AC54*Population!$O$31+AD54*Population!$O$32+AE54*Population!$O$33+AF54*Population!$O$34+AG54*Population!$O$35+AH54*Population!$O$36+AI54*Population!$O$37+AJ54*Population!$O$36+AK54*Population!$O$37+AL54*Population!$O$38+AM54*Population!$O$39+AN54*Population!$O$40+AO54*Population!$O$41+AP54*Population!$O$42+AQ54*Population!$O$43 -> 2.5408296 | L54: =G54/H54 -> 0.06061693 | M54: =(AD54+AE54+AF54+AG54+AH54+AI54)/21*0.5 -> 5.7071699 | N54: =I54/B54 -> 0.24974722 | O54: =B54-I54-P54*2 -> 395.9084 | P54: =MAX(W54,I54/2) -> 173.0458 | Q54: =SUM(AQ53:AQ53) -> 141.57423 | R54: =SUM(AQ54:AQ54)/B54 -> 0.14385462 | S54: =W54/H54 -> 0.88288673 | T54: =Population!$B$13*MIN(X53:Y53) -> 5.9174797 | U54: =W53*Population!$B$14 -> 1.0380272 | V54: =AM53*S53*Population!$B$12 -> 4.8381893 | W54: =W53+T54-V54-U54 -> 173.0458 | X54: =(AD54+AF54+AH54+AJ54+AL54)-W54 -> 23.682836 | Y54: =(AE54+AG54+AI54+AK54+AM54)-W54 -> 23.682836 | Z54: =(G54+Population!$B$11*Z53)*Population!M$28 -> 82.928082 | AA54: =Z53*Population!$B$12*Population!$M$28+AA53*Population!$B$11*Population!$M$29 -> 82.760365 | AB54: =(AA53*Population!$B$12*0.5*Population!$M$29)+(AB53*Population!$B$11*Population!M$30) -> 41.089146 | AC54: =(AA53*Population!$B$12*0.5*Population!$M$29)+(AC53*Population!$B$11*Population!M$30) -> 41.089146 | AD54: =(AB53*Population!$B$12*Population!M$30)+(AD53*Population!$B$11*Population!M$32) -> 40.692891 | AE54: =(AC53*Population!$B$12*Population!M$30)+(AE53*Population!$B$11*Population!M$32) -> 40.692891 | AF54: =(AD53*Population!$B$12*Population!M$32)+(AF53*Population!$B$11*Population!M$34) -> 39.971275 | AG54: =(AE53*Population!$B$12*Population!M$32)+(AG53*Population!$B$11*Population!M$34) -> 39.971275 | AH54: =(AF53*Population!$B$12*Population!M$34)+(AH53*Population!$B$11*Population!M$36) -> 39.186401 | AI54: =(AG53*Population!$B$12*Population!M$34)+(AI53*Population!$B$11*Population!M$36) -> 39.186401 | AJ54: =(AH53*Population!$B$12*Population!M$36)+(AJ53*Population!$B$11*Population!M$38) -> 38.557635 | AK54: =(AI53*Population!$B$12*Population!M$36)+(AK53*Population!$B$11*Population!M$38) -> 38.557635 | AL54: =(AJ53*Population!$B$12*Population!M$38)+(AL53*Population!$B$11*Population!M$40) -> 38.320433 | AM54: =(AK53*Population!$B$12*Population!M$38)+(AM53*Population!$B$11*Population!M$40) -> 38.320433 | AN54: =(AL53+AM53)*Population!$B$12*Population!$M$40+AN53*Population!$B$11*Population!$M$42 -> 74.801843 | AO54: =AN53*Population!M$42*Population!$B$12+AO53*Population!$B$11*Population!M$43 -> 73.446314 | AP54: =AO53*Population!M$43*Population!$B$12+AP53*Population!$B$11*Population!M$44 -> 57.569079 | AQ54: =(AP53*Population!$B$12+AQ53)*Population!M$45 -> 142.27222
A55: =A54+Population!$B$2 -> 52 | B55: =FLOOR(SUM(Z55:AQ55),1) -> 989 | C55: =FLOOR(B55-I55-G55-SUM(AN55:AQ55),1) -> 382 | D55: =AC54*Population!$P$31*Population!$C$2+AE54*Population!$P$33*Population!$C$2+AG54*Population!$P$35*Population!$C$2+AI54*Population!$P$37*Population!$C$2+AK54*Population!$P$39*Population!$C$2+AM53*Population!$P$41*Population!$C$2 -> 13.27079 | E55: =IF(B54>Population!$B$6*Population!$B$15,Population!$B$8,IF(Population!$J$6=1,D55,Population!$B$8*Population!$B$6*0.9/B54)) -> 11.880918 | F55: =IF(B54>Population!$B$6*0.75,Population!$B$8,E55) -> 11.880918 | G55: =IF(Population!$J$6=1,IF(E55>H54,H54,E55),IF(E55>W54,W54,E55)) -> 11.880918 | H55: =FLOOR(AE55+AG55+AI55+AK55+AM55,1) -> 196 | I55: =FLOOR(SUM(Z55:AC55),1) -> 247 | J55: =I55/H55 -> 1.2602041 | K55: =Z55*Population!$O$28+AA55*Population!$O$29+AB55*Population!$O$30+AC55*Population!$O$31+AD55*Population!$O$32+AE55*Population!$O$33+AF55*Population!$O$34+AG55*Population!$O$35+AH55*Population!$O$36+AI55*Population!$O$37+AJ55*Population!$O$36+AK55*Population!$O$37+AL55*Population!$O$38+AM55*Population!$O$39+AN55*Population!$O$40+AO55*Population!$O$41+AP55*Population!$O$42+AQ55*Population!$O$43 -> 2.5422875 | L55: =G55/H55 -> 0.06061693 | M55: =(AD55+AE55+AF55+AG55+AH55+AI55)/21*0.5 -> 5.7112752 | N55: =I55/B55 -> 0.24974722 | O55: =B55-I55-P55*2 -> 395.80999 | P55: =MAX(W55,I55/2) -> 173.095 | Q55: =SUM(AQ54:AQ54) -> 142.27222 | R55: =SUM(AQ55:AQ55)/B55 -> 0.14448261 | S55: =W55/H55 -> 0.88313778 | T55: =Population!$B$13*MIN(X54:Y54) -> 5.9207091 | U55: =W54*Population!$B$14 -> 1.0382748 | V55: =AM54*S54*Population!$B$12 -> 4.8332288 | W55: =W54+T55-V55-U55 -> 173.095 | X55: =(AD55+AF55+AH55+AJ55+AL55)-W55 -> 23.695709 | Y55: =(AE55+AG55+AI55+AK55+AM55)-W55 -> 23.695709 | Z55: =(G55+Population!$B$11*Z54)*Population!M$28 -> 82.928448 | AA55: =Z54*Population!$B$12*Population!$M$28+AA54*Population!$B$11*Population!$M$29 -> 82.763554 | AB55: =(AA54*Population!$B$12*0.5*Population!$M$29)+(AB54*Population!$B$11*Population!M$30) -> 41.095828 | AC55: =(AA54*Population!$B$12*0.5*Population!$M$29)+(AC54*Population!$B$11*Population!M$30) -> 41.095828 | AD55: =(AB54*Population!$B$12*Population!M$30)+(AD54*Population!$B$11*Population!M$32) -> 40.710665 | AE55: =(AC54*Population!$B$12*Population!M$30)+(AE54*Population!$B$11*Population!M$32) -> 40.710665 | AF55: =(AD54*Population!$B$12*Population!M$32)+(AF54*Population!$B$11*Population!M$34) -> 40.003042 | AG55: =(AE54*Population!$B$12*Population!M$32)+(AG54*Population!$B$11*Population!M$34) -> 40.003042 | AH55: =(AF54*Population!$B$12*Population!M$34)+(AH54*Population!$B$11*Population!M$36) -> 39.223072 | AI55: =(AG54*Population!$B$12*Population!M$34)+(AI54*Population!$B$11*Population!M$36) -> 39.223072 | AJ55: =(AH54*Population!$B$12*Population!M$36)+(AJ54*Population!$B$11*Population!M$38) -> 38.573256 | AK55: =(AI54*Population!$B$12*Population!M$36)+(AK54*Population!$B$11*Population!M$38) -> 38.573256 | AL55: =(AJ54*Population!$B$12*Population!M$38)+(AL54*Population!$B$11*Population!M$40) -> 38.280679 | AM55: =(AK54*Population!$B$12*Population!M$38)+(AM54*Population!$B$11*Population!M$40) -> 38.280679 | AN55: =(AL54+AM54)*Population!$B$12*Population!$M$40+AN54*Population!$B$11*Population!$M$42 -> 74.578699 | AO55: =AN54*Population!M$42*Population!$B$12+AO54*Population!$B$11*Population!M$43 -> 73.106071 | AP55: =AO54*Population!M$43*Population!$B$12+AP54*Population!$B$11*Population!M$44 -> 57.26828 | AQ55: =(AP54*Population!$B$12+AQ54)*Population!M$45 -> 142.8933
A56: =A55+Population!$B$2 -> 53 | B56: =FLOOR(SUM(Z56:AQ56),1) -> 989 | C56: =FLOOR(B56-I56-G56-SUM(AN56:AQ56),1) -> 382 | D56: =AC55*Population!$P$31*Population!$C$2+AE55*Population!$P$33*Population!$C$2+AG55*Population!$P$35*Population!$C$2+AI55*Population!$P$37*Population!$C$2+AK55*Population!$P$39*Population!$C$2+AM54*Population!$P$41*Population!$C$2 -> 13.277503 | E56: =IF(B55>Population!$B$6*Population!$B$15,Population!$B$8,IF(Population!$J$6=1,D56,Population!$B$8*Population!$B$6*0.9/B55)) -> 11.880918 | F56: =IF(B55>Population!$B$6*0.75,Population!$B$8,E56) -> 11.880918 | G56: =IF(Population!$J$6=1,IF(E56>H55,H55,E56),IF(E56>W55,W55,E56)) -> 11.880918 | H56: =FLOOR(AE56+AG56+AI56+AK56+AM56,1) -> 196 | I56: =FLOOR(SUM(Z56:AC56),1) -> 247 | J56: =I56/H56 -> 1.2602041 | K56: =Z56*Population!$O$28+AA56*Population!$O$29+AB56*Population!$O$30+AC56*Population!$O$31+AD56*Population!$O$32+AE56*Population!$O$33+AF56*Population!$O$34+AG56*Population!$O$35+AH56*Population!$O$36+AI56*Population!$O$37+AJ56*Population!$O$36+AK56*Population!$O$37+AL56*Population!$O$38+AM56*Population!$O$39+AN56*Population!$O$40+AO56*Population!$O$41+AP56*Population!$O$42+AQ56*Population!$O$43 -> 2.5433836 | L56: =G56/H56 -> 0.06061693 | M56: =(AD56+AE56+AF56+AG56+AH56+AI56)/21*0.5 -> 5.7151699 | N56: =I56/B56 -> 0.24974722 | O56: =B56-I56-P56*2 -> 395.69845 | P56: =MAX(W56,I56/2) -> 173.15077 | Q56: =SUM(AQ55:AQ55) -> 142.8933 | R56: =SUM(AQ56:AQ56)/B56 -> 0.14503761 | S56: =W56/H56 -> 0.88342232 | T56: =Population!$B$13*MIN(X55:Y55) -> 5.9239273 | U56: =W55*Population!$B$14 -> 1.03857 | V56: =AM55*S55*Population!$B$12 -> 4.8295876 | W56: =W55+T56-V56-U56 -> 173.15077 | X56: =(AD56+AF56+AH56+AJ56+AL56)-W56 -> 23.708538 | Y56: =(AE56+AG56+AI56+AK56+AM56)-W56 -> 23.708538 | Z56: =(G56+Population!$B$11*Z55)*Population!M$28 -> 82.928763 | AA56: =Z55*Population!$B$12*Population!$M$28+AA55*Population!$B$11*Population!$M$29 -> 82.766339 | AB56: =(AA55*Population!$B$12*0.5*Population!$M$29)+(AB55*Population!$B$11*Population!M$30) -> 41.101779 | AC56: =(AA55*Population!$B$12*0.5*Population!$M$29)+(AC55*Population!$B$11*Population!M$30) -> 41.101779 | AD56: =(AB55*Population!$B$12*Population!M$30)+(AD55*Population!$B$11*Population!M$32) -> 40.726838 | AE56: =(AC55*Population!$B$12*Population!M$30)+(AE55*Population!$B$11*Population!M$32) -> 40.726838 | AF56: =(AD55*Population!$B$12*Population!M$32)+(AF55*Population!$B$11*Population!M$34) -> 40.032755 | AG56: =(AE55*Population!$B$12*Population!M$32)+(AG55*Population!$B$11*Population!M$34) -> 40.032755 | AH56: =(AF55*Population!$B$12*Population!M$34)+(AH55*Population!$B$11*Population!M$36) -> 39.258974 | AI56: =(AG55*Population!$B$12*Population!M$34)+(AI55*Population!$B$11*Population!M$36) -> 39.258974 | AJ56: =(AH55*Population!$B$12*Population!M$36)+(AJ55*Population!$B$11*Population!M$38) -> 38.591848 | AK56: =(AI55*Population!$B$12*Population!M$36)+(AK55*Population!$B$11*Population!M$38) -> 38.591848 | AL56: =(AJ55*Population!$B$12*Population!M$38)+(AL55*Population!$B$11*Population!M$40) -> 38.248896 | AM56: =(AK55*Population!$B$12*Population!M$38)+(AM55*Population!$B$11*Population!M$40) -> 38.248896 | AN56: =(AL55+AM55)*Population!$B$12*Population!$M$40+AN55*Population!$B$11*Population!$M$42 -> 74.377483 | AO56: =AN55*Population!M$42*Population!$B$12+AO55*Population!$B$11*Population!M$43 -> 72.784902 | AP56: =AO55*Population!M$43*Population!$B$12+AP55*Population!$B$11*Population!M$44 -> 56.975224 | AQ56: =(AP55*Population!$B$12+AQ55)*Population!M$45 -> 143.4422
A57: =A56+Population!$B$2 -> 54 | B57: =FLOOR(SUM(Z57:AQ57),1) -> 989 | C57: =FLOOR(B57-I57-G57-SUM(AN57:AQ57),1) -> 382 | D57: =AC56*Population!$P$31*Population!$C$2+AE56*Population!$P$33*Population!$C$2+AG56*Population!$P$35*Population!$C$2+AI56*Population!$P$37*Population!$C$2+AK56*Population!$P$39*Population!$C$2+AM55*Population!$P$41*Population!$C$2 -> 13.284159 | E57: =IF(B56>Population!$B$6*Population!$B$15,Population!$B$8,IF(Population!$J$6=1,D57,Population!$B$8*Population!$B$6*0.9/B56)) -> 11.880918 | F57: =IF(B56>Population!$B$6*0.75,Population!$B$8,E57) -> 11.880918 | G57: =IF(Population!$J$6=1,IF(E57>H56,H56,E57),IF(E57>W56,W56,E57)) -> 11.880918 | H57: =FLOOR(AE57+AG57+AI57+AK57+AM57,1) -> 196 | I57: =FLOOR(SUM(Z57:AC57),1) -> 247 | J57: =I57/H57 -> 1.2602041 | K57: =Z57*Population!$O$28+AA57*Population!$O$29+AB57*Population!$O$30+AC57*Population!$O$31+AD57*Population!$O$32+AE57*Population!$O$33+AF57*Population!$O$34+AG57*Population!$O$35+AH57*Population!$O$36+AI57*Population!$O$37+AJ57*Population!$O$36+AK57*Population!$O$37+AL57*Population!$O$38+AM57*Population!$O$39+AN57*Population!$O$40+AO57*Population!$O$41+AP57*Population!$O$42+AQ57*Population!$O$43 -> 2.5441549 | L57: =G57/H57 -> 0.06061693 | M57: =(AD57+AE57+AF57+AG57+AH57+AI57)/21*0.5 -> 5.7188545 | N57: =I57/B57 -> 0.24974722 | O57: =B57-I57-P57*2 -> 395.57626 | P57: =MAX(W57,I57/2) -> 173.21187 | Q57: =SUM(AQ56:AQ56) -> 143.4422 | R57: =SUM(AQ57:AQ57)/B57 -> 0.14552439 | S57: =W57/H57 -> 0.88373404 | T57: =Population!$B$13*MIN(X56:Y56) -> 5.9271344 | U57: =W56*Population!$B$14 -> 1.0389046 | V57: =AM56*S56*Population!$B$12 -> 4.8271326 | W57: =W56+T57-V57-U57 -> 173.21187 | X57: =(AD57+AF57+AH57+AJ57+AL57)-W57 -> 23.721304 | Y57: =(AE57+AG57+AI57+AK57+AM57)-W57 -> 23.721304 | Z57: =(G57+Population!$B$11*Z56)*Population!M$28 -> 82.929032 | AA57: =Z56*Population!$B$12*Population!$M$28+AA56*Population!$B$11*Population!$M$29 -> 82.76877 | AB57: =(AA56*Population!$B$12*0.5*Population!$M$29)+(AB56*Population!$B$11*Population!M$30) -> 41.107073 | AC57: =(AA56*Population!$B$12*0.5*Population!$M$29)+(AC56*Population!$B$11*Population!M$30) -> 41.107073 | AD57: =(AB56*Population!$B$12*Population!M$30)+(AD56*Population!$B$11*Population!M$32) -> 40.741538 | AE57: =(AC56*Population!$B$12*Population!M$30)+(AE56*Population!$B$11*Population!M$32) -> 40.741538 | AF57: =(AD56*Population!$B$12*Population!M$32)+(AF56*Population!$B$11*Population!M$34) -> 40.060483 | AG57: =(AE56*Population!$B$12*Population!M$32)+(AG56*Population!$B$11*Population!M$34) -> 40.060483 | AH57: =(AF56*Population!$B$12*Population!M$34)+(AH56*Population!$B$11*Population!M$36) -> 39.293925 | AI57: =(AG56*Population!$B$12*Population!M$34)+(AI56*Population!$B$11*Population!M$36) -> 39.293925 | AJ57: =(AH56*Population!$B$12*Population!M$36)+(AJ56*Population!$B$11*Population!M$38) -> 38.612872 | AK57: =(AI56*Population!$B$12*Population!M$36)+(AK56*Population!$B$11*Population!M$38) -> 38.612872 | AL57: =(AJ56*Population!$B$12*Population!M$38)+(AL56*Population!$B$11*Population!M$40) -> 38.224357 | AM57: =(AK56*Population!$B$12*Population!M$38)+(AM56*Population!$B$11*Population!M$40) -> 38.224357 | AN57: =(AL56+AM56)*Population!$B$12*Population!$M$40+AN56*Population!$B$11*Population!$M$42 -> 74.197199 | AO57: =AN56*Population!M$42*Population!$B$12+AO56*Population!$B$11*Population!M$43 -> 72.483074 | AP57: =AO56*Population!M$43*Population!$B$12+AP56*Population!$B$11*Population!M$44 -> 56.691175 | AQ57: =(AP56*Population!$B$12+AQ56)*Population!M$45 -> 143.92362
A58: =A57+Population!$B$2 -> 55 | B58: =FLOOR(SUM(Z58:AQ58),1) -> 988 | C58: =FLOOR(B58-I58-G58-SUM(AN58:AQ58),1) -> 382 | D58: =AC57*Population!$P$31*Population!$C$2+AE57*Population!$P$33*Population!$C$2+AG57*Population!$P$35*Population!$C$2+AI57*Population!$P$37*Population!$C$2+AK57*Population!$P$39*Population!$C$2+AM56*Population!$P$41*Population!$C$2 -> 13.290719 | E58: =IF(B57>Population!$B$6*Population!$B$15,Population!$B$8,IF(Population!$J$6=1,D58,Population!$B$8*Population!$B$6*0.9/B57)) -> 11.880918 | F58: =IF(B57>Population!$B$6*0.75,Population!$B$8,E58) -> 11.880918 | G58: =IF(Population!$J$6=1,IF(E58>H57,H57,E58),IF(E58>W57,W57,E58)) -> 11.880918 | H58: =FLOOR(AE58+AG58+AI58+AK58+AM58,1) -> 197 | I58: =FLOOR(SUM(Z58:AC58),1) -> 247 | J58: =I58/H58 -> 1.2538071 | K58: =Z58*Population!$O$28+AA58*Population!$O$29+AB58*Population!$O$30+AC58*Population!$O$31+AD58*Population!$O$32+AE58*Population!$O$33+AF58*Population!$O$34+AG58*Population!$O$35+AH58*Population!$O$36+AI58*Population!$O$37+AJ58*Population!$O$36+AK58*Population!$O$37+AL58*Population!$O$38+AM58*Population!$O$39+AN58*Population!$O$40+AO58*Population!$O$41+AP58*Population!$O$42+AQ58*Population!$O$43 -> 2.5446362 | L58: =G58/H58 -> 0.06030923 | M58: =(AD58+AE58+AF58+AG58+AH58+AI58)/21*0.5 -> 5.7223315 | N58: =I58/B58 -> 0.25 | O58: =B58-I58-P58*2 -> 394.44562 | P58: =MAX(W58,I58/2) -> 173.27719 | Q58: =SUM(AQ57:AQ57) -> 143.92362 | R58: =SUM(AQ58:AQ58)/B58 -> 0.14609533 | S58: =W58/H58 -> 0.87957963 | T58: =Population!$B$13*MIN(X57:Y57) -> 5.9303259 | U58: =W57*Population!$B$14 -> 1.0392712 | V58: =AM57*S57*Population!$B$12 -> 4.8257379 | W58: =W57+T58-V58-U58 -> 173.27719 | X58: =(AD58+AF58+AH58+AJ58+AL58)-W58 -> 23.733977 | Y58: =(AE58+AG58+AI58+AK58+AM58)-W58 -> 23.733977 | Z58: =(G58+Population!$B$11*Z57)*Population!M$28 -> 82.929263 | AA58: =Z57*Population!$B$12*Population!$M$28+AA57*Population!$B$11*Population!$M$29 -> 82.770892 | AB58: =(AA57*Population!$B$12*0.5*Population!$M$29)+(AB57*Population!$B$11*Population!M$30) -> 41.11178 | AC58: =(AA57*Population!$B$12*0.5*Population!$M$29)+(AC57*Population!$B$11*Population!M$30) -> 41.11178 | AD58: =(AB57*Population!$B$12*Population!M$30)+(AD57*Population!$B$11*Population!M$32) -> 40.75488 | AE58: =(AC57*Population!$B$12*Population!M$30)+(AE57*Population!$B$11*Population!M$32) -> 40.75488 | AF58: =(AD57*Population!$B$12*Population!M$32)+(AF57*Population!$B$11*Population!M$34) -> 40.086301 | AG58: =(AE57*Population!$B$12*Population!M$32)+(AG57*Population!$B$11*Population!M$34) -> 40.086301 | AH58: =(AF57*Population!$B$12*Population!M$34)+(AH57*Population!$B$11*Population!M$36) -> 39.327779 | AI58: =(AG57*Population!$B$12*Population!M$34)+(AI57*Population!$B$11*Population!M$36) -> 39.327779 | AJ58: =(AH57*Population!$B$12*Population!M$36)+(AJ57*Population!$B$11*Population!M$38) -> 38.635842 | AK58: =(AI57*Population!$B$12*Population!M$36)+(AK57*Population!$B$11*Population!M$38) -> 38.635842 | AL58: =(AJ57*Population!$B$12*Population!M$38)+(AL57*Population!$B$11*Population!M$40) -> 38.206362 | AM58: =(AK57*Population!$B$12*Population!M$38)+(AM57*Population!$B$11*Population!M$40) -> 38.206362 | AN58: =(AL57+AM57)*Population!$B$12*Population!$M$40+AN57*Population!$B$11*Population!$M$42 -> 74.036793 | AO58: =AN57*Population!M$42*Population!$B$12+AO57*Population!$B$11*Population!M$43 -> 72.200671 | AP58: =AO57*Population!M$43*Population!$B$12+AP57*Population!$B$11*Population!M$44 -> 56.417199 | AQ58: =(AP57*Population!$B$12+AQ57)*Population!M$45 -> 144.34219
A59: =A58+Population!$B$2 -> 56 | B59: =FLOOR(SUM(Z59:AQ59),1) -> 988 | C59: =FLOOR(B59-I59-G59-SUM(AN59:AQ59),1) -> 382 | D59: =AC58*Population!$P$31*Population!$C$2+AE58*Population!$P$33*Population!$C$2+AG58*Population!$P$35*Population!$C$2+AI58*Population!$P$37*Population!$C$2+AK58*Population!$P$39*Population!$C$2+AM57*Population!$P$41*Population!$C$2 -> 13.297156 | E59: =IF(B58>Population!$B$6*Population!$B$15,Population!$B$8,IF(Population!$J$6=1,D59,Population!$B$8*Population!$B$6*0.9/B58)) -> 11.880918 | F59: =IF(B58>Population!$B$6*0.75,Population!$B$8,E59) -> 11.880918 | G59: =IF(Population!$J$6=1,IF(E59>H58,H58,E59),IF(E59>W58,W58,E59)) -> 11.880918 | H59: =FLOOR(AE59+AG59+AI59+AK59+AM59,1) -> 197 | I59: =FLOOR(SUM(Z59:AC59),1) -> 247 | J59: =I59/H59 -> 1.2538071 | K59: =Z59*Population!$O$28+AA59*Population!$O$29+AB59*Population!$O$30+AC59*Population!$O$31+AD59*Population!$O$32+AE59*Population!$O$33+AF59*Population!$O$34+AG59*Population!$O$35+AH59*Population!$O$36+AI59*Population!$O$37+AJ59*Population!$O$36+AK59*Population!$O$37+AL59*Population!$O$38+AM59*Population!$O$39+AN59*Population!$O$40+AO59*Population!$O$41+AP59*Population!$O$42+AQ59*Population!$O$43 -> 2.5448607 | L59: =G59/H59 -> 0.06030923 | M59: =(AD59+AE59+AF59+AG59+AH59+AI59)/21*0.5 -> 5.7256044 | N59: =I59/B59 -> 0.25 | O59: =B59-I59-P59*2 -> 394.25954 | P59: =MAX(W59,I59/2) -> 173.37023 | Q59: =SUM(AQ58:AQ58) -> 144.34219 | R59: =SUM(AQ59:AQ59)/B59 -> 0.14645997 | S59: =W59/H59 -> 0.88005192 | T59: =Population!$B$13*MIN(X58:Y58) -> 5.9334942 | U59: =W58*Population!$B$14 -> 1.0396631 | V59: =AM58*S58*Population!$B$12 -> 4.8007912 | W59: =W58+T59-V59-U59 -> 173.37023 | X59: =(AD59+AF59+AH59+AJ59+AL59)-W59 -> 23.722027 | Y59: =(AE59+AG59+AI59+AK59+AM59)-W59 -> 23.722027 | Z59: =(G59+Population!$B$11*Z58)*Population!M$28 -> 82.929461 | AA59: =Z58*Population!$B$12*Population!$M$28+AA58*Population!$B$11*Population!$M$29 -> 82.772744 | AB59: =(AA58*Population!$B$12*0.5*Population!$M$29)+(AB58*Population!$B$11*Population!M$30) -> 41.115963 | AC59: =(AA58*Population!$B$12*0.5*Population!$M$29)+(AC58*Population!$B$11*Population!M$30) -> 41.115963 | AD59: =(AB58*Population!$B$12*Population!M$30)+(AD58*Population!$B$11*Population!M$32) -> 40.766978 | AE59: =(AC58*Population!$B$12*Population!M$30)+(AE58*Population!$B$11*Population!M$32) -> 40.766978 | AF59: =(AD58*Population!$B$12*Population!M$32)+(AF58*Population!$B$11*Population!M$34) -> 40.110294 | AG59: =(AE58*Population!$B$12*Population!M$32)+(AG58*Population!$B$11*Population!M$34) -> 40.110294 | AH59: =(AF58*Population!$B$12*Population!M$34)+(AH58*Population!$B$11*Population!M$36) -> 39.360422 | AI59: =(AG58*Population!$B$12*Population!M$34)+(AI58*Population!$B$11*Population!M$36) -> 39.360422 | AJ59: =(AH58*Population!$B$12*Population!M$36)+(AJ58*Population!$B$11*Population!M$38) -> 38.66032 | AK59: =(AI58*Population!$B$12*Population!M$36)+(AK58*Population!$B$11*Population!M$38) -> 38.66032 | AL59: =(AJ58*Population!$B$12*Population!M$38)+(AL58*Population!$B$11*Population!M$40) -> 38.194242 | AM59: =(AK58*Population!$B$12*Population!M$38)+(AM58*Population!$B$11*Population!M$40) -> 38.194242 | AN59: =(AL58+AM58)*Population!$B$12*Population!$M$40+AN58*Population!$B$11*Population!$M$42 -> 73.895167 | AO59: =AN58*Population!M$42*Population!$B$12+AO58*Population!$B$11*Population!M$43 -> 71.937618 | AP59: =AO58*Population!M$43*Population!$B$12+AP58*Population!$B$11*Population!M$44 -> 56.154176 | AQ59: =(AP58*Population!$B$12+AQ58)*Population!M$45 -> 144.70245
... A115: =A114+Population!$B$2 -> 112 | B115: =FLOOR(SUM(Z115:AQ115),1) -> 988 | C115: =FLOOR(B115-I115-G115-SUM(AN115:AQ115),1) -> 386 | D115: =AC114*Population!$P$31*Population!$C$2+AE114*Population!$P$33*Population!$C$2+AG114*Population!$P$35*Population!$C$2+AI114*Population!$P$37*Population!$C$2+AK114*Population!$P$39*Population!$C$2+AM113*Population!$P$41*Population!$C$2 -> 13.412304 | E115: =IF(B114>Population!$B$6*Population!$B$15,Population!$B$8,IF(Population!$J$6=1,D115,Population!$B$8*Population!$B$6*0.9/B114)) -> 11.880918 | F115: =IF(B114>Population!$B$6*0.75,Population!$B$8,E115) -> 11.880918 | G115: =IF(Population!$J$6=1,IF(E115>H114,H114,E115),IF(E115>W114,W114,E115)) -> 11.880918 | H115: =FLOOR(AE115+AG115+AI115+AK115+AM115,1) -> 199 | I115: =FLOOR(SUM(Z115:AC115),1) -> 248 | J115: =I115/H115 -> 1.2462312 | K115: =Z115*Population!$O$28+AA115*Population!$O$29+AB115*Population!$O$30+AC115*Population!$O$31+AD115*Population!$O$32+AE115*Population!$O$33+AF115*Population!$O$34+AG115*Population!$O$35+AH115*Population!$O$36+AI115*Population!$O$37+AJ115*Population!$O$36+AK115*Population!$O$37+AL115*Population!$O$38+AM115*Population!$O$39+AN115*Population!$O$40+AO115*Population!$O$41+AP115*Population!$O$42+AQ115*Population!$O$43 -> 2.5250405 | L115: =G115/H115 -> 0.059703107 | M115: =(AD115+AE115+AF115+AG115+AH115+AI115)/21*0.5 -> 5.7656088 | N115: =I115/B115 -> 0.25101215 | O115: =B115-I115-P115*2 -> 389.20385 | P115: =MAX(W115,I115/2) -> 175.39807 | Q115: =SUM(AQ114:AQ114) -> 143.77614 | R115: =SUM(AQ115:AQ115)/B115 -> 0.14552938 | S115: =W115/H115 -> 0.88139736 | T115: =Population!$B$13*MIN(X114:Y114) -> 5.9357554 | U115: =W114*Population!$B$14 -> 1.0523728 | V115: =AM114*S114*Population!$B$12 -> 4.8807744 | W115: =W114+T115-V115-U115 -> 175.39807 | X115: =(AD115+AF115+AH115+AJ115+AL115)-W115 -> 23.743284 | Y115: =(AE115+AG115+AI115+AK115+AM115)-W115 -> 23.743284 | Z115: =(G115+Population!$B$11*Z114)*Population!M$28 -> 82.930643 | AA115: =Z114*Population!$B$12*Population!$M$28+AA114*Population!$B$11*Population!$M$29 -> 82.78521 | AB115: =(AA114*Population!$B$12*0.5*Population!$M$29)+(AB114*Population!$B$11*Population!M$30) -> 41.147989 | AC115: =(AA114*Population!$B$12*0.5*Population!$M$29)+(AC114*Population!$B$11*Population!M$30) -> 41.147989 | AD115: =(AB114*Population!$B$12*Population!M$30)+(AD114*Population!$B$11*Population!M$32) -> 40.874944 | AE115: =(AC114*Population!$B$12*Population!M$30)+(AE114*Population!$B$11*Population!M$32) -> 40.874944 | AF115: =(AD114*Population!$B$12*Population!M$32)+(AF114*Population!$B$11*Population!M$34) -> 40.370444 | AG115: =(AE114*Population!$B$12*Population!M$32)+(AG114*Population!$B$11*Population!M$34) -> 40.370444 | AH115: =(AF114*Population!$B$12*Population!M$34)+(AH114*Population!$B$11*Population!M$36) -> 39.832396 | AI115: =(AG114*Population!$B$12*Population!M$34)+(AI114*Population!$B$11*Population!M$36) -> 39.832396 | AJ115: =(AH114*Population!$B$12*Population!M$36)+(AJ114*Population!$B$11*Population!M$38) -> 39.298445 | AK115: =(AI114*Population!$B$12*Population!M$36)+(AK114*Population!$B$11*Population!M$38) -> 39.298445 | AL115: =(AJ114*Population!$B$12*Population!M$38)+(AL114*Population!$B$11*Population!M$40) -> 38.765127 | AM115: =(AK114*Population!$B$12*Population!M$38)+(AM114*Population!$B$11*Population!M$40) -> 38.765127 | AN115: =(AL114+AM114)*Population!$B$12*Population!$M$40+AN114*Population!$B$11*Population!$M$42 -> 74.114658 | AO115: =AN114*Population!M$42*Population!$B$12+AO114*Population!$B$11*Population!M$43 -> 70.444313 | AP115: =AO114*Population!M$43*Population!$B$12+AP114*Population!$B$11*Population!M$44 -> 53.611738 | AQ115: =(AP114*Population!$B$12+AQ114)*Population!M$45 -> 143.78302

Sheet Vocations
A1: Crew | D1: =Vehicle!E25 -> 989 | F1: =Vehicle!B25 -> 829
D2: Peak Population | F2: Start Population
A3: Labor Category | C3: Min | D3: FOG | E3: Final | F3: FOG | G3: Final
A4: Non-Working | D4: =SUM(D5:D7) -> 407 | F4: =SUM(F5:F7) -> 236.88092
A5: Children | B5: =100000*0.25 -> 25000 | D5: =MAX('Population Model'!I:I) -> 248 | F5: ='Population Model'!I3 -> 225
A6: Maternity | B6: =CEILING(B5/18,1) -> 1389 | D6: =CEILING(MAX('Population Model'!G:G),1) -> 12 | F6: ='Population Model'!G3 -> 11.880918
A7: Retired | B7: =100000*0.15 -> 15000 | D7: =CEILING(MAX('Population Model'!R:R)*D1,1) -> 147 | F7: =CEILING(0*F1,1) -> 0
A8: Working | D8: =D1-SUM(D5:D7) -> 582 | E8: =SUM(D9:D11) -> 582 | F8: =F1-SUM(F5:F7) -> 592.11908 | G8: =SUM(F9:F11) -> 594
A9: Working | B9: Human Services | D9: =CEILING(SUM(E14:E23),1) -> 118 | F9: =CEILING(SUM(G14:G23),1) -> 99
A10: Working | B10: Robotics + Agriculture | D10: =D28 -> 339 | F10: =F28 -> 235
A11: Working | B11: Ship Systems | D11: =E36 -> 125 | F11: =G36 -> 260
A13: Human Services Categories | B13: Per 100000 | E13: =SUM(E14:E24) -> 118 | G13: =SUM(G14:G24) -> 99
A14: Craftsman - Misc | B14: 1419 | D14: =FLOOR(B14/100000*$D$1,0.1) -> 14 | E14: =IF(D14>C14,FLOOR(D14,1),C14) -> 14 | F14: =FLOOR(B14/100000*$F$1,0.1) -> 11.7 | G14: =IF(F14>C14,FLOOR(F14,1),C14) -> 11 | H14: Figures for trades estimated from medieval towns/cities
A15: Craftsmen - Art | B15: 568 | D15: =FLOOR(B15/100000*$D$1,0.1) -> 5.6 | E15: =IF(D15>C15,FLOOR(D15,1),C15) -> 5 | F15: =FLOOR(B15/100000*$F$1,0.1) -> 4.7 | G15: =IF(F15>C15,FLOOR(F15,1),C15) -> 4 | H15: Figures for trades estimated from medieval towns/cities
A16: Craftsmen - Food | B16: 508 | D16: =FLOOR(B16/100000*$D$1,0.1) -> 5 | E16: =IF(D16>C16,FLOOR(D16,1),C16) -> 5 | F16: =FLOOR(B16/100000*$F$1,0.1) -> 4.2 | G16: =IF(F16>C16,FLOOR(F16,1),C16) -> 4 | H16: Figures for trades estimated from medieval towns/cities
A17: Education | B17: =FLOOR(B5*(18-4)/(18*12),1) -> 1620 | C17: 1 | D17: =FLOOR(B17/100000*$D$1,0.1) -> 16 | E17: =IF(D17>C17,FLOOR(D17,1),C17) -> 16 | F17: =FLOOR(B17/100000*$F$1,0.1) -> 13.4 | G17: =IF(F17>C17,FLOOR(F17,1),C17) -> 13 | H17: Assume 1 teacher per 12 children, starting at age 4
A18: Government | B18: 300 | C18: 1 | D18: =FLOOR(B18/100000*$D$1,0.1) -> 2.9 | E18: =IF(D18>C18,FLOOR(D18,1),C18) -> 2 | F18: =FLOOR(B18/100000*$F$1,0.1) -> 2.4 | G18: =IF(F18>C18,FLOOR(F18,1),C18) -> 2 | H18: Assume at least a mayor | J18: Picked a plausible number from: https://www.governing.com/gov-data/public-workforce-salaries/states-most-government-workers-public-employees-by-job-type.html
A19: Law Enforcement | B19: 667 | D19: =FLOOR(B19/100000*$D$1,0.1) -> 6.5 | E19: =IF(D19>C19,FLOOR(D19,1),C19) -> 6 | F19: =FLOOR(B19/100000*$F$1,0.1) -> 5.5 | G19: =IF(F19>C19,FLOOR(F19,1),C19) -> 5 | H19: Figures for trades estimated from medieval towns/cities
A20: Medical | B20: 95 | C20: 8 | D20: =FLOOR(B20/100000*$D$1,0.1) -> 0.9 | E20: =IF(D20>C20,FLOOR(D20,1),C20) -> 8 | F20: =FLOOR(B20/100000*$F$1,0.1) -> 0.7 | G20: =IF(F20>C20,FLOOR(F20,1),C20) -> 8 | H20: Assuming 3 doctors and 3 nurses on rotation 24/7, with 2 trainees
A21: Service Industry | B21: 3594 | D21: =FLOOR(B21/100000*$D$1,0.1) -> 35.5 | E21: =IF(D21>C21,FLOOR(D21,1),C21) -> 35 | F21: =FLOOR(B21/100000*$F$1,0.1) -> 29.7 | G21: =IF(F21>C21,FLOOR(F21,1),C21) -> 29 | H21: Figures for trades estimated from medieval towns/cities
A22: Student | B22: =FLOOR(B5*0.4*4/18,1) -> 2222 | D22: =FLOOR(B22/100000*$D$1,0.1) -> 21.9 | E22: =IF(D22>C22,FLOOR(D22,1),C22) -> 21 | F22: =FLOOR(B22/100000*$F$1,0.1) -> 18.4 | G22: =IF(F22>C22,FLOOR(F22,1),C22) -> 18 | H22: Assuming 40% of children will go on to 4 years of advanced training
A23: Vendor | B23: 681 | D23: =FLOOR(B23/100000*$D$1,0.1) -> 6.7 | E23: =IF(D23>C23,FLOOR(D23,1),C23) -> 6 | F23: =FLOOR(B23/100000*$F$1,0.1) -> 5.6 | G23: =IF(F23>C23,FLOOR(F23,1),C23) -> 5 | H23: Figures for trades estimated from medieval towns/cities
A24: Artist/Musician | B24: =1999474/144898471*1000 -> 13.799138 | C24: 0 | D24: =FLOOR(B24/100000*$D$1,0.1) -> 0.1 | E24: =IF(D24>C24,FLOOR(D24,1),C24) -> 0 | F24: =FLOOR(B24/100000*$F$1,0.1) -> 0.1 | G24: =IF(F24>C24,FLOOR(F24,1),C24) -> 0 | H24: https://www.arts.gov/sites/default/files/ArtistsInWorkforce.pdf
A26: Inn/Taverns/Restaurants | B26: 300 | D26: =FLOOR(B26/100000*$D$1,0.1) -> 2.9 | E26: =IF(D26>C26,FLOOR(D26,1),C26) -> 2 | F26: =FLOOR(D26/100000*$D$1,0.1) -> 0 | G26: =IF(F26>E26,FLOOR(F26,1),E26) -> 2 | H26: Figures for trades estimated from medieval towns/cities
B28: Weighted Allocation | D28: =SUM(D29:D33) -> 339 | F28: =SUM(F29:F33) -> 235
A29: Robotic Operators | D29: =Automation!C4 -> 9 | E29: =D29 -> 9 | F29: =Automation!C4 -> 9 | G29: =F29 -> 9
A30: Science + Development | D30: =CEILING((D29+D31)*0.05,1) -> 15 | E30: =D30 -> 15 | F30: =CEILING((F29+F31)*0.05,1) -> 12 | G30: =F30 -> 12
A31: Repair + Fabrication | D31: =Automation!C3 -> 282 | E31: =D31 -> 282 | F31: =CEILING(Automation!C3*0.75,1) -> 212 | G31: =F31 -> 212 | H31: Assuming this count also includes individuals engaged in domestic manufactur
A32: Command | D32: =CEILING(SUM(D29:D31)*0.05,1) -> 16 | E32: =D32 -> 16 | F32: =CEILING(SUM(F29:F31)*0.001,1) -> 1 | G32: =F32 -> 1
A33: Trainee / Generalist | D33: =CEILING(SUM(D29:D32)*0.05,1) -> 17 | E33: =D33 -> 17 | F33: =CEILING(SUM(F29:F32)*0.001,1) -> 1 | G33: =F33 -> 1
B35: Weighted Allocation | D35: =SUM(D37:D42) -> 122.5 | F35: =SUM(F37:F42) -> 257.5
A36: Ship Systems | B36: =SUM(B37:B42) -> 1.375 | C36: =SUM(C37:C41) -> 43 | D36: =D8-D9-D10 -> 125 | E36: =SUM(E37:E42) -> 125 | F36: =CEILING(F8-F9-F10,1) -> 259 | G36: =SUM(G37:G42) -> 260
A37: Scientists | B37: 0.05 | C37: 3 | D37: =$C37+FLOOR($B37*($D36-$C36)/$B$36,0.5) -> 5.5 | E37: =CEILING(D37,1) -> 6 | F37: =$C37+FLOOR($B37*($F$36-$C$36)/$B$36,0.5) -> 10.5 | G37: =CEILING(F37,1) -> 11
A38: Technicians / Electricians | B38: 0.85 | C38: 30 | D38: =C38+FLOOR(B38*($D$36-$C$36)/$B$36,0.5) -> 80.5 | E38: =CEILING(D38,1) -> 81 | F38: =$C38+FLOOR($B38*($F$36-$C$36)/$B$36,0.5) -> 163.5 | G38: =CEILING(F38,1) -> 164
A39: Plant Safety | B39: 0.1 | C39: 3 | D39: =C39+FLOOR(B39*($D$36-$C$36)/$B$36,0.5) -> 8.5 | E39: =CEILING(D39,1) -> 9 | F39: =$C39+FLOOR($B39*($F$36-$C$36)/$B$36,0.5) -> 18.5 | G39: =CEILING(F39,1) -> 19
A40: Plant Operator | B40: 0.2 | C40: 6 | D40: =C40+FLOOR(B40*($D$36-$C$36)/$B$36,0.5) -> 17.5 | E40: =CEILING(D40,1) -> 18 | F40: =$C40+FLOOR($B40*($F$36-$C$36)/$B$36,0.5) -> 37 | G40: =CEILING(F40,1) -> 37
A41: Officers | B41: 0.05 | C41: 1 | D41: =C41+FLOOR(B41*($D$36-$C$36)/$B$36,0.5) -> 3.5 | E41: =CEILING(D41,1) -> 4 | F41: =$C41+FLOOR($B41*($F$36-$C$36)/$B$36,0.5) -> 8.5 | G41: =CEILING(F41,1) -> 9
A42: Trainee / Generalist | B42: =SUM(B37:B41)*0.1 -> 0.125 | D42: =C42+FLOOR(B42*($D$36-$C$36)/$B$36,0.5) -> 7 | E42: =CEILING(D42,1) -> 7 | F42: =$C42+FLOOR($B42*($F$36-$C$36)/$B$36,0.5) -> 19.5 | G42: =CEILING(F42,1) -> 20

Sheet Billet

Sheet Agriculture
A1: Total Area: | D1: =Vehicle!B41*0.000001 -> 6.68688 | E1: km^2
A2: Human Population (peak) | D2: =Vehicle!E25 -> 989
A4: Raw Cultivattion Estimate
A5: Medieval Population Rate | D5: =180*Conversion!G16 -> 69.498389 | E5: capita/km^2
A6: Medieval Estimate | D6: =D2/D5 -> 14.230546 | E6: km^2 | F6: https://en.wikipedia.org/wiki/Carucate
A7: Cultivation | D7: =C45*0.000001 -> 5.9755137 | E7: km^2
D8: =D7*Conversion!D16 -> 597.55137 | E8: hectare
A10: Livestock Forage | D10: kg / capita | E10: Food From Crops | F10: Organisms
C11: Cricket | D11: =IF(SUM(D12:D15)>G27,0,G27-SUM(D12:D15)) -> 5.2447664 | E11: =Protein!B10 -> 632702.4
C12: Cattle | D12: =H12/2.2 -> 18.181818 | E12: =Cattle!D8 -> 2273524.3 | F12: =Cattle!C18 -> 509 | H12: 40 | I12: 67.8 | J12: US 1990 | K12: http://www.foodreference.com/html/fbeef.html
C13: Chicken | D13: =H13/2.2 -> 13.636364 | E13: =Protein!B27 -> 96039.256 | F13: =SUM(Protein!B19:D19) -> 5363.8946 | H13: 30 | I13: 61.5 | J13: US 1990 | K13: http://www.foodreference.com/html/f-chick-consp.html
C14: Pigs | D14: =H14/2.2 -> 4.5454545 | E14: =Protein!B44 -> 19460.842 | F14: =Protein!B35 -> 57.085137 | H14: 10 | I14: 49.8 | J14: US 1990 | K14: http://www.foodreference.com/html/fpork.html
C15: Fish | D15: 18 | E15: =Protein!B60 -> 99515.67
C16: Total | E16: =SUM(E12:E14) -> 2389024.4
C17: Grown | E17: =SUM(Crops!G4:G119) -> 2389024.4
B19: Avg Mass | D19: 80 | E19: kg/person
B20: Protein per day | D20: 0.00125 | E20: g/kg/day | F20: https://www.healthline.com/nutrition/how-much-protein-per-day
