Workbook

Sheet design
A1: Overall
A2: (With Drop Tank) | B2: gvm | C2: 12100000 | D2: kg | E2: =H33+B33+C3 -> 12068867 | F2: actual | G2: =C2/constants!$C$12 -> 0.011381226 | H2: nimitz carrier | I2: =C2/1000 -> 12100 | J2: Tons
B3: reaction mass | C3: =structure!C9 -> 6566167.4 | E3: =performance!C30 -> 7047013.5 | F3: actual | G3: =C3/constants!$C$12 -> 0.0061761184 | H3: nimitz carrier
B4: Max Deltav | C4: =constants!$C$9/(3600*24)*E4 -> 346291.37 | D4: m/s | E4: 0.2 | F4: au/day
B5: Combat Radius | C5: =performance!B34 -> 11.450249 | D5: au
B6: Ferry Range | C6: =performance!B35 -> 61.473036 | D6: au
B7: Diameter | C7: =($C$30+2)*2 -> 40
B8: Height | C8: =$J$33-$J$39 -> 35.417416
A10: (Internal Tanks) | B10: gvm | C10: =performance!B65 -> 14452927 | G10: =C10/constants!$C$12 -> 0.013594382 | H10: nimitz carrier
B11: reaction mass | C11: =performance!D65+performance!D66 -> 8949523 | E11: =structure!$C$10+structure!C9 -> 7047013.5 | G11: =C11/constants!$C$12 -> 0.0084178958 | H11: nimitz carrier
B12: Max Deltav | C12: =constants!$C$9/(3600*24)*E12 -> 1013941.1 | D12: m/s | E12: 0.5856 | F12: au/day
B13: Stages | C13: 2
B14: Combat Radius | C14: =performance!B53 -> 13.180784 | D14: au
B15: Ferry Range | C15: =performance!B54 -> 32.002724 | D15: au
B16: Dry Mass | C16: =B33+H33 -> 5502699.1 | G16: =C16/constants!$C$12 -> 0.0051758231 | H16: nimitz carrier
B17: Diameter | C17: =($C$30+2)*2 -> 40
B18: Height | C18: =$J$33-$J$39-J42 -> 35
B21: Reaction Mass (total) | C21: =EXP(C4*C5/performance!C6)*C16 -> 36357201 | E21: =C21-B33-H33 -> 30854502
A22: All | B22: =accomodation!C5 -> 113 | C22: souls | D22: =accomodation!E5 -> 0 | E22: (Emergency)
A23: Mission Profile
B24: Endurance | C24: 60 | D24: days
B25: Range | C25: =E4*C24 -> 12 | D25: au
B26: deltav | C26: =performance!E68 -> 0 | D26: au/day
A27: Cross Section
B29: area | C29: =PI()*C30^2 -> 1017.876 | D29: m^2
B30: radius | C30: 18 | D30: m
A31: Mass Budget
B32: Payload | F32: Volume | H32: Dry Mass | J32: Height
A33: Total | B33: =SUM(B34:B43) -> 383464 | F33: =SUM(F34:F43) -> 37749.753 | G33: m^3 | H33: =SUM(H34:H43) -> 5119235.1 | I33: kg | J33: =SUM(J34:J43) -> 51.417416 | K33: m
A34: Bulk Cargo | B34: =F34*constants!C17 -> 55000 | C34: kg | D34: =B34/1000 -> 55 | E34: tons | F34: 50 | G34: m^3 | I34: kg | J34: 5
A35: Internal Reaction Tank | F35: =structure!C23+structure!C17 -> 7162.8313 | G35: m^3 | I35: kg | J35: =structure!C22 -> 0
A36: Fuel Capacity | B36: 500 | C36: kg | D36: =performance!C31+performance!E20*accomodation!C6 -> 554.84249 | E36: actual | F36: =B36/780 -> 0.64102564 | G36: m^3 | I36: kg
A37: Accomdation | B37: =accomodation!C19 -> 287964 | C37: kg | F37: =accomodation!C14 -> 25446.9 | G37: m^3 | H37: =accomodation!C18 -> 2279043 | I37: kg | J37: 25
A38: Structure | H38: =F33*constants!C3 -> 1694456.1 | I38: kg
A39: Engines | H39: =performance!C10 -> 6.7244323 | I39: kg | J39: 16
A40: Reactor | F40: =C29*J40 -> 0 | G40: m^3 | H40: =performance!C16 -> 140815.6 | I40: kg | J40: 0
A41: Gyros | H41: =structure!C58 -> 4913.7022 | I41: kg
A42: External Tanks | I42: kg | J42: =structure!C28 -> 0.41741593
A43: Weapons | B43: =2000*20 -> 40000 | C43: kg | F43: =J43*C29 -> 5089.3801 | G43: m^3 | H43: 1000000 | I43: kg | J43: 5

Sheet structure
A1: Voyage Stages
B2: Launch GVM | C2: =design!C2 -> 12100000
B3: Propellent Budget | C3: =design!C21 -> 36357201
A4: Deployment | B4: Stage 1 | C4: =performance!D38 -> 1907767.2 | D4: =C4+C5 -> 3525511.8
B5: Stage 2 | C5: =performance!D39 -> 1617744.5
A6: Patrol | B6: Stage 3 | C6: =performance!D40 -> 1371811.7 | D6: =C6+C7+C8 -> 3521501.7
A7: Return | B7: Stage 4 | C7: =performance!D41 -> 1163266.1
B8: Stage 4 | C8: =performance!D42 -> 986423.97
B9: Internal Fuel | C9: =C18+C24 -> 6566167.4 | D9: =D6 -> 3521501.7
B10: External Fuel | C10: =C30 -> 480846.11 | D10: =IF((D4+D6)<C9,0,(D4+D6)-C9) -> 480846.11
A12: Conformal Reaction Mass Tank
B13: Outer Radius | C13: =C14+2 -> 20
B14: Inner Radius | C14: =design!C30 -> 18
B15: Cross Section | C15: =PI()*C13^2-PI()*C14^2 -> 238.76104
B16: height | C16: =design!J34+design!J37+design!J40 -> 30
B17: volume | C17: =C15*C16 -> 7162.8313
B18: enclosed mass | C18: =C17*constants!$C$28 -> 6566167.4 | D18: kg
A19: Bow Tank
B20: Outer Radius | C20: =C13 -> 20
B21: Cross Sectional Area | C21: =PI()*C20^2 -> 1256.6371
B22: Height | C22: 0
B23: Volume | C23: =C21*C22 -> 0
B24: enclosed mass | C24: =C23*constants!$C$28 -> 0 | D24: kg | E24: =D6-C18 -> -3044665.7
A25: Drop Tank
B26: Outer Radius | C26: =C13 -> 20
B27: Cross Sectional Area | C27: =PI()*C26^2 -> 1256.6371
B28: Height | C28: =C29/C27 -> 0.41741593
B29: Volume | C29: =C30/constants!$C$28 -> 524.54032
B30: enclosed mass | C30: =D10 -> 480846.11 | D30: kg
B31: Structure | C31: =C29*constants!$C$5 -> 1.4570565 | D31: kg
A33: Radiator
B34: Energy Dissapation | C34: 350 | D34: w/m^2
B35: Mass | C35: 1 | D35: kg/m^2
B36: Thermal Heat (peak) | C36: =performance!C22 -> 5632624 | D36: watt
B37: Thermal Heat (coast) | C37: =accomodation!C22/24/3600*1000 -> 43.595679 | D37: watt
B39: Surface area | C39: =C13*PI()*2*design!J33+PI()*C13^2 -> 7717.9401 | D39: m^2
B40: radiated watts | C40: =C39*C34 -> 2701279 | D40: watt
C41: =design!C3 -> 6566167.4
B42: Enthalpy of react mass | C42: =C41*constants!C25 -> 2.1901451e+12
B43: Time to melt | C43: =C42/C36 -> 388832.12 | D43: seconds | E43: =C43/24/3600 -> 4.5003718 | F43: days
B44: Temperature rise water | C44: =C36/(C41*constants!C26) -> 0.00020492719 | D44: dec c / second
C45: =C44*(performance!C78+performance!C67) -> 0 | D45: Full engine thrust
A47: Spacecratft
B48: Mass | C48: =design!C2 -> 12100000
B49: Angular Speed | C49: =accomodation!C16 -> 0.46666667
B50: Moment of Inertia | C50: =0.5*C48*C13^2 -> 2420000000
B51: Angular Momentum | C51: =C50*C49 -> 1.1293333e+09
A52: Counter-Gyros
B53: Outer Radius | C53: =C13 -> 20 | D53: m
B54: Inner Radius | C54: =C53-0.1 -> 19.9 | D54: m
B55: Thicknes | C55: 0.05 | D55: m
B56: Density | C56: 7840 | D56: kg/m^3
B57: Cross Sectional Area | C57: =PI()*C53^2-PI()*C54^2 -> 12.534955
B58: Mass | C58: =C57*C56*C55 -> 4913.7022 | D58: kg
B59: Moment of Inertia | C59: =0.5*C58*(C53*C53+C54*C54) -> 1955678.1
B60: Momentum | C60: =C51/2 -> 5.6466667e+08
B61: Speed | C61: =C60/C59 -> 288.73191 | D61: rad/sec | E61: =C61*30/PI() -> 2757.1867 | F61: rpm

Sheet accomodation
E1: Austere
A2: Crew | C2: =C32 -> 104
A3: Officers | C3: =C39 -> 9
A4: Austere | C4: =C47 -> 0
A5: All | C5: =C2+C3+C4 -> 113
A6: Mission Duration | C6: =design!C24 -> 60 | D6: days
A8: Vessel
B9: Cross Section | C9: =design!C29 -> 1017.876 | D9: m^2
B10: Outer Wall Radius | C10: =design!C30 -> 18
B11: Core Cross Section | C11: =E24/C13 -> 1.7556433 | D11: m^2 | E11: =SQRT(C11/PI()) -> 0.7475551 | F11: radius
B12: Deck Spacing | C12: 3 | D12: m
B13: Accoodation Length | C13: =design!J37 -> 25
B14: Accoodation Volume | C14: =C13*C9 -> 25446.9 | D14: m^3
B15: Rotational Grav | C15: 0.4 | D15: g | E15: =C15*9.8 -> 3.92 | F15: m/s/s
B16: Rotation | C16: =SQRT(E15/C10) -> 0.46666667 | D16: rad/sec | E16: =C16*30/PI() -> 4.4563384 | F16: rpm
B17: Area | C17: =SUM(B65:B79) -> 53 | D17: m^2 | E17: =C17/C5 -> 0.46902655 | F17: m^2/person
B18: Dry Mass | C18: =SUM(F65:F80) -> 2279043 | D18: kg | E18: =C18/C5/1000 -> 20.168523 | F18: ton/person
B19: Cargo Mass | C19: =C61+C44+C36+C29 -> 287964 | D19: kg
B20: Floor Area | C20: =SUM(C65:C78) -> 8325.2205 | D20: m
B21: Volume | C21: =C9*C13 -> 25446.9 | D21: m^3
B22: Power Usage | C22: =C5*constants!C20 -> 3766.6667 | D22: kwh/day
B23: Electrical Efficiency | C23: 0.8
B24: Life Support Equipment | C24: =constants!C21*C5 -> 87782.167 | D24: kg | E24: =C24/2000 -> 43.891083 | F24: m^3 | G24: volume
A25: Food
B26: Meals/day | C26: =C5*3 -> 339
B27: Mess Staff | C27: =CEILING(C26/constants!$C$19,1) -> 3
B28: Meal Mass | C28: 2 | D28: kg/meal
B29: Mass | C29: =C26*C6*C28 -> 40680 | D29: kg
A30: Crew Accomodations
B31: Cabins | C31: =SUM(K65:K78) -> 52
B32: Bunks | C32: =C31*C34 -> 104
B33: Cabin Size | C33: 75 | D33: m^2
B34: Passengers/Cabin | C34: 2
B35: Meals/Day | C35: 3
B36: Personal Effects | C36: =C2*(100+2000) -> 218400 | D36: kg
A37: Officer
B38: Cabins | C38: =SUM(I65:I79) -> 9
B39: Passengers | C39: =C38*C41 -> 9
B40: Cabin Size | C40: 75 | D40: m^2
B41: Passengers/Cabin | C41: 1
B42: Hotel Crew | C42: =CEILING(C39/8,1) -> 2
B43: Meals/Day | C43: 3
B44: Personal Effects | C44: =C39*(100+1000) -> 9900 | D44: kg
A45: Marines
B46: Cabins | C46: =SUM(J65:J79) -> 0
B47: Passengers | C47: =C46*C49 -> 0
B48: Cabin Size | C48: 75 | D48: m^2
B49: Passengers/Cabin | C49: 4
B50: Hotel Crew | C50: =CEILING(C47/8,1) -> 0
B51: Meals/Day | C51: 3
B52: Personal Effects | C52: =C47*(100+1000) -> 0 | D52: kg
A53: Crew Billets
B54: Engineering | C54: 10
B55: Hospitality | C55: =C42 -> 2
B56: Kitchen | C56: 12
A58: Water
B59: Usage | C59: =28 -> 28 | D59: l/day/person
B60: Recycle | C60: 0.9
B61: Tankage | C61: =C59*C6*(1-C60)*C5 -> 18984 | D61: kg
A64: Decks | B64: Radius | C64: Area | D64: Gravity | E64: Class | F64: Mass | I64: First Class | J64: Second Class | K64: Crew Accomodation
A65: 4 | B65: 8 | C65: =2*B65*PI()*$C$13 -> 1256.6371 | D65: =$C$16^2*B65/9.8 -> 0.17777778 | F65: =C24 -> 87782.167 | G65: kg | H65: Core | I65: =IF(E65=1,FLOOR(C65*0.25/$C$40,1),0) -> 0 | J65: =IF(E65=2,FLOOR(C65*1/$C$48,1),0) -> 0 | K65: =IF(E65=3,FLOOR(C65*0.9/$C$33,1),0)+IF(E65=1,FLOOR(C65*0.65/$C$33,1),0) -> 0
A66: 3 | B66: =B65+4 -> 12 | C66: =2*B66*PI()*$C$13 -> 1884.9556 | D66: =$C$16^2*B66/9.8 -> 0.26666667 | F66: =C66*constants!$C$7 -> 584336.23 | G66: kg | H66: Mission Areas | I66: =IF(E66=1,FLOOR(C66*0.25/$C$40,1),0) -> 0 | J66: =IF(E66=2,FLOOR(C66*0.05/$C$48,1),0) -> 0 | K66: =IF(E66=3,FLOOR(C66*0.9/$C$33,1),0)+IF(E66=1,FLOOR(C66*0.65/$C$33,1),0) -> 0
A67: 2 | B67: =B66+3 -> 15 | C67: =2*B67*PI()*$C$13 -> 2356.1945 | D67: =$C$16^2*B67/9.8 -> 0.33333333 | E67: 3 | F67: =C67*constants!$C$7 -> 730420.29 | G67: kg | H67: Crew Accomodations | I67: =IF(E67=1,FLOOR(C67*0.25/$C$40,1),0) -> 0 | J67: =IF(E67=2,FLOOR(C67*0.05/$C$48,1),0) -> 0 | K67: =IF(E67=3,FLOOR(C67*0.9/$C$33,1),0)+IF(E67=1,FLOOR(C67*0.65/$C$33,1),0) -> 28
A68: 1 | B68: =B67+3 -> 18 | C68: =2*B68*PI()*$C$13 -> 2827.4334 | D68: =$C$16^2*B68/9.8 -> 0.4 | E68: 1 | F68: =C68*constants!$C$7 -> 876504.35 | G68: kg | H68: Officer / Crew | I68: =IF(E68=1,FLOOR(C68*0.25/$C$40,1),0) -> 9 | J68: =IF(E68=2,FLOOR(C68*0.95/$C$48,1),0) -> 0 | K68: =IF(E68=3,FLOOR(C68*0.9/$C$33,1),0)+IF(E68=1,FLOOR(C68*0.65/$C$33,1),0) -> 24

Sheet performance
A1: Voyage
A3: Performance
B4: mdot | C4: =C9/C6 -> 14.980952 | D4: kg/s | E4: 1400 MJ/kg | F4: https://en.wikipedia.org/wiki/Specific_impulse
B5: deltav | C5: =design!C4 -> 346291.37 | D5: m/s | E5: =C5/constants!C9*3600*24 -> 0.2 | F5: au/day
B6: ve | C6: =2100000 -> 2100000 | D6: nuclear plasma | E6: =C6/200000000 -> 0.0105
B7: iSP | C7: =C6/9.8 -> 214285.71 | D7: s
B8: Efficiency | C8: 0.8
B9: Impulse | C9: =design!C2*E9 -> 31460000 | D9: N | E9: 2.6 | F9: m/s/s
B10: Engine mass | C10: =C4/1000*constants!C3*E10 -> 6.7244323 | D10: kg | E10: 10 | F10: w/kg
B11: Empty Mass | C11: =design!C16 -> 5502699.1
A12: Fusion Fuel Usage
B13: Fuel Mass Fac | C13: 5.0520903e-11 | D13: kg/kwh
B14: Peak Output | C14: =(G20)*3.6+(C9*(1-C8)) -> 14081560 | D14: w
B15: Efficiency | C15: 0.6
B16: Reactor Mass | C16: =C14/E16 -> 140815.6 | D16: kg | E16: 100 | F16: w/kg
B17: Rector Volume | C17: =C16/7000 -> 20.116514 | D17: m^2
B18: Reactor Radius | C18: =POWER(C17*3/(4*PI()),1/3) -> 1.6871539 | D18: m
B19: Engines | C19: =E19*C13 -> 7.8727287e-05 | D19: kg/kg | E19: =G19/1000*3600 -> 1558311.2 | F19: kwh/kg | G19: =C5/C8 -> 432864.21 | H19: wat/kg | I19: Lithium Deutride is exploded in volumes of propellent to produce thrust
B20: Habitat | C20: =E20/(24*3600) -> 1.2652251e-09 | D20: kg/s | E20: =G20*$C$13 -> 0.00010931545 | F20: kg/day | G20: =accomodation!C22+90*1000*24 -> 2163766.7 | H20: kwh
A21: Thermal Management
B22: Engines Running | C22: =C14*(1-C15) -> 5632624 | D22: w
B23: Coasting | C23: =G20/3600*1000 -> 601046.3 | D23: w
A25: Propellent
B26: dry mass | C26: =design!H33 -> 5119235.1
B27: payload | C27: =design!B33 -> 383464
B28: mf | C28: =C26+C27 -> 5502699.1
B29: stages | C29: 2
B30: total Propellent | C30: =SUM(D38:D42) -> 7047013.5
B31: total fuel | C31: =SUM(E38:E42) -> 554.83594 | D31: =structure!C9+structure!C10 -> 7047013.5
A33: Total Propellant | B33: =SUM(D38:D42) -> 7047013.5 | C33: =structure!$C$10+structure!$C$10 -> 961692.23
A34: Combat Radius | B34: =(J38+J39)+H38*(design!$C$24-performance!L36) -> 11.450249 | C34: au
A35: Ferry Range | B35: =(J47+J49)+H47*(design!$C$24-L44) -> 61.473036 | C35: au
A36: Deploy / Patrol / Return | L36: =SUM(L38:L42)/24 -> 4.3845815
A37: Stage | B37: m0 | C37: mf | D37: propellant | E37: Fuel | F37: deltav | H37: actual | J37: distance | K37: Max G | L37: Time
A38: 1 | B38: =EXP(F38/$C$6)*C38 -> 12550267 | C38: =B39 -> 10642350 | D38: =B38-C38-E38 -> 1907767.2 | E38: =(B38-C38)*$C$19 -> 150.20516 | F38: =$C$5 -> 346291.37 | G38: =$C$6*LN(B38/C38) -> 346291.37 | H38: =F38*3600*24/constants!$C$9 -> 0.2 | I38: au/day | J38: =F38*(B38/$C$4)*(1-(C38/B38)*(LOG(B38/C38)+1))/constants!$C$9 -> 0.17703976 | K38: =($C$6*$C$4)/C38/9.8 -> 0.30164429 | L38: =D38/$C$4/3600 -> 35.373942 | M38: hours
A39: =A38+1 -> 2 | B39: =EXP(F39/$C$6)*C39 -> 10642350 | C39: =B40 -> 9024478.1 | D39: =B39-C39-E39 -> 1617744.5 | E39: =(B39-C39)*$C$19 -> 127.37067 | F39: =$C$5 -> 346291.37 | G39: =$C$6*LN(B39/C39) -> 346291.37 | H39: =F39*3600*24/constants!$C$9 -> 0.2 | I39: au/day | J39: =$C$5*(B39/$C$4)*(1-(C39/B39)*(LOG(B39/C39)+1))/constants!$C$9 -> 0.15012581 | K39: =($C$6*$C$4)/C39/9.8 -> 0.35572185 | L39: =D39/$C$4/3600 -> 29.996323 | M39: hours
A40: =A39+1 -> 3 | B40: =EXP(F40/$C$6)*C40 -> 9024478.1 | C40: =B41 -> 7652558.4 | D40: =B40-C40-E40 -> 1371811.7 | E40: =(B40-C40)*$C$19 -> 108.00752 | F40: =$C$5 -> 346291.37 | G40: =$C$6*LN(B40/C40) -> 346291.37 | H40: =F40*3600*24/constants!$C$9 -> 0.2 | I40: au/day | J40: =$C$5*(B40/$C$4)*(1-(C40/B40)*(LOG(B40/C40)+1))/constants!$C$9 -> 0.12730337 | K40: =($C$6*$C$4)/C40/9.8 -> 0.41949423 | M40: hours
A41: =A40+1 -> 4 | B41: =EXP(F41/$C$6)*C41 -> 7652558.4 | C41: =B42 -> 6489200.8 | D41: =B41-C41-E41 -> 1163266.1 | E41: =(B41-C41)*$C$19 -> 91.587992 | F41: =$C$5 -> 346291.37 | G41: =$C$6*LN(B41/C41) -> 346291.37 | H41: =F41*3600*24/constants!$C$9 -> 0.2 | I41: au/day | J41: =$C$5*(B41/$C$4)*(1-(C41/B41)*(LOG(B41/C41)+1))/constants!$C$9 -> 0.10795045 | K41: =($C$6*$C$4)/C41/9.8 -> 0.49469945 | L41: =D41/$C$4/3600 -> 21.569354 | M41: hours
A42: =A41+1 -> 5 | B42: =EXP(F42/$C$6)*C42 -> 6489200.8 | C42: =$C$28 -> 5502699.1 | D42: =B42-C42-E42 -> 986423.97 | E42: =(B42-C42)*$C$19 -> 77.664597 | F42: =$C$5 -> 346291.37 | G42: =$C$6*LN(B42/C42) -> 346291.37 | H42: =F42*3600*24/constants!$C$9 -> 0.2 | I42: au/day | J42: =$C$5*(B42/$C$4)*(1-(C42/B42)*(LOG(B42/C42)+1))/constants!$C$9 -> 0.091539605 | K42: =($C$6*$C$4)/C42/9.8 -> 0.58338717 | L42: =D42/$C$4/3600 -> 18.290336 | M42: hours
D44: =SUM(D47:D49) -> 6739130.3
A45: Ferry | B45: m0 | C45: mf | D45: propellant | E45: Fuel | F45: deltav | H45: actual | J45: Max G
A46: 1 | B46: =EXP(F46/$C$6)*C46 -> 11859556 | C46: =B47 -> 11859556 | D46: =B46-C46-E46 -> 0 | E46: =(B46-C46)*$C$19 -> 0 | F46: 0 | G46: =$C$6*LN(B46/C46) -> 0 | H46: =F46*3600*24/constants!$C$9 -> 0 | I46: au/day | J46: =($C$6*$C$4)/C46/9.8 -> 0.27068501 | L46: =D46/$C$4/3600 -> 0
A47: 1 | B47: =EXP(F47/$C$6)*C47 -> 11859556 | C47: =B48 -> 5183678.3 | D47: =B47-C47-E47 -> 6675352.1 | E47: =(B47-C47)*$C$19 -> 525.57374 | F47: =1580000*1.1 -> 1738000 | G47: =$C$6*LN(B47/C47) -> 1738000 | H47: =F47*3600*24/constants!$C$9 -> 1.003779 | I47: au/day | J47: =($C$6*$C$4)/C47/9.8 -> 0.61929076 | L47: =D47/$C$4/3600 -> 123.77481
A48: 1 | B48: =EXP(F48/$C$6)*C48 -> 5183678.3 | C48: =B49 -> 5151688 | D48: =B48-C48-E48 -> 31987.799 | E48: =(B48-C48)*$C$19 -> 2.5185109 | F48: 13000 | G48: =$C$6*LN(B48/C48) -> 13000 | H48: =F48*3600*24/constants!$C$9 -> 0.0075081283 | I48: au/day | J48: =($C$6*$C$4)/C48/9.8 -> 0.62313635 | L48: =D48/$C$4/3600 -> 0.59311982
A49: 2 | B49: =EXP(F49/$C$6)*C49 -> 5151688 | C49: =C26+3*220 -> 5119895.1 | D49: =B49-C49-E49 -> 31790.391 | E49: =(B49-C49)*$C$19 -> 2.5029683 | F49: =F48 -> 13000 | G49: =$C$6*LN(B49/C49) -> 13000 | H49: =F49*3600*24/constants!$C$9 -> 0.0075081283 | I49: au/day | J49: =($C$6*$C$4)/C49/9.8 -> 0.62700583 | L49: =D49/$C$4/3600 -> 0.58945946
M50: =SUM(L48:L49)*60 -> 70.954757
A52: Total Propellant | B52: =SUM(D65:D66) -> 8949523 | C52: =structure!$C$10 -> 480846.11
A53: Combat Radius | B53: =(J57+J58)+H57*(design!$C$24-performance!L55) -> 13.180784 | C53: au
A54: Ferry Range | B54: =(J65+J66)+H65*(design!$C$24-L63) -> 32.002724 | C54: au
A55: Deploy / Patrol / Return | L55: =SUM(L57:L61)/24 -> 5.5816553
A56: Stage | B56: m0 | C56: mf | D56: propellant | E56: Fuel | F56: deltav | H56: actual | J56: distance | K56: Max G | L56: Time
A57: 1 | B57: =EXP(F57/$C$6)*C57 -> 14452927 | C57: =B58 -> 11914609 | D57: =B57-C57-E57 -> 2538117.9 | E57: =(B57-C57)*$C$19 -> 199.83487 | F57: =design!$C$12*2/5 -> 405576.45 | G57: =$C$6*LN(B57/C57) -> 405576.45 | H57: =F57*3600*24/constants!$C$9 -> 0.23424 | I57: au/day | J57: =$C$5*(B57/$C$4)*(1-(C57/B57)*(LOG(B57/C57)+1))/constants!$C$9 -> 0.23779701 | K57: =($C$6*$C$4)/C57/9.8 -> 0.26943428 | L57: =D57/$C$4/3600 -> 47.061945 | M57: hours
A58: =A57+1 -> 2 | B58: =EXP(F58/$C$6)*C58 -> 11914609 | C58: =B59 -> 9822087.3 | D58: =B58-C58-E58 -> 2092357 | E58: =(B58-C58)*$C$19 -> 164.73856 | F58: =design!$C$12*2/5 -> 405576.45 | G58: =$C$6*LN(B58/C58) -> 405576.45 | H58: =F58*3600*24/constants!$C$9 -> 0.23424 | I58: au/day | J58: =$C$5*(B58/$C$4)*(1-(C58/B58)*(LOG(B58/C58)+1))/constants!$C$9 -> 0.19603354 | K58: =($C$6*$C$4)/C58/9.8 -> 0.32683522 | L58: =D58/$C$4/3600 -> 38.796617 | M58: hours
A59: =A58+1 -> 3 | B59: =EXP(F59/$C$6)*C59 -> 9822087.3 | C59: =B60 -> 8097067.9 | D59: =B59-C59-E59 -> 1724883.5 | E59: =(B59-C59)*$C$19 -> 135.80609 | F59: =design!$C$12*2/5 -> 405576.45 | G59: =$C$6*LN(B59/C59) -> 405576.45 | H59: =F59*3600*24/constants!$C$9 -> 0.23424 | I59: au/day | J59: =$C$5*(B59/$C$4)*(1-(C59/B59)*(LOG(B59/C59)+1))/constants!$C$9 -> 0.16160485 | K59: =($C$6*$C$4)/C59/9.8 -> 0.39646501 | M59: hours
A60: =A59+1 -> 4 | B60: =EXP(F60/$C$6)*C60 -> 8097067.9 | C60: =B61 -> 6675007.8 | D60: =B60-C60-E60 -> 1421948.2 | E60: =(B60-C60)*$C$19 -> 111.95494 | F60: =design!$C$12*2/5 -> 405576.45 | G60: =$C$6*LN(B60/C60) -> 405576.45 | H60: =F60*3600*24/constants!$C$9 -> 0.23424 | I60: au/day | J60: =$C$5*(B60/$C$4)*(1-(C60/B60)*(LOG(B60/C60)+1))/constants!$C$9 -> 0.13322274 | K60: =($C$6*$C$4)/C60/9.8 -> 0.48092889 | L60: =D60/$C$4/3600 -> 26.365854 | M60: hours
A61: =A60+1 -> 5 | B61: =EXP(F61/$C$6)*C61 -> 6675007.8 | C61: =$C$28 -> 5502699.1 | D61: =B61-C61-E61 -> 1172216.3 | E61: =(B61-C61)*$C$19 -> 92.292677 | F61: =design!$C$12*2/5 -> 405576.45 | G61: =$C$6*LN(B61/C61) -> 405576.45 | H61: =F61*3600*24/constants!$C$9 -> 0.23424 | I61: au/day | J61: =$C$5*(B61/$C$4)*(1-(C61/B61)*(LOG(B61/C61)+1))/constants!$C$9 -> 0.10982529 | K61: =($C$6*$C$4)/C61/9.8 -> 0.58338717 | L61: =D61/$C$4/3600 -> 21.73531 | M61: hours
L63: =SUM(L65:L66)/24 -> 6.9142762
A64: Ferry | B64: m0 | C64: mf | D64: propellant | E64: Fuel | F64: deltav | H64: actual | J64: distance | K64: Max G | L64: Time
A65: 1 | B65: =EXP(F65/$C$6)*C65 -> 14452927 | C65: =B66 -> 8917965.4 | D65: =B65-C65-E65 -> 5534525.6 | E65: =(B65-C65)*$C$19 -> 435.75249 | F65: =design!C12 -> 1013941.1 | G65: =$C$6*LN(B65/C65) -> 1013941.1 | H65: =F65*3600*24/constants!$C$9 -> 0.5856 | I65: au/day | J65: =$C$5*(B65/$C$4)*(1-(C65/B65)*(LOG(B65/C65)+1))/constants!$C$9 -> 0.56629827 | K65: =($C$6*$C$4)/C65/9.8 -> 0.35997046 | L65: =D65/$C$4/3600 -> 102.62153 | M65: hours
A66: 2 | B66: =EXP(F66/$C$6)*C66 -> 8917965.4 | C66: =$C$28 -> 5502699.1 | D66: =B66-C66-E66 -> 3414997.4 | E66: =(B66-C66)*$C$19 -> 268.87465 | F66: =F65 -> 1013941.1 | G66: =$C$6*LN(B66/C66) -> 1013941.1 | H66: =F66*3600*24/constants!$C$9 -> 0.5856 | I66: au/day | J66: =$C$5*(B66/$C$4)*(1-(C66/B66)*(LOG(B66/C66)+1))/constants!$C$9 -> 0.349426 | K66: =($C$6*$C$4)/C66/9.8 -> 0.58338717 | L66: =D66/$C$4/3600 -> 63.321101 | M66: hours

Sheet constants
A2: kg/m^3 | B2: steel ship (ocean going) | C2: =E2*1016.04691/0.0283168466 -> 179.54619 | D2: kg/m^3 | E2: =3220/(390*55*30) -> 0.005003885 | F2: long ton/ft^3
B3: steel ship | C3: =C2*0.25 -> 44.886547 | D3: kg/m^3 | E3: (Assuming weight savings can make a spacegoing vessel 25% of the mass)
B4: cryogenic fuel tank | C4: =26500/(553358+1497440)*1000 -> 12.921799 | E4: Based on Space Shuttle main tank
B5: ice tank | C5: =C6 -> 0.0027777778
B6: solid propellant | C6: =(500*907.18470008/C30)/(90*907.18470008) -> 0.0027777778 | D6: kg/m^3
A7: Kg/m^2 manned space | C7: 310
A8: Radition Shielding | C8: 2000 | D8: kg/m^2
A9: AU | C9: 149597870700 | D9: m
A11: Mass
A12: Nimitz Carrier | C12: =1046000*1016.4 -> 1063154400 | D12: kg
A13: Saturn v | C13: 2970000 | D13: kg
A15: Cruise Ship | C15: =226963/5479 -> 41.424165 | D15: tons/person
A17: Cargo Density | C17: 1100 | D17: kg/m^3
A19: Meals Per Chef | C19: =17300/114 -> 151.75439 | E19: https://www.stripes.com/news/what-does-it-take-to-feed-an-aircraft-carrier-on-a-combat-mission-about-17-300-meals-1.527749
A20: Power Requirements | C20: =100/3 -> 33.333333 | D20: kwh/person/day | E20: Based on international space station
A21: Life Support Equipment | C21: =4661/6 -> 776.83333 | D21: kg/person
A23: Water
B24: density | C24: 0.9998 | D24: kg/m^3
B25: enthalpy of fusion | C25: =333.55*1000 -> 333550 | D25: J/kg
B26: enthalpy | C26: =4186 -> 4186 | D26: J/kg
A27: Ice
B28: density | C28: 916.7 | D28: kg/m^3
A29: Ammonium Percolate
B30: density | C30: 2000 | D30: kg/m^3
