Workbook

Sheet Sheet1
A1: Illiad Cast
A2: M/F Ratio | B2: 0.5
A3: Median Age | B3: 35 | C3: 10
A4: Married % | B4: 0.2

Sheet Billets
A1: Billet ID | B1: Secondary | C1: Division | E1: Name | F1: Description | G1: Number | H1: Assigned | I1: Personality | J1: Intelligence | K1: Charisma
D2: Class | E2: Unassigned
A3: 1 | C3: Human Services | D3: Medical | E3: Medical | F3: Medical Staff | G3: 8 | H3: =COUNTIF(People!B:B,A3) -> 0 | J3: 100
A4: =A3+1 -> 2 | C4: Human Services | D4: Teacher | E4: Teacher | F4: School Teachers | G4: 4 | H4: =COUNTIF(People!B:B,A4) -> 5 | J4: 100
A5: =A4+1 -> 3 | C5: Human Services | D5: Specialist | E5: Chef | G5: 1 | H5: =COUNTIF(People!B:B,A5) -> 1
A6: =A5+1 -> 4 | C6: Human Services | D6: Specialist | E6: Butcher | F6: Food Service Specialist | G6: 1 | H6: =COUNTIF(People!B:B,A6) -> 1 | I6: INFP | J6: 100
A7: =A6+1 -> 5 | C7: Human Services | D7: Law Enforcement | E7: Policer Officer | G7: 1 | H7: =COUNTIF(People!B:B,A7) -> 1 | I7: ISTP
A8: =A7+1 -> 6 | C8: Human Services | D8: Law Enforcement | E8: Police Dectective | G8: 0 | H8: =COUNTIF(People!B:B,A8) -> 0 | I8: ESTP | J8: 100
A9: =A8+1 -> 7 | C9: Human Services | D9: Government | E9: Mayor | G9: 1 | H9: =COUNTIF(People!B:B,A9) -> 1 | I9: ENFJ | J9: 100 | K9: 110
A10: =A9+1 -> 8 | C10: Human Services | D10: Service Industry | E10: Bartender | G10: 1 | H10: =COUNTIF(People!B:B,A10) -> 1 | I10: ESFP | K10: 110
A11: =A10+1 -> 9 | C11: Human Services | D11: Vendor | E11: Shop Keeper | G11: 1 | H11: =COUNTIF(People!B:B,A11) -> 1 | I11: ESTJ
A12: =A11+1 -> 10 | C12: Human Services | D12: Craftsman | E12: Craftsman | F12: Carpenter, Interior Designer, Contractor | G12: 7 | H12: =COUNTIF(People!B:B,A12) -> 7 | I12: ESTP ISTP ISFP INFJ
A13: =A12+1 -> 11 | C13: Human Services | D13: Service Industry | E13: Service Worker | G13: 13 | H13: =COUNTIF(People!B:B,A13) -> 0
A14: =A13+1 -> 12 | C14: Human Services | D14: Specialist | E14: Artists/Musician | G14: 0 | H14: =COUNTIF(People!B:B,A14) -> 1 | I14: INFP
A15: =A14+1 -> 13 | C15: Human Services | D15: Specialist | E15: Recreation Director | G15: 1 | H15: =COUNTIF(People!B:B,A15) -> 0 | I15: ESFJ
A16: 100 | C16: Human Services | D16: Medical | G16: =SUM(G17:G30) -> 11 | H16: =SUM(H17:H30) -> 7
A17: 101 | C17: Human Services | D17: Medical | E17: Psychologist | G17: 1 | H17: =COUNTIF(People!B:B,A17) -> 1 | I17: INFP
A18: 102 | C18: Human Services | D18: Medical | E18: Nurse / Nutritionist | G18: 1 | H18: =COUNTIF(People!B:B,A18) -> 2 | I18: ESFJ
A19: 103 | B19: 112 | C19: Human Services | D19: Medical | E19: Psychiatrist / Medical Scientist | G19: 0.5 | H19: =COUNTIF(People!B:B,A19) -> 1 | I19: INTP
A20: 104 | C20: Human Services | D20: Medical | E20: Physician | G20: 1 | H20: =COUNTIF(People!B:B,A20) -> 1 | I20: ENTJ
A21: 105 | C21: Human Services | D21: Medical | E21: Dentist / Pediatrician | G21: 1 | H21: =COUNTIF(People!B:B,A21) -> 1 | I21: INFJ
A22: 106 | C22: Human Services | D22: Medical | E22: Surgeon | G22: 1 | H22: =COUNTIF(People!B:B,A22) -> 1 | I22: INTJ
A23: 107 | C23: Human Services | D23: Medical | E23: Recreational Therapist | G23: 0.5 | H23: =COUNTIF(People!B:B,A23) -> 0 | I23: ENFP
A24: 108 | C24: Human Services | D24: Medical | E24: Dental Assistant / Bartender | G24: 0.5 | H24: =COUNTIF(People!B:B,A24) -> 0 | I24: ESFP
A25: 109 | C25: Human Services | D25: Medical | E25: Home Heath Aid | G25: 0.5 | H25: =COUNTIF(People!B:B,A25) -> 0 | I25: ISFP
A26: 110 | C26: Human Services | D26: Medical | G26: 0.5 | H26: =COUNTIF(People!B:B,A26) -> 0
A27: 111 | C27: Human Services | D27: Medical | G27: 1 | H27: =COUNTIF(People!B:B,A27) -> 0
A28: 112 | C28: Human Services | D28: Medical | G28: 0.5 | H28: =COUNTIF(People!B:B,A28) -> 0
A29: 113 | C29: Human Services | D29: Medical | G29: 1 | H29: =COUNTIF(People!B:B,A29) -> 0 | I29: INTP
A30: 114 | C30: Human Services | D30: Medical | G30: 1 | H30: =COUNTIF(People!B:B,A30) -> 0 | I30: ENTJ
A31: 121 | C31: Human Services | D31: Education | E31: Health Educator | G31: 1 | H31: =COUNTIF(People!B:B,A31) -> 0 | I31: ENFJ
A33: 20 | C33: Robots And Agriculture | D33: Specialist | E33: Veterinarian | G33: 1 | H33: =COUNTIF(People!B:B,A33) -> 1 | I33: INFJ | J33: 110
A34: =A33+1 -> 21 | C34: Robots And Agriculture | D34: Specialist | E34: Software Engineer | G34: 1 | H34: =COUNTIF(People!B:B,A34) -> 1 | I34: INTP | J34: 110
A35: =A34+1 -> 22 | C35: Robots And Agriculture | D35: Specialist | E35: Hardware Engineer | G35: 1 | H35: =COUNTIF(People!B:B,A35) -> 1 | I35: ISTP | J35: 110
A36: =A35+1 -> 23 | C36: Robots And Agriculture | D36: Specialist | E36: Logistician | G36: 1 | H36: =COUNTIF(People!B:B,A36) -> 0 | I36: ISTJ | J36: 110
A37: =A36+1 -> 24 | C37: Robots And Agriculture | D37: Specialist | E37: Horticultarist | G37: 1 | H37: =COUNTIF(People!B:B,A37) -> 0 | I37: INFP | J37: 110
A38: =A37+1 -> 25 | C38: Robots And Agriculture | D38: Specialist | E38: Medical Scientist | G38: 1 | H38: =COUNTIF(People!B:B,A38) -> 0 | I38: INTP | J38: 110
A39: =A38+1 -> 26 | C39: Robots And Agriculture | D39: Specialist | E39: Software Developer | G39: 1 | H39: =COUNTIF(People!B:B,A39) -> 1 | I39: INTJ | J39: 110
A40: =A39+1 -> 27 | C40: Robots And Agriculture | D40: Specialist | E40: Microbiololgist | G40: 1 | H40: =COUNTIF(People!B:B,A40) -> 0 | I40: INTJ | J40: 110
A41: =A40+1 -> 28 | C41: Robots And Agriculture | D41: Manager | E41: Office Manager | G41: =CEILING(G43/20,1) -> 5 | H41: =COUNTIF(People!B:B,A41) -> 0 | I41: ISTJ
...

Sheet People
A1: Personid | B1: Assignement | C1: Gender | D1: Age | E1: Married | F1: Name Last | G1: Name First | H1: Intelligence | I1: Charisma | J1: Stength | K1: Perception | L1: Constitution | M1: Wisdom | N1: Dexterity | O1: Appearance | P1: MBTI E/I | Q1: MBTI S/N | R1: MBTI T/F | S1: MBTI J/P
A2: 1 | B2: 31 | C2: =IF(Random!B2>Sheet1!$B$2,"Male","Female") -> Female | D2: =NORMINV(Random!C2,Sheet1!$B$3,Sheet1!$C$3) -> 38.594761 | E2: =IF(D2<18,"no",IF(Random!D2>Sheet1!$B$4,"no","yes")) -> yes | F2: =LOOKUP(Random!E2,Namelists!A:A,Namelists!B:B) -> HARRIS | G2: =IF(C2="Male",LOOKUP(Random!F2,Namelists!E:E,Namelists!F:F),LOOKUP(Random!F2,Namelists!I:I,Namelists!J:J)) -> DONNA | H2: =CEILING(NORMINV(Random!G2,100,15),0.1) -> 116.6 | I2: =CEILING(NORMINV(Random!H2,100,15),0.1) -> 80.4 | J2: =CEILING(NORMINV(Random!I1,100,15),0.1) -> 91.3 | K2: =CEILING(NORMINV(Random!J2,100,15),0.1) -> 121.6 | L2: =CEILING(NORMINV(Random!K2,100,15),0.1) -> 92.2 | M2: =CEILING(NORMINV(Random!L2,100,15),0.1) -> 88 | N2: =CEILING(NORMINV(Random!M2,100,15),0.1) -> 99.6 | O2: =CEILING(NORMINV(Random!N2,100,15),0.1) -> 102.9 | P2: =IF(Random!O2>MBTI!$G$3,MBTI!$H$3,MBTI!$F$3) -> I | Q2: =IF(Random!P2>MBTI!$G$4,MBTI!$H$4,MBTI!$F$4) -> S | R2: =IF(Random!Q2>MBTI!$G$5,MBTI!$H$5,MBTI!$F$5) -> T | S2: =IF(Random!R2>MBTI!$G$6,MBTI!$H$6,MBTI!$F$6) -> J | T2: =CONCATENATE(P2,Q2,R2,S2) -> ISTJ | U2: =LOOKUP(T2,MBTI!$A$3:$A$18,MBTI!$B$3:$B$18) -> Logistician | V2: =LOOKUP(T2,MBTI!$A$3:$A$18,MBTI!$C$3:$C$18) -> Sentinal
A3: =A2+1 -> 2 | C3: =IF(Random!B3>Sheet1!$B$2,"Male","Female") -> Male | D3: =NORMINV(Random!C3,Sheet1!$B$3,Sheet1!$C$3) -> 22.974996 | E3: =IF(D3<18,"no",IF(Random!D3>Sheet1!$B$4,"no","yes")) -> yes | F3: =LOOKUP(Random!E3,Namelists!A:A,Namelists!B:B) -> ALI | G3: =IF(C3="Male",LOOKUP(Random!F3,Namelists!E:E,Namelists!F:F),LOOKUP(Random!F3,Namelists!I:I,Namelists!J:J)) -> KENNETH | H3: =CEILING(NORMINV(Random!G3,100,15),0.1) -> 104.8 | I3: =CEILING(NORMINV(Random!H3,100,15),0.1) -> 86.9 | J3: =CEILING(NORMINV(Random!I2,100,15),0.1) -> 112.3 | K3: =CEILING(NORMINV(Random!J3,100,15),0.1) -> 122 | L3: =CEILING(NORMINV(Random!K3,100,15),0.1) -> 87.7 | M3: =CEILING(NORMINV(Random!L3,100,15),0.1) -> 69.8 | N3: =CEILING(NORMINV(Random!M3,100,15),0.1) -> 112.7 | O3: =CEILING(NORMINV(Random!N3,100,15),0.1) -> 90 | P3: =IF(Random!O3>MBTI!$G$3,MBTI!$H$3,MBTI!$F$3) -> I | Q3: =IF(Random!P3>MBTI!$G$4,MBTI!$H$4,MBTI!$F$4) -> S | R3: =IF(Random!Q3>MBTI!$G$5,MBTI!$H$5,MBTI!$F$5) -> F | S3: =IF(Random!R3>MBTI!$G$6,MBTI!$H$6,MBTI!$F$6) -> J | T3: =CONCATENATE(P3,Q3,R3,S3) -> ISFJ | U3: =LOOKUP(T3,MBTI!$A$3:$A$18,MBTI!$B$3:$B$18) -> Defender | V3: =LOOKUP(T3,MBTI!$A$3:$A$18,MBTI!$C$3:$C$18) -> Sentinal
A4: =A3+1 -> 3 | C4: =IF(Random!B4>Sheet1!$B$2,"Male","Female") -> Female | D4: =NORMINV(Random!C4,Sheet1!$B$3,Sheet1!$C$3) -> 33.61266 | E4: =IF(D4<18,"no",IF(Random!D4>Sheet1!$B$4,"no","yes")) -> no | F4: =LOOKUP(Random!E4,Namelists!A:A,Namelists!B:B) -> MYERS | G4: =IF(C4="Male",LOOKUP(Random!F4,Namelists!E:E,Namelists!F:F),LOOKUP(Random!F4,Namelists!I:I,Namelists!J:J)) -> GWEN | H4: =CEILING(NORMINV(Random!G4,100,15),0.1) -> 61.3 | I4: =CEILING(NORMINV(Random!H4,100,15),0.1) -> 101.3 | J4: =CEILING(NORMINV(Random!I3,100,15),0.1) -> 81.1 | K4: =CEILING(NORMINV(Random!J4,100,15),0.1) -> 98.7 | L4: =CEILING(NORMINV(Random!K4,100,15),0.1) -> 101.8 | M4: =CEILING(NORMINV(Random!L4,100,15),0.1) -> 93.6 | N4: =CEILING(NORMINV(Random!M4,100,15),0.1) -> 100.2 | O4: =CEILING(NORMINV(Random!N4,100,15),0.1) -> 73.5 | P4: =IF(Random!O4>MBTI!$G$3,MBTI!$H$3,MBTI!$F$3) -> E | Q4: =IF(Random!P4>MBTI!$G$4,MBTI!$H$4,MBTI!$F$4) -> N | R4: =IF(Random!Q4>MBTI!$G$5,MBTI!$H$5,MBTI!$F$5) -> F | S4: =IF(Random!R4>MBTI!$G$6,MBTI!$H$6,MBTI!$F$6) -> P | T4: =CONCATENATE(P4,Q4,R4,S4) -> ENFP | U4: =LOOKUP(T4,MBTI!$A$3:$A$18,MBTI!$B$3:$B$18) -> Campaigner | V4: =LOOKUP(T4,MBTI!$A$3:$A$18,MBTI!$C$3:$C$18) -> Diplomat
A5: =A4+1 -> 4 | C5: =IF(Random!B5>Sheet1!$B$2,"Male","Female") -> Male | D5: =NORMINV(Random!C5,Sheet1!$B$3,Sheet1!$C$3) -> 28.53444 | E5: =IF(D5<18,"no",IF(Random!D5>Sheet1!$B$4,"no","yes")) -> yes | F5: =LOOKUP(Random!E5,Namelists!A:A,Namelists!B:B) -> MARTINEZ | G5: =IF(C5="Male",LOOKUP(Random!F5,Namelists!E:E,Namelists!F:F),LOOKUP(Random!F5,Namelists!I:I,Namelists!J:J)) -> IRWIN | H5: =CEILING(NORMINV(Random!G5,100,15),0.1) -> 92.8 | I5: =CEILING(NORMINV(Random!H5,100,15),0.1) -> 100.5 | J5: =CEILING(NORMINV(Random!I4,100,15),0.1) -> 111.8 | K5: =CEILING(NORMINV(Random!J5,100,15),0.1) -> 79.7 | L5: =CEILING(NORMINV(Random!K5,100,15),0.1) -> 102.1 | M5: =CEILING(NORMINV(Random!L5,100,15),0.1) -> 92.5 | N5: =CEILING(NORMINV(Random!M5,100,15),0.1) -> 111.9 | O5: =CEILING(NORMINV(Random!N5,100,15),0.1) -> 81.1 | P5: =IF(Random!O5>MBTI!$G$3,MBTI!$H$3,MBTI!$F$3) -> E | Q5: =IF(Random!P5>MBTI!$G$4,MBTI!$H$4,MBTI!$F$4) -> S | R5: =IF(Random!Q5>MBTI!$G$5,MBTI!$H$5,MBTI!$F$5) -> F | S5: =IF(Random!R5>MBTI!$G$6,MBTI!$H$6,MBTI!$F$6) -> J | T5: =CONCATENATE(P5,Q5,R5,S5) -> ESFJ | U5: =LOOKUP(T5,MBTI!$A$3:$A$18,MBTI!$B$3:$B$18) -> Consul | V5: =LOOKUP(T5,MBTI!$A$3:$A$18,MBTI!$C$3:$C$18) -> Sentinal
A6: =A5+1 -> 5 | C6: =IF(Random!B6>Sheet1!$B$2,"Male","Female") -> Female | D6: =NORMINV(Random!C6,Sheet1!$B$3,Sheet1!$C$3) -> 39.310513 | E6: =IF(D6<18,"no",IF(Random!D6>Sheet1!$B$4,"no","yes")) -> no | F6: =LOOKUP(Random!E6,Namelists!A:A,Namelists!B:B) -> SIMMONS | G6: =IF(C6="Male",LOOKUP(Random!F6,Namelists!E:E,Namelists!F:F),LOOKUP(Random!F6,Namelists!I:I,Namelists!J:J)) -> BRITTANY | H6: =CEILING(NORMINV(Random!G6,100,15),0.1) -> 82.1 | I6: =CEILING(NORMINV(Random!H6,100,15),0.1) -> 111.3 | J6: =CEILING(NORMINV(Random!I5,100,15),0.1) -> 107.2 | K6: =CEILING(NORMINV(Random!J6,100,15),0.1) -> 110.8 | L6: =CEILING(NORMINV(Random!K6,100,15),0.1) -> 117.1 | M6: =CEILING(NORMINV(Random!L6,100,15),0.1) -> 110.4 | N6: =CEILING(NORMINV(Random!M6,100,15),0.1) -> 86.3 | O6: =CEILING(NORMINV(Random!N6,100,15),0.1) -> 85.1 | P6: =IF(Random!O6>MBTI!$G$3,MBTI!$H$3,MBTI!$F$3) -> I | Q6: =IF(Random!P6>MBTI!$G$4,MBTI!$H$4,MBTI!$F$4) -> S | R6: =IF(Random!Q6>MBTI!$G$5,MBTI!$H$5,MBTI!$F$5) -> T | S6: =IF(Random!R6>MBTI!$G$6,MBTI!$H$6,MBTI!$F$6) -> P | T6: =CONCATENATE(P6,Q6,R6,S6) -> ISTP | U6: =LOOKUP(T6,MBTI!$A$3:$A$18,MBTI!$B$3:$B$18) -> Virtuoso | V6: =LOOKUP(T6,MBTI!$A$3:$A$18,MBTI!$C$3:$C$18) -> Explorers
A7: =A6+1 -> 6 | C7: =IF(Random!B7>Sheet1!$B$2,"Male","Female") -> Male | D7: =NORMINV(Random!C7,Sheet1!$B$3,Sheet1!$C$3) -> 14.763431 | E7: =IF(D7<18,"no",IF(Random!D7>Sheet1!$B$4,"no","yes")) -> no | F7: =LOOKUP(Random!E7,Namelists!A:A,Namelists!B:B) -> JONES | G7: =IF(C7="Male",LOOKUP(Random!F7,Namelists!E:E,Namelists!F:F),LOOKUP(Random!F7,Namelists!I:I,Namelists!J:J)) -> HARRY | H7: =CEILING(NORMINV(Random!G7,100,15),0.1) -> 95.4 | I7: =CEILING(NORMINV(Random!H7,100,15),0.1) -> 101.9 | J7: =CEILING(NORMINV(Random!I6,100,15),0.1) -> 98.9 | K7: =CEILING(NORMINV(Random!J7,100,15),0.1) -> 101.4 | L7: =CEILING(NORMINV(Random!K7,100,15),0.1) -> 98.7 | M7: =CEILING(NORMINV(Random!L7,100,15),0.1) -> 119.7 | N7: =CEILING(NORMINV(Random!M7,100,15),0.1) -> 84.4 | O7: =CEILING(NORMINV(Random!N7,100,15),0.1) -> 102.8 | P7: =IF(Random!O7>MBTI!$G$3,MBTI!$H$3,MBTI!$F$3) -> E | Q7: =IF(Random!P7>MBTI!$G$4,MBTI!$H$4,MBTI!$F$4) -> N | R7: =IF(Random!Q7>MBTI!$G$5,MBTI!$H$5,MBTI!$F$5) -> F | S7: =IF(Random!R7>MBTI!$G$6,MBTI!$H$6,MBTI!$F$6) -> J | T7: =CONCATENATE(P7,Q7,R7,S7) -> ENFJ | U7: =LOOKUP(T7,MBTI!$A$3:$A$18,MBTI!$B$3:$B$18) -> Protagonist | V7: =LOOKUP(T7,MBTI!$A$3:$A$18,MBTI!$C$3:$C$18) -> Diplomat
A8: =A7+1 -> 7 | C8: =IF(Random!B8>Sheet1!$B$2,"Male","Female") -> Female | D8: =NORMINV(Random!C8,Sheet1!$B$3,Sheet1!$C$3) -> 35.696818 | E8: =IF(D8<18,"no",IF(Random!D8>Sheet1!$B$4,"no","yes")) -> yes | F8: =LOOKUP(Random!E8,Namelists!A:A,Namelists!B:B) -> BOWMAN | G8: =IF(C8="Male",LOOKUP(Random!F8,Namelists!E:E,Namelists!F:F),LOOKUP(Random!F8,Namelists!I:I,Namelists!J:J)) -> ARLENE | H8: =CEILING(NORMINV(Random!G8,100,15),0.1) -> 97.2 | I8: =CEILING(NORMINV(Random!H8,100,15),0.1) -> 103.6 | J8: =CEILING(NORMINV(Random!I7,100,15),0.1) -> 102.1 | K8: =CEILING(NORMINV(Random!J8,100,15),0.1) -> 124.3 | L8: =CEILING(NORMINV(Random!K8,100,15),0.1) -> 82.5 | M8: =CEILING(NORMINV(Random!L8,100,15),0.1) -> 111.9 | N8: =CEILING(NORMINV(Random!M8,100,15),0.1) -> 110.8 | O8: =CEILING(NORMINV(Random!N8,100,15),0.1) -> 107.6 | P8: =IF(Random!O8>MBTI!$G$3,MBTI!$H$3,MBTI!$F$3) -> I | Q8: =IF(Random!P8>MBTI!$G$4,MBTI!$H$4,MBTI!$F$4) -> N | R8: =IF(Random!Q8>MBTI!$G$5,MBTI!$H$5,MBTI!$F$5) -> T | S8: =IF(Random!R8>MBTI!$G$6,MBTI!$H$6,MBTI!$F$6) -> J | T8: =CONCATENATE(P8,Q8,R8,S8) -> INTJ | U8: =LOOKUP(T8,MBTI!$A$3:$A$18,MBTI!$B$3:$B$18) -> Architect | V8: =LOOKUP(T8,MBTI!$A$3:$A$18,MBTI!$C$3:$C$18) -> Analyst
A9: =A8+1 -> 8 | C9: =IF(Random!B9>Sheet1!$B$2,"Male","Female") -> Male | D9: =NORMINV(Random!C9,Sheet1!$B$3,Sheet1!$C$3) -> 38.844092 | E9: =IF(D9<18,"no",IF(Random!D9>Sheet1!$B$4,"no","yes")) -> no | F9: =LOOKUP(Random!E9,Namelists!A:A,Namelists!B:B) -> TYLER | G9: =IF(C9="Male",LOOKUP(Random!F9,Namelists!E:E,Namelists!F:F),LOOKUP(Random!F9,Namelists!I:I,Namelists!J:J)) -> CHRISTOPHER | H9: =CEILING(NORMINV(Random!G9,100,15),0.1) -> 94.9 | I9: =CEILING(NORMINV(Random!H9,100,15),0.1) -> 121.1 | J9: =CEILING(NORMINV(Random!I8,100,15),0.1) -> 96.1 | K9: =CEILING(NORMINV(Random!J9,100,15),0.1) -> 96.9 | L9: =CEILING(NORMINV(Random!K9,100,15),0.1) -> 97.2 | M9: =CEILING(NORMINV(Random!L9,100,15),0.1) -> 114.8 | N9: =CEILING(NORMINV(Random!M9,100,15),0.1) -> 84.7 | O9: =CEILING(NORMINV(Random!N9,100,15),0.1) -> 120.6 | P9: =IF(Random!O9>MBTI!$G$3,MBTI!$H$3,MBTI!$F$3) -> E | Q9: =IF(Random!P9>MBTI!$G$4,MBTI!$H$4,MBTI!$F$4) -> S | R9: =IF(Random!Q9>MBTI!$G$5,MBTI!$H$5,MBTI!$F$5) -> T | S9: =IF(Random!R9>MBTI!$G$6,MBTI!$H$6,MBTI!$F$6) -> J | T9: =CONCATENATE(P9,Q9,R9,S9) -> ESTJ | U9: =LOOKUP(T9,MBTI!$A$3:$A$18,MBTI!$B$3:$B$18) -> Executive | V9: =LOOKUP(T9,MBTI!$A$3:$A$18,MBTI!$C$3:$C$18) -> Sentinal
A10: =A9+1 -> 9 | B10: 10 | C10: =IF(Random!B10>Sheet1!$B$2,"Male","Female") -> Female | D10: =NORMINV(Random!C10,Sheet1!$B$3,Sheet1!$C$3) -> 38.447639 | E10: =IF(D10<18,"no",IF(Random!D10>Sheet1!$B$4,"no","yes")) -> no | F10: =LOOKUP(Random!E10,Namelists!A:A,Namelists!B:B) -> HUDSON | G10: =IF(C10="Male",LOOKUP(Random!F10,Namelists!E:E,Namelists!F:F),LOOKUP(Random!F10,Namelists!I:I,Namelists!J:J)) -> CELINA | H10: =CEILING(NORMINV(Random!G10,100,15),0.1) -> 103.4 | I10: =CEILING(NORMINV(Random!H10,100,15),0.1) -> 93.2 | J10: =CEILING(NORMINV(Random!I9,100,15),0.1) -> 121.9 | K10: =CEILING(NORMINV(Random!J10,100,15),0.1) -> 91.5 | L10: =CEILING(NORMINV(Random!K10,100,15),0.1) -> 105.7 | M10: =CEILING(NORMINV(Random!L10,100,15),0.1) -> 103.9 | N10: =CEILING(NORMINV(Random!M10,100,15),0.1) -> 138 | O10: =CEILING(NORMINV(Random!N10,100,15),0.1) -> 74.6 | P10: =IF(Random!O10>MBTI!$G$3,MBTI!$H$3,MBTI!$F$3) -> I | Q10: =IF(Random!P10>MBTI!$G$4,MBTI!$H$4,MBTI!$F$4) -> S | R10: =IF(Random!Q10>MBTI!$G$5,MBTI!$H$5,MBTI!$F$5) -> T | S10: =IF(Random!R10>MBTI!$G$6,MBTI!$H$6,MBTI!$F$6) -> P | T10: =CONCATENATE(P10,Q10,R10,S10) -> ISTP | U10: =LOOKUP(T10,MBTI!$A$3:$A$18,MBTI!$B$3:$B$18) -> Virtuoso | V10: =LOOKUP(T10,MBTI!$A$3:$A$18,MBTI!$C$3:$C$18) -> Explorers
A11: =A10+1 -> 10 | C11: =IF(Random!B11>Sheet1!$B$2,"Male","Female") -> Female | D11: =NORMINV(Random!C11,Sheet1!$B$3,Sheet1!$C$3) -> 15.091892 | E11: =IF(D11<18,"no",IF(Random!D11>Sheet1!$B$4,"no","yes")) -> no | F11: =LOOKUP(Random!E11,Namelists!A:A,Namelists!B:B) -> BERG | G11: =IF(C11="Male",LOOKUP(Random!F11,Namelists!E:E,Namelists!F:F),LOOKUP(Random!F11,Namelists!I:I,Namelists!J:J)) -> TIFFANY | H11: =CEILING(NORMINV(Random!G11,100,15),0.1) -> 100.5 | I11: =CEILING(NORMINV(Random!H11,100,15),0.1) -> 93.1 | J11: =CEILING(NORMINV(Random!I10,100,15),0.1) -> 99.7 | K11: =CEILING(NORMINV(Random!J11,100,15),0.1) -> 94.4 | L11: =CEILING(NORMINV(Random!K11,100,15),0.1) -> 107.8 | M11: =CEILING(NORMINV(Random!L11,100,15),0.1) -> 94.2 | N11: =CEILING(NORMINV(Random!M11,100,15),0.1) -> 122.7 | O11: =CEILING(NORMINV(Random!N11,100,15),0.1) -> 109.1 | P11: =IF(Random!O11>MBTI!$G$3,MBTI!$H$3,MBTI!$F$3) -> E | Q11: =IF(Random!P11>MBTI!$G$4,MBTI!$H$4,MBTI!$F$4) -> S | R11: =IF(Random!Q11>MBTI!$G$5,MBTI!$H$5,MBTI!$F$5) -> T | S11: =IF(Random!R11>MBTI!$G$6,MBTI!$H$6,MBTI!$F$6) -> P | T11: =CONCATENATE(P11,Q11,R11,S11) -> ESTP | U11: =LOOKUP(T11,MBTI!$A$3:$A$18,MBTI!$B$3:$B$18) -> Entreprenuer | V11: =LOOKUP(T11,MBTI!$A$3:$A$18,MBTI!$C$3:$C$18) -> Explorers
A12: =A11+1 -> 11 | C12: =IF(Random!B12>Sheet1!$B$2,"Male","Female") -> Female | D12: =NORMINV(Random!C12,Sheet1!$B$3,Sheet1!$C$3) -> 41.382999 | E12: =IF(D12<18,"no",IF(Random!D12>Sheet1!$B$4,"no","yes")) -> no | F12: =LOOKUP(Random!E12,Namelists!A:A,Namelists!B:B) -> TANG | G12: =IF(C12="Male",LOOKUP(Random!F12,Namelists!E:E,Namelists!F:F),LOOKUP(Random!F12,Namelists!I:I,Namelists!J:J)) -> KATHLEEN | H12: =CEILING(NORMINV(Random!G12,100,15),0.1) -> 92.3 | I12: =CEILING(NORMINV(Random!H12,100,15),0.1) -> 117.7 | J12: =CEILING(NORMINV(Random!I11,100,15),0.1) -> 109.5 | K12: =CEILING(NORMINV(Random!J12,100,15),0.1) -> 98.2 | L12: =CEILING(NORMINV(Random!K12,100,15),0.1) -> 75.7 | M12: =CEILING(NORMINV(Random!L12,100,15),0.1) -> 86.1 | N12: =CEILING(NORMINV(Random!M12,100,15),0.1) -> 68.4 | O12: =CEILING(NORMINV(Random!N12,100,15),0.1) -> 90.7 | P12: =IF(Random!O12>MBTI!$G$3,MBTI!$H$3,MBTI!$F$3) -> E | Q12: =IF(Random!P12>MBTI!$G$4,MBTI!$H$4,MBTI!$F$4) -> S | R12: =IF(Random!Q12>MBTI!$G$5,MBTI!$H$5,MBTI!$F$5) -> F | S12: =IF(Random!R12>MBTI!$G$6,MBTI!$H$6,MBTI!$F$6) -> P | T12: =CONCATENATE(P12,Q12,R12,S12) -> ESFP | U12: =LOOKUP(T12,MBTI!$A$3:$A$18,MBTI!$B$3:$B$18) -> Entertainer | V12: =LOOKUP(T12,MBTI!$A$3:$A$18,MBTI!$C$3:$C$18) -> Explorers
A13: =A12+1 -> 12 | B13: 10 | C13: =IF(Random!B13>Sheet1!$B$2,"Male","Female") -> Male | D13: =NORMINV(Random!C13,Sheet1!$B$3,Sheet1!$C$3) -> 35.026008 | E13: =IF(D13<18,"no",IF(Random!D13>Sheet1!$B$4,"no","yes")) -> yes | F13: =LOOKUP(Random!E13,Namelists!A:A,Namelists!B:B) -> PALACIOS | G13: =IF(C13="Male",LOOKUP(Random!F13,Namelists!E:E,Namelists!F:F),LOOKUP(Random!F13,Namelists!I:I,Namelists!J:J)) -> TIMOTHY | H13: =CEILING(NORMINV(Random!G13,100,15),0.1) -> 79.4 | I13: =CEILING(NORMINV(Random!H13,100,15),0.1) -> 117.9 | J13: =CEILING(NORMINV(Random!I12,100,15),0.1) -> 113.2 | K13: =CEILING(NORMINV(Random!J13,100,15),0.1) -> 84 | L13: =CEILING(NORMINV(Random!K13,100,15),0.1) -> 82.1 | M13: =CEILING(NORMINV(Random!L13,100,15),0.1) -> 89.6 | N13: =CEILING(NORMINV(Random!M13,100,15),0.1) -> 107.2 | O13: =CEILING(NORMINV(Random!N13,100,15),0.1) -> 90.9 | P13: =IF(Random!O13>MBTI!$G$3,MBTI!$H$3,MBTI!$F$3) -> I | Q13: =IF(Random!P13>MBTI!$G$4,MBTI!$H$4,MBTI!$F$4) -> S | R13: =IF(Random!Q13>MBTI!$G$5,MBTI!$H$5,MBTI!$F$5) -> F | S13: =IF(Random!R13>MBTI!$G$6,MBTI!$H$6,MBTI!$F$6) -> P | T13: =CONCATENATE(P13,Q13,R13,S13) -> ISFP | U13: =LOOKUP(T13,MBTI!$A$3:$A$18,MBTI!$B$3:$B$18) -> Adventurer | V13: =LOOKUP(T13,MBTI!$A$3:$A$18,MBTI!$C$3:$C$18) -> Explorers
A14: =A13+1 -> 13 | C14: =IF(Random!B14>Sheet1!$B$2,"Male","Female") -> Male | D14: =NORMINV(Random!C14,Sheet1!$B$3,Sheet1!$C$3) -> 34.658655 | E14: =IF(D14<18,"no",IF(Random!D14>Sheet1!$B$4,"no","yes")) -> no | F14: =LOOKUP(Random!E14,Namelists!A:A,Namelists!B:B) -> SMITH | G14: =IF(C14="Male",LOOKUP(Random!F14,Namelists!E:E,Namelists!F:F),LOOKUP(Random!F14,Namelists!I:I,Namelists!J:J)) -> MILTON | H14: =CEILING(NORMINV(Random!G14,100,15),0.1) -> 88.7 | I14: =CEILING(NORMINV(Random!H14,100,15),0.1) -> 82.7 | J14: =CEILING(NORMINV(Random!I13,100,15),0.1) -> 92.7 | K14: =CEILING(NORMINV(Random!J14,100,15),0.1) -> 109.4 | L14: =CEILING(NORMINV(Random!K14,100,15),0.1) -> 101.9 | M14: =CEILING(NORMINV(Random!L14,100,15),0.1) -> 96.5 | N14: =CEILING(NORMINV(Random!M14,100,15),0.1) -> 114.5 | O14: =CEILING(NORMINV(Random!N14,100,15),0.1) -> 105.1 | P14: =IF(Random!O14>MBTI!$G$3,MBTI!$H$3,MBTI!$F$3) -> E | Q14: =IF(Random!P14>MBTI!$G$4,MBTI!$H$4,MBTI!$F$4) -> N | R14: =IF(Random!Q14>MBTI!$G$5,MBTI!$H$5,MBTI!$F$5) -> T | S14: =IF(Random!R14>MBTI!$G$6,MBTI!$H$6,MBTI!$F$6) -> P | T14: =CONCATENATE(P14,Q14,R14,S14) -> ENTP | U14: =LOOKUP(T14,MBTI!$A$3:$A$18,MBTI!$B$3:$B$18) -> Debater | V14: =LOOKUP(T14,MBTI!$A$3:$A$18,MBTI!$C$3:$C$18) -> Analyst
A15: =A14+1 -> 14 | C15: =IF(Random!B15>Sheet1!$B$2,"Male","Female") -> Male | D15: =NORMINV(Random!C15,Sheet1!$B$3,Sheet1!$C$3) -> 39.367312 | E15: =IF(D15<18,"no",IF(Random!D15>Sheet1!$B$4,"no","yes")) -> no | F15: =LOOKUP(Random!E15,Namelists!A:A,Namelists!B:B) -> MASON | G15: =IF(C15="Male",LOOKUP(Random!F15,Namelists!E:E,Namelists!F:F),LOOKUP(Random!F15,Namelists!I:I,Namelists!J:J)) -> JOHN | H15: =CEILING(NORMINV(Random!G15,100,15),0.1) -> 100.6 | I15: =CEILING(NORMINV(Random!H15,100,15),0.1) -> 101 | J15: =CEILING(NORMINV(Random!I14,100,15),0.1) -> 114.8 | K15: =CEILING(NORMINV(Random!J15,100,15),0.1) -> 103.6 | L15: =CEILING(NORMINV(Random!K15,100,15),0.1) -> 87.9 | M15: =CEILING(NORMINV(Random!L15,100,15),0.1) -> 114.7 | N15: =CEILING(NORMINV(Random!M15,100,15),0.1) -> 105.8 | O15: =CEILING(NORMINV(Random!N15,100,15),0.1) -> 121.7 | P15: =IF(Random!O15>MBTI!$G$3,MBTI!$H$3,MBTI!$F$3) -> E | Q15: =IF(Random!P15>MBTI!$G$4,MBTI!$H$4,MBTI!$F$4) -> N | R15: =IF(Random!Q15>MBTI!$G$5,MBTI!$H$5,MBTI!$F$5) -> F | S15: =IF(Random!R15>MBTI!$G$6,MBTI!$H$6,MBTI!$F$6) -> J | T15: =CONCATENATE(P15,Q15,R15,S15) -> ENFJ | U15: =LOOKUP(T15,MBTI!$A$3:$A$18,MBTI!$B$3:$B$18) -> Protagonist | V15: =LOOKUP(T15,MBTI!$A$3:$A$18,MBTI!$C$3:$C$18) -> Diplomat
A16: =A15+1 -> 15 | C16: =IF(Random!B16>Sheet1!$B$2,"Male","Female") -> Male | D16: =NORMINV(Random!C16,Sheet1!$B$3,Sheet1!$C$3) -> 39.637199 | E16: =IF(D16<18,"no",IF(Random!D16>Sheet1!$B$4,"no","yes")) -> yes | F16: =LOOKUP(Random!E16,Namelists!A:A,Namelists!B:B) -> DAVIDSON | G16: =IF(C16="Male",LOOKUP(Random!F16,Namelists!E:E,Namelists!F:F),LOOKUP(Random!F16,Namelists!I:I,Namelists!J:J)) -> ROBERT | H16: =CEILING(NORMINV(Random!G16,100,15),0.1) -> 121.1 | I16: =CEILING(NORMINV(Random!H16,100,15),0.1) -> 104.5 | J16: =CEILING(NORMINV(Random!I15,100,15),0.1) -> 108.8 | K16: =CEILING(NORMINV(Random!J16,100,15),0.1) -> 88.4 | L16: =CEILING(NORMINV(Random!K16,100,15),0.1) -> 112.9 | M16: =CEILING(NORMINV(Random!L16,100,15),0.1) -> 120.7 | N16: =CEILING(NORMINV(Random!M16,100,15),0.1) -> 105.3 | O16: =CEILING(NORMINV(Random!N16,100,15),0.1) -> 126.4 | P16: =IF(Random!O16>MBTI!$G$3,MBTI!$H$3,MBTI!$F$3) -> I | Q16: =IF(Random!P16>MBTI!$G$4,MBTI!$H$4,MBTI!$F$4) -> S | R16: =IF(Random!Q16>MBTI!$G$5,MBTI!$H$5,MBTI!$F$5) -> T | S16: =IF(Random!R16>MBTI!$G$6,MBTI!$H$6,MBTI!$F$6) -> J | T16: =CONCATENATE(P16,Q16,R16,S16) -> ISTJ | U16: =LOOKUP(T16,MBTI!$A$3:$A$18,MBTI!$B$3:$B$18) -> Logistician | V16: =LOOKUP(T16,MBTI!$A$3:$A$18,MBTI!$C$3:$C$18) -> Sentinal
A17: =A16+1 -> 16 | C17: =IF(Random!B17>Sheet1!$B$2,"Male","Female") -> Male | D17: =NORMINV(Random!C17,Sheet1!$B$3,Sheet1!$C$3) -> 24.996745 | E17: =IF(D17<18,"no",IF(Random!D17>Sheet1!$B$4,"no","yes")) -> yes | F17: =LOOKUP(Random!E17,Namelists!A:A,Namelists!B:B) -> SANCHEZ | G17: =IF(C17="Male",LOOKUP(Random!F17,Namelists!E:E,Namelists!F:F),LOOKUP(Random!F17,Namelists!I:I,Namelists!J:J)) -> LARRY | H17: =CEILING(NORMINV(Random!G17,100,15),0.1) -> 92.7 | I17: =CEILING(NORMINV(Random!H17,100,15),0.1) -> 97.3 | J17: =CEILING(NORMINV(Random!I16,100,15),0.1) -> 95.2 | K17: =CEILING(NORMINV(Random!J17,100,15),0.1) -> 97.6 | L17: =CEILING(NORMINV(Random!K17,100,15),0.1) -> 91.5 | M17: =CEILING(NORMINV(Random!L17,100,15),0.1) -> 70.6 | N17: =CEILING(NORMINV(Random!M17,100,15),0.1) -> 95.9 | O17: =CEILING(NORMINV(Random!N17,100,15),0.1) -> 102.1 | P17: =IF(Random!O17>MBTI!$G$3,MBTI!$H$3,MBTI!$F$3) -> E | Q17: =IF(Random!P17>MBTI!$G$4,MBTI!$H$4,MBTI!$F$4) -> N | R17: =IF(Random!Q17>MBTI!$G$5,MBTI!$H$5,MBTI!$F$5) -> T | S17: =IF(Random!R17>MBTI!$G$6,MBTI!$H$6,MBTI!$F$6) -> J | T17: =CONCATENATE(P17,Q17,R17,S17) -> ENTJ | U17: =LOOKUP(T17,MBTI!$A$3:$A$18,MBTI!$B$3:$B$18) -> Commander | V17: =LOOKUP(T17,MBTI!$A$3:$A$18,MBTI!$C$3:$C$18) -> Analyst
A18: =A17+1 -> 17 | C18: =IF(Random!B18>Sheet1!$B$2,"Male","Female") -> Female | D18: =NORMINV(Random!C18,Sheet1!$B$3,Sheet1!$C$3) -> 31.410235 | E18: =IF(D18<18,"no",IF(Random!D18>Sheet1!$B$4,"no","yes")) -> no | F18: =LOOKUP(Random!E18,Namelists!A:A,Namelists!B:B) -> LAWSON | G18: =IF(C18="Male",LOOKUP(Random!F18,Namelists!E:E,Namelists!F:F),LOOKUP(Random!F18,Namelists!I:I,Namelists!J:J)) -> CELINA | H18: =CEILING(NORMINV(Random!G18,100,15),0.1) -> 62.8 | I18: =CEILING(NORMINV(Random!H18,100,15),0.1) -> 88.9 | J18: =CEILING(NORMINV(Random!I17,100,15),0.1) -> 131.9 | K18: =CEILING(NORMINV(Random!J18,100,15),0.1) -> 112.6 | L18: =CEILING(NORMINV(Random!K18,100,15),0.1) -> 105.3 | M18: =CEILING(NORMINV(Random!L18,100,15),0.1) -> 106 | N18: =CEILING(NORMINV(Random!M18,100,15),0.1) -> 105.4 | O18: =CEILING(NORMINV(Random!N18,100,15),0.1) -> 89.2 | P18: =IF(Random!O18>MBTI!$G$3,MBTI!$H$3,MBTI!$F$3) -> E | Q18: =IF(Random!P18>MBTI!$G$4,MBTI!$H$4,MBTI!$F$4) -> S | R18: =IF(Random!Q18>MBTI!$G$5,MBTI!$H$5,MBTI!$F$5) -> F | S18: =IF(Random!R18>MBTI!$G$6,MBTI!$H$6,MBTI!$F$6) -> J | T18: =CONCATENATE(P18,Q18,R18,S18) -> ESFJ | U18: =LOOKUP(T18,MBTI!$A$3:$A$18,MBTI!$B$3:$B$18) -> Consul | V18: =LOOKUP(T18,MBTI!$A$3:$A$18,MBTI!$C$3:$C$18) -> Sentinal
A19: =A18+1 -> 18 | C19: =IF(Random!B19>Sheet1!$B$2,"Male","Female") -> Female | D19: =NORMINV(Random!C19,Sheet1!$B$3,Sheet1!$C$3) -> 26.378031 | E19: =IF(D19<18,"no",IF(Random!D19>Sheet1!$B$4,"no","yes")) -> no | F19: =LOOKUP(Random!E19,Namelists!A:A,Namelists!B:B) -> SALAZAR | G19: =IF(C19="Male",LOOKUP(Random!F19,Namelists!E:E,Namelists!F:F),LOOKUP(Random!F19,Namelists!I:I,Namelists!J:J)) -> SUSAN | H19: =CEILING(NORMINV(Random!G19,100,15),0.1) -> 89.4 | I19: =CEILING(NORMINV(Random!H19,100,15),0.1) -> 83.6 | J19: =CEILING(NORMINV(Random!I18,100,15),0.1) -> 124.8 | K19: =CEILING(NORMINV(Random!J19,100,15),0.1) -> 92.4 | L19: =CEILING(NORMINV(Random!K19,100,15),0.1) -> 88.4 | M19: =CEILING(NORMINV(Random!L19,100,15),0.1) -> 124.3 | N19: =CEILING(NORMINV(Random!M19,100,15),0.1) -> 97.9 | O19: =CEILING(NORMINV(Random!N19,100,15),0.1) -> 122.8 | P19: =IF(Random!O19>MBTI!$G$3,MBTI!$H$3,MBTI!$F$3) -> E | Q19: =IF(Random!P19>MBTI!$G$4,MBTI!$H$4,MBTI!$F$4) -> N | R19: =IF(Random!Q19>MBTI!$G$5,MBTI!$H$5,MBTI!$F$5) -> F | S19: =IF(Random!R19>MBTI!$G$6,MBTI!$H$6,MBTI!$F$6) -> P | T19: =CONCATENATE(P19,Q19,R19,S19) -> ENFP | U19: =LOOKUP(T19,MBTI!$A$3:$A$18,MBTI!$B$3:$B$18) -> Campaigner | V19: =LOOKUP(T19,MBTI!$A$3:$A$18,MBTI!$C$3:$C$18) -> Diplomat
A20: =A19+1 -> 19 | C20: =IF(Random!B20>Sheet1!$B$2,"Male","Female") -> Female | D20: =NORMINV(Random!C20,Sheet1!$B$3,Sheet1!$C$3) -> 27.213621 | E20: =IF(D20<18,"no",IF(Random!D20>Sheet1!$B$4,"no","yes")) -> yes | F20: =LOOKUP(Random!E20,Namelists!A:A,Namelists!B:B) -> LUNA | G20: =IF(C20="Male",LOOKUP(Random!F20,Namelists!E:E,Namelists!F:F),LOOKUP(Random!F20,Namelists!I:I,Namelists!J:J)) -> ADRIAN | H20: =CEILING(NORMINV(Random!G20,100,15),0.1) -> 96.3 | I20: =CEILING(NORMINV(Random!H20,100,15),0.1) -> 108.3 | J20: =CEILING(NORMINV(Random!I19,100,15),0.1) -> 101.1 | K20: =CEILING(NORMINV(Random!J20,100,15),0.1) -> 62.8 | L20: =CEILING(NORMINV(Random!K20,100,15),0.1) -> 116.3 | M20: =CEILING(NORMINV(Random!L20,100,15),0.1) -> 95.9 | N20: =CEILING(NORMINV(Random!M20,100,15),0.1) -> 89.4 | O20: =CEILING(NORMINV(Random!N20,100,15),0.1) -> 94.2 | P20: =IF(Random!O20>MBTI!$G$3,MBTI!$H$3,MBTI!$F$3) -> I | Q20: =IF(Random!P20>MBTI!$G$4,MBTI!$H$4,MBTI!$F$4) -> S | R20: =IF(Random!Q20>MBTI!$G$5,MBTI!$H$5,MBTI!$F$5) -> F | S20: =IF(Random!R20>MBTI!$G$6,MBTI!$H$6,MBTI!$F$6) -> J | T20: =CONCATENATE(P20,Q20,R20,S20) -> ISFJ | U20: =LOOKUP(T20,MBTI!$A$3:$A$18,MBTI!$B$3:$B$18) -> Defender | V20: =LOOKUP(T20,MBTI!$A$3:$A$18,MBTI!$C$3:$C$18) -> Sentinal
A21: =A20+1 -> 20 | C21: =IF(Random!B21>Sheet1!$B$2,"Male","Female") -> Male | D21: =NORMINV(Random!C21,Sheet1!$B$3,Sheet1!$C$3) -> 41.349445 | E21: =IF(D21<18,"no",IF(Random!D21>Sheet1!$B$4,"no","yes")) -> no | F21: =LOOKUP(Random!E21,Namelists!A:A,Namelists!B:B) -> MITCHELL | G21: =IF(C21="Male",LOOKUP(Random!F21,Namelists!E:E,Namelists!F:F),LOOKUP(Random!F21,Namelists!I:I,Namelists!J:J)) -> DAVID | H21: =CEILING(NORMINV(Random!G21,100,15),0.1) -> 113.4 | I21: =CEILING(NORMINV(Random!H21,100,15),0.1) -> 95.9 | J21: =CEILING(NORMINV(Random!I20,100,15),0.1) -> 120 | K21: =CEILING(NORMINV(Random!J21,100,15),0.1) -> 99.3 | L21: =CEILING(NORMINV(Random!K21,100,15),0.1) -> 83.3 | M21: =CEILING(NORMINV(Random!L21,100,15),0.1) -> 86.8 | N21: =CEILING(NORMINV(Random!M21,100,15),0.1) -> 84.6 | O21: =CEILING(NORMINV(Random!N21,100,15),0.1) -> 99.7 | P21: =IF(Random!O21>MBTI!$G$3,MBTI!$H$3,MBTI!$F$3) -> E | Q21: =IF(Random!P21>MBTI!$G$4,MBTI!$H$4,MBTI!$F$4) -> S | R21: =IF(Random!Q21>MBTI!$G$5,MBTI!$H$5,MBTI!$F$5) -> T | S21: =IF(Random!R21>MBTI!$G$6,MBTI!$H$6,MBTI!$F$6) -> P | T21: =CONCATENATE(P21,Q21,R21,S21) -> ESTP | U21: =LOOKUP(T21,MBTI!$A$3:$A$18,MBTI!$B$3:$B$18) -> Entreprenuer | V21: =LOOKUP(T21,MBTI!$A$3:$A$18,MBTI!$C$3:$C$18) -> Explorers
A22: =A21+1 -> 21 | B22: 2 | C22: =IF(Random!B22>Sheet1!$B$2,"Male","Female") -> Male | D22: =NORMINV(Random!C22,Sheet1!$B$3,Sheet1!$C$3) -> 30.899986 | E22: =IF(D22<18,"no",IF(Random!D22>Sheet1!$B$4,"no","yes")) -> yes | F22: =LOOKUP(Random!E22,Namelists!A:A,Namelists!B:B) -> ROMERO | G22: =IF(C22="Male",LOOKUP(Random!F22,Namelists!E:E,Namelists!F:F),LOOKUP(Random!F22,Namelists!I:I,Namelists!J:J)) -> FRANCISCO | H22: =CEILING(NORMINV(Random!G22,100,15),0.1) -> 119.6 | I22: =CEILING(NORMINV(Random!H22,100,15),0.1) -> 121.8 | J22: =CEILING(NORMINV(Random!I21,100,15),0.1) -> 81.8 | K22: =CEILING(NORMINV(Random!J22,100,15),0.1) -> 107.4 | L22: =CEILING(NORMINV(Random!K22,100,15),0.1) -> 114.5 | M22: =CEILING(NORMINV(Random!L22,100,15),0.1) -> 75.6 | N22: =CEILING(NORMINV(Random!M22,100,15),0.1) -> 107 | O22: =CEILING(NORMINV(Random!N22,100,15),0.1) -> 82.4 | P22: =IF(Random!O22>MBTI!$G$3,MBTI!$H$3,MBTI!$F$3) -> E | Q22: =IF(Random!P22>MBTI!$G$4,MBTI!$H$4,MBTI!$F$4) -> S | R22: =IF(Random!Q22>MBTI!$G$5,MBTI!$H$5,MBTI!$F$5) -> F | S22: =IF(Random!R22>MBTI!$G$6,MBTI!$H$6,MBTI!$F$6) -> J | T22: =CONCATENATE(P22,Q22,R22,S22) -> ESFJ | U22: =LOOKUP(T22,MBTI!$A$3:$A$18,MBTI!$B$3:$B$18) -> Consul | V22: =LOOKUP(T22,MBTI!$A$3:$A$18,MBTI!$C$3:$C$18) -> Sentinal
A23: =A22+1 -> 22 | C23: =IF(Random!B23>Sheet1!$B$2,"Male","Female") -> Male | D23: =NORMINV(Random!C23,Sheet1!$B$3,Sheet1!$C$3) -> 35.306946 | E23: =IF(D23<18,"no",IF(Random!D23>Sheet1!$B$4,"no","yes")) -> no | F23: =LOOKUP(Random!E23,Namelists!A:A,Namelists!B:B) -> BELL | G23: =IF(C23="Male",LOOKUP(Random!F23,Namelists!E:E,Namelists!F:F),LOOKUP(Random!F23,Namelists!I:I,Namelists!J:J)) -> GEORGE | H23: =CEILING(NORMINV(Random!G23,100,15),0.1) -> 95.5 | I23: =CEILING(NORMINV(Random!H23,100,15),0.1) -> 103 | J23: =CEILING(NORMINV(Random!I22,100,15),0.1) -> 96.1 | K23: =CEILING(NORMINV(Random!J23,100,15),0.1) -> 102.7 | L23: =CEILING(NORMINV(Random!K23,100,15),0.1) -> 111.3 | M23: =CEILING(NORMINV(Random!L23,100,15),0.1) -> 98 | N23: =CEILING(NORMINV(Random!M23,100,15),0.1) -> 119.7 | O23: =CEILING(NORMINV(Random!N23,100,15),0.1) -> 83.2 | P23: =IF(Random!O23>MBTI!$G$3,MBTI!$H$3,MBTI!$F$3) -> I | Q23: =IF(Random!P23>MBTI!$G$4,MBTI!$H$4,MBTI!$F$4) -> S | R23: =IF(Random!Q23>MBTI!$G$5,MBTI!$H$5,MBTI!$F$5) -> T | S23: =IF(Random!R23>MBTI!$G$6,MBTI!$H$6,MBTI!$F$6) -> J | T23: =CONCATENATE(P23,Q23,R23,S23) -> ISTJ | U23: =LOOKUP(T23,MBTI!$A$3:$A$18,MBTI!$B$3:$B$18) -> Logistician | V23: =LOOKUP(T23,MBTI!$A$3:$A$18,MBTI!$C$3:$C$18) -> Sentinal
A24: =A23+1 -> 23 | B24: 12 | C24: =IF(Random!B24>Sheet1!$B$2,"Male","Female") -> Male | D24: =NORMINV(Random!C24,Sheet1!$B$3,Sheet1!$C$3) -> 27.066391 | E24: =IF(D24<18,"no",IF(Random!D24>Sheet1!$B$4,"no","yes")) -> no | F24: =LOOKUP(Random!E24,Namelists!A:A,Namelists!B:B) -> HAMMOND | G24: =IF(C24="Male",LOOKUP(Random!F24,Namelists!E:E,Namelists!F:F),LOOKUP(Random!F24,Namelists!I:I,Namelists!J:J)) -> RUBEN | H24: =CEILING(NORMINV(Random!G24,100,15),0.1) -> 125.3 | I24: =CEILING(NORMINV(Random!H24,100,15),0.1) -> 94.9 | J24: =CEILING(NORMINV(Random!I23,100,15),0.1) -> 87.1 | K24: =CEILING(NORMINV(Random!J24,100,15),0.1) -> 103 | L24: =CEILING(NORMINV(Random!K24,100,15),0.1) -> 111.8 | M24: =CEILING(NORMINV(Random!L24,100,15),0.1) -> 80.3 | N24: =CEILING(NORMINV(Random!M24,100,15),0.1) -> 67.8 | O24: =CEILING(NORMINV(Random!N24,100,15),0.1) -> 112.5 | P24: =IF(Random!O24>MBTI!$G$3,MBTI!$H$3,MBTI!$F$3) -> I | Q24: =IF(Random!P24>MBTI!$G$4,MBTI!$H$4,MBTI!$F$4) -> N | R24: =IF(Random!Q24>MBTI!$G$5,MBTI!$H$5,MBTI!$F$5) -> F | S24: =IF(Random!R24>MBTI!$G$6,MBTI!$H$6,MBTI!$F$6) -> P | T24: =CONCATENATE(P24,Q24,R24,S24) -> INFP | U24: =LOOKUP(T24,MBTI!$A$3:$A$18,MBTI!$B$3:$B$18) -> Mediator | V24: =LOOKUP(T24,MBTI!$A$3:$A$18,MBTI!$C$3:$C$18) -> Diplomat
A25: =A24+1 -> 24 | C25: =IF(Random!B25>Sheet1!$B$2,"Male","Female") -> Male | D25: =NORMINV(Random!C25,Sheet1!$B$3,Sheet1!$C$3) -> 46.535407 | E25: =IF(D25<18,"no",IF(Random!D25>Sheet1!$B$4,"no","yes")) -> no | F25: =LOOKUP(Random!E25,Namelists!A:A,Namelists!B:B) -> ROMERO | G25: =IF(C25="Male",LOOKUP(Random!F25,Namelists!E:E,Namelists!F:F),LOOKUP(Random!F25,Namelists!I:I,Namelists!J:J)) -> ANDREA | H25: =CEILING(NORMINV(Random!G25,100,15),0.1) -> 115.1 | I25: =CEILING(NORMINV(Random!H25,100,15),0.1) -> 97.9 | J25: =CEILING(NORMINV(Random!I24,100,15),0.1) -> 86.4 | K25: =CEILING(NORMINV(Random!J25,100,15),0.1) -> 115.1 | L25: =CEILING(NORMINV(Random!K25,100,15),0.1) -> 93.3 | M25: =CEILING(NORMINV(Random!L25,100,15),0.1) -> 113.5 | N25: =CEILING(NORMINV(Random!M25,100,15),0.1) -> 86.3 | O25: =CEILING(NORMINV(Random!N25,100,15),0.1) -> 116 | P25: =IF(Random!O25>MBTI!$G$3,MBTI!$H$3,MBTI!$F$3) -> E | Q25: =IF(Random!P25>MBTI!$G$4,MBTI!$H$4,MBTI!$F$4) -> S | R25: =IF(Random!Q25>MBTI!$G$5,MBTI!$H$5,MBTI!$F$5) -> T | S25: =IF(Random!R25>MBTI!$G$6,MBTI!$H$6,MBTI!$F$6) -> J | T25: =CONCATENATE(P25,Q25,R25,S25) -> ESTJ | U25: =LOOKUP(T25,MBTI!$A$3:$A$18,MBTI!$B$3:$B$18) -> Executive | V25: =LOOKUP(T25,MBTI!$A$3:$A$18,MBTI!$C$3:$C$18) -> Sentinal
A26: =A25+1 -> 25 | C26: =IF(Random!B26>Sheet1!$B$2,"Male","Female") -> Female | D26: =NORMINV(Random!C26,Sheet1!$B$3,Sheet1!$C$3) -> 21.950148 | E26: =IF(D26<18,"no",IF(Random!D26>Sheet1!$B$4,"no","yes")) -> no | F26: =LOOKUP(Random!E26,Namelists!A:A,Namelists!B:B) -> GREGORY | G26: =IF(C26="Male",LOOKUP(Random!F26,Namelists!E:E,Namelists!F:F),LOOKUP(Random!F26,Namelists!I:I,Namelists!J:J)) -> CELINA | H26: =CEILING(NORMINV(Random!G26,100,15),0.1) -> 90.2 | I26: =CEILING(NORMINV(Random!H26,100,15),0.1) -> 91.8 | J26: =CEILING(NORMINV(Random!I25,100,15),0.1) -> 117.3 | K26: =CEILING(NORMINV(Random!J26,100,15),0.1) -> 82.3 | L26: =CEILING(NORMINV(Random!K26,100,15),0.1) -> 115.8 | M26: =CEILING(NORMINV(Random!L26,100,15),0.1) -> 107.5 | N26: =CEILING(NORMINV(Random!M26,100,15),0.1) -> 96.5 | O26: =CEILING(NORMINV(Random!N26,100,15),0.1) -> 108.3 | P26: =IF(Random!O26>MBTI!$G$3,MBTI!$H$3,MBTI!$F$3) -> E | Q26: =IF(Random!P26>MBTI!$G$4,MBTI!$H$4,MBTI!$F$4) -> N | R26: =IF(Random!Q26>MBTI!$G$5,MBTI!$H$5,MBTI!$F$5) -> F | S26: =IF(Random!R26>MBTI!$G$6,MBTI!$H$6,MBTI!$F$6) -> J | T26: =CONCATENATE(P26,Q26,R26,S26) -> ENFJ | U26: =LOOKUP(T26,MBTI!$A$3:$A$18,MBTI!$B$3:$B$18) -> Protagonist | V26: =LOOKUP(T26,MBTI!$A$3:$A$18,MBTI!$C$3:$C$18) -> Diplomat
A27: =A26+1 -> 26 | B27: 10 | C27: =IF(Random!B27>Sheet1!$B$2,"Male","Female") -> Male | D27: =NORMINV(Random!C27,Sheet1!$B$3,Sheet1!$C$3) -> 42.300872 | E27: =IF(D27<18,"no",IF(Random!D27>Sheet1!$B$4,"no","yes")) -> no | F27: =LOOKUP(Random!E27,Namelists!A:A,Namelists!B:B) -> RUSSELL | G27: =IF(C27="Male",LOOKUP(Random!F27,Namelists!E:E,Namelists!F:F),LOOKUP(Random!F27,Namelists!I:I,Namelists!J:J)) -> JOSEPH | H27: =CEILING(NORMINV(Random!G27,100,15),0.1) -> 113.8 | I27: =CEILING(NORMINV(Random!H27,100,15),0.1) -> 110.5 | J27: =CEILING(NORMINV(Random!I26,100,15),0.1) -> 102 | K27: =CEILING(NORMINV(Random!J27,100,15),0.1) -> 84.8 | L27: =CEILING(NORMINV(Random!K27,100,15),0.1) -> 98.7 | M27: =CEILING(NORMINV(Random!L27,100,15),0.1) -> 103.8 | N27: =CEILING(NORMINV(Random!M27,100,15),0.1) -> 113.8 | O27: =CEILING(NORMINV(Random!N27,100,15),0.1) -> 73.7 | P27: =IF(Random!O27>MBTI!$G$3,MBTI!$H$3,MBTI!$F$3) -> I | Q27: =IF(Random!P27>MBTI!$G$4,MBTI!$H$4,MBTI!$F$4) -> S | R27: =IF(Random!Q27>MBTI!$G$5,MBTI!$H$5,MBTI!$F$5) -> F | S27: =IF(Random!R27>MBTI!$G$6,MBTI!$H$6,MBTI!$F$6) -> P | T27: =CONCATENATE(P27,Q27,R27,S27) -> ISFP | U27: =LOOKUP(T27,MBTI!$A$3:$A$18,MBTI!$B$3:$B$18) -> Adventurer | V27: =LOOKUP(T27,MBTI!$A$3:$A$18,MBTI!$C$3:$C$18) -> Explorers
A28: =A27+1 -> 27 | C28: =IF(Random!B28>Sheet1!$B$2,"Male","Female") -> Female | D28: =NORMINV(Random!C28,Sheet1!$B$3,Sheet1!$C$3) -> 32.594889 | E28: =IF(D28<18,"no",IF(Random!D28>Sheet1!$B$4,"no","yes")) -> no | F28: =LOOKUP(Random!E28,Namelists!A:A,Namelists!B:B) -> RUSSO | G28: =IF(C28="Male",LOOKUP(Random!F28,Namelists!E:E,Namelists!F:F),LOOKUP(Random!F28,Namelists!I:I,Namelists!J:J)) -> TIFFANY | H28: =CEILING(NORMINV(Random!G28,100,15),0.1) -> 74.6 | I28: =CEILING(NORMINV(Random!H28,100,15),0.1) -> 110.4 | J28: =CEILING(NORMINV(Random!I27,100,15),0.1) -> 88.9 | K28: =CEILING(NORMINV(Random!J28,100,15),0.1) -> 122.4 | L28: =CEILING(NORMINV(Random!K28,100,15),0.1) -> 93.9 | M28: =CEILING(NORMINV(Random!L28,100,15),0.1) -> 91.6 | N28: =CEILING(NORMINV(Random!M28,100,15),0.1) -> 104 | O28: =CEILING(NORMINV(Random!N28,100,15),0.1) -> 121.7 | P28: =IF(Random!O28>MBTI!$G$3,MBTI!$H$3,MBTI!$F$3) -> E | Q28: =IF(Random!P28>MBTI!$G$4,MBTI!$H$4,MBTI!$F$4) -> N | R28: =IF(Random!Q28>MBTI!$G$5,MBTI!$H$5,MBTI!$F$5) -> F | S28: =IF(Random!R28>MBTI!$G$6,MBTI!$H$6,MBTI!$F$6) -> P | T28: =CONCATENATE(P28,Q28,R28,S28) -> ENFP | U28: =LOOKUP(T28,MBTI!$A$3:$A$18,MBTI!$B$3:$B$18) -> Campaigner | V28: =LOOKUP(T28,MBTI!$A$3:$A$18,MBTI!$C$3:$C$18) -> Diplomat
A29: =A28+1 -> 28 | C29: =IF(Random!B29>Sheet1!$B$2,"Male","Female") -> Male | D29: =NORMINV(Random!C29,Sheet1!$B$3,Sheet1!$C$3) -> 33.845502 | E29: =IF(D29<18,"no",IF(Random!D29>Sheet1!$B$4,"no","yes")) -> no | F29: =LOOKUP(Random!E29,Namelists!A:A,Namelists!B:B) -> PAYNE | G29: =IF(C29="Male",LOOKUP(Random!F29,Namelists!E:E,Namelists!F:F),LOOKUP(Random!F29,Namelists!I:I,Namelists!J:J)) -> LUIS | H29: =CEILING(NORMINV(Random!G29,100,15),0.1) -> 98.1 | I29: =CEILING(NORMINV(Random!H29,100,15),0.1) -> 90.6 | J29: =CEILING(NORMINV(Random!I28,100,15),0.1) -> 112.2 | K29: =CEILING(NORMINV(Random!J29,100,15),0.1) -> 98.2 | L29: =CEILING(NORMINV(Random!K29,100,15),0.1) -> 91.8 | M29: =CEILING(NORMINV(Random!L29,100,15),0.1) -> 114.5 | N29: =CEILING(NORMINV(Random!M29,100,15),0.1) -> 86.9 | O29: =CEILING(NORMINV(Random!N29,100,15),0.1) -> 90.6 | P29: =IF(Random!O29>MBTI!$G$3,MBTI!$H$3,MBTI!$F$3) -> E | Q29: =IF(Random!P29>MBTI!$G$4,MBTI!$H$4,MBTI!$F$4) -> S | R29: =IF(Random!Q29>MBTI!$G$5,MBTI!$H$5,MBTI!$F$5) -> F | S29: =IF(Random!R29>MBTI!$G$6,MBTI!$H$6,MBTI!$F$6) -> P | T29: =CONCATENATE(P29,Q29,R29,S29) -> ESFP | U29: =LOOKUP(T29,MBTI!$A$3:$A$18,MBTI!$B$3:$B$18) -> Entertainer | V29: =LOOKUP(T29,MBTI!$A$3:$A$18,MBTI!$C$3:$C$18) -> Explorers
A30: =A29+1 -> 29 | B30: 10 | C30: =IF(Random!B30>Sheet1!$B$2,"Male","Female") -> Female | D30: =NORMINV(Random!C30,Sheet1!$B$3,Sheet1!$C$3) -> 19.554771 | E30: =IF(D30<18,"no",IF(Random!D30>Sheet1!$B$4,"no","yes")) -> no | F30: =LOOKUP(Random!E30,Namelists!A:A,Namelists!B:B) -> WALTERS | G30: =IF(C30="Male",LOOKUP(Random!F30,Namelists!E:E,Namelists!F:F),LOOKUP(Random!F30,Namelists!I:I,Namelists!J:J)) -> GAYLE | H30: =CEILING(NORMINV(Random!G30,100,15),0.1) -> 96.3 | I30: =CEILING(NORMINV(Random!H30,100,15),0.1) -> 116.8 | J30: =CEILING(NORMINV(Random!I29,100,15),0.1) -> 69.4 | K30: =CEILING(NORMINV(Random!J30,100,15),0.1) -> 103.9 | L30: =CEILING(NORMINV(Random!K30,100,15),0.1) -> 92.3 | M30: =CEILING(NORMINV(Random!L30,100,15),0.1) -> 119.5 | N30: =CEILING(NORMINV(Random!M30,100,15),0.1) -> 116.7 | O30: =CEILING(NORMINV(Random!N30,100,15),0.1) -> 100.5 | P30: =IF(Random!O30>MBTI!$G$3,MBTI!$H$3,MBTI!$F$3) -> I | Q30: =IF(Random!P30>MBTI!$G$4,MBTI!$H$4,MBTI!$F$4) -> S | R30: =IF(Random!Q30>MBTI!$G$5,MBTI!$H$5,MBTI!$F$5) -> F | S30: =IF(Random!R30>MBTI!$G$6,MBTI!$H$6,MBTI!$F$6) -> P | T30: =CONCATENATE(P30,Q30,R30,S30) -> ISFP | U30: =LOOKUP(T30,MBTI!$A$3:$A$18,MBTI!$B$3:$B$18) -> Adventurer | V30: =LOOKUP(T30,MBTI!$A$3:$A$18,MBTI!$C$3:$C$18) -> Explorers
A31: =A30+1 -> 30 | C31: =IF(Random!B31>Sheet1!$B$2,"Male","Female") -> Male | D31: =NORMINV(Random!C31,Sheet1!$B$3,Sheet1!$C$3) -> 39.820057 | E31: =IF(D31<18,"no",IF(Random!D31>Sheet1!$B$4,"no","yes")) -> no | F31: =LOOKUP(Random!E31,Namelists!A:A,Namelists!B:B) -> GIBBS | G31: =IF(C31="Male",LOOKUP(Random!F31,Namelists!E:E,Namelists!F:F),LOOKUP(Random!F31,Namelists!I:I,Namelists!J:J)) -> ANDREA | H31: =CEILING(NORMINV(Random!G31,100,15),0.1) -> 103.1 | I31: =CEILING(NORMINV(Random!H31,100,15),0.1) -> 131.6 | J31: =CEILING(NORMINV(Random!I30,100,15),0.1) -> 108.1 | K31: =CEILING(NORMINV(Random!J31,100,15),0.1) -> 81.8 | L31: =CEILING(NORMINV(Random!K31,100,15),0.1) -> 97.3 | M31: =CEILING(NORMINV(Random!L31,100,15),0.1) -> 74.7 | N31: =CEILING(NORMINV(Random!M31,100,15),0.1) -> 100.8 | O31: =CEILING(NORMINV(Random!N31,100,15),0.1) -> 107.7 | P31: =IF(Random!O31>MBTI!$G$3,MBTI!$H$3,MBTI!$F$3) -> I | Q31: =IF(Random!P31>MBTI!$G$4,MBTI!$H$4,MBTI!$F$4) -> S | R31: =IF(Random!Q31>MBTI!$G$5,MBTI!$H$5,MBTI!$F$5) -> F | S31: =IF(Random!R31>MBTI!$G$6,MBTI!$H$6,MBTI!$F$6) -> J | T31: =CONCATENATE(P31,Q31,R31,S31) -> ISFJ | U31: =LOOKUP(T31,MBTI!$A$3:$A$18,MBTI!$B$3:$B$18) -> Defender | V31: =LOOKUP(T31,MBTI!$A$3:$A$18,MBTI!$C$3:$C$18) -> Sentinal
A32: =A31+1 -> 31 | C32: =IF(Random!B32>Sheet1!$B$2,"Male","Female") -> Female | D32: =NORMINV(Random!C32,Sheet1!$B$3,Sheet1!$C$3) -> 36.786535 | E32: =IF(D32<18,"no",IF(Random!D32>Sheet1!$B$4,"no","yes")) -> no | F32: =LOOKUP(Random!E32,Namelists!A:A,Namelists!B:B) -> MORRIS | G32: =IF(C32="Male",LOOKUP(Random!F32,Namelists!E:E,Namelists!F:F),LOOKUP(Random!F32,Namelists!I:I,Namelists!J:J)) -> MARGARET | H32: =CEILING(NORMINV(Random!G32,100,15),0.1) -> 93.1 | I32: =CEILING(NORMINV(Random!H32,100,15),0.1) -> 118 | J32: =CEILING(NORMINV(Random!I31,100,15),0.1) -> 118 | K32: =CEILING(NORMINV(Random!J32,100,15),0.1) -> 67.6 | L32: =CEILING(NORMINV(Random!K32,100,15),0.1) -> 83.6 | M32: =CEILING(NORMINV(Random!L32,100,15),0.1) -> 128.9 | N32: =CEILING(NORMINV(Random!M32,100,15),0.1) -> 92.5 | O32: =CEILING(NORMINV(Random!N32,100,15),0.1) -> 75.7 | P32: =IF(Random!O32>MBTI!$G$3,MBTI!$H$3,MBTI!$F$3) -> I | Q32: =IF(Random!P32>MBTI!$G$4,MBTI!$H$4,MBTI!$F$4) -> S | R32: =IF(Random!Q32>MBTI!$G$5,MBTI!$H$5,MBTI!$F$5) -> F | S32: =IF(Random!R32>MBTI!$G$6,MBTI!$H$6,MBTI!$F$6) -> P | T32: =CONCATENATE(P32,Q32,R32,S32) -> ISFP | U32: =LOOKUP(T32,MBTI!$A$3:$A$18,MBTI!$B$3:$B$18) -> Adventurer | V32: =LOOKUP(T32,MBTI!$A$3:$A$18,MBTI!$C$3:$C$18) -> Explorers
A33: =A32+1 -> 32 | C33: =IF(Random!B33>Sheet1!$B$2,"Male","Female") -> Female | D33: =NORMINV(Random!C33,Sheet1!$B$3,Sheet1!$C$3) -> 36.383169 | E33: =IF(D33<18,"no",IF(Random!D33>Sheet1!$B$4,"no","yes")) -> no | F33: =LOOKUP(Random!E33,Namelists!A:A,Namelists!B:B) -> RIVAS | G33: =IF(C33="Male",LOOKUP(Random!F33,Namelists!E:E,Namelists!F:F),LOOKUP(Random!F33,Namelists!I:I,Namelists!J:J)) -> LAUREN | H33: =CEILING(NORMINV(Random!G33,100,15),0.1) -> 131.6 | I33: =CEILING(NORMINV(Random!H33,100,15),0.1) -> 112.4 | J33: =CEILING(NORMINV(Random!I32,100,15),0.1) -> 115.6 | K33: =CEILING(NORMINV(Random!J33,100,15),0.1) -> 113.4 | L33: =CEILING(NORMINV(Random!K33,100,15),0.1) -> 101.4 | M33: =CEILING(NORMINV(Random!L33,100,15),0.1) -> 89.9 | N33: =CEILING(NORMINV(Random!M33,100,15),0.1) -> 93.4 | O33: =CEILING(NORMINV(Random!N33,100,15),0.1) -> 86.9 | P33: =IF(Random!O33>MBTI!$G$3,MBTI!$H$3,MBTI!$F$3) -> E | Q33: =IF(Random!P33>MBTI!$G$4,MBTI!$H$4,MBTI!$F$4) -> S | R33: =IF(Random!Q33>MBTI!$G$5,MBTI!$H$5,MBTI!$F$5) -> F | S33: =IF(Random!R33>MBTI!$G$6,MBTI!$H$6,MBTI!$F$6) -> J | T33: =CONCATENATE(P33,Q33,R33,S33) -> ESFJ | U33: =LOOKUP(T33,MBTI!$A$3:$A$18,MBTI!$B$3:$B$18) -> Consul | V33: =LOOKUP(T33,MBTI!$A$3:$A$18,MBTI!$C$3:$C$18) -> Sentinal
A34: =A33+1 -> 33 | C34: =IF(Random!B34>Sheet1!$B$2,"Male","Female") -> Female | D34: =NORMINV(Random!C34,Sheet1!$B$3,Sheet1!$C$3) -> 37.911029 | E34: =IF(D34<18,"no",IF(Random!D34>Sheet1!$B$4,"no","yes")) -> no | F34: =LOOKUP(Random!E34,Namelists!A:A,Namelists!B:B) -> JONES | G34: =IF(C34="Male",LOOKUP(Random!F34,Namelists!E:E,Namelists!F:F),LOOKUP(Random!F34,Namelists!I:I,Namelists!J:J)) -> DONNA | H34: =CEILING(NORMINV(Random!G34,100,15),0.1) -> 108.2 | I34: =CEILING(NORMINV(Random!H34,100,15),0.1) -> 106.2 | J34: =CEILING(NORMINV(Random!I33,100,15),0.1) -> 100.8 | K34: =CEILING(NORMINV(Random!J34,100,15),0.1) -> 100.2 | L34: =CEILING(NORMINV(Random!K34,100,15),0.1) -> 100.3 | M34: =CEILING(NORMINV(Random!L34,100,15),0.1) -> 91.6 | N34: =CEILING(NORMINV(Random!M34,100,15),0.1) -> 96.3 | O34: =CEILING(NORMINV(Random!N34,100,15),0.1) -> 93.5 | P34: =IF(Random!O34>MBTI!$G$3,MBTI!$H$3,MBTI!$F$3) -> I | Q34: =IF(Random!P34>MBTI!$G$4,MBTI!$H$4,MBTI!$F$4) -> S | R34: =IF(Random!Q34>MBTI!$G$5,MBTI!$H$5,MBTI!$F$5) -> T | S34: =IF(Random!R34>MBTI!$G$6,MBTI!$H$6,MBTI!$F$6) -> J | T34: =CONCATENATE(P34,Q34,R34,S34) -> ISTJ | U34: =LOOKUP(T34,MBTI!$A$3:$A$18,MBTI!$B$3:$B$18) -> Logistician | V34: =LOOKUP(T34,MBTI!$A$3:$A$18,MBTI!$C$3:$C$18) -> Sentinal
A35: =A34+1 -> 34 | C35: =IF(Random!B35>Sheet1!$B$2,"Male","Female") -> Female | D35: =NORMINV(Random!C35,Sheet1!$B$3,Sheet1!$C$3) -> 30.987041 | E35: =IF(D35<18,"no",IF(Random!D35>Sheet1!$B$4,"no","yes")) -> no | F35: =LOOKUP(Random!E35,Namelists!A:A,Namelists!B:B) -> KEMP | G35: =IF(C35="Male",LOOKUP(Random!F35,Namelists!E:E,Namelists!F:F),LOOKUP(Random!F35,Namelists!I:I,Namelists!J:J)) -> DEBRA | H35: =CEILING(NORMINV(Random!G35,100,15),0.1) -> 95.7 | I35: =CEILING(NORMINV(Random!H35,100,15),0.1) -> 114.9 | J35: =CEILING(NORMINV(Random!I34,100,15),0.1) -> 94.9 | K35: =CEILING(NORMINV(Random!J35,100,15),0.1) -> 105.5 | L35: =CEILING(NORMINV(Random!K35,100,15),0.1) -> 83.2 | M35: =CEILING(NORMINV(Random!L35,100,15),0.1) -> 115.1 | N35: =CEILING(NORMINV(Random!M35,100,15),0.1) -> 98 | O35: =CEILING(NORMINV(Random!N35,100,15),0.1) -> 91.7 | P35: =IF(Random!O35>MBTI!$G$3,MBTI!$H$3,MBTI!$F$3) -> E | Q35: =IF(Random!P35>MBTI!$G$4,MBTI!$H$4,MBTI!$F$4) -> S | R35: =IF(Random!Q35>MBTI!$G$5,MBTI!$H$5,MBTI!$F$5) -> T | S35: =IF(Random!R35>MBTI!$G$6,MBTI!$H$6,MBTI!$F$6) -> P | T35: =CONCATENATE(P35,Q35,R35,S35) -> ESTP | U35: =LOOKUP(T35,MBTI!$A$3:$A$18,MBTI!$B$3:$B$18) -> Entreprenuer | V35: =LOOKUP(T35,MBTI!$A$3:$A$18,MBTI!$C$3:$C$18) -> Explorers
A36: =A35+1 -> 35 | C36: =IF(Random!B36>Sheet1!$B$2,"Male","Female") -> Female | D36: =NORMINV(Random!C36,Sheet1!$B$3,Sheet1!$C$3) -> 55.682959 | E36: =IF(D36<18,"no",IF(Random!D36>Sheet1!$B$4,"no","yes")) -> no | F36: =LOOKUP(Random!E36,Namelists!A:A,Namelists!B:B) -> MURPHY | G36: =IF(C36="Male",LOOKUP(Random!F36,Namelists!E:E,Namelists!F:F),LOOKUP(Random!F36,Namelists!I:I,Namelists!J:J)) -> DARLENE | H36: =CEILING(NORMINV(Random!G36,100,15),0.1) -> 113.5 | I36: =CEILING(NORMINV(Random!H36,100,15),0.1) -> 81.2 | J36: =CEILING(NORMINV(Random!I35,100,15),0.1) -> 118 | K36: =CEILING(NORMINV(Random!J36,100,15),0.1) -> 115.9 | L36: =CEILING(NORMINV(Random!K36,100,15),0.1) -> 108 | M36: =CEILING(NORMINV(Random!L36,100,15),0.1) -> 91.2 | N36: =CEILING(NORMINV(Random!M36,100,15),0.1) -> 82.7 | O36: =CEILING(NORMINV(Random!N36,100,15),0.1) -> 102.2 | P36: =IF(Random!O36>MBTI!$G$3,MBTI!$H$3,MBTI!$F$3) -> E | Q36: =IF(Random!P36>MBTI!$G$4,MBTI!$H$4,MBTI!$F$4) -> S | R36: =IF(Random!Q36>MBTI!$G$5,MBTI!$H$5,MBTI!$F$5) -> T | S36: =IF(Random!R36>MBTI!$G$6,MBTI!$H$6,MBTI!$F$6) -> P | T36: =CONCATENATE(P36,Q36,R36,S36) -> ESTP | U36: =LOOKUP(T36,MBTI!$A$3:$A$18,MBTI!$B$3:$B$18) -> Entreprenuer | V36: =LOOKUP(T36,MBTI!$A$3:$A$18,MBTI!$C$3:$C$18) -> Explorers
A37: =A36+1 -> 36 | C37: =IF(Random!B37>Sheet1!$B$2,"Male","Female") -> Female | D37: =NORMINV(Random!C37,Sheet1!$B$3,Sheet1!$C$3) -> 33.53711 | E37: =IF(D37<18,"no",IF(Random!D37>Sheet1!$B$4,"no","yes")) -> no | F37: =LOOKUP(Random!E37,Namelists!A:A,Namelists!B:B) -> MCCARTHY | G37: =IF(C37="Male",LOOKUP(Random!F37,Namelists!E:E,Namelists!F:F),LOOKUP(Random!F37,Namelists!I:I,Namelists!J:J)) -> LILIAN | H37: =CEILING(NORMINV(Random!G37,100,15),0.1) -> 83.8 | I37: =CEILING(NORMINV(Random!H37,100,15),0.1) -> 106.5 | J37: =CEILING(NORMINV(Random!I36,100,15),0.1) -> 113.9 | K37: =CEILING(NORMINV(Random!J37,100,15),0.1) -> 88.6 | L37: =CEILING(NORMINV(Random!K37,100,15),0.1) -> 117.4 | M37: =CEILING(NORMINV(Random!L37,100,15),0.1) -> 97 | N37: =CEILING(NORMINV(Random!M37,100,15),0.1) -> 107.5 | O37: =CEILING(NORMINV(Random!N37,100,15),0.1) -> 87.2 | P37: =IF(Random!O37>MBTI!$G$3,MBTI!$H$3,MBTI!$F$3) -> I | Q37: =IF(Random!P37>MBTI!$G$4,MBTI!$H$4,MBTI!$F$4) -> S | R37: =IF(Random!Q37>MBTI!$G$5,MBTI!$H$5,MBTI!$F$5) -> T | S37: =IF(Random!R37>MBTI!$G$6,MBTI!$H$6,MBTI!$F$6) -> J | T37: =CONCATENATE(P37,Q37,R37,S37) -> ISTJ | U37: =LOOKUP(T37,MBTI!$A$3:$A$18,MBTI!$B$3:$B$18) -> Logistician | V37: =LOOKUP(T37,MBTI!$A$3:$A$18,MBTI!$C$3:$C$18) -> Sentinal
A38: =A37+1 -> 37 | B38: 10 | C38: =IF(Random!B38>Sheet1!$B$2,"Male","Female") -> Female | D38: =NORMINV(Random!C38,Sheet1!$B$3,Sheet1!$C$3) -> 27.292852 | E38: =IF(D38<18,"no",IF(Random!D38>Sheet1!$B$4,"no","yes")) -> no | F38: =LOOKUP(Random!E38,Namelists!A:A,Namelists!B:B) -> HARRIS | G38: =IF(C38="Male",LOOKUP(Random!F38,Namelists!E:E,Namelists!F:F),LOOKUP(Random!F38,Namelists!I:I,Namelists!J:J)) -> SHIRLEY | H38: =CEILING(NORMINV(Random!G38,100,15),0.1) -> 61.8 | I38: =CEILING(NORMINV(Random!H38,100,15),0.1) -> 85.9 | J38: =CEILING(NORMINV(Random!I37,100,15),0.1) -> 101.3 | K38: =CEILING(NORMINV(Random!J38,100,15),0.1) -> 145.4 | L38: =CEILING(NORMINV(Random!K38,100,15),0.1) -> 82.6 | M38: =CEILING(NORMINV(Random!L38,100,15),0.1) -> 75.6 | N38: =CEILING(NORMINV(Random!M38,100,15),0.1) -> 103.1 | O38: =CEILING(NORMINV(Random!N38,100,15),0.1) -> 103.9 | P38: =IF(Random!O38>MBTI!$G$3,MBTI!$H$3,MBTI!$F$3) -> I | Q38: =IF(Random!P38>MBTI!$G$4,MBTI!$H$4,MBTI!$F$4) -> N | R38: =IF(Random!Q38>MBTI!$G$5,MBTI!$H$5,MBTI!$F$5) -> F | S38: =IF(Random!R38>MBTI!$G$6,MBTI!$H$6,MBTI!$F$6) -> J | T38: =CONCATENATE(P38,Q38,R38,S38) -> INFJ | U38: =LOOKUP(T38,MBTI!$A$3:$A$18,MBTI!$B$3:$B$18) -> Advocate | V38: =LOOKUP(T38,MBTI!$A$3:$A$18,MBTI!$C$3:$C$18) -> Diplomat
A39: =A38+1 -> 38 | C39: =IF(Random!B39>Sheet1!$B$2,"Male","Female") -> Female | D39: =NORMINV(Random!C39,Sheet1!$B$3,Sheet1!$C$3) -> 35.894222 | E39: =IF(D39<18,"no",IF(Random!D39>Sheet1!$B$4,"no","yes")) -> no | F39: =LOOKUP(Random!E39,Namelists!A:A,Namelists!B:B) -> HEBERT | G39: =IF(C39="Male",LOOKUP(Random!F39,Namelists!E:E,Namelists!F:F),LOOKUP(Random!F39,Namelists!I:I,Namelists!J:J)) -> SALLY | H39: =CEILING(NORMINV(Random!G39,100,15),0.1) -> 105.5 | I39: =CEILING(NORMINV(Random!H39,100,15),0.1) -> 114.7 | J39: =CEILING(NORMINV(Random!I38,100,15),0.1) -> 130.7 | K39: =CEILING(NORMINV(Random!J39,100,15),0.1) -> 101.6 | L39: =CEILING(NORMINV(Random!K39,100,15),0.1) -> 83.9 | M39: =CEILING(NORMINV(Random!L39,100,15),0.1) -> 88 | N39: =CEILING(NORMINV(Random!M39,100,15),0.1) -> 90.4 | O39: =CEILING(NORMINV(Random!N39,100,15),0.1) -> 128.4 | P39: =IF(Random!O39>MBTI!$G$3,MBTI!$H$3,MBTI!$F$3) -> E | Q39: =IF(Random!P39>MBTI!$G$4,MBTI!$H$4,MBTI!$F$4) -> S | R39: =IF(Random!Q39>MBTI!$G$5,MBTI!$H$5,MBTI!$F$5) -> T | S39: =IF(Random!R39>MBTI!$G$6,MBTI!$H$6,MBTI!$F$6) -> P | T39: =CONCATENATE(P39,Q39,R39,S39) -> ESTP | U39: =LOOKUP(T39,MBTI!$A$3:$A$18,MBTI!$B$3:$B$18) -> Entreprenuer | V39: =LOOKUP(T39,MBTI!$A$3:$A$18,MBTI!$C$3:$C$18) -> Explorers
A40: =A39+1 -> 39 | C40: =IF(Random!B40>Sheet1!$B$2,"Male","Female") -> Male | D40: =NORMINV(Random!C40,Sheet1!$B$3,Sheet1!$C$3) -> 40.444037 | E40: =IF(D40<18,"no",IF(Random!D40>Sheet1!$B$4,"no","yes")) -> no | F40: =LOOKUP(Random!E40,Namelists!A:A,Namelists!B:B) -> ADAMS | G40: =IF(C40="Male",LOOKUP(Random!F40,Namelists!E:E,Namelists!F:F),LOOKUP(Random!F40,Namelists!I:I,Namelists!J:J)) -> ROBERT | H40: =CEILING(NORMINV(Random!G40,100,15),0.1) -> 94.5 | I40: =CEILING(NORMINV(Random!H40,100,15),0.1) -> 112.6 | J40: =CEILING(NORMINV(Random!I39,100,15),0.1) -> 87.8 | K40: =CEILING(NORMINV(Random!J40,100,15),0.1) -> 127.4 | L40: =CEILING(NORMINV(Random!K40,100,15),0.1) -> 109.9 | M40: =CEILING(NORMINV(Random!L40,100,15),0.1) -> 97 | N40: =CEILING(NORMINV(Random!M40,100,15),0.1) -> 93.6 | O40: =CEILING(NORMINV(Random!N40,100,15),0.1) -> 98.1 | P40: =IF(Random!O40>MBTI!$G$3,MBTI!$H$3,MBTI!$F$3) -> I | Q40: =IF(Random!P40>MBTI!$G$4,MBTI!$H$4,MBTI!$F$4) -> S | R40: =IF(Random!Q40>MBTI!$G$5,MBTI!$H$5,MBTI!$F$5) -> F | S40: =IF(Random!R40>MBTI!$G$6,MBTI!$H$6,MBTI!$F$6) -> P | T40: =CONCATENATE(P40,Q40,R40,S40) -> ISFP | U40: =LOOKUP(T40,MBTI!$A$3:$A$18,MBTI!$B$3:$B$18) -> Adventurer | V40: =LOOKUP(T40,MBTI!$A$3:$A$18,MBTI!$C$3:$C$18) -> Explorers
...

Sheet MBTI
A1: Myers Briggs Personality Types | D1: https://www.16personalities.com/personality-types
D2: http://paulsohn.org/the-best-jobs-for-all-16-myers-briggs-personality-types-in-one-infographic/
A3: ENFJ | B3: Protagonist | C3: Diplomat | D3: Empath | E3: Inspiring Guides | F3: E | G3: 0.493 | H3: I | I3: =1-G3 -> 0.507
A4: ENFP | B4: Campaigner | C4: Diplomat | D4: Empath | E4: Expressive Advocates | F4: S | G4: 0.733 | H4: N | I4: =1-G4 -> 0.267
A5: ENTJ | B5: Commander | C5: Analyst | D5: Theorists | E5: Driven Directors | F5: T | G5: 0.402 | H5: F | I5: =1-G5 -> 0.598
A6: ENTP | B6: Debater | C6: Analyst | D6: Theorists | E6: Inspired Inventors | F6: J | G6: 0.541 | H6: P | I6: =1-G6 -> 0.459
A7: ESFJ | B7: Consul | C7: Sentinal | D7: Caretaker | E7: Caring Provider
A8: ESFP | B8: Entertainer | C8: Explorers | D8: Caretaker | E8: Outgoing Entertainer
A9: ESTJ | B9: Executive | C9: Sentinal | D9: Pragmatist | E9: Practical Supervisor
A10: ESTP | B10: Entreprenuer | C10: Explorers | D10: Pragmatist | E10: Agile Troubleshooter
A11: INFJ | B11: Advocate | C11: Diplomat | D11: Empath | E11: Compassionate Counselors
A12: INFP | B12: Mediator | C12: Diplomat | D12: Empath | E12: Creative Individualists
A13: INTJ | B13: Architect | C13: Analyst | D13: Theorists | E13: Strategic Masterminds
A14: INTP | B14: Logician | C14: Analyst | D14: Theorists | E14: Independent Scientists
A15: ISFJ | B15: Defender | C15: Sentinal | D15: Caretaker | E15: Sensible Helper
A16: ISFP | B16: Adventurer | C16: Explorers | D16: Caretaker | E16: Attentitive Artists
A17: ISTJ | B17: Logistician | C17: Sentinal | D17: Pragmatist | E17: Practical Supervisor
A18: ISTP | B18: Virtuoso | C18: Explorers | D18: Pragmatist | E18: Adaptable Technician

Sheet JobPlacement
A1: Division | B1: Title | C1: MBTI | D1: Source
B2: General Manager | C2: ESTJ | D2: a | E2: a | F2: http://paulsohn.org/the-best-jobs-for-all-16-myers-briggs-personality-types-in-one-infographic/
B3: Chef | C3: ESTJ | D3: a | E3: b
B4: Insurance Agent | C4: ESTJ | D4: a
B5: Loan Officer | C5: ESTJ | D5: a
B6: School Administrator | C6: ESTJ | D6: a
B7: Accountant | C7: ISTJ | D7: a
B8: Office Manager | C8: ISTJ | D8: a
B9: Probation Officer | C9: ISTJ | D9: a
B10: Logistician | C10: ISTJ | D10: a
B11: System Administrator | C11: ISTJ | D11: a
B12: Building Contractor | C12: ESTP | D12: a
B13: Police Detective | C13: ESTP | D13: a
B14: Financial Advisor | C14: ESTP | D14: a
B15: Sales Manager | C15: ESTP | D15: a
... B131: Procurement Clerk | C131: ISFP | D131: b
B132: Team Assembler | C132: ISFP | D132: b | F132: https://careerassessmentsite.com/myers-briggs-test/mbti-personality-types/isfp/careers/team-assemblers/myers-briggs-isfp-career

Sheet Random
A1: 0.38113532 | B1: 0.6452122 | C1: 0.72538278 | D1: 0.32133689 | E1: 0.49927003 | F1: 0.66284729 | G1: 0.072965782 | H1: 0.0057475967 | I1: 0.2805295 | J1: 0.74604827 | K1: 0.26921818 | L1: 0.41856378 | M1: 0.14618059 | N1: 0.31818624 | O1: 0.84601375 | P1: 0.15378088 | Q1: 0.048281391 | R1: 0.38558419 | S1: 0.4907708
A2: 0.77731255 | B2: 0.24095739 | C2: 0.64038052 | D2: 0.049837079 | E2: 0.19421536 | F2: 0.15657097 | G2: 0.86532271 | H2: 0.095408735 | I2: 0.79245108 | J2: 0.92495421 | K2: 0.29943219 | L2: 0.21084235 | M2: 0.48867374 | N2: 0.57479093 | O2: 0.79262031 | P2: 0.3210169 | Q2: 0.25640054 | R2: 0.08696492 | S2: 0.22829508
A3: 0.72214648 | B3: 0.85967846 | C3: 0.11458485 | D3: 0.13896721 | E3: 0.81463083 | F3: 0.29963316 | G3: 0.62500618 | H3: 0.19027619 | I3: 0.10286233 | J3: 0.9286346 | K3: 0.20554117 | L3: 0.021853595 | M3: 0.80080741 | N3: 0.25203635 | O3: 0.65206895 | P3: 0.59619349 | Q3: 0.9046084 | R3: 0.1189962 | S3: 0.25752596
A4: 0.95487341 | B4: 0.30725221 | C4: 0.44483016 | D4: 0.58556597 | E4: 0.3956719 | F4: 0.86032279 | G4: 0.0049104482 | H4: 0.53253294 | I4: 0.78338353 | J4: 0.46529488 | K4: 0.54607571 | L4: 0.33254075 | M4: 0.50524143 | N4: 0.038095148 | O4: 0.15315423 | P4: 0.80031248 | Q4: 0.86143933 | R4: 0.63534965 | S4: 0.13430553
A5: 0.66750867 | B5: 0.6614743 | C5: 0.25895968 | D5: 0.070359639 | E5: 0.10190847 | F5: 0.94821481 | G5: 0.31445444 | H5: 0.51294309 | I5: 0.6840879 | J5: 0.087438981 | K5: 0.55533782 | L5: 0.30825415 | M5: 0.78450126 | N5: 0.10284027 | O5: 0.34468453 | P5: 0.3221412 | Q5: 0.67464696 | R5: 0.44501415 | S5: 0.35427425
A6: 0.66025213 | B6: 0.47259403 | C6: 0.66678447 | D6: 0.89947242 | E6: 0.42940853 | F6: 0.6612237 | G6: 0.11624523 | H6: 0.77279697 | I6: 0.46931137 | J6: 0.76362504 | K6: 0.87232721 | L6: 0.75472231 | M6: 0.17961661 | N6: 0.15979847 | O6: 0.74334913 | P6: 0.51207707 | Q6: 0.035399686 | R6: 0.88768904 | S6: 0.070872222
A7: 0.55045193 | B7: 0.78824429 | C7: 0.021502735 | D7: 0.062275981 | E7: 0.057372453 | F7: 0.5628237 | G7: 0.37732013 | H7: 0.54863196 | I7: 0.55344187 | J7: 0.5355028 | K7: 0.46423918 | L7: 0.9054233 | M7: 0.14907807 | N7: 0.57170628 | O7: 0.15220347 | P7: 0.90847102 | Q7: 0.46818687 | R7: 0.31447499 | S7: 0.10562922
A8: 0.18506797 | B8: 0.17596118 | C8: 0.52777652 | D8: 0.17036692 | E8: 0.64584576 | F8: 0.70968395 | G8: 0.42594412 | H8: 0.59409107 | I8: 0.39628892 | J8: 0.94695579 | K8: 0.12102682 | L8: 0.78481761 | M8: 0.76366214 | N8: 0.69355323 | O8: 0.87143659 | P8: 0.84634888 | Q8: 0.21905184 | R8: 0.2488842 | S8: 0.62122012
